{"text_format":"1","workbook":"xlsx","n_sheets":23,"sheets":["GRADOS CIVILES MDN","GRADOS MILITARES","CDO GRAL","GABINETE MDN","EJC","ARC","FAC","PENS MDN","FIDUP","FOPEP","COLP","FDOS PRIV","CREMIL","NOVEDADES","CONSOLIDADO","CASUR","CAGEN","SEG ALFA","POSITIVA","CPA y PENS ANT","DOCENTES ACT y ALC FUSA","POLICIA","TASAS"],"not_rendered":{"charts":0,"images":0,"macros":1,"external_links":2,"defined_names":18,"comments":19,"pivot_tables":0},"unopened":[],"bounds":{"document_bytes":16777216,"sheet_cells":100000,"rows_first":2000,"rows_last":500,"rows_between":2000,"halvings":0,"cell_chars":16384,"cell_head_chars":4096},"cells_cut":0,"cells_raw":0,"read":"whole","date_system":"1900"}

{"sheet":"GRADOS CIVILES MDN","index":0,"n_rows":67,"n_cols":4,"rows_kept":67,"cut":false,"hidden":false,"merged":[]}
["SIGLA","GRADO NUEVO","SIGLA","GRADO ANTIGUO"]
["AD06","Asesor del Sector Defensa","PU10","Profesional Universitario 10"]
["AD04","Asesor del Sector Defensa","PU08","Profesional Universitario 08"]
["AD02","Asesor del Sector Defensa","PU06","Profesional Universitario 06"]
["OE18","Orientador Espiritual","PU06","Profesional Universitario 06"]
["OD18","Orientador de Defensa","PU","Profesional Universitario "]
["PD04","Profesional deDefensa","EP","Especialista Asesor Primero"]
["OD16","Orientador de Defensa","EP","Especialista Asesor Primero"]
["OE16","Orientador Espiritual","EP","Especialista Asesor Primero"]
["PD02","Profesional deDefensa","ES","Especialista Asesor Segundo"]
["OD14","Orientador de Defensa","ES","Especialista Asesor Segundo"]
["OE14","Orientador Espiritual","ES","Especialista Asesor Segundo"]
["PD01","Profesional deDefensa","EJ","Especialista Jefe"]
["OD13","Orientador de Defensa","EJ","Especialista Jefe"]
["OE13","Orientador Espiritual","EJ","Especialista Jefe"]
["TS21","Tecnico de Servicios","E1","Especialista Primero"]
["OD12","Orientador de Defensa","E1","Especialista Primero"]
["TA21","Tecnico para apoyo de seguridad y defensa","E1","Especialista Primero"]
["TS19","Tecnico de servicios","E2","Especialista Segundo"]
["OD11","Orientador de Defensa","E2","Especialista Segundo"]
["TA19","Tecnico para apoyo de seguridad y defensa","E2","Especialista Segundo"]
["TS18","Tecnico de Servicios","E3","Especialista Tercero"]
["OD10","Orientador de Defensa","E3","Especialista Tercero"]
["TA18","Tecnico para apoyo de seguridad y defensa","E3","Especialista Tercero"]
["TI18","Tecnico de Inteligencia","E3","Especialista Tercero"]
["TS17","Tecnico de Servicios","E4","Especialista Cuarto"]
["OD09","Orientador de Defensa","E4","Especialista Cuarto"]
["TA17","Tecnico para apoyo de seguridad y defensa","E4","Especialista Cuarto"]
["TS14","Tecnico de Servicios","E5","Especialista Quinto"]
["OD08","Orientador de Defensa","E5","Especialista Quinto"]
["TA14","Tecnico para apoyo de seguridad y defensa","E5","Especialista Quinto"]
["TI14","Tecnico de Inteligencia","E5","Especialista Quinto"]
["TS12","Tecnico de Servicios","E6","Especialista Sexto"]
["OD07","Orientador de Defensa","E6","Especialista Sexto"]
["TA12","Tecnico para apoyo de seguridad y defensa","E6","Especialista Sexto"]
["TI12","Tecnico de Inteligencia","E6","Especialista Sexto"]
["AS12","Auxiliar de Servicios","DJ","Adjunto Jefe"]
["OD06","Orientador de Defensa","DJ","Adjunto Jefe"]
["AA12","Auxiliar para Apoyo de Seguridad y Defensa","DJ","Adjunto Jefe"]
["TI11","Tecnico de Inteligencia","DJ","Adjunto Jefe"]
["AS11","Auxiliar de Servicios","DI","Adjunto Intendente"]
["AD05","Orientador de Defensa","DI","Adjunto Intendente"]
["AA11","Auxiliar para Apoyo de Seguridad y Defensa","DI","Adjunto Intendente"]
["TI09","Tecnico de Inteligencia","DI","Adjunto Intendente"]
["AS10","Auxiliar de Servicios","DM","Adjunto Mayor"]
["OD04","Orientador de Defensa","DM","Adjunto Mayor"]
["AA10","Auxiliar para Apoyo de Seguridad y Defensa","DM","Adjunto Mayor"]
["TI08","Tecnico de Inteligencia","DM","Adjunto Mayor"]
["AS09","Auxiliar de Servicios","DE","Adjunto Especial"]
["OD3","Orientador de Defensa","DE","Adjunto Especial"]
["AA09","Auxiliar para Apoyo de Seguridad y Defensa","DE","Adjunto Especial"]
["TI07","Tecnico de Inteligencia","DE","Adjunto Especial"]
["AS07","Auxiliar de Servicios","D1","Adjunto Primero"]
["AD02","Orientador de Defensa","D1","Adjunto Primero"]
["AA07","Auxiliar para Apoyo de Seguridad y Defensa","D1","Adjunto Primero"]
["TI06","Tecnico de Inteligencia","D1","Adjunto Primero"]
["AS06","Auxiliar de Servicios","D2","Adjunto Segundo"]
["OD01","Orientador de Defensa","D2","Adjunto Segundo"]
["AA06","Auxiliar para Apoyo de Seguridad y Defensa","D2","Adjunto Segundo"]
["TI05","Tecnico de Inteligencia","D2","Adjunto Segundo"]
["AS05","Auxiliar de Servicios","D3","Adjunto tercero"]
["AA05","Auxiliar para Apoyo de Seguridad y Defensa","D3","Adjunto tercero"]
["TI04","Tecnico de Inteligencia","D3","Adjunto tercero"]
["AS03","Auxiliar de Servicios","D4","Adjunto Cuarto"]
["AA03","Auxiliar para Apoyo de Seguridad y Defensa","D4","Adjunto Cuarto"]
["AS01","Auxiliar de Servicios","D5","Adjunto Quinto"]
["AA01","Auxiliar para Apoyo de Seguridad y Defensa","D5","Adjunto Quinto"]

{"sheet":"GRADOS MILITARES","index":1,"n_rows":25,"n_cols":9,"rows_kept":25,"cut":false,"hidden":false,"merged":[[2,5,3,5],[16,3,16,6],[0,0,14,0],[0,1,0,8],[15,0,24,0],[15,1,15,8],[2,2,3,2],[2,1,3,1],[2,8,3,8],[2,7,3,7],[2,3,3,3],[1,1,1,2],[1,3,1,6],[1,7,1,8],[16,1,17,1],[16,2,17,2],[16,7,17,7],[16,8,17,8]]}
["GRADO","O  F  I  C  I  A  L  E  S"]
[null,"EJC",null,"ARC",null,null,null,"FAC"]
[null,"SIGLA","OFICIALES GENERALES","SIGLA","INFANTERIA DE MARINA","SIGLA","NAVALES","SIGLA","OFICIALES GENERALES"]
[null,null,null,null,"OFICIALES DE INSIGNIA",null,"OFICIALES DE INSIGNIA"]
[null,"G","GENERAL","G","GENERAL","ALM","ALMIRANTE","G","GENERAL"]
[null,"MG","MAYOR GENERAL","MG","MAYOR GENERAL",null,"VICEALMIRANTE","MG","MAYOR GENERAL"]
[null,"BG","BRIGADIER GENERAL","BG","BRIGADIER GENERAL",null,"CONTRAALMIRANTE","BG","BRIGADIER GENERAL"]
[null,null,"OFICIALES SUPERIORES",null,"OFICIALES SUPERIORES",null,"OFICIALES SUPERIORES",null,"OFICIALES SUPERIORES"]
[null,"CO","CORONEL","CO","CORONEL","CN","CAPITAN DE NAVIO","CO","CORONEL"]
[null,"TC","TENIENTE CORONEL","TC","TENIENTE CORONEL","CF","CAPITAN DE FRAGATA","TC","TENIENTE CORONEL"]
[null,"MY","MAYOR","MY","MAYOR","CC","CAPITAN DE CORBETA","MY","MAYOR"]
[null,null,"OFICIALES SUBALTERNOS",null,"OFICIALES SUBALTERNOS",null,"OFICIALES SUBALTERNOS",null,"OFICIALES SUBALTERNOS"]
[null,"CT","CAPITAN ","CT","CAPITAN","TN","TENIENTE DE NAVIO","CT","CAPITAN "]
[null,"TE","TENIENTE","TE","TENIENTE","TF","TENIENTE DE FRAGATA","TE","TENIENTE"]
[null,"ST","SUBTENIENTE","ST","SUBTENIENTE","TK","TENIENTE DE CORBETA","ST","SUBTENIENTE"]
["GRADO","S  U  B  O  F  I  C  I  A  L  E  S"]
[null,"SIGLA","EJC","ARC",null,null,null,"SIGLA","FAC"]
[null,null,null,"SIGLA","INFANTERIA DE MARINA","SIGLA","NAVALES"]
[null,"SM","SARGENTO MAYOR","SM","SARGENTO MAYOR","SJT","SUB OFICIAL JEFE TECNICO","STJ","SUB OFICIAL TECNICO JEFE "]
[null,"SP","SARGENTO PRIMERO","SP","SARGENTO PRIMERO","SJ","SUB OFICIAL JEFE ","STS","SUB OFICIAL TECNICO SUBJEFE "]
[null,"SV","SARGENTO VICEPRIMERO","SV","SARGENTO VICEPRIMERO","S1","SUB OFICIAL PRIMERO","ST1","SUB OFICIAL TECNICO PRIMERO"]
[null,"SS","SARGENTO SEGUNDO","SS","SARGENTO SEGUNDO","S2","SUB OFICIAL SEGUNDO","ST2","SUB OFICIAL TECNICO SEGUNDO"]
[null,"CP","CABO PRIMERO","CP","CABO PRIMERO","S3","SUB OFICIAL TERCERO","ST3","SUB OFICIAL TECNICO TERCERO"]
[null,"CS","CABO SEGUNDO","CS","CABO SEGUNDO","M1","MARINERO PRIMERO","ST4","SUB OFICIAL TECNICO CUARTO"]
[null,"C3","CABO TERCERO","C3","CABO TERCERO","M2","MARINERO SEGUNDO","AE","AEROTECNICO"]

{"sheet":"CDO GRAL","index":2,"n_rows":158,"n_cols":42,"rows_kept":158,"cut":false,"hidden":false,"merged":[[27,3,27,5],[33,6,34,6],[35,14,35,16],[35,19,35,20],[26,0,28,0],[31,14,31,16],[31,19,31,20],[33,14,33,16],[33,19,33,20],[34,14,34,16],[34,19,34,20],[28,14,28,16],[28,19,28,20],[29,14,29,16],[29,19,29,20],[30,14,30,16],[22,0,25,2],[22,14,22,16],[22,19,22,20],[24,14,24,16],[24,19,24,20],[25,14,25,16],[25,19,25,20],[23,14,23,16],[23,19,23,20],[19,0,19,2],[19,3,19,5],[19,14,19,16],[19,19,19,20],[20,0,21,2],[20,14,20,16],[20,19,20,20],[21,14,21,16],[21,19,21,20],[12,0,12,2],[13,0,13,2],[14,0,18,2],[14,4,14,5],[14,6,18,6],[15,4,15,5],[16,4,16,5],[17,4,17,5],[18,4,18,5],[0,0,0,2],[0,3,0,4],[0,5,0,6],[1,0,1,2],[2,0,2,2],[3,0,3,2],[3,3,3,4],[3,5,3,7],[11,0,11,2],[4,0,4,2],[4,3,4,4],[4,5,4,7],[5,0,5,2],[6,0,6,2],[6,3,6,4],[7,0,7,2],[8,0,8,2],[9,0,9,2],[10,0,10,2],[10,4,10,5],[0,12,0,13],[28,8,28,13],[1,8,1,13],[3,8,3,13],[32,19,32,20],[32,14,32,16],[26,14,26,16],[26,19,26,20],[30,19,30,20],[12,8,12,13],[13,8,13,13],[26,8,26,13],[27,8,27,13],[2,8,2,13],[11,8,11,13],[10,8,10,13]]}
["CDO GRAL CO 1 - PA CO 1 - CR 1",null,null,"50%    -",null,{"$f":"TASAS!G11","v":1423500},null,null,null,null,null,null,{"$f":"TASAS!G15","v":"2025-03"}]
["SELECCIONE EL GRADO DEL USUARIO",null,null,null,{"$f":"IF(($D$2= \"\"),\"\",VLOOKUP($D$2,$AG$8:$AP$158,2,FALSE))","v":""},null,null,null,"La tasa de interés preferencial",null,null,null,null,null,{"$f":"D9-D10","v":0},{"$f":"D11-O2","v":0}]
[{"$f":"IF(($D$2= \"\"),\"\",VLOOKUP($D$2,$AG$8:$AP$158,6,FALSE))","v":""},null,null,{"$f":"IF(($D$2= \"\"),\"\",VLOOKUP($D$2,$AG$8:$AP$158,4,FALSE))","v":""},{"$f":"IF(($D$2= \"\"),\"\",VLOOKUP($D$2,$AG$8:$AP$158,5,FALSE))","v":""},null,null,null,"solo aplica para pensionados, no para activos",null,null,null,null,null,null,null,null,null,{"$f":"IF(AND(E27<TASAS!H11,D27<TASAS!M2),TASAS!H6,TASAS!H5)","v":{"$error":"#VALUE!"}}]
[{"$f":"IF(($D$2=\"\"),\"\",\"MONTO MAXIMO SIN CODEUDOR\")","v":""},null,null,{"$f":"IF(($D$2= \"\"),\"\",VLOOKUP($D$2,$AG$8:$AP$158,7,FALSE))","v":""},null,null,null,null,"NO SE TRAMITAN COMPRAS DE CARTERA",null,null,null,null,null,null,null,null,null,{"$f":"B27-S3","v":{"$error":"#VALUE!"}}]
[{"$f":"IF(($D$2=\"\"),\"\",\"MONTO MAXIMO CON CODEUDOR\")","v":""},null,null,{"$f":"IF(($D$2= \"\"),\"\",VLOOKUP($D$2,$AG$8:$AP$158,8,FALSE))","v":""},null,null,null,null,null,null,null,null,null,null,4,null,null,null,0,null,null,null,null,null,null,null,null,null,null,null,null,null,null,null,null,null,null,null,3000000,5000000,"60 MESES",{"$f":"LEFT(AO5,2)","v":"60"}]
[{"$f":"IF(($D$2=\"\"),\"\",\"CODEUDOR REQUERIDO\")","v":""},null,null,{"$f":"IF(($D$2= \"\"),\"\",VLOOKUP($D$2,$AG$8:$AP$158,10,FALSE))","v":""},null,null,null,null,null,null,null,null,null,null,1,null,null,null,{"$f":"TASAS!H3","v":1.77E-2},"TASA"]
[{"$f":"IF(($D$2=\"\"),\"\",\"PLAZO MAXIMO PARA EL CREDITO\")","v":""},null,null,{"$f":"IF(($D$2= \"\"),\"\",VLOOKUP($D$2,$AG$8:$AP$158,9,FALSE))","v":""},null,{"$f":"IF(($D$2=\"\"),\"\",\"REVISE ABAJO LOS REQUISITOS\")","v":""},null,null,null,null,null,null,null,null,null,null,null,null,{"$f":"TASAS!H4","v":1.8200000000000001E-2},"TASA",null,null,null,null,null,null,null,null,null,null,null,"No.","SIGLA","DESCRIPCION","CLASIFICACION","SIGLA","DESCRIPCION","CLASIFICACION","MONTO MAX SIN CD","MONTO MAX CON CD","PLAZO","CD REQUEIRDO"]
["EVALUACION CAPACIDAD DE PAGO",null,null,"VALOR 1","VALOR 2","VALOR 3","TOTALES",null,null,null,null,null,null,null,null,null,null,null,{"$f":"TASAS!H5","v":1.8699999999999998E-2},"TASA",null,null,null,null,null,null,null,null,null,null,1,1,"AD06","Asesor del Sector Defensa","GRADO NUEVO","PU10","Profesional Universitario 10","CIVIL - GRADO ANTIGUO",{"$f":"$AM$5","v":3000000},{"$f":"$AN$5","v":5000000},{"$f":"$AO$5","v":"60 MESES"},"CIVIL O MILITAR CON MAS DE TRES AÑOS DE ANTIGÜEDAD"]
["TOTAL INGRESOS",null,null,0,null,null,{"$f":"IF((D9/2)<=F1,(D9-F1),(D9/2))","v":-1423500},null,null,null,null,null,null,null,null,null,null,null,{"$f":"TASAS!H6","v":3.4999999999999996E-2},"TASA",null,null,null,null,null,null,null,null,null,null,2,2,"AD04","Asesor del Sector Defensa","GRADO NUEVO","PU08","Profesional Universitario 08","CIVIL - GRADO ANTIGUO",{"$f":"$AM$5","v":3000000},{"$f":"$AN$5","v":5000000},{"$f":"$AO$5","v":"60 MESES"},"CIVIL O MILITAR CON MAS DE TRES AÑOS DE ANTIGÜEDAD"]
["(-) TOTAL DESCUENTOS",null,null,0,null,null,{"$f":"IF(($P$2>3),\"ERROR EN\",IF($P$2<-3,\"ERROR EN\",D10))","v":0},null,null,null,null,null,null,null,null,null,null,null,{"$f":"TASAS!H7","v":1.4499999999999999E-2},"TASA",null,null,null,null,null,null,null,null,null,null,3,3,"AD02","Asesor del Sector Defensa","GRADO NUEVO","PU06","Profesional Universitario 06","CIVIL - GRADO ANTIGUO",3000000,5000000,"60 MESES","CIVIL O MILITAR CON MAS DE TRES AÑOS DE ANTIGÜEDAD"]
["INGRESO NETO RECIBIDO EN EL DESPRENDIBLE DE PAGO",null,null,0,"DISPONIBLE PARA CREDITO",null,{"$f":"IF(($P$2>3),\"LOS DATOS\",IF($P$2<-3,\"LOS DATOS\",G9-G10+G12+G13-G14))","v":-1423500},"*",null,null,null,null,null,null,null,null,null,null,{"$f":"TASAS!H8","v":1.4999999999999999E-2},"TASA",null,null,null,null,null,null,null,null,null,null,4,4,"OE18","Orientador Espiritual","GRADO NUEVO","PU06","Profesional Universitario 06","CIVIL - GRADO ANTIGUO",3000000,5000000,"60 MESES","CIVIL O MILITAR CON MAS DE TRES AÑOS DE ANTIGÜEDAD"]
["(+) DESCUENTOS FINALIZADOS EN EL PRESENTE MES Y EN EL PROXIMO",null,null,0,0,0,{"$f":"SUM(D12:F12)","v":0},null,{"$f":"IF((B27=0),\"¡ ¡ ¡ Por favor seleccione la tasa de interés ! ! !\",\" \")","v":"¡ ¡ ¡ Por favor seleccione la tasa de interés ! ! !"},null,null,null,null,null,null,null,null,null,{"$f":"TASAS!H9","v":1.55E-2},"TASA",null,null,null,null,null,null,null,null,null,null,5,5,"OD18","Orientador de Defensa","GRADO NUEVO","PU","Profesional Universitario ","CIVIL - GRADO ANTIGUO",3000000,5000000,"60 MESES","CIVIL O MILITAR CON MAS DE TRES AÑOS DE ANTIGÜEDAD"]
["(+) CUOTAS DE COMPRAS DE CARTERA",null,null,0,0,0,{"$f":"SUM(D13:F13)","v":0},null,{"$f":"IF((S4=0),\" \",\"¡¡¡   A T E N C I O N   !!!\")","v":{"$error":"#VALUE!"}},null,null,null,null,null,null,null,null,null,null,null,null,null,null,null,null,null,null,null,null,null,6,6,"PD04","Profesional de Defensa","GRADO NUEVO","EP","Especialista Asesor Primero","CIVIL - GRADO ANTIGUO",3000000,5000000,"60 MESES","CIVIL O MILITAR CON MAS DE TRES AÑOS DE ANTIGÜEDAD"]
["(-) VALOR INGRESOS ADICIONALES Y OTROS DEDUCIBLES",null,null,0,0,0,{"$f":"SUM(D14:F14)","v":0},null,{"$f":"IF((S4=0),\" \",\"La tasa máxima para ese monto y plazo es del\")","v":{"$error":"#VALUE!"}},null,null,null,null,null,null,null,null,{"$f":"D3*1","v":{"$error":"#VALUE!"}},{"$f":"(PV($B$27,$D$27,$T$18))*-1","v":{"$error":"#VALUE!"}},null,null,null,null,null,null,null,null,null,null,null,7,7,"OD16","Orientador de Defensa","GRADO NUEVO","EP","Especialista Asesor Primero","CIVIL - GRADO ANTIGUO",3000000,5000000,"60 MESES","CIVIL O MILITAR CON MAS DE TRES AÑOS DE ANTIGÜEDAD"]
["(-) VALOR ESTIMADO CUOTA DE CREDITO CON COOSERFIN",null,null,0,{"$f":"IF(($D$17=\"TASA\"),\" \",\"VALOR SOLICITADO\")","v":"VALOR SOLICITADO"},null,{"$f":"IF(($D$2=\"\"),\"RECUERDE DIGITAR ARRIBA EL GRADO\",ROUNDUP(((((D15*D17))*(D16+D18))+D15)/D16,0))","v":"RECUERDE DIGITAR ARRIBA EL GRADO"},null,null,null,null,null,null,null,null,null,null,null,{"$f":"(IF(S14>R14,R14,FLOOR(S14,100000)))","v":{"$error":"#VALUE!"}},null,null,null,null,null,null,null,null,null,null,null,8,8,"OE16","Orientador Espiritual","GRADO NUEVO","EP","Especialista Asesor Primero","CIVIL - GRADO ANTIGUO",3000000,5000000,"60 MESES","CIVIL O MILITAR CON MAS DE TRES AÑOS DE ANTIGÜEDAD"]
[null,null,null,0,{"$f":"IF(($D$17=\"TASA\"),\" \",\"PLAZO\")","v":"PLAZO"},null,null,null,null,null,null,null,null,null,null,null,null,null,null,null,null,null,null,null,null,null,null,null,null,null,9,9,"PD02","Profesional de Defensa","GRADO NUEVO","ES","Especialista Asesor Segundo","CIVIL - GRADO ANTIGUO",3000000,5000000,"60 MESES","CIVIL O MILITAR CON MAS DE TRES AÑOS DE ANTIGÜEDAD"]
[null,null,null,2.3E-2,"FACTOR",null,null,null,null,null,null,null,null,null,null,null,null,null,null,{"$f":"F22","v":"NO APLICA"},null,null,null,null,null,null,null,null,null,null,10,10,"OD14","Orientador de Defensa","GRADO NUEVO","ES","Especialista Asesor Segundo","CIVIL - GRADO ANTIGUO",3000000,5000000,"60 MESES","CIVIL O MILITAR CON MAS DE TRES AÑOS DE ANTIGÜEDAD"]
[null,null,null,0,{"$f":"IF(($D$17=\"TASA\"),\" \",\"MES(ES) DE GRACIA\")","v":"MES(ES) DE GRACIA"},null,null,null,null,null,null,null,null,null,null,null,null,{"$f":"(PV($B$27,$D$27,$F$22))*-1","v":{"$error":"#VALUE!"}},null,{"$f":"((T17*(1-R23))-R25-V20-V24)*0.99","v":{"$error":"#VALUE!"}},null,null,null,null,{"$f":"R20*R24","v":{"$error":"#VALUE!"}},null,null,null,null,null,11,11,"OE14","Orientador Espiritual","GRADO NUEVO","ES","Especialista Asesor Segundo","CIVIL - GRADO ANTIGUO",3000000,5000000,"60 MESES","CIVIL O MILITAR CON MAS DE TRES AÑOS DE ANTIGÜEDAD"]
[null,null,null,{"$f":"IF($G$20>=0,(G15*D16),IF($G$20<0,\"\"))","v":{"$error":"#VALUE!"}},{"$f":"IF(($D$17=\"TASA\"),\" \",\"VALOR LIBRANZA\")","v":"VALOR LIBRANZA"},null,null,null,null,null,null,null,null,null,null,null,null,null,null,null,null,null,null,null,{"$f":"R29*R33","v":{"$error":"#VALUE!"}},null,null,null,null,null,12,12,"PD01","Profesional de Defensa","GRADO NUEVO","EJ","Especialista Jefe","CIVIL - GRADO ANTIGUO",3000000,5000000,"60 MESES","CIVIL O MILITAR CON MAS DE TRES AÑOS DE ANTIGÜEDAD"]
["INGRESO ESTIMADO EN EL PRIMER MES DE PAGO DEL CREDITO",null,null,{"$f":"IF($G$20>=0,\"USUARIO CON CAPACIDAD DE PAGO\",IF($G$20<0,\"INTENTE CON OTRO MONTO Y/O PLAZO\"))","v":{"$error":"#VALUE!"}},{"$f":"IF($J$16>=AD13,\"USUARIO CON CAPACIDAD DE ENDEUDAMIENTO\",IF($J$16<AD13,\"CREDITO INVIABLE INTENTE CON OTRO MONTO Y/O PLAZO\"))","v":"USUARIO CON CAPACIDAD DE ENDEUDAMIENTO"},{"$f":"IF($J$16>=AE13,\"USUARIO CON CAPACIDAD DE ENDEUDAMIENTO\",IF($J$16<AE13,\"CREDITO INVIABLE INTENTE CON OTRO MONTO Y/O PLAZO\"))","v":"CREDITO INVIABLE INTENTE CON OTRO MONTO Y/O PLAZO"},{"$f":"G11-G15","v":{"$error":"#VALUE!"}},null,null,null,null,null,null,null,"VALOR CREDITO         :",null,null,{"$f":"R18","v":{"$error":"#VALUE!"}},null,"VALOR SEGURO          :",null,{"$f":"R20*TASAS!C12","v":{"$error":"#VALUE!"}},null,null,{"$f":"(((($R$21)*((1+($R$21))^$R$22))/(((1+($R$21))^$R$22)-1))*$R$20)+((((R20*R21)/30)*R27)/R22)+R25+V20+V23","v":{"$error":"#DIV/0!"}},null,null,null,null,null,13,13,"OD13","Orientador de Defensa","GRADO NUEVO","EJ","Especialista Jefe","CIVIL - GRADO ANTIGUO",3000000,5000000,"60 MESES","CIVIL O MILITAR CON MAS DE TRES AÑOS DE ANTIGÜEDAD"]
[{"$f":"IF($W$22>0,\"MONTO MAXIMO DE ENDEUDAMIENTO\",IF($W$22<=0,\"EL SOLICITANTE NO TIENE POSIBILIDADES DE CREDITO\"))","v":"EL SOLICITANTE NO TIENE POSIBILIDADES DE CREDITO"},null,null,"PLAZO","MONTO MAX","VALOR CUOTA","VR LIBRANZA",null,null,null,null,null,null,null,"TASA NOMINAL MENSUAL  :",null,null,{"$f":"B27","v":0},null,"TASA EFECTIVA ANUAL   :",null,{"$f":"((1+((R21*12)/12))^12)-1","v":0},null,null,null,null,null,null,null,null,14,14,"OE13","Orientador Espiritual","GRADO NUEVO","EJ","Especialista Jefe","CIVIL - GRADO ANTIGUO",3000000,5000000,"60 MESES","CIVIL O MILITAR CON MAS DE TRES AÑOS DE ANTIGÜEDAD"]
[null,null,null,{"$f":"AP5","v":"60"},{"$f":"IF(($W$22<=0),\"NO APLICA\",$G$22*100/((($D$17*100)*($D$22+$D$18))+100))","v":"NO APLICA"},{"$f":"IF(($W$22<=0),\"NO APLICA\",$G$11)","v":"NO APLICA"},{"$f":"IF(($W$22<=0),\"NO APLICA\",($D$22*$F$22))","v":"NO APLICA"},"*",null,null,null,null,null,null,"PLAZO EN MESES        :",null,null,{"$f":"D27","v":"60"},null,"CUOTA NETA            :",null,{"$f":"((((R21)*((1+(R21))^R22))/(((1+(R21))^R22)-1))*(R20+Y18))+(((((R20+Y18)*R21)/30)*R27)/R22)","v":{"$error":"#DIV/0!"}},{"$f":"$G$11+$G$12+$G$13","v":-1423500},"PLAZO","MONTO MAX","VR MAX CUOTA","VALOR LZ",null,null,null,15,15,"TS21","Técnico de Servicios","GRADO NUEVO","E1","Especialista Primero","CIVIL - GRADO ANTIGUO",3000000,5000000,"60 MESES","CIVIL O MILITAR CON MAS DE TRES AÑOS DE ANTIGÜEDAD"]
[{"$f":"IF($G$20>=0,\"OTRAS OPCIONES DE CREDITO DISPONIBLES\",IF($G$20<0,\"INTENTE CON OTRO MONTO Y/O PLAZO\"))","v":{"$error":"#VALUE!"}},null,null,{"$f":"IF($Y$23<=$AA$27,12,IF($Y$23>$AA$27,\"NO APLICA\"))","v":{"$error":"#VALUE!"}},{"$f":"IF(Y23>$AA$27,\"NO APLICA\",IF(Y23<=$AA$27,FLOOR(Y23,10000)))","v":{"$error":"#VALUE!"}},{"$f":"IF($Y$23>$AA$27,\"NO APLICA\",IF(Y23<=$AA$27,((((E23*($D$17)*((D23+$D$18))+E23)/D23)))))","v":{"$error":"#VALUE!"}},{"$f":"IF($Y$23>$AA$27,\"NO APLICA\",IF(Y23<=$AA$27,(D23*F23)))","v":{"$error":"#VALUE!"}},null,null,null,null,null,null,null,"TASA COMISION RECAUDO :",null,null,0,null,"COMISION POR RECAUDO  :",null,{"$f":"((((((R21)*((1+(R21))^R22))/(((1+(R21))^R22)-1))*(R20+Y18))+(((((R20+Y18)*R21)/30)*R27)/R22)+R25+V20)*100)/(100-(R23*100))-(((((R21)*((1+(R21))^R22))/(((1+(R21))^R22)-1))*(R20+Y18))+(((((R20+Y18)*R21)/30)*R27)/R22)+R25+V20)","v":{"$error":"#DIV/0!"}},null,12,{"$f":"IF(($G$20>=0),AA23*100/((($D$17*100)*(X23+$D$18))+100),\"\")","v":{"$error":"#VALUE!"}},{"$f":"IF(($G$20>=0),($G$20+$G$15),\"\")","v":{"$error":"#VALUE!"}},{"$f":"IF(($G$20>=0),(Z23*X23),\"\")","v":{"$error":"#VALUE!"}},null,null,null,16,16,"OD12","Orientador de Defensa","GRADO NUEVO","E1","Especialista Primero","CIVIL - GRADO ANTIGUO",3000000,5000000,"60 MESES","CIVIL O MILITAR CON MAS DE TRES AÑOS DE ANTIGÜEDAD"]
[null,null,null,{"$f":"IF($Y$24<=$AA$27,24,IF($Y$24>$AA$27,\"NO APLICA\"))","v":{"$error":"#VALUE!"}},{"$f":"IF(Y24>$AA$27,\"NO APLICA\",IF(Y24<=$AA$27,FLOOR(Y24,10000)))","v":{"$error":"#VALUE!"}},{"$f":"IF($Y$24>$AA$27,\"NO APLICA\",IF(Y24<=$AA$27,((((E24*($D$17)*((D24+$D$18))+E24)/D24)))))","v":{"$error":"#VALUE!"}},{"$f":"IF($Y$24>$AA$27,\"NO APLICA\",IF(Y24<=$AA$27,(D24*F24)))","v":{"$error":"#VALUE!"}},null,null,null,null,null,null,null,"OTROS GASTOS          :",null,null,{"$f":"B29","v":0},null,"VALOR OTROS GASTOS    :",null,{"$f":"V27-Y20","v":{"$error":"#DIV/0!"}},null,24,{"$f":"IF(($G$20>=0),AA24*100/((($D$17*100)*(X24+$D$18))+100),\"\")","v":{"$error":"#VALUE!"}},{"$f":"IF(($G$20>=0),($G$20+$G$15),\"\")","v":{"$error":"#VALUE!"}},{"$f":"IF(($G$20>=0),(Z24*X24),\"\")","v":{"$error":"#VALUE!"}},null,null,null,17,17,"TA21","Técnico para Apoyo de Seguridad y Defensa","GRADO NUEVO","E1","Especialista Primero","CIVIL - GRADO ANTIGUO",3000000,5000000,"60 MESES","CIVIL O MILITAR CON MAS DE TRES AÑOS DE ANTIGÜEDAD"]
[null,null,null,{"$f":"IF($Y$25<=$AA$27,36,IF($Y$25>$AA$27,\"NO APLICA\"))","v":{"$error":"#VALUE!"}},{"$f":"IF(Y25>$AA$27,\"NO APLICA\",IF(Y25<=$AA$27,FLOOR(Y25,10000)))","v":{"$error":"#VALUE!"}},{"$f":"IF($Y$25>$AA$27,\"NO APLICA\",IF(Y25<=$AA$27,((((E25*($D$17)*((D25+$D$18))+E25)/D25)))))","v":{"$error":"#VALUE!"}},{"$f":"IF($Y$25>$AA$27,\"NO APLICA\",IF(Y25<=$AA$27,(D25*F25)))","v":{"$error":"#VALUE!"}},null,null,null,null,null,null,null,"APORTES SOCIALES      :",null,null,0,null,"FECHA DE INICIO       :",null,{"$f":"(R26+((R22+1)*29))-((R22-1)*29)","v":"2012-02-28"},null,36,{"$f":"IF(($G$20>=0),AA25*100/((($D$17*100)*(X25+$D$18))+100),\"\")","v":{"$error":"#VALUE!"}},{"$f":"IF(($G$20>=0),($G$20+$G$15),\"\")","v":{"$error":"#VALUE!"}},{"$f":"IF(($G$20>=0),(Z25*X25),\"\")","v":{"$error":"#VALUE!"}},null,null,null,18,18,"TS19","Técnico de Servicios","GRADO NUEVO","E2","Especialista Segundo","CIVIL - GRADO ANTIGUO",3000000,5000000,"60 MESES","CIVIL O MILITAR CON MAS DE TRES AÑOS DE ANTIGÜEDAD"]
[null,null,null,{"$f":"IF($Y$26<=$AA$27,48,IF($Y$26>$AA$27,\"NO APLICA\"))","v":{"$error":"#VALUE!"}},{"$f":"IF(Y26>$AA$27,\"NO APLICA\",IF(Y26<=$AA$27,FLOOR(Y26,10000)))","v":{"$error":"#VALUE!"}},{"$f":"IF($Y$26>$AA$27,\"NO APLICA\",IF(Y26<=$AA$27,((((E26*($D$17)*((D26+$D$18))+E26)/D26)))))","v":{"$error":"#VALUE!"}},{"$f":"IF($Y$26>$AA$27,\"NO APLICA\",IF(Y26<=$AA$27,(D26*F26)))","v":{"$error":"#VALUE!"}},null,null,null,null,null,null,null,"FECHA DESEMBOLSO      :",null,null,"2012-01-01",null,"FECHA DE TERMINO      :",null,{"$f":"(R26+((R22+1)*29))-((R22-1)*29)+((R22-1)*30)","v":"2017-01-02"},null,48,{"$f":"IF(($G$20>=0),AA26*100/((($D$17*100)*(X26+$D$18))+100),\"\")","v":{"$error":"#VALUE!"}},{"$f":"IF(($G$20>=0),($G$20+$G$15),\"\")","v":{"$error":"#VALUE!"}},{"$f":"IF(($G$20>=0),(Z26*X26),\"\")","v":{"$error":"#VALUE!"}},null,null,null,19,19,"OD11","Orientador de Defensa","GRADO NUEVO","E2","Especialista Segundo","CIVIL - GRADO ANTIGUO",3000000,5000000,"60 MESES","CIVIL O MILITAR CON MAS DE TRES AÑOS DE ANTIGÜEDAD"]
["LIBRE INVERSION - COBRO DE AVAL ANTICIPADO",0,"N.M.V.",{"$f":"AP5","v":"60"},{"$f":"S15","v":{"$error":"#VALUE!"}},"  VR CUOTA   ",{"$f":"(((($R$30)*((1+($R$30))^$R$31))/(((1+($R$30))^$R$31)-1))*($E$27+$Y$19))+(((((E27+Y19)*R30)/30)*R36)/R31)+R34+V29+V32+V33","v":{"$error":"#DIV/0!"}},null,{"$f":"IF((S4=0),\" \",S3)","v":{"$error":"#VALUE!"}},null,null,null,null,null,"DIAS DE GRACIA        :",null,null,{"$f":"B30","v":0},null,"TOTAL CUOTA MENSUAL   :",null,{"$f":"V22+R25+V23+V20","v":{"$error":"#DIV/0!"}},null,null,null,"MONTO MAXIMO POR CLIENTE",15000000,null,null,null,20,20,"TA19","Técnico para Apoyo de Seguridad y Defensa","GRADO NUEVO","E2","Especialista Segundo","CIVIL - GRADO ANTIGUO",3000000,5000000,"60 MESES","CIVIL O MILITAR CON MAS DE TRES AÑOS DE ANTIGÜEDAD"]
[null,{"$f":"((1+((B27*12)/12))^12)-1","v":0}," E. A.",{"$f":"IF($G$28>=0,\"USUARIO CON CAPACIDAD DE PAGO\",IF($G$28<0,\"INTENTE CON OTRO MONTO Y/O PLAZO\"))","v":{"$error":"#DIV/0!"}},null,null,{"$f":"G11-G27","v":{"$error":"#DIV/0!"}},null,{"$f":"IF(B27=TASAS!H3,\"Tasa para clientes con puntaje > a 750 y sin procesos\",\" \")","v":" "},null,null,null,null,null,null,null,null,null,null,null,null,null,null,null,null,null,null,null,null,null,21,21,"TS18","Técnico de Servicios","GRADO NUEVO","E3","Especialista Tercero","CIVIL - GRADO ANTIGUO",3000000,5000000,"60 MESES","CIVIL O MILITAR CON MAS DE TRES AÑOS DE ANTIGÜEDAD"]
[null,0," O. G.","% AVAL","VALOR AVAL ","A GIRAR",null,null,{"$f":"IF(B27=TASAS!H4,\"Tasa para clientes con puntaje entre 650 - 749 y sin procesos\",\" \")","v":" "},null,null,null,null,null,"VALOR CREDITO         :",null,null,{"$f":"E27","v":{"$error":"#VALUE!"}},null,"VALOR SEGURO          :",null,{"$f":"R29*TASAS!C12","v":{"$error":"#VALUE!"}},null,null,null,null,null,null,null,null,22,22,"OD10","Orientador de Defensa","GRADO NUEVO","E3","Especialista Tercero","CIVIL - GRADO ANTIGUO",3000000,5000000,"60 MESES","CIVIL O MILITAR CON MAS DE TRES AÑOS DE ANTIGÜEDAD"]
[null,0," D. G.",0.09,{"$f":"E27*D30","v":{"$error":"#VALUE!"}},{"$f":"E27-E30","v":{"$error":"#VALUE!"}},null,null,null,null,null,null,null,null,"TASA NOMINAL MENSUAL  :",null,null,{"$f":"R21","v":0},null,"TASA EFECTIVA ANUAL   :",null,{"$f":"((1+((R30*12)/12))^12)-1","v":0},null,null,null,null,null,null,null,null,23,23,"TA18","Técnico para Apoyo de Seguridad y Defensa","GRADO NUEVO","E3","Especialista Tercero","CIVIL - GRADO ANTIGUO",3000000,5000000,"60 MESES","CIVIL O MILITAR CON MAS DE TRES AÑOS DE ANTIGÜEDAD"]
[null,"% Simple",{"$f":"(((G27*D27)-E27)/E27)/D27","v":{"$error":"#DIV/0!"}},null,null,null,null,null,null,null,null,null,null,null,"PLAZO EN MESES        :",null,null,"60",null,"CUOTA NETA            :",null,{"$f":"((((R30)*((1+(R30))^R31))/(((1+(R30))^R31)-1))*(R29+Y19))+(((((R29+Y19)*R30)/30)*R36)/R31)","v":{"$error":"#DIV/0!"}},null,null,null,null,null,null,null,null,24,24,"TI18","Técnico de Inteligencia","GRADO NUEVO","E3","Especialista Tercero","CIVIL - GRADO ANTIGUO",3000000,5000000,"60 MESES","CIVIL O MILITAR CON MAS DE TRES AÑOS DE ANTIGÜEDAD"]
[null,null,null,null,null,null,null,null,null,null,null,null,null,null,"TASA COMISION RECAUDO :",null,null,0,null,"COMISION POR RECAUDO  :",null,{"$f":"((((((R30)*((1+(R30))^R31))/(((1+(R30))^R31)-1))*(R29+Y19))+(((((R29+Y19)*R30)/30)*R36)/R31)+R34+V29)*100)/(100-(R32*100))-(((((R30)*((1+(R30))^R31))/(((1+(R30))^R31)-1))*(R29+Y19))+(((((R29+Y19)*R30)/30)*R36)/R31)+R34+V29)","v":{"$error":"#DIV/0!"}},null,null,null,null,null,null,null,null,25,25,"TS17","Técnico de Servicios","GRADO NUEVO","E4","Especialista Cuarto","CIVIL - GRADO ANTIGUO",3000000,5000000,"60 MESES","CIVIL O MILITAR CON MAS DE TRES AÑOS DE ANTIGÜEDAD"]
["REQUISITOS PARA SOLICITUD DE CREDITO:",null,null,null,null,null,null,null,null,null,null,null,null,null,"OTROS GASTOS          :",null,null,0,null,"VALOR OTROS GASTOS    :",null,null,null,null,null,null,null,null,null,null,26,26,"OD09","Orientador de Defensa","GRADO NUEVO","E4","Especialista Cuarto","CIVIL - GRADO ANTIGUO",3000000,5000000,"60 MESES","CIVIL O MILITAR CON MAS DE TRES AÑOS DE ANTIGÜEDAD"]
["1. DESPRENDIBLES DE PAGO ORIGINALES  DE LOS DOS (2) ULTIMOS ",null,null,null,null,null,null,null,null,null,null,null,null,null,"APORTES SOCIALES      :",null,null,0,null,"FECHA DE INICIO       :",null,{"$f":"(R35+((R31+1)*29))-((R31-1)*29)","v":"2012-02-28"},null,null,null,null,null,null,null,null,27,27,"TA17","Técnico para Apoyo de Seguridad y Defensa","GRADO NUEVO","E4","Especialista Cuarto","CIVIL - GRADO ANTIGUO",3000000,5000000,"60 MESES","CIVIL O MILITAR CON MAS DE TRES AÑOS DE ANTIGÜEDAD"]
["    MESES CON FIRMA Y HUELLA DACTILAR",null,null,null,null,null,null,null,null,null,null,null,null,null,"FECHA DESEMBOLSO      :",null,null,"2012-01-01",null,"FECHA DE TERMINO      :",null,{"$f":"(R35+((R31+1)*29))-((R31-1)*29)+((R31-1)*30)","v":"2017-01-02"},null,null,null,null,null,null,null,null,28,28,"TS14","Técnico de Servicios","GRADO NUEVO","E5","Especialista Quinto","CIVIL - GRADO ANTIGUO",3000000,5000000,"60 MESES","CIVIL O MILITAR CON MAS DE TRES AÑOS DE ANTIGÜEDAD"]
["2. FOTOCOPIA AMPLIADA AL 200%, A COLOR Y LEGIBLE DE LA CEDULA DE CIUDADANIA",null,null,null,null,null,null,null,null,null,null,null,null,null,"DIAS DE GRACIA        :",null,null,0,null,"TOTAL CUOTA MENSUAL   :",null,{"$f":"V31+R34+V32+V29","v":{"$error":"#DIV/0!"}},null,null,null,null,null,null,null,null,29,29,"OD08","Orientador de Defensa","GRADO NUEVO","E5","Especialista Quinto","CIVIL - GRADO ANTIGUO",3000000,5000000,"60 MESES","CIVIL O MILITAR CON MAS DE TRES AÑOS DE ANTIGÜEDAD"]
["3. FOTOCOPIA AMPLIADA AL 200%, A COLOR Y LEGIBLE DE LA CEDULA MILITAR O DE ",null,null,null,null,null,null,null,null,null,null,null,null,null,null,null,null,null,null,null,null,null,null,null,null,null,null,null,null,null,30,30,"TA14","Técnico para Apoyo de Seguridad y Defensa","GRADO NUEVO","E5","Especialista Quinto","CIVIL - GRADO ANTIGUO",3000000,5000000,"60 MESES","CIVIL O MILITAR CON MAS DE TRES AÑOS DE ANTIGÜEDAD"]
["    PERSONAL CIVIL CON EL GRADO ACTUALIZADO (IGUAL AL DEL DESPRENDIBLE)",null,null,null,null,null,null,null,null,null,null,null,null,null,null,null,null,null,null,null,null,null,null,null,null,null,null,null,null,null,31,31,"TI14","Técnico de Inteligencia","GRADO NUEVO","E5","Especialista Quinto","CIVIL - GRADO ANTIGUO",3000000,5000000,"60 MESES","CIVIL O MILITAR CON MAS DE TRES AÑOS DE ANTIGÜEDAD"]
["4. FIRMAR EL FORMATO DE AUTORIZACION DE DESCUENTO",null,null,null,null,null,null,null,null,null,null,null,null,null,null,null,null,null,null,null,null,null,null,null,null,null,null,null,null,null,32,32,"TS12","Técnico de Servicios","GRADO NUEVO","E6","Especialista Sexto","CIVIL - GRADO ANTIGUO",3000000,5000000,"60 MESES","CIVIL O MILITAR CON MAS DE TRES AÑOS DE ANTIGÜEDAD"]
["5. SI APLICA, UN CODEUDOR CON LOS MISMOS REQUISITOS DEL DEUDOR, QUIEN",null,null,null,null,null,null,null,null,null,null,null,null,null,null,null,null,null,null,null,null,null,null,null,null,null,null,null,null,null,33,33,"OD07","Orientador de Defensa","GRADO NUEVO","E6","Especialista Sexto","CIVIL - GRADO ANTIGUO",3000000,5000000,"60 MESES","CIVIL O MILITAR CON MAS DE TRES AÑOS DE ANTIGÜEDAD"]
["    PODRA PRESENTAR FOTOCOPIA DEL ULTIMO DESPRENDIBLE DE PAGO",null,null,null,null,null,null,null,null,null,null,null,null,null,null,null,null,null,null,null,null,null,null,null,null,null,null,null,null,null,34,34,"TA12","Técnico para Apoyo de Seguridad y Defensa","GRADO NUEVO","E6","Especialista Sexto","CIVIL - GRADO ANTIGUO",3000000,5000000,"60 MESES","CIVIL O MILITAR CON MAS DE TRES AÑOS DE ANTIGÜEDAD"]
["6. LAS LIBRANZAS DE COMANDO GENERAL REQUIEREN VISADO",null,null,null,null,null,null,null,null,null,null,null,null,null,null,null,null,null,null,null,null,null,null,null,null,null,null,null,null,null,35,35,"TI12","Técnico de Inteligencia","GRADO NUEVO","E6","Especialista Sexto","CIVIL - GRADO ANTIGUO",3000000,5000000,"60 MESES","CIVIL O MILITAR CON MAS DE TRES AÑOS DE ANTIGÜEDAD"]
[null,null,null,null,null,null,null,null,null,null,null,null,null,null,null,null,null,null,null,null,null,null,null,null,null,null,null,null,null,null,null,null,null,null,null,null,null,null,3000000,5000000,"60 MESES"]
["DESCUENTOS QUE SIEMPRE SE CONSIDERAN INDEFINIDOS",null,null,null,null,null,null,null,null,null,null,null,null,null,null,null,null,null,null,null,null,null,null,null,null,null,null,null,null,null,36,36,"AS12","Auxiliar de Servicios","GRADO NUEVO","DJ","Adjunto Jefe","CIVIL - GRADO ANTIGUO",3000000,5000000,"60 MESES","CIVIL O MILITAR CON MAS DE TRES AÑOS DE ANTIGÜEDAD"]
["AUN CUANDO TENGAN FECHA DE TERMINO EN EL DESPRENDIBLE:",null,null,null,null,null,null,null,null,null,null,null,null,null,null,null,null,null,null,null,null,null,null,null,null,null,null,null,null,null,37,37,"OD06","Orientador de Defensa","GRADO NUEVO","DJ","Adjunto Jefe","CIVIL - GRADO ANTIGUO",3000000,5000000,"60 MESES","CIVIL O MILITAR CON MAS DE TRES AÑOS DE ANTIGÜEDAD"]
["1. CASAS FISCALES = VIMILITAR, ICFEJCDES",null,null,null,null,null,null,null,null,null,null,null,null,null,null,null,null,null,null,null,null,null,null,null,null,null,null,null,null,null,38,38,"AA12","Técnico para Apoyo de Seguridad y Defensa","GRADO NUEVO","DJ","Adjunto Jefe","CIVIL - GRADO ANTIGUO",3000000,5000000,"60 MESES","CIVIL O MILITAR CON MAS DE TRES AÑOS DE ANTIGÜEDAD"]
["2. EMBARGOS = JUZCIVMPALBTA",null,null,null,null,null,null,null,null,null,null,null,null,null,null,null,null,null,null,null,null,null,null,null,null,null,null,null,null,null,39,39,"TI11","Técnico de Inteligencia","GRADO NUEVO","DJ","Adjunto Jefe","CIVIL - GRADO ANTIGUO",3000000,5000000,"60 MESES","CIVIL O MILITAR CON MAS DE TRES AÑOS DE ANTIGÜEDAD"]
[null,null,null,null,null,null,null,null,null,null,null,null,null,null,null,null,null,null,null,null,null,null,null,null,null,null,null,null,null,null,40,40,"AS11","Auxiliar de Servicios","GRADO NUEVO","DI","Adjunto Intendente","CIVIL - GRADO ANTIGUO",3000000,5000000,"60 MESES","CIVIL O MILITAR CON MAS DE TRES AÑOS DE ANTIGÜEDAD"]
["DEVENGADOS QUE NO SE TIENEN EN CUENTA DENTRO DE LA",null,null,null,null,null,null,null,null,null,null,null,null,null,null,null,null,null,null,null,null,null,null,null,null,null,null,null,null,null,41,41,"AD05","Orientador de Defensa","GRADO NUEVO","DI","Adjunto Intendente","CIVIL - GRADO ANTIGUO",3000000,5000000,"60 MESES","CIVIL O MILITAR CON MAS DE TRES AÑOS DE ANTIGÜEDAD"]
["CAPACIDAD DE PAGO:",null,null,null,null,null,null,null,null,null,null,null,null,null,null,null,null,null,null,null,null,null,null,null,null,null,null,null,null,null,42,42,"AA11","Técnico para Apoyo de Seguridad y Defensa","GRADO NUEVO","DI","Adjunto Intendente","CIVIL - GRADO ANTIGUO",3000000,5000000,"60 MESES","CIVIL O MILITAR CON MAS DE TRES AÑOS DE ANTIGÜEDAD"]
["1. PRIMA DE ORDEN PUBLICO",null,null,null,null,null,null,null,null,null,null,null,null,null,null,null,null,null,null,null,null,null,null,null,null,null,null,null,null,null,43,43,"TI09","Técnico de Inteligencia","GRADO NUEVO","DI","Adjunto Intendente","CIVIL - GRADO ANTIGUO",3000000,5000000,"60 MESES","CIVIL O MILITAR CON MAS DE TRES AÑOS DE ANTIGÜEDAD"]
["2. PARTIDA DE ALIMENTACION",null,null,null,null,null,null,null,null,null,null,null,null,null,null,null,null,null,null,null,null,null,null,null,null,null,null,null,null,null,44,44,"AS10","Auxiliar de Servicios","GRADO NUEVO","DM","Adjunto Mayor","CIVIL - GRADO ANTIGUO",3000000,5000000,"60 MESES","CIVIL O MILITAR CON MAS DE TRES AÑOS DE ANTIGÜEDAD"]
[null,null,null,null,null,null,null,null,null,null,null,null,null,null,null,null,null,null,null,null,null,null,null,null,null,null,null,null,null,null,45,45,"OD04","Orientador de Defensa","GRADO NUEVO","DM","Adjunto Mayor","CIVIL - GRADO ANTIGUO",3000000,5000000,"60 MESES","CIVIL O MILITAR CON MAS DE TRES AÑOS DE ANTIGÜEDAD"]
["IMPORTANTE:",null,null,null,null,null,null,null,null,null,null,null,null,null,null,null,null,null,null,null,null,null,null,null,null,null,null,null,null,null,46,46,"AA10","Auxiliar para Apoyo de Seguridad y Defensa","GRADO NUEVO","DM","Adjunto Mayor","CIVIL - GRADO ANTIGUO",3000000,5000000,"60 MESES","CIVIL O MILITAR CON MAS DE TRES AÑOS DE ANTIGÜEDAD"]
["CUANDO EL SOLICITANTE RECIBE PRIMA DE VACACIONES SE DEBE ",null,null,null,null,null,null,null,null,null,null,null,null,null,null,null,null,null,null,null,null,null,null,null,null,null,null,null,null,null,47,47,"TI08","Técnico de Inteligencia","GRADO NUEVO","DM","Adjunto Mayor","CIVIL - GRADO ANTIGUO",3000000,5000000,"60 MESES","CIVIL O MILITAR CON MAS DE TRES AÑOS DE ANTIGÜEDAD"]
["SUMAR EL DESCUENTO DEL FONDO DE VACACIONES",null,null,null,null,null,null,null,null,null,null,null,null,null,null,null,null,null,null,null,null,null,null,null,null,null,null,null,null,null,48,48,"AS09","Auxiliar de Servicios","GRADO NUEVO","DE","Adjunto Especial","CIVIL - GRADO ANTIGUO",3000000,5000000,"60 MESES","CIVIL O MILITAR CON MAS DE TRES AÑOS DE ANTIGÜEDAD"]
[null,null,null,null,null,null,null,null,null,null,null,null,null,null,null,null,null,null,null,null,null,null,null,null,null,null,null,null,null,null,49,49,"OD3","Orientador de Defensa","GRADO NUEVO","DE","Adjunto Especial","CIVIL - GRADO ANTIGUO",3000000,5000000,"60 MESES","CIVIL O MILITAR CON MAS DE TRES AÑOS DE ANTIGÜEDAD"]
[null,null,null,null,null,null,null,null,null,null,null,null,null,null,null,null,null,null,null,null,null,null,null,null,null,null,null,null,null,null,50,50,"AA09","Auxiliar para Apoyo de Seguridad y Defensa","GRADO NUEVO","DE","Adjunto Especial","CIVIL - GRADO ANTIGUO",3000000,5000000,"60 MESES","CIVIL O MILITAR CON MAS DE TRES AÑOS DE ANTIGÜEDAD"]
[null,null,null,null,null,null,null,null,null,null,null,null,null,null,null,null,null,null,null,null,null,null,null,null,null,null,null,null,null,null,51,51,"TI07","Técnico de Inteligencia","GRADO NUEVO","DE","Adjunto Especial","CIVIL - GRADO ANTIGUO",3000000,5000000,"60 MESES","CIVIL O MILITAR CON MAS DE TRES AÑOS DE ANTIGÜEDAD"]
[null,null,null,null,null,null,null,null,null,null,null,null,null,null,null,null,null,null,null,null,null,null,null,null,null,null,null,null,null,null,52,52,"AS07","Auxiliar de Servicios","GRADO NUEVO","D1","Adjunto Primero","CIVIL - GRADO ANTIGUO",3000000,5000000,"60 MESES","CIVIL O MILITAR CON MAS DE TRES AÑOS DE ANTIGÜEDAD"]
[null,null,null,null,null,null,null,null,null,null,null,null,null,null,null,null,null,null,null,null,null,null,null,null,null,null,null,null,null,null,53,53,"AD02","Orientador de Defensa","GRADO NUEVO","D1","Adjunto Primero","CIVIL - GRADO ANTIGUO",3000000,5000000,"60 MESES","CIVIL O MILITAR CON MAS DE TRES AÑOS DE ANTIGÜEDAD"]
[null,null,null,null,null,null,null,null,null,null,null,null,null,null,null,null,null,null,null,null,null,null,null,null,null,null,null,null,null,null,54,54,"AA07","Auxiliar para Apoyo de Seguridad y Defensa","GRADO NUEVO","D1","Adjunto Primero","CIVIL - GRADO ANTIGUO",3000000,5000000,"60 MESES","CIVIL O MILITAR CON MAS DE TRES AÑOS DE ANTIGÜEDAD"]
[null,null,null,null,null,null,null,null,null,null,null,null,null,null,null,null,null,null,null,null,null,null,null,null,null,null,null,null,null,null,55,55,"TI06","Técnico de Inteligencia","GRADO NUEVO","D1","Adjunto Primero","CIVIL - GRADO ANTIGUO",3000000,5000000,"60 MESES","CIVIL O MILITAR CON MAS DE TRES AÑOS DE ANTIGÜEDAD"]
[null,null,null,null,null,null,null,null,null,null,null,null,null,null,null,null,null,null,null,null,null,null,null,null,null,null,null,null,null,null,56,56,"AS06","Auxiliar de Servicios","GRADO NUEVO","D2","Adjunto Segundo","CIVIL - GRADO ANTIGUO",3000000,5000000,"60 MESES","CIVIL O MILITAR CON MAS DE TRES AÑOS DE ANTIGÜEDAD"]
[null,null,null,null,null,null,null,null,null,null,null,null,null,null,null,null,null,null,null,null,null,null,null,null,null,null,null,null,null,null,57,57,"OD01","Orientador de Defensa","GRADO NUEVO","D2","Adjunto Segundo","CIVIL - GRADO ANTIGUO",3000000,5000000,"60 MESES","CIVIL O MILITAR CON MAS DE TRES AÑOS DE ANTIGÜEDAD"]
[null,null,null,null,null,null,null,null,null,null,null,null,null,null,null,null,null,null,null,null,null,null,null,null,null,null,null,null,null,null,58,58,"AA06","Auxiliar para Apoyo de Seguridad y Defensa","GRADO NUEVO","D2","Adjunto Segundo","CIVIL - GRADO ANTIGUO",3000000,5000000,"60 MESES","CIVIL O MILITAR CON MAS DE TRES AÑOS DE ANTIGÜEDAD"]
[null,null,null,null,null,null,null,null,null,null,null,null,null,null,null,null,null,null,null,null,null,null,null,null,null,null,null,null,null,null,59,59,"TI05","Técnico de Inteligencia","GRADO NUEVO","D2","Adjunto Segundo","CIVIL - GRADO ANTIGUO",3000000,5000000,"60 MESES","CIVIL O MILITAR CON MAS DE TRES AÑOS DE ANTIGÜEDAD"]
[null,null,null,null,null,null,null,null,null,null,null,null,null,null,null,null,null,null,null,null,null,null,null,null,null,null,null,null,null,null,60,60,"AS05","Auxiliar de Servicios","GRADO NUEVO","D3","Adjunto Tercero","CIVIL - GRADO ANTIGUO",3000000,5000000,"60 MESES","CIVIL O MILITAR CON MAS DE TRES AÑOS DE ANTIGÜEDAD"]
[null,null,null,null,null,null,null,null,null,null,null,null,null,null,null,null,null,null,null,null,null,null,null,null,null,null,null,null,null,null,61,61,"AA05","Auxiliar para Apoyo de Seguridad y Defensa","GRADO NUEVO","D3","Adjunto Tercero","CIVIL - GRADO ANTIGUO",3000000,5000000,"60 MESES","CIVIL O MILITAR CON MAS DE TRES AÑOS DE ANTIGÜEDAD"]
[null,null,null,null,null,null,null,null,null,null,null,null,null,null,null,null,null,null,null,null,null,null,null,null,null,null,null,null,null,null,62,62,"TI04","Técnico de Inteligencia","GRADO NUEVO","D3","Adjunto Tercero","CIVIL - GRADO ANTIGUO",3000000,5000000,"60 MESES","CIVIL O MILITAR CON MAS DE TRES AÑOS DE ANTIGÜEDAD"]
[null,null,null,null,null,null,null,null,null,null,null,null,null,null,null,null,null,null,null,null,null,null,null,null,null,null,null,null,null,null,63,63,"AS03","Auxiliar de Servicios","GRADO NUEVO","D4","Adjunto Cuarto","CIVIL - GRADO ANTIGUO",3000000,5000000,"60 MESES","CIVIL O MILITAR CON MAS DE TRES AÑOS DE ANTIGÜEDAD"]
[null,null,null,null,null,null,null,null,null,null,null,null,null,null,null,null,null,null,null,null,null,null,null,null,null,null,null,null,null,null,64,64,"AA03","Auxiliar para Apoyo de Seguridad y Defensa","GRADO NUEVO","D4","Adjunto Cuarto","CIVIL - GRADO ANTIGUO",3000000,5000000,"60 MESES","CIVIL O MILITAR CON MAS DE TRES AÑOS DE ANTIGÜEDAD"]
[null,null,null,null,null,null,null,null,null,null,null,null,null,null,null,null,null,null,null,null,null,null,null,null,null,null,null,null,null,null,65,65,"AS01","Auxiliar de Servicios","GRADO NUEVO","D5","Adjunto Quinto","CIVIL - GRADO ANTIGUO",{"$f":"$AM$5","v":3000000},{"$f":"$AN$5","v":5000000},{"$f":"$AO$5","v":"60 MESES"},"CIVIL O MILITAR CON MAS DE TRES AÑOS DE ANTIGÜEDAD"]
[null,null,null,null,null,null,null,null,null,null,null,null,null,null,null,null,null,null,null,null,null,null,null,null,null,null,null,null,null,null,66,66,"AA01","Auxiliar para Apoyo de Seguridad y Defensa","GRADO NUEVO","D5","Adjunto Quinto","CIVIL - GRADO ANTIGUO",3000000,5000000,"60 MESES","CIVIL O MILITAR CON MAS DE TRES AÑOS DE ANTIGÜEDAD"]
[null,null,null,null,null,null,null,null,null,null,null,null,null,null,null,null,null,null,null,null,null,null,null,null,null,null,null,null,null,null,67,67,"PU10","Profesional Universitario 10","GRADO ANTIGUO","AD06","Asesor del Sector Defensa","CIVIL - GRADO NUEVO",3000000,5000000,"60 MESES","CIVIL O MILITAR CON MAS DE TRES AÑOS DE ANTIGÜEDAD"]
[null,null,null,null,null,null,null,null,null,null,null,null,null,null,null,null,null,null,null,null,null,null,null,null,null,null,null,null,null,null,68,68,"PU08","Profesional Universitario 08","GRADO ANTIGUO","AD04","Asesor del Sector Defensa","CIVIL - GRADO NUEVO",3000000,5000000,"60 MESES","CIVIL O MILITAR CON MAS DE TRES AÑOS DE ANTIGÜEDAD"]
[null,null,null,null,null,null,null,null,null,null,null,null,null,null,null,null,null,null,null,null,null,null,null,null,null,null,null,null,null,null,69,69,"PU06","Profesional Universitario 06","GRADO ANTIGUO","AD02","Asesor del Sector Defensa","CIVIL - GRADO NUEVO",3000000,5000000,"60 MESES","CIVIL O MILITAR CON MAS DE TRES AÑOS DE ANTIGÜEDAD"]
[null,null,null,null,null,null,null,null,null,null,null,null,null,null,null,null,null,null,null,null,null,null,null,null,null,null,null,null,null,null,70,70,"PU06","Profesional Universitario 06","GRADO ANTIGUO","OE18","Orientador Espiritual","CIVIL - GRADO NUEVO",3000000,5000000,"60 MESES","CIVIL O MILITAR CON MAS DE TRES AÑOS DE ANTIGÜEDAD"]
[null,null,null,null,null,null,null,null,null,null,null,null,null,null,null,null,null,null,null,null,null,null,null,null,null,null,null,null,null,null,71,71,"PU","Profesional Universitario ","GRADO ANTIGUO","OD18","Orientador de Defensa","CIVIL - GRADO NUEVO",3000000,5000000,"60 MESES","CIVIL O MILITAR CON MAS DE TRES AÑOS DE ANTIGÜEDAD"]
[null,null,null,null,null,null,null,null,null,null,null,null,null,null,null,null,null,null,null,null,null,null,null,null,null,null,null,null,null,null,72,72,"EP","Especialista Asesor Primero","GRADO ANTIGUO","PD04","Profesional de Defensa","CIVIL - GRADO NUEVO",3000000,5000000,"60 MESES","CIVIL O MILITAR CON MAS DE TRES AÑOS DE ANTIGÜEDAD"]
[null,null,null,null,null,null,null,null,null,null,null,null,null,null,null,null,null,null,null,null,null,null,null,null,null,null,null,null,null,null,73,73,"EP","Especialista Asesor Primero","GRADO ANTIGUO","OD16","Orientador de Defensa","CIVIL - GRADO NUEVO",3000000,5000000,"60 MESES","CIVIL O MILITAR CON MAS DE TRES AÑOS DE ANTIGÜEDAD"]
[null,null,null,null,null,null,null,null,null,null,null,null,null,null,null,null,null,null,null,null,null,null,null,null,null,null,null,null,null,null,74,74,"EP","Especialista Asesor Primero","GRADO ANTIGUO","OE16","Orientador Espiritual","CIVIL - GRADO NUEVO",3000000,5000000,"60 MESES","CIVIL O MILITAR CON MAS DE TRES AÑOS DE ANTIGÜEDAD"]
[null,null,null,null,null,null,null,null,null,null,null,null,null,null,null,null,null,null,null,null,null,null,null,null,null,null,null,null,null,null,75,75,"ES","Especialista Asesor Segundo","GRADO ANTIGUO","PD02","Profesional de Defensa","CIVIL - GRADO NUEVO",3000000,5000000,"60 MESES","CIVIL O MILITAR CON MAS DE TRES AÑOS DE ANTIGÜEDAD"]
[null,null,null,null,null,null,null,null,null,null,null,null,null,null,null,null,null,null,null,null,null,null,null,null,null,null,null,null,null,null,76,76,"ES","Especialista Asesor Segundo","GRADO ANTIGUO","OD14","Orientador de Defensa","CIVIL - GRADO NUEVO",3000000,5000000,"60 MESES","CIVIL O MILITAR CON MAS DE TRES AÑOS DE ANTIGÜEDAD"]
[null,null,null,null,null,null,null,null,null,null,null,null,null,null,null,null,null,null,null,null,null,null,null,null,null,null,null,null,null,null,77,77,"ES","Especialista Asesor Segundo","GRADO ANTIGUO","OE14","Orientador Espiritual","CIVIL - GRADO NUEVO",3000000,5000000,"60 MESES","CIVIL O MILITAR CON MAS DE TRES AÑOS DE ANTIGÜEDAD"]
[null,null,null,null,null,null,null,null,null,null,null,null,null,null,null,null,null,null,null,null,null,null,null,null,null,null,null,null,null,null,78,78,"EJ","Especialista Jefe","GRADO ANTIGUO","PD01","Profesional de Defensa","CIVIL - GRADO NUEVO",3000000,5000000,"60 MESES","CIVIL O MILITAR CON MAS DE TRES AÑOS DE ANTIGÜEDAD"]
[null,null,null,null,null,null,null,null,null,null,null,null,null,null,null,null,null,null,null,null,null,null,null,null,null,null,null,null,null,null,79,79,"EJ","Especialista Jefe","GRADO ANTIGUO","OD13","Orientador de Defensa","CIVIL - GRADO NUEVO",3000000,5000000,"60 MESES","CIVIL O MILITAR CON MAS DE TRES AÑOS DE ANTIGÜEDAD"]
[null,null,null,null,null,null,null,null,null,null,null,null,null,null,null,null,null,null,null,null,null,null,null,null,null,null,null,null,null,null,80,80,"EJ","Especialista Jefe","GRADO ANTIGUO","OE13","Orientador Espiritual","CIVIL - GRADO NUEVO",3000000,5000000,"60 MESES","CIVIL O MILITAR CON MAS DE TRES AÑOS DE ANTIGÜEDAD"]
[null,null,null,null,null,null,null,null,null,null,null,null,null,null,null,null,null,null,null,null,null,null,null,null,null,null,null,null,null,null,81,81,"E1","Especialista Primero","GRADO ANTIGUO","TS21","Tecnico de Servicios","CIVIL - GRADO NUEVO",3000000,5000000,"60 MESES","CIVIL O MILITAR CON MAS DE TRES AÑOS DE ANTIGÜEDAD"]
[null,null,null,null,null,null,null,null,null,null,null,null,null,null,null,null,null,null,null,null,null,null,null,null,null,null,null,null,null,null,82,82,"E1","Especialista Primero","GRADO ANTIGUO","OD12","Orientador de Defensa","CIVIL - GRADO NUEVO",3000000,5000000,"60 MESES","CIVIL O MILITAR CON MAS DE TRES AÑOS DE ANTIGÜEDAD"]
[null,null,null,null,null,null,null,null,null,null,null,null,null,null,null,null,null,null,null,null,null,null,null,null,null,null,null,null,null,null,83,83,"E1","Especialista Primero","GRADO ANTIGUO","TA21","Tecnico para Apoyo de Seguridad y Defensa","CIVIL - GRADO NUEVO",3000000,5000000,"60 MESES","CIVIL O MILITAR CON MAS DE TRES AÑOS DE ANTIGÜEDAD"]
[null,null,null,null,null,null,null,null,null,null,null,null,null,null,null,null,null,null,null,null,null,null,null,null,null,null,null,null,null,null,84,84,"E2","Especialista Segundo","GRADO ANTIGUO","TS19","Tecnico de Servicios","CIVIL - GRADO NUEVO",3000000,5000000,"60 MESES","CIVIL O MILITAR CON MAS DE TRES AÑOS DE ANTIGÜEDAD"]
[null,null,null,null,null,null,null,null,null,null,null,null,null,null,null,null,null,null,null,null,null,null,null,null,null,null,null,null,null,null,85,85,"E2","Especialista Segundo","GRADO ANTIGUO","OD11","Orientador de Defensa","CIVIL - GRADO NUEVO",3000000,5000000,"60 MESES","CIVIL O MILITAR CON MAS DE TRES AÑOS DE ANTIGÜEDAD"]
[null,null,null,null,null,null,null,null,null,null,null,null,null,null,null,null,null,null,null,null,null,null,null,null,null,null,null,null,null,null,86,86,"E2","Especialista Segundo","GRADO ANTIGUO","TA19","Tecnico para Apoyo de Seguridad y Defensa","CIVIL - GRADO NUEVO",3000000,5000000,"60 MESES","CIVIL O MILITAR CON MAS DE TRES AÑOS DE ANTIGÜEDAD"]
[null,null,null,null,null,null,null,null,null,null,null,null,null,null,null,null,null,null,null,null,null,null,null,null,null,null,null,null,null,null,87,87,"E3","Especialista Tercero","GRADO ANTIGUO","TS18","Tecnico de Servicios","CIVIL - GRADO NUEVO",3000000,5000000,"60 MESES","CIVIL O MILITAR CON MAS DE TRES AÑOS DE ANTIGÜEDAD"]
[null,null,null,null,null,null,null,null,null,null,null,null,null,null,null,null,null,null,null,null,null,null,null,null,null,null,null,null,null,null,88,88,"E3","Especialista Tercero","GRADO ANTIGUO","OD10","Orientador de Defensa","CIVIL - GRADO NUEVO",3000000,5000000,"60 MESES","CIVIL O MILITAR CON MAS DE TRES AÑOS DE ANTIGÜEDAD"]
[null,null,null,null,null,null,null,null,null,null,null,null,null,null,null,null,null,null,null,null,null,null,null,null,null,null,null,null,null,null,89,89,"E3","Especialista Tercero","GRADO ANTIGUO","TA18","Tecnico para Apoyo de Seguridad y Defensa","CIVIL - GRADO NUEVO",3000000,5000000,"60 MESES","CIVIL O MILITAR CON MAS DE TRES AÑOS DE ANTIGÜEDAD"]
[null,null,null,null,null,null,null,null,null,null,null,null,null,null,null,null,null,null,null,null,null,null,null,null,null,null,null,null,null,null,90,90,"E3","Especialista Tercero","GRADO ANTIGUO","TI18","Tecnico de Inteligencia","CIVIL - GRADO NUEVO",3000000,5000000,"60 MESES","CIVIL O MILITAR CON MAS DE TRES AÑOS DE ANTIGÜEDAD"]
[null,null,null,null,null,null,null,null,null,null,null,null,null,null,null,null,null,null,null,null,null,null,null,null,null,null,null,null,null,null,91,91,"E4","Especialista Cuarto","GRADO ANTIGUO","TS17","Tecnico de Servicios","CIVIL - GRADO NUEVO",3000000,5000000,"60 MESES","CIVIL O MILITAR CON MAS DE TRES AÑOS DE ANTIGÜEDAD"]
[null,null,null,null,null,null,null,null,null,null,null,null,null,null,null,null,null,null,null,null,null,null,null,null,null,null,null,null,null,null,92,92,"E4","Especialista Cuarto","GRADO ANTIGUO","OD09","Orientador de Defensa","CIVIL - GRADO NUEVO",3000000,5000000,"60 MESES","CIVIL O MILITAR CON MAS DE TRES AÑOS DE ANTIGÜEDAD"]
[null,null,null,null,null,null,null,null,null,null,null,null,null,null,null,null,null,null,null,null,null,null,null,null,null,null,null,null,null,null,93,93,"E4","Especialista Cuarto","GRADO ANTIGUO","TA17","Tecnico para Apoyo de Seguridad y Defensa","CIVIL - GRADO NUEVO",3000000,5000000,"60 MESES","CIVIL O MILITAR CON MAS DE TRES AÑOS DE ANTIGÜEDAD"]
[null,null,null,null,null,null,null,null,null,null,null,null,null,null,null,null,null,null,null,null,null,null,null,null,null,null,null,null,null,null,94,94,"E5","Especialista Quinto","GRADO ANTIGUO","TS14","Tecnico de Servicios","CIVIL - GRADO NUEVO",3000000,5000000,"60 MESES","CIVIL O MILITAR CON MAS DE TRES AÑOS DE ANTIGÜEDAD"]
[null,null,null,null,null,null,null,null,null,null,null,null,null,null,null,null,null,null,null,null,null,null,null,null,null,null,null,null,null,null,95,95,"E5","Especialista Quinto","GRADO ANTIGUO","OD08","Orientador de Defensa","CIVIL - GRADO NUEVO",3000000,5000000,"60 MESES","CIVIL O MILITAR CON MAS DE TRES AÑOS DE ANTIGÜEDAD"]
[null,null,null,null,null,null,null,null,null,null,null,null,null,null,null,null,null,null,null,null,null,null,null,null,null,null,null,null,null,null,96,96,"E5","Especialista Quinto","GRADO ANTIGUO","TA14","Tecnico para Apoyo de Seguridad y Defensa","CIVIL - GRADO NUEVO",3000000,5000000,"60 MESES","CIVIL O MILITAR CON MAS DE TRES AÑOS DE ANTIGÜEDAD"]
[null,null,null,null,null,null,null,null,null,null,null,null,null,null,null,null,null,null,null,null,null,null,null,null,null,null,null,null,null,null,97,97,"E5","Especialista Quinto","GRADO ANTIGUO","TI14","Tecnico de Inteligencia","CIVIL - GRADO NUEVO",3000000,5000000,"60 MESES","CIVIL O MILITAR CON MAS DE TRES AÑOS DE ANTIGÜEDAD"]
[null,null,null,null,null,null,null,null,null,null,null,null,null,null,null,null,null,null,null,null,null,null,null,null,null,null,null,null,null,null,98,98,"E6","Especialista Sexto","GRADO ANTIGUO","TS12","Tecnico de Servicios","CIVIL - GRADO NUEVO",3000000,5000000,"60 MESES","CIVIL O MILITAR CON MAS DE TRES AÑOS DE ANTIGÜEDAD"]
[null,null,null,null,null,null,null,null,null,null,null,null,null,null,null,null,null,null,null,null,null,null,null,null,null,null,null,null,null,null,99,99,"E6","Especialista Sexto","GRADO ANTIGUO","OD07","Orientador de Defensa","CIVIL - GRADO NUEVO",3000000,5000000,"60 MESES","CIVIL O MILITAR CON MAS DE TRES AÑOS DE ANTIGÜEDAD"]
[null,null,null,null,null,null,null,null,null,null,null,null,null,null,null,null,null,null,null,null,null,null,null,null,null,null,null,null,null,null,100,100,"E6","Especialista Sexto","GRADO ANTIGUO","TA12","Tecnico para Apoyo de Seguridad y Defensa","CIVIL - GRADO NUEVO",3000000,5000000,"60 MESES","CIVIL O MILITAR CON MAS DE TRES AÑOS DE ANTIGÜEDAD"]
[null,null,null,null,null,null,null,null,null,null,null,null,null,null,null,null,null,null,null,null,null,null,null,null,null,null,null,null,null,null,101,101,"E6","Especialista Sexto","GRADO ANTIGUO","TI12","Tecnico de Inteligencia","CIVIL - GRADO NUEVO",3000000,5000000,"60 MESES","CIVIL O MILITAR CON MAS DE TRES AÑOS DE ANTIGÜEDAD"]
[null,null,null,null,null,null,null,null,null,null,null,null,null,null,null,null,null,null,null,null,null,null,null,null,null,null,null,null,null,null,102,102,"DJ","Adjunto Jefe","GRADO ANTIGUO","AS12","Auxiliar de Servicios","CIVIL - GRADO NUEVO",3000000,5000000,"60 MESES","CIVIL O MILITAR CON MAS DE TRES AÑOS DE ANTIGÜEDAD"]
[null,null,null,null,null,null,null,null,null,null,null,null,null,null,null,null,null,null,null,null,null,null,null,null,null,null,null,null,null,null,103,103,"DJ","Adjunto Jefe","GRADO ANTIGUO","OD06","Orientador de Defensa","CIVIL - GRADO NUEVO",3000000,5000000,"60 MESES","CIVIL O MILITAR CON MAS DE TRES AÑOS DE ANTIGÜEDAD"]
[null,null,null,null,null,null,null,null,null,null,null,null,null,null,null,null,null,null,null,null,null,null,null,null,null,null,null,null,null,null,104,104,"DJ","Adjunto Jefe","GRADO ANTIGUO","AA12","Tecnico para Apoyo de Seguridad y Defensa","CIVIL - GRADO NUEVO",3000000,5000000,"60 MESES","CIVIL O MILITAR CON MAS DE TRES AÑOS DE ANTIGÜEDAD"]
[null,null,null,null,null,null,null,null,null,null,null,null,null,null,null,null,null,null,null,null,null,null,null,null,null,null,null,null,null,null,105,105,"DJ","Adjunto Jefe","GRADO ANTIGUO","TI11","Tecnico de Inteligencia","CIVIL - GRADO NUEVO",3000000,5000000,"60 MESES","CIVIL O MILITAR CON MAS DE TRES AÑOS DE ANTIGÜEDAD"]
[null,null,null,null,null,null,null,null,null,null,null,null,null,null,null,null,null,null,null,null,null,null,null,null,null,null,null,null,null,null,106,106,"DI","Adjunto Intendente","GRADO ANTIGUO","AS11","Auxiliar de Servicios","CIVIL - GRADO NUEVO",3000000,5000000,"60 MESES","CIVIL O MILITAR CON MAS DE TRES AÑOS DE ANTIGÜEDAD"]
[null,null,null,null,null,null,null,null,null,null,null,null,null,null,null,null,null,null,null,null,null,null,null,null,null,null,null,null,null,null,107,107,"DI","Adjunto Intendente","GRADO ANTIGUO","AD05","Orientador de Defensa","CIVIL - GRADO NUEVO",3000000,5000000,"60 MESES","CIVIL O MILITAR CON MAS DE TRES AÑOS DE ANTIGÜEDAD"]
[null,null,null,null,null,null,null,null,null,null,null,null,null,null,null,null,null,null,null,null,null,null,null,null,null,null,null,null,null,null,108,108,"DI","Adjunto Intendente","GRADO ANTIGUO","AA11","Tecnico para Apoyo de Seguridad y Defensa","CIVIL - GRADO NUEVO",3000000,5000000,"60 MESES","CIVIL O MILITAR CON MAS DE TRES AÑOS DE ANTIGÜEDAD"]
[null,null,null,null,null,null,null,null,null,null,null,null,null,null,null,null,null,null,null,null,null,null,null,null,null,null,null,null,null,null,109,109,"DI","Adjunto Intendente","GRADO ANTIGUO","TI09","Tecnico de Inteligencia","CIVIL - GRADO NUEVO",3000000,5000000,"60 MESES","CIVIL O MILITAR CON MAS DE TRES AÑOS DE ANTIGÜEDAD"]
[null,null,null,null,null,null,null,null,null,null,null,null,null,null,null,null,null,null,null,null,null,null,null,null,null,null,null,null,null,null,110,110,"DM","Adjunto Mayor","GRADO ANTIGUO","AS10","Auxiliar de Servicios","CIVIL - GRADO NUEVO",3000000,5000000,"60 MESES","CIVIL O MILITAR CON MAS DE TRES AÑOS DE ANTIGÜEDAD"]
[null,null,null,null,null,null,null,null,null,null,null,null,null,null,null,null,null,null,null,null,null,null,null,null,null,null,null,null,null,null,111,111,"DM","Adjunto Mayor","GRADO ANTIGUO","OD04","Orientador de Defensa","CIVIL - GRADO NUEVO",3000000,5000000,"60 MESES","CIVIL O MILITAR CON MAS DE TRES AÑOS DE ANTIGÜEDAD"]
[null,null,null,null,null,null,null,null,null,null,null,null,null,null,null,null,null,null,null,null,null,null,null,null,null,null,null,null,null,null,112,112,"DM","Adjunto Mayor","GRADO ANTIGUO","AA10","Auxiliar para Apoyo de Seguridad y Defensa","CIVIL - GRADO NUEVO",3000000,5000000,"60 MESES","CIVIL O MILITAR CON MAS DE TRES AÑOS DE ANTIGÜEDAD"]
[null,null,null,null,null,null,null,null,null,null,null,null,null,null,null,null,null,null,null,null,null,null,null,null,null,null,null,null,null,null,113,113,"DM","Adjunto Mayor","GRADO ANTIGUO","TI08","Tecnico de Inteligencia","CIVIL - GRADO NUEVO",3000000,5000000,"60 MESES","CIVIL O MILITAR CON MAS DE TRES AÑOS DE ANTIGÜEDAD"]
[null,null,null,null,null,null,null,null,null,null,null,null,null,null,null,null,null,null,null,null,null,null,null,null,null,null,null,null,null,null,114,114,"DE","Adjunto Especial","GRADO ANTIGUO","AS09","Auxiliar de Servicios","CIVIL - GRADO NUEVO",3000000,5000000,"60 MESES","CIVIL O MILITAR CON MAS DE TRES AÑOS DE ANTIGÜEDAD"]
[null,null,null,null,null,null,null,null,null,null,null,null,null,null,null,null,null,null,null,null,null,null,null,null,null,null,null,null,null,null,115,115,"DE","Adjunto Especial","GRADO ANTIGUO","OD3","Orientador de Defensa","CIVIL - GRADO NUEVO",3000000,5000000,"60 MESES","CIVIL O MILITAR CON MAS DE TRES AÑOS DE ANTIGÜEDAD"]
[null,null,null,null,null,null,null,null,null,null,null,null,null,null,null,null,null,null,null,null,null,null,null,null,null,null,null,null,null,null,116,116,"DE","Adjunto Especial","GRADO ANTIGUO","AA09","Auxiliar para Apoyo de Seguridad y Defensa","CIVIL - GRADO NUEVO",3000000,5000000,"60 MESES","CIVIL O MILITAR CON MAS DE TRES AÑOS DE ANTIGÜEDAD"]
[null,null,null,null,null,null,null,null,null,null,null,null,null,null,null,null,null,null,null,null,null,null,null,null,null,null,null,null,null,null,117,117,"DE","Adjunto Especial","GRADO ANTIGUO","TI07","Tecnico de Inteligencia","CIVIL - GRADO NUEVO",3000000,5000000,"60 MESES","CIVIL O MILITAR CON MAS DE TRES AÑOS DE ANTIGÜEDAD"]
[null,null,null,null,null,null,null,null,null,null,null,null,null,null,null,null,null,null,null,null,null,null,null,null,null,null,null,null,null,null,118,118,"D1","Adjunto Primero","GRADO ANTIGUO","AS07","Auxiliar de Servicios","CIVIL - GRADO NUEVO",3000000,5000000,"60 MESES","CIVIL O MILITAR CON MAS DE TRES AÑOS DE ANTIGÜEDAD"]
[null,null,null,null,null,null,null,null,null,null,null,null,null,null,null,null,null,null,null,null,null,null,null,null,null,null,null,null,null,null,119,119,"D1","Adjunto Primero","GRADO ANTIGUO","AD02","Orientador de Defensa","CIVIL - GRADO NUEVO",3000000,5000000,"60 MESES","CIVIL O MILITAR CON MAS DE TRES AÑOS DE ANTIGÜEDAD"]
[null,null,null,null,null,null,null,null,null,null,null,null,null,null,null,null,null,null,null,null,null,null,null,null,null,null,null,null,null,null,120,120,"D1","Adjunto Primero","GRADO ANTIGUO","AA07","Auxiliar para Apoyo de Seguridad y Defensa","CIVIL - GRADO NUEVO",3000000,5000000,"60 MESES","CIVIL O MILITAR CON MAS DE TRES AÑOS DE ANTIGÜEDAD"]
[null,null,null,null,null,null,null,null,null,null,null,null,null,null,null,null,null,null,null,null,null,null,null,null,null,null,null,null,null,null,121,121,"D1","Adjunto Primero","GRADO ANTIGUO","TI06","Tecnico de Inteligencia","CIVIL - GRADO NUEVO",3000000,5000000,"60 MESES","CIVIL O MILITAR CON MAS DE TRES AÑOS DE ANTIGÜEDAD"]
[null,null,null,null,null,null,null,null,null,null,null,null,null,null,null,null,null,null,null,null,null,null,null,null,null,null,null,null,null,null,122,122,"D2","Adjunto Segundo","GRADO ANTIGUO","AS06","Auxiliar de Servicios","CIVIL - GRADO NUEVO",3000000,5000000,"60 MESES","CIVIL O MILITAR CON MAS DE TRES AÑOS DE ANTIGÜEDAD"]
[null,null,null,null,null,null,null,null,null,null,null,null,null,null,null,null,null,null,null,null,null,null,null,null,null,null,null,null,null,null,123,123,"D2","Adjunto Segundo","GRADO ANTIGUO","OD01","Orientador de Defensa","CIVIL - GRADO NUEVO",3000000,5000000,"60 MESES","CIVIL O MILITAR CON MAS DE TRES AÑOS DE ANTIGÜEDAD"]
[null,null,null,null,null,null,null,null,null,null,null,null,null,null,null,null,null,null,null,null,null,null,null,null,null,null,null,null,null,null,124,124,"D2","Adjunto Segundo","GRADO ANTIGUO","AA06","Auxiliar para Apoyo de Seguridad y Defensa","CIVIL - GRADO NUEVO",3000000,5000000,"60 MESES","CIVIL O MILITAR CON MAS DE TRES AÑOS DE ANTIGÜEDAD"]
[null,null,null,null,null,null,null,null,null,null,null,null,null,null,null,null,null,null,null,null,null,null,null,null,null,null,null,null,null,null,125,125,"D2","Adjunto Segundo","GRADO ANTIGUO","TI05","Tecnico de Inteligencia","CIVIL - GRADO NUEVO",3000000,5000000,"60 MESES","CIVIL O MILITAR CON MAS DE TRES AÑOS DE ANTIGÜEDAD"]
[null,null,null,null,null,null,null,null,null,null,null,null,null,null,null,null,null,null,null,null,null,null,null,null,null,null,null,null,null,null,126,126,"D3","Adjunto Tercero","GRADO ANTIGUO","AS05","Auxiliar de Servicios","CIVIL - GRADO NUEVO",3000000,5000000,"60 MESES","CIVIL O MILITAR CON MAS DE TRES AÑOS DE ANTIGÜEDAD"]
[null,null,null,null,null,null,null,null,null,null,null,null,null,null,null,null,null,null,null,null,null,null,null,null,null,null,null,null,null,null,127,127,"D3","Adjunto Tercero","GRADO ANTIGUO","AA05","Auxiliar para Apoyo de Seguridad y Defensa","CIVIL - GRADO NUEVO",3000000,5000000,"60 MESES","CIVIL O MILITAR CON MAS DE TRES AÑOS DE ANTIGÜEDAD"]
[null,null,null,null,null,null,null,null,null,null,null,null,null,null,null,null,null,null,null,null,null,null,null,null,null,null,null,null,null,null,128,128,"D3","Adjunto Tercero","GRADO ANTIGUO","TI04","Tecnico de Inteligencia","CIVIL - GRADO NUEVO",3000000,5000000,"60 MESES","CIVIL O MILITAR CON MAS DE TRES AÑOS DE ANTIGÜEDAD"]
[null,null,null,null,null,null,null,null,null,null,null,null,null,null,null,null,null,null,null,null,null,null,null,null,null,null,null,null,null,null,129,129,"D4","Adjunto Cuarto","GRADO ANTIGUO","AS03","Auxiliar de Servicios","CIVIL - GRADO NUEVO",{"$f":"$AM$5","v":3000000},{"$f":"$AN$5","v":5000000},{"$f":"$AO$5","v":"60 MESES"},"CIVIL O MILITAR CON MAS DE TRES AÑOS DE ANTIGÜEDAD"]
[null,null,null,null,null,null,null,null,null,null,null,null,null,null,null,null,null,null,null,null,null,null,null,null,null,null,null,null,null,null,130,130,"D4","Adjunto Cuarto","GRADO ANTIGUO","AA03","Auxiliar para Apoyo de Seguridad y Defensa","CIVIL - GRADO NUEVO",{"$f":"$AM$5","v":3000000},{"$f":"$AN$5","v":5000000},"60 MESES","CIVIL O MILITAR CON MAS DE TRES AÑOS DE ANTIGÜEDAD"]
[null,null,null,null,null,null,null,null,null,null,null,null,null,null,null,null,null,null,null,null,null,null,null,null,null,null,null,null,null,null,131,131,"D5","Adjunto Quinto","GRADO ANTIGUO","AS01","Auxiliar de Servicios","CIVIL - GRADO NUEVO",{"$f":"$AM$5","v":3000000},{"$f":"$AN$5","v":5000000},"60 MESES","CIVIL O MILITAR CON MAS DE TRES AÑOS DE ANTIGÜEDAD"]
[null,null,null,null,null,null,null,null,null,null,null,null,null,null,null,null,null,null,null,null,null,null,null,null,null,null,null,null,null,null,132,132,"D5","Adjunto Quinto","GRADO ANTIGUO","AA01","Auxiliar para Apoyo de Seguridad y Defensa","CIVIL - GRADO NUEVO",{"$f":"$AM$5","v":3000000},{"$f":"$AN$5","v":5000000},"60 MESES","CIVIL O MILITAR CON MAS DE TRES AÑOS DE ANTIGÜEDAD"]
[null,null,null,null,null,null,null,null,null,null,null,null,null,null,null,null,null,null,null,null,null,null,null,null,null,null,null,null,null,null,null,133,"G","GENERAL","EN OFICIALES","G","NO HAY CAMBIO DE GRADO","OFICIAL",{"$f":"$AN$5","v":5000000},"NO REQUIERE","60 MESES","NO REQUIERE CODEUDOR"]
[null,null,null,null,null,null,null,null,null,null,null,null,null,null,null,null,null,null,null,null,null,null,null,null,null,null,null,null,null,null,null,134,"MG","MAYOR GENERAL","EN OFICIALES","MG","NO HAY CAMBIO DE GRADO","OFICIAL",{"$f":"$AN$5","v":5000000},"NO REQUIERE","60 MESES","NO REQUIERE CODEUDOR"]
[null,null,null,null,null,null,null,null,null,null,null,null,null,null,null,null,null,null,null,null,null,null,null,null,null,null,null,null,null,null,null,135,"BG","BRIGADIER GENERAL","EN OFICIALES","BG","NO HAY CAMBIO DE GRADO","OFICIAL",{"$f":"$AN$5","v":5000000},"NO REQUIERE","60 MESES","NO REQUIERE CODEUDOR"]
[null,null,null,null,null,null,null,null,null,null,null,null,null,null,null,null,null,null,null,null,null,null,null,null,null,null,null,null,null,null,null,136,"CO","CORONEL","EN OFICIALES","CO","NO HAY CAMBIO DE GRADO","OFICIAL",20000000,{"$f":"$AN$5","v":5000000},"60 MESES","SV - SP - SM - CT - MY - TC"]
[null,null,null,null,null,null,null,null,null,null,null,null,null,null,null,null,null,null,null,null,null,null,null,null,null,null,null,null,null,null,null,137,"TC","TENIENTE CORONEL","EN OFICIALES","TC","NO HAY CAMBIO DE GRADO","OFICIAL",15000000,{"$f":"$AN$5","v":5000000},"60 MESES","SV - SP - SM - CT - MY - TC"]
[null,null,null,null,null,null,null,null,null,null,null,null,null,null,null,null,null,null,null,null,null,null,null,null,null,null,null,null,null,null,null,138,"MY","MAYOR","EN OFICIALES","MY","NO HAY CAMBIO DE GRADO","OFICIAL",10000000,{"$f":"$AN$5","v":5000000},"60 MESES","SV - SP - SM - CT - MY - TC"]
[null,null,null,null,null,null,null,null,null,null,null,null,null,null,null,null,null,null,null,null,null,null,null,null,null,null,null,null,null,null,null,139,"CT","CAPITAN ","EN OFICIALES","CT","NO HAY CAMBIO DE GRADO","OFICIAL",8000000,15000000,"60 MESES","SV - SP - SM - CT - MY - TC"]
[null,null,null,null,null,null,null,null,null,null,null,null,null,null,null,null,null,null,null,null,null,null,null,null,null,null,null,null,null,null,null,140,"TE","TENIENTE","EN OFICIALES","TE","NO HAY CAMBIO DE GRADO","OFICIAL",4000000,10000000,"60 MESES","SS - SV - SP - SM - TE - CT - MY - TC"]
[null,null,null,null,null,null,null,null,null,null,null,null,null,null,null,null,null,null,null,null,null,null,null,null,null,null,null,null,null,null,null,141,"ST","SUBTENIENTE","EN OFICIALES","ST","NO HAY CAMBIO DE GRADO","OFICIAL","NO SE OTORGA",5000000,"60 MESES","CP - SS - SV - SP - SM - TE - CT - MY - TC"]
[null,null,null,null,null,null,null,null,null,null,null,null,null,null,null,null,null,null,null,null,null,null,null,null,null,null,null,null,null,null,null,142,"SM","SARGENTO MAYOR","EN SUBOFICIALES","SM","NO HAY CAMBIO DE GRADO","SUBOFICIAL",{"$f":"$AN$5","v":5000000},"NO REQUIERE","60 MESES","NO REQUIERE CODEUDOR"]
[null,null,null,null,null,null,null,null,null,null,null,null,null,null,null,null,null,null,null,null,null,null,null,null,null,null,null,null,null,null,null,143,"SP","SARGENTO PRIMERO","EN SUBOFICIALES","SP","NO HAY CAMBIO DE GRADO","SUBOFICIAL",{"$f":"$AN$5","v":5000000},"NO REQUIERE","60 MESES","NO REQUIERE CODEUDOR"]
[null,null,null,null,null,null,null,null,null,null,null,null,null,null,null,null,null,null,null,null,null,null,null,null,null,null,null,null,null,null,null,144,"SV","SARGENTO VICEPRIMERO","EN SUBOFICIALES","SV","NO HAY CAMBIO DE GRADO","SUBOFICIAL",{"$f":"$AN$5","v":5000000},"NO REQUIERE","60 MESES","NO REQUIERE CODEUDOR"]
[null,null,null,null,null,null,null,null,null,null,null,null,null,null,null,null,null,null,null,null,null,null,null,null,null,null,null,null,null,null,null,145,"SS","SARGENTO SEGUNDO","EN SUBOFICIALES","SS","NO HAY CAMBIO DE GRADO","SUBOFICIAL",10000000,15000000,"60 MESES","SS - SV - SP - SM - TE - CT - MY - TC"]
[null,null,null,null,null,null,null,null,null,null,null,null,null,null,null,null,null,null,null,null,null,null,null,null,null,null,null,null,null,null,null,146,"CP","CABO PRIMERO","EN SUBOFICIALES","CP","NO HAY CAMBIO DE GRADO","SUBOFICIAL",4000000,8000000,"60 MESES","CP - SS - SV - SP - SM - TE - CT - MY - TC"]
[null,null,null,null,null,null,null,null,null,null,null,null,null,null,null,null,null,null,null,null,null,null,null,null,null,null,null,null,null,null,null,147,"CS","CABO SEGUNDO","EN SUBOFICIALES","CS","NO HAY CAMBIO DE GRADO","SUBOFICIAL","NO SE OTORGA",4000000,"NO SE OTORGA","CP - SS - SV - SP - SM - TE - CT - MY - TC"]
[null,null,null,null,null,null,null,null,null,null,null,null,null,null,null,null,null,null,null,null,null,null,null,null,null,null,null,null,null,null,null,148,"C3","CABO TERCERO","EN SUBOFICIALES","C3","NO HAY CAMBIO DE GRADO","SUBOFICIAL","NO SE OTORGA","NO SE OTORGA","NO SE OTORGA","NO SE OTORGA"]
[null,null,null,null,null,null,null,null,null,null,null,null,null,null,null,null,null,null,null,null,null,null,null,null,null,null,null,null,null,null,null,149,"SLP","SOLDADO PROFESIONAL","EN SOLDADOS","SLP","NO HAY CAMBIO DE GRADO","SOLDADO PROFESIONAL","NO SE OTORGA","NO SE OTORGA","NO SE OTORGA","NO SE OTORGA"]
[null,null,null,null,null,null,null,null,null,null,null,null,null,null,null,null,null,null,null,null,null,null,null,null,null,null,null,null,null,null,null,150,"SLV","SOLDADO VOLUNTARIO","EN SOLDADOS","SLV","NO HAY CAMBIO DE GRADO","SOLDADO VOLUNTARIO","NO SE OTORGA","NO SE OTORGA","NO SE OTORGA","NO SE OTORGA"]

{"sheet":"GABINETE MDN","index":3,"n_rows":158,"n_cols":42,"rows_kept":158,"cut":false,"hidden":false,"merged":[[12,8,12,13],[13,8,13,13],[26,8,26,13],[27,8,27,13],[2,8,2,13],[11,8,11,13],[33,6,34,6],[35,14,35,16],[35,19,35,20],[33,14,33,16],[33,19,33,20],[32,14,32,16],[32,19,32,20],[34,14,34,16],[34,19,34,20],[29,14,29,16],[29,19,29,20],[30,14,30,16],[30,19,30,20],[31,14,31,16],[31,19,31,20],[26,0,28,0],[22,0,25,2],[22,14,22,16],[22,19,22,20],[24,14,24,16],[24,19,24,20],[25,14,25,16],[25,19,25,20],[26,14,26,16],[26,19,26,20],[23,14,23,16],[23,19,23,20],[27,3,27,5],[28,14,28,16],[28,19,28,20],[19,0,19,2],[19,3,19,5],[19,14,19,16],[19,19,19,20],[20,0,21,2],[20,14,20,16],[20,19,20,20],[21,14,21,16],[21,19,21,20],[14,6,18,6],[15,4,15,5],[16,4,16,5],[17,4,17,5],[18,4,18,5],[10,0,10,2],[10,4,10,5],[12,0,12,2],[13,0,13,2],[14,0,18,2],[14,4,14,5],[9,0,9,2],[0,0,0,2],[0,3,0,4],[0,5,0,6],[1,0,1,2],[2,0,2,2],[0,12,0,13],[1,8,1,13],[3,8,3,13],[28,8,28,13],[3,0,3,2],[3,3,3,4],[3,5,3,7],[11,0,11,2],[4,0,4,2],[4,3,4,4],[4,5,4,7],[5,0,5,2],[6,0,6,2],[6,3,6,4],[7,0,7,2],[8,0,8,2]]}
["GABINETE CO 1 - PA CO 1 - CR 1",null,null,"50%    -",null,{"$f":"TASAS!G11","v":1423500},null,null,null,null,null,null,{"$f":"TASAS!G15","v":"2025-03"}]
["SELECCIONE EL GRADO DEL USUARIO",null,null,null,{"$f":"IF(($D$2= \"\"),\"\",VLOOKUP($D$2,$AG$8:$AP$158,2,FALSE))","v":""},null,null,null,"La tasa de interés preferencial",null,null,null,null,null,{"$f":"D9-D10","v":0},{"$f":"D11-O2","v":0}]
[{"$f":"IF(($D$2= \"\"),\"\",VLOOKUP($D$2,$AG$8:$AP$158,6,FALSE))","v":""},null,null,{"$f":"IF(($D$2= \"\"),\"\",VLOOKUP($D$2,$AG$8:$AP$158,4,FALSE))","v":""},{"$f":"IF(($D$2= \"\"),\"\",VLOOKUP($D$2,$AG$8:$AP$158,5,FALSE))","v":""},null,null,null,"solo aplica para pensionados, no para activos",null,null,null,null,null,null,null,null,null,{"$f":"IF(AND(E27<TASAS!H11,D27<TASAS!M2),TASAS!H6,TASAS!H5)","v":{"$error":"#VALUE!"}}]
[{"$f":"IF(($D$2=\"\"),\"\",\"MONTO MAXIMO SIN CODEUDOR\")","v":""},null,null,{"$f":"IF(($D$2= \"\"),\"\",VLOOKUP($D$2,$AG$8:$AP$158,7,FALSE))","v":""},null,null,null,null,"NO SE TRAMITAN COMPRAS DE CARTERA",null,null,null,null,null,null,null,null,null,{"$f":"B27-S3","v":{"$error":"#VALUE!"}}]
[{"$f":"IF(($D$2=\"\"),\"\",\"MONTO MAXIMO CON CODEUDOR\")","v":""},null,null,{"$f":"IF(($D$2= \"\"),\"\",VLOOKUP($D$2,$AG$8:$AP$158,8,FALSE))","v":""},null,null,null,null,null,null,null,null,null,null,4,null,null,null,0,null,null,null,null,null,null,null,null,null,null,null,null,null,null,null,null,null,null,null,3000000,5000000,"60 MESES",{"$f":"LEFT(AO5,2)","v":"60"}]
[{"$f":"IF(($D$2=\"\"),\"\",\"CODEUDOR REQUERIDO\")","v":""},null,null,{"$f":"IF(($D$2= \"\"),\"\",VLOOKUP($D$2,$AG$8:$AP$158,10,FALSE))","v":""},null,null,null,null,null,null,null,null,null,null,1,null,null,null,{"$f":"TASAS!H3","v":1.77E-2},"TASA"]
[{"$f":"IF(($D$2=\"\"),\"\",\"PLAZO MAXIMO PARA EL CREDITO\")","v":""},null,null,{"$f":"IF(($D$2= \"\"),\"\",VLOOKUP($D$2,$AG$8:$AP$158,9,FALSE))","v":""},null,{"$f":"IF(($D$2=\"\"),\"\",\"REVISE ABAJO LOS REQUISITOS\")","v":""},null,null,null,null,null,null,null,null,null,null,null,null,{"$f":"TASAS!H4","v":1.8200000000000001E-2},"TASA",null,null,null,null,null,null,null,null,null,null,null,"No.","SIGLA","DESCRIPCION","CLASIFICACION","SIGLA","DESCRIPCION","CLASIFICACION","MONTO MAX SIN CD","MONTO MAX CON CD","PLAZO","CD REQUEIRDO"]
["EVALUACION CAPACIDAD DE PAGO",null,null,"VALOR 1","VALOR 2","VALOR 3","TOTALES",null,null,null,null,null,null,null,null,null,null,null,{"$f":"TASAS!H5","v":1.8699999999999998E-2},"TASA",null,null,null,null,null,null,null,null,null,null,1,1,"AD06","Asesor del Sector Defensa","GRADO NUEVO","PU10","Profesional Universitario 10","CIVIL - GRADO ANTIGUO",{"$f":"$AM$5","v":3000000},{"$f":"$AN$5","v":5000000},{"$f":"$AO$5","v":"60 MESES"},"CIVIL O MILITAR CON MAS DE TRES AÑOS DE ANTIGÜEDAD"]
["TOTAL INGRESOS",null,null,0,null,null,{"$f":"IF((D9/2)<=F1,(D9-F1),(D9/2))","v":-1423500},null,null,null,null,null,null,null,null,null,null,null,{"$f":"TASAS!H6","v":3.4999999999999996E-2},"TASA",null,null,null,null,null,null,null,null,null,null,2,2,"AD04","Asesor del Sector Defensa","GRADO NUEVO","PU08","Profesional Universitario 08","CIVIL - GRADO ANTIGUO",{"$f":"$AM$5","v":3000000},{"$f":"$AN$5","v":5000000},{"$f":"$AO$5","v":"60 MESES"},"CIVIL O MILITAR CON MAS DE TRES AÑOS DE ANTIGÜEDAD"]
["(-) TOTAL DESCUENTOS",null,null,0,null,null,{"$f":"IF(($P$2>3),\"ERROR EN\",IF($P$2<-3,\"ERROR EN\",D10))","v":0},null,null,null,null,null,null,null,null,null,null,null,{"$f":"TASAS!H7","v":1.4499999999999999E-2},"TASA",null,null,null,null,null,null,null,null,null,null,3,3,"AD02","Asesor del Sector Defensa","GRADO NUEVO","PU06","Profesional Universitario 06","CIVIL - GRADO ANTIGUO",3000000,5000000,"60 MESES","CIVIL O MILITAR CON MAS DE TRES AÑOS DE ANTIGÜEDAD"]
["INGRESO NETO RECIBIDO EN EL DESPRENDIBLE DE PAGO",null,null,0,"DISPONIBLE PARA CREDITO",null,{"$f":"IF(($P$2>3),\"LOS DATOS\",IF($P$2<-3,\"LOS DATOS\",G9-G10+G12+G13-G14))","v":-1423500},"*",null,null,null,null,null,null,null,null,null,null,{"$f":"TASAS!H8","v":1.4999999999999999E-2},"TASA",null,null,null,null,null,null,null,null,null,null,4,4,"OE18","Orientador Espiritual","GRADO NUEVO","PU06","Profesional Universitario 06","CIVIL - GRADO ANTIGUO",3000000,5000000,"60 MESES","CIVIL O MILITAR CON MAS DE TRES AÑOS DE ANTIGÜEDAD"]
["(+) DESCUENTOS FINALIZADOS EN EL PRESENTE MES Y EN EL PROXIMO",null,null,0,0,0,{"$f":"SUM(D12:F12)","v":0},null,{"$f":"IF((B27=0),\"¡ ¡ ¡ Por favor seleccione la tasa de interés ! ! !\",\" \")","v":"¡ ¡ ¡ Por favor seleccione la tasa de interés ! ! !"},null,null,null,null,null,null,null,null,null,{"$f":"TASAS!H9","v":1.55E-2},"TASA",null,null,null,null,null,null,null,null,null,null,5,5,"OD18","Orientador de Defensa","GRADO NUEVO","PU","Profesional Universitario ","CIVIL - GRADO ANTIGUO",3000000,5000000,"60 MESES","CIVIL O MILITAR CON MAS DE TRES AÑOS DE ANTIGÜEDAD"]
["(+) CUOTAS DE COMPRAS DE CARTERA",null,null,0,0,0,{"$f":"SUM(D13:F13)","v":0},null,{"$f":"IF((S4=0),\" \",\"¡¡¡   A T E N C I O N   !!!\")","v":{"$error":"#VALUE!"}},null,null,null,null,null,null,null,null,null,null,null,null,null,null,null,null,null,null,null,null,null,6,6,"PD04","Profesional de Defensa","GRADO NUEVO","EP","Especialista Asesor Primero","CIVIL - GRADO ANTIGUO",3000000,5000000,"60 MESES","CIVIL O MILITAR CON MAS DE TRES AÑOS DE ANTIGÜEDAD"]
["(-) VALOR INGRESOS ADICIONALES Y OTROS DEDUCIBLES",null,null,0,0,0,{"$f":"SUM(D14:F14)","v":0},null,{"$f":"IF((S4=0),\" \",\"La tasa máxima para ese monto y plazo es del\")","v":{"$error":"#VALUE!"}},null,null,null,null,null,null,null,null,{"$f":"D3*1","v":{"$error":"#VALUE!"}},{"$f":"(PV($B$27,$D$27,$T$18))*-1","v":{"$error":"#VALUE!"}},null,null,null,null,null,null,null,null,null,null,null,7,7,"OD16","Orientador de Defensa","GRADO NUEVO","EP","Especialista Asesor Primero","CIVIL - GRADO ANTIGUO",3000000,5000000,"60 MESES","CIVIL O MILITAR CON MAS DE TRES AÑOS DE ANTIGÜEDAD"]
["(-) VALOR ESTIMADO CUOTA DE CREDITO CON COOSERFIN",null,null,0,{"$f":"IF(($D$17=\"TASA\"),\" \",\"VALOR SOLICITADO\")","v":"VALOR SOLICITADO"},null,{"$f":"IF(($D$2=\"\"),\"RECUERDE DIGITAR ARRIBA EL GRADO\",ROUNDUP(((((D15*D17))*(D16+D18))+D15)/D16,0))","v":"RECUERDE DIGITAR ARRIBA EL GRADO"},null,null,null,null,null,null,null,null,null,null,null,{"$f":"(IF(S14>R14,R14,FLOOR(S14,100000)))","v":{"$error":"#VALUE!"}},null,null,null,null,null,null,null,null,null,null,null,8,8,"OE16","Orientador Espiritual","GRADO NUEVO","EP","Especialista Asesor Primero","CIVIL - GRADO ANTIGUO",3000000,5000000,"60 MESES","CIVIL O MILITAR CON MAS DE TRES AÑOS DE ANTIGÜEDAD"]
[null,null,null,0,{"$f":"IF(($D$17=\"TASA\"),\" \",\"PLAZO\")","v":"PLAZO"},null,null,null,null,null,null,null,null,null,null,null,null,null,null,null,null,null,null,null,null,null,null,null,null,null,9,9,"PD02","Profesional de Defensa","GRADO NUEVO","ES","Especialista Asesor Segundo","CIVIL - GRADO ANTIGUO",3000000,5000000,"60 MESES","CIVIL O MILITAR CON MAS DE TRES AÑOS DE ANTIGÜEDAD"]
[null,null,null,2.3E-2,"FACTOR",null,null,null,null,null,null,null,null,null,null,null,null,null,null,{"$f":"F22","v":"NO APLICA"},null,null,null,null,null,null,null,null,null,null,10,10,"OD14","Orientador de Defensa","GRADO NUEVO","ES","Especialista Asesor Segundo","CIVIL - GRADO ANTIGUO",3000000,5000000,"60 MESES","CIVIL O MILITAR CON MAS DE TRES AÑOS DE ANTIGÜEDAD"]
[null,null,null,0,{"$f":"IF(($D$17=\"TASA\"),\" \",\"MES(ES) DE GRACIA\")","v":"MES(ES) DE GRACIA"},null,null,null,null,null,null,null,null,null,null,null,null,{"$f":"(PV($B$27,$D$27,$F$22))*-1","v":{"$error":"#VALUE!"}},null,{"$f":"((T17*(1-R23))-R25-V20-V24)*0.99","v":{"$error":"#VALUE!"}},null,null,null,null,{"$f":"R20*R24","v":{"$error":"#VALUE!"}},null,null,null,null,null,11,11,"OE14","Orientador Espiritual","GRADO NUEVO","ES","Especialista Asesor Segundo","CIVIL - GRADO ANTIGUO",3000000,5000000,"60 MESES","CIVIL O MILITAR CON MAS DE TRES AÑOS DE ANTIGÜEDAD"]
[null,null,null,{"$f":"IF($G$20>=0,(G15*D16),IF($G$20<0,\"\"))","v":{"$error":"#VALUE!"}},{"$f":"IF(($D$17=\"TASA\"),\" \",\"VALOR LIBRANZA\")","v":"VALOR LIBRANZA"},null,null,null,null,null,null,null,null,null,null,null,null,null,null,null,null,null,null,null,{"$f":"R29*R33","v":{"$error":"#VALUE!"}},null,null,null,null,null,12,12,"PD01","Profesional de Defensa","GRADO NUEVO","EJ","Especialista Jefe","CIVIL - GRADO ANTIGUO",3000000,5000000,"60 MESES","CIVIL O MILITAR CON MAS DE TRES AÑOS DE ANTIGÜEDAD"]
["INGRESO ESTIMADO EN EL PRIMER MES DE PAGO DEL CREDITO",null,null,{"$f":"IF($G$20>=0,\"USUARIO CON CAPACIDAD DE PAGO\",IF($G$20<0,\"INTENTE CON OTRO MONTO Y/O PLAZO\"))","v":{"$error":"#VALUE!"}},{"$f":"IF($J$16>=AD13,\"USUARIO CON CAPACIDAD DE ENDEUDAMIENTO\",IF($J$16<AD13,\"CREDITO INVIABLE INTENTE CON OTRO MONTO Y/O PLAZO\"))","v":"USUARIO CON CAPACIDAD DE ENDEUDAMIENTO"},{"$f":"IF($J$16>=AE13,\"USUARIO CON CAPACIDAD DE ENDEUDAMIENTO\",IF($J$16<AE13,\"CREDITO INVIABLE INTENTE CON OTRO MONTO Y/O PLAZO\"))","v":"CREDITO INVIABLE INTENTE CON OTRO MONTO Y/O PLAZO"},{"$f":"G11-G15","v":{"$error":"#VALUE!"}},null,null,null,null,null,null,null,"VALOR CREDITO         :",null,null,{"$f":"R18","v":{"$error":"#VALUE!"}},null,"VALOR SEGURO          :",null,{"$f":"R20*TASAS!C12","v":{"$error":"#VALUE!"}},null,null,{"$f":"(((($R$21)*((1+($R$21))^$R$22))/(((1+($R$21))^$R$22)-1))*$R$20)+((((R20*R21)/30)*R27)/R22)+R25+V20+V23","v":{"$error":"#DIV/0!"}},null,null,null,null,null,13,13,"OD13","Orientador de Defensa","GRADO NUEVO","EJ","Especialista Jefe","CIVIL - GRADO ANTIGUO",3000000,5000000,"60 MESES","CIVIL O MILITAR CON MAS DE TRES AÑOS DE ANTIGÜEDAD"]
[{"$f":"IF($W$22>0,\"MONTO MAXIMO DE ENDEUDAMIENTO\",IF($W$22<=0,\"EL SOLICITANTE NO TIENE POSIBILIDADES DE CREDITO\"))","v":"EL SOLICITANTE NO TIENE POSIBILIDADES DE CREDITO"},null,null,"PLAZO","MONTO MAX","VALOR CUOTA","VR LIBRANZA",null,null,null,null,null,null,null,"TASA NOMINAL MENSUAL  :",null,null,{"$f":"B27","v":0},null,"TASA EFECTIVA ANUAL   :",null,{"$f":"((1+((R21*12)/12))^12)-1","v":0},null,null,null,null,null,null,null,null,14,14,"OE13","Orientador Espiritual","GRADO NUEVO","EJ","Especialista Jefe","CIVIL - GRADO ANTIGUO",3000000,5000000,"60 MESES","CIVIL O MILITAR CON MAS DE TRES AÑOS DE ANTIGÜEDAD"]
[null,null,null,{"$f":"AP5","v":"60"},{"$f":"IF(($W$22<=0),\"NO APLICA\",$G$22*100/((($D$17*100)*($D$22+$D$18))+100))","v":"NO APLICA"},{"$f":"IF(($W$22<=0),\"NO APLICA\",$G$11)","v":"NO APLICA"},{"$f":"IF(($W$22<=0),\"NO APLICA\",($D$22*$F$22))","v":"NO APLICA"},"*",null,null,null,null,null,null,"PLAZO EN MESES        :",null,null,{"$f":"D27","v":"60"},null,"CUOTA NETA            :",null,{"$f":"((((R21)*((1+(R21))^R22))/(((1+(R21))^R22)-1))*(R20+Y18))+(((((R20+Y18)*R21)/30)*R27)/R22)","v":{"$error":"#DIV/0!"}},{"$f":"$G$11+$G$12+$G$13","v":-1423500},"PLAZO","MONTO MAX","VR MAX CUOTA","VALOR LZ",null,null,null,15,15,"TS21","Técnico de Servicios","GRADO NUEVO","E1","Especialista Primero","CIVIL - GRADO ANTIGUO",3000000,5000000,"60 MESES","CIVIL O MILITAR CON MAS DE TRES AÑOS DE ANTIGÜEDAD"]
[{"$f":"IF($G$20>=0,\"OTRAS OPCIONES DE CREDITO DISPONIBLES\",IF($G$20<0,\"INTENTE CON OTRO MONTO Y/O PLAZO\"))","v":{"$error":"#VALUE!"}},null,null,{"$f":"IF($Y$23<=$AA$27,12,IF($Y$23>$AA$27,\"NO APLICA\"))","v":{"$error":"#VALUE!"}},{"$f":"IF(Y23>$AA$27,\"NO APLICA\",IF(Y23<=$AA$27,FLOOR(Y23,10000)))","v":{"$error":"#VALUE!"}},{"$f":"IF($Y$23>$AA$27,\"NO APLICA\",IF(Y23<=$AA$27,((((E23*($D$17)*((D23+$D$18))+E23)/D23)))))","v":{"$error":"#VALUE!"}},{"$f":"IF($Y$23>$AA$27,\"NO APLICA\",IF(Y23<=$AA$27,(D23*F23)))","v":{"$error":"#VALUE!"}},null,null,null,null,null,null,null,"TASA COMISION RECAUDO :",null,null,0,null,"COMISION POR RECAUDO  :",null,{"$f":"((((((R21)*((1+(R21))^R22))/(((1+(R21))^R22)-1))*(R20+Y18))+(((((R20+Y18)*R21)/30)*R27)/R22)+R25+V20)*100)/(100-(R23*100))-(((((R21)*((1+(R21))^R22))/(((1+(R21))^R22)-1))*(R20+Y18))+(((((R20+Y18)*R21)/30)*R27)/R22)+R25+V20)","v":{"$error":"#DIV/0!"}},null,12,{"$f":"IF(($G$20>=0),AA23*100/((($D$17*100)*(X23+$D$18))+100),\"\")","v":{"$error":"#VALUE!"}},{"$f":"IF(($G$20>=0),($G$20+$G$15),\"\")","v":{"$error":"#VALUE!"}},{"$f":"IF(($G$20>=0),(Z23*X23),\"\")","v":{"$error":"#VALUE!"}},null,null,null,16,16,"OD12","Orientador de Defensa","GRADO NUEVO","E1","Especialista Primero","CIVIL - GRADO ANTIGUO",3000000,5000000,"60 MESES","CIVIL O MILITAR CON MAS DE TRES AÑOS DE ANTIGÜEDAD"]
[null,null,null,{"$f":"IF($Y$24<=$AA$27,24,IF($Y$24>$AA$27,\"NO APLICA\"))","v":{"$error":"#VALUE!"}},{"$f":"IF(Y24>$AA$27,\"NO APLICA\",IF(Y24<=$AA$27,FLOOR(Y24,10000)))","v":{"$error":"#VALUE!"}},{"$f":"IF($Y$24>$AA$27,\"NO APLICA\",IF(Y24<=$AA$27,((((E24*($D$17)*((D24+$D$18))+E24)/D24)))))","v":{"$error":"#VALUE!"}},{"$f":"IF($Y$24>$AA$27,\"NO APLICA\",IF(Y24<=$AA$27,(D24*F24)))","v":{"$error":"#VALUE!"}},null,null,null,null,null,null,null,"OTROS GASTOS          :",null,null,{"$f":"B29","v":0},null,"VALOR OTROS GASTOS    :",null,{"$f":"V27-Y20","v":{"$error":"#DIV/0!"}},null,24,{"$f":"IF(($G$20>=0),AA24*100/((($D$17*100)*(X24+$D$18))+100),\"\")","v":{"$error":"#VALUE!"}},{"$f":"IF(($G$20>=0),($G$20+$G$15),\"\")","v":{"$error":"#VALUE!"}},{"$f":"IF(($G$20>=0),(Z24*X24),\"\")","v":{"$error":"#VALUE!"}},null,null,null,17,17,"TA21","Técnico para Apoyo de Seguridad y Defensa","GRADO NUEVO","E1","Especialista Primero","CIVIL - GRADO ANTIGUO",3000000,5000000,"60 MESES","CIVIL O MILITAR CON MAS DE TRES AÑOS DE ANTIGÜEDAD"]
[null,null,null,{"$f":"IF($Y$25<=$AA$27,36,IF($Y$25>$AA$27,\"NO APLICA\"))","v":{"$error":"#VALUE!"}},{"$f":"IF(Y25>$AA$27,\"NO APLICA\",IF(Y25<=$AA$27,FLOOR(Y25,10000)))","v":{"$error":"#VALUE!"}},{"$f":"IF($Y$25>$AA$27,\"NO APLICA\",IF(Y25<=$AA$27,((((E25*($D$17)*((D25+$D$18))+E25)/D25)))))","v":{"$error":"#VALUE!"}},{"$f":"IF($Y$25>$AA$27,\"NO APLICA\",IF(Y25<=$AA$27,(D25*F25)))","v":{"$error":"#VALUE!"}},null,null,null,null,null,null,null,"APORTES SOCIALES      :",null,null,0,null,"FECHA DE INICIO       :",null,{"$f":"(R26+((R22+1)*29))-((R22-1)*29)","v":"2012-02-28"},null,36,{"$f":"IF(($G$20>=0),AA25*100/((($D$17*100)*(X25+$D$18))+100),\"\")","v":{"$error":"#VALUE!"}},{"$f":"IF(($G$20>=0),($G$20+$G$15),\"\")","v":{"$error":"#VALUE!"}},{"$f":"IF(($G$20>=0),(Z25*X25),\"\")","v":{"$error":"#VALUE!"}},null,null,null,18,18,"TS19","Técnico de Servicios","GRADO NUEVO","E2","Especialista Segundo","CIVIL - GRADO ANTIGUO",3000000,5000000,"60 MESES","CIVIL O MILITAR CON MAS DE TRES AÑOS DE ANTIGÜEDAD"]
[null,null,null,{"$f":"IF($Y$26<=$AA$27,48,IF($Y$26>$AA$27,\"NO APLICA\"))","v":{"$error":"#VALUE!"}},{"$f":"IF(Y26>$AA$27,\"NO APLICA\",IF(Y26<=$AA$27,FLOOR(Y26,10000)))","v":{"$error":"#VALUE!"}},{"$f":"IF($Y$26>$AA$27,\"NO APLICA\",IF(Y26<=$AA$27,((((E26*($D$17)*((D26+$D$18))+E26)/D26)))))","v":{"$error":"#VALUE!"}},{"$f":"IF($Y$26>$AA$27,\"NO APLICA\",IF(Y26<=$AA$27,(D26*F26)))","v":{"$error":"#VALUE!"}},null,null,null,null,null,null,null,"FECHA DESEMBOLSO      :",null,null,"2012-01-01",null,"FECHA DE TERMINO      :",null,{"$f":"(R26+((R22+1)*29))-((R22-1)*29)+((R22-1)*30)","v":"2017-01-02"},null,48,{"$f":"IF(($G$20>=0),AA26*100/((($D$17*100)*(X26+$D$18))+100),\"\")","v":{"$error":"#VALUE!"}},{"$f":"IF(($G$20>=0),($G$20+$G$15),\"\")","v":{"$error":"#VALUE!"}},{"$f":"IF(($G$20>=0),(Z26*X26),\"\")","v":{"$error":"#VALUE!"}},null,null,null,19,19,"OD11","Orientador de Defensa","GRADO NUEVO","E2","Especialista Segundo","CIVIL - GRADO ANTIGUO",3000000,5000000,"60 MESES","CIVIL O MILITAR CON MAS DE TRES AÑOS DE ANTIGÜEDAD"]
["LIBRE INVERSION - COBRO DE AVAL ANTICIPADO",0,"N.M.V.",{"$f":"AP5","v":"60"},{"$f":"S15","v":{"$error":"#VALUE!"}},"  VR CUOTA   ",{"$f":"(((($R$30)*((1+($R$30))^$R$31))/(((1+($R$30))^$R$31)-1))*($E$27+$Y$19))+(((((E27+Y19)*R30)/30)*R36)/R31)+R34+V29+V32+V33","v":{"$error":"#DIV/0!"}},null,{"$f":"IF((S4=0),\" \",S3)","v":{"$error":"#VALUE!"}},null,null,null,null,null,"DIAS DE GRACIA        :",null,null,{"$f":"B30","v":0},null,"TOTAL CUOTA MENSUAL   :",null,{"$f":"V22+R25+V23+V20","v":{"$error":"#DIV/0!"}},null,null,null,"MONTO MAXIMO POR CLIENTE",15000000,null,null,null,20,20,"TA19","Técnico para Apoyo de Seguridad y Defensa","GRADO NUEVO","E2","Especialista Segundo","CIVIL - GRADO ANTIGUO",3000000,5000000,"60 MESES","CIVIL O MILITAR CON MAS DE TRES AÑOS DE ANTIGÜEDAD"]
[null,{"$f":"((1+((B27*12)/12))^12)-1","v":0}," E. A.",{"$f":"IF($G$28>=0,\"USUARIO CON CAPACIDAD DE PAGO\",IF($G$28<0,\"INTENTE CON OTRO MONTO Y/O PLAZO\"))","v":{"$error":"#DIV/0!"}},null,null,{"$f":"G11-G27","v":{"$error":"#DIV/0!"}},null,{"$f":"IF(B27=TASAS!H3,\"Tasa para clientes con puntaje > a 750 y sin procesos\",\" \")","v":" "},null,null,null,null,null,null,null,null,null,null,null,null,null,null,null,null,null,null,null,null,null,21,21,"TS18","Técnico de Servicios","GRADO NUEVO","E3","Especialista Tercero","CIVIL - GRADO ANTIGUO",3000000,5000000,"60 MESES","CIVIL O MILITAR CON MAS DE TRES AÑOS DE ANTIGÜEDAD"]
[null,0," O. G.","% AVAL","VALOR AVAL ","A GIRAR",null,null,{"$f":"IF(B27=TASAS!H4,\"Tasa para clientes con puntaje entre 650 - 749 y sin procesos\",\" \")","v":" "},null,null,null,null,null,"VALOR CREDITO         :",null,null,{"$f":"E27","v":{"$error":"#VALUE!"}},null,"VALOR SEGURO          :",null,{"$f":"R29*TASAS!C12","v":{"$error":"#VALUE!"}},null,null,null,null,null,null,null,null,22,22,"OD10","Orientador de Defensa","GRADO NUEVO","E3","Especialista Tercero","CIVIL - GRADO ANTIGUO",3000000,5000000,"60 MESES","CIVIL O MILITAR CON MAS DE TRES AÑOS DE ANTIGÜEDAD"]
[null,0," D. G.",0.09,{"$f":"E27*D30","v":{"$error":"#VALUE!"}},{"$f":"E27-E30","v":{"$error":"#VALUE!"}},null,null,null,null,null,null,null,null,"TASA NOMINAL MENSUAL  :",null,null,{"$f":"R21","v":0},null,"TASA EFECTIVA ANUAL   :",null,{"$f":"((1+((R30*12)/12))^12)-1","v":0},null,null,null,null,null,null,null,null,23,23,"TA18","Técnico para Apoyo de Seguridad y Defensa","GRADO NUEVO","E3","Especialista Tercero","CIVIL - GRADO ANTIGUO",3000000,5000000,"60 MESES","CIVIL O MILITAR CON MAS DE TRES AÑOS DE ANTIGÜEDAD"]
[null,"% Simple",{"$f":"(((G27*D27)-E27)/E27)/D27","v":{"$error":"#DIV/0!"}},null,null,null,null,null,null,null,null,null,null,null,"PLAZO EN MESES        :",null,null,"60",null,"CUOTA NETA            :",null,{"$f":"((((R30)*((1+(R30))^R31))/(((1+(R30))^R31)-1))*(R29+Y19))+(((((R29+Y19)*R30)/30)*R36)/R31)","v":{"$error":"#DIV/0!"}},null,null,null,null,null,null,null,null,24,24,"TI18","Técnico de Inteligencia","GRADO NUEVO","E3","Especialista Tercero","CIVIL - GRADO ANTIGUO",3000000,5000000,"60 MESES","CIVIL O MILITAR CON MAS DE TRES AÑOS DE ANTIGÜEDAD"]
[null,null,null,null,null,null,null,null,null,null,null,null,null,null,"TASA COMISION RECAUDO :",null,null,0,null,"COMISION POR RECAUDO  :",null,{"$f":"((((((R30)*((1+(R30))^R31))/(((1+(R30))^R31)-1))*(R29+Y19))+(((((R29+Y19)*R30)/30)*R36)/R31)+R34+V29)*100)/(100-(R32*100))-(((((R30)*((1+(R30))^R31))/(((1+(R30))^R31)-1))*(R29+Y19))+(((((R29+Y19)*R30)/30)*R36)/R31)+R34+V29)","v":{"$error":"#DIV/0!"}},null,null,null,null,null,null,null,null,25,25,"TS17","Técnico de Servicios","GRADO NUEVO","E4","Especialista Cuarto","CIVIL - GRADO ANTIGUO",3000000,5000000,"60 MESES","CIVIL O MILITAR CON MAS DE TRES AÑOS DE ANTIGÜEDAD"]
["REQUISITOS PARA SOLICITUD DE CREDITO:",null,null,null,null,null,null,null,null,null,null,null,null,null,"OTROS GASTOS          :",null,null,0,null,"VALOR OTROS GASTOS    :",null,null,null,null,null,null,null,null,null,null,26,26,"OD09","Orientador de Defensa","GRADO NUEVO","E4","Especialista Cuarto","CIVIL - GRADO ANTIGUO",3000000,5000000,"60 MESES","CIVIL O MILITAR CON MAS DE TRES AÑOS DE ANTIGÜEDAD"]
["1. DESPRENDIBLES DE PAGO ORIGINALES  DE LOS DOS (2) ULTIMOS ",null,null,null,null,null,null,null,null,null,null,null,null,null,"APORTES SOCIALES      :",null,null,0,null,"FECHA DE INICIO       :",null,{"$f":"(R35+((R31+1)*29))-((R31-1)*29)","v":"2012-02-28"},null,null,null,null,null,null,null,null,27,27,"TA17","Técnico para Apoyo de Seguridad y Defensa","GRADO NUEVO","E4","Especialista Cuarto","CIVIL - GRADO ANTIGUO",3000000,5000000,"60 MESES","CIVIL O MILITAR CON MAS DE TRES AÑOS DE ANTIGÜEDAD"]
["    MESES CON FIRMA Y HUELLA DACTILAR",null,null,null,null,null,null,null,null,null,null,null,null,null,"FECHA DESEMBOLSO      :",null,null,"2012-01-01",null,"FECHA DE TERMINO      :",null,{"$f":"(R35+((R31+1)*29))-((R31-1)*29)+((R31-1)*30)","v":"2017-01-02"},null,null,null,null,null,null,null,null,28,28,"TS14","Técnico de Servicios","GRADO NUEVO","E5","Especialista Quinto","CIVIL - GRADO ANTIGUO",3000000,5000000,"60 MESES","CIVIL O MILITAR CON MAS DE TRES AÑOS DE ANTIGÜEDAD"]
["2. FOTOCOPIA AMPLIADA AL 200%, A COLOR Y LEGIBLE DE LA CEDULA DE CIUDADANIA",null,null,null,null,null,null,null,null,null,null,null,null,null,"DIAS DE GRACIA        :",null,null,0,null,"TOTAL CUOTA MENSUAL   :",null,{"$f":"V31+R34+V32+V29","v":{"$error":"#DIV/0!"}},null,null,null,null,null,null,null,null,29,29,"OD08","Orientador de Defensa","GRADO NUEVO","E5","Especialista Quinto","CIVIL - GRADO ANTIGUO",3000000,5000000,"60 MESES","CIVIL O MILITAR CON MAS DE TRES AÑOS DE ANTIGÜEDAD"]
["3. FOTOCOPIA AMPLIADA AL 200%, A COLOR Y LEGIBLE DE LA CEDULA MILITAR O DE ",null,null,null,null,null,null,null,null,null,null,null,null,null,null,null,null,null,null,null,null,null,null,null,null,null,null,null,null,null,30,30,"TA14","Técnico para Apoyo de Seguridad y Defensa","GRADO NUEVO","E5","Especialista Quinto","CIVIL - GRADO ANTIGUO",3000000,5000000,"60 MESES","CIVIL O MILITAR CON MAS DE TRES AÑOS DE ANTIGÜEDAD"]
["    PERSONAL CIVIL CON EL GRADO ACTUALIZADO (IGUAL AL DEL DESPRENDIBLE)",null,null,null,null,null,null,null,null,null,null,null,null,null,null,null,null,null,null,null,null,null,null,null,null,null,null,null,null,null,31,31,"TI14","Técnico de Inteligencia","GRADO NUEVO","E5","Especialista Quinto","CIVIL - GRADO ANTIGUO",3000000,5000000,"60 MESES","CIVIL O MILITAR CON MAS DE TRES AÑOS DE ANTIGÜEDAD"]
["4. FIRMAR EL FORMATO DE AUTORIZACION DE DESCUENTO",null,null,null,null,null,null,null,null,null,null,null,null,null,null,null,null,null,null,null,null,null,null,null,null,null,null,null,null,null,32,32,"TS12","Técnico de Servicios","GRADO NUEVO","E6","Especialista Sexto","CIVIL - GRADO ANTIGUO",3000000,5000000,"60 MESES","CIVIL O MILITAR CON MAS DE TRES AÑOS DE ANTIGÜEDAD"]
["5. SI APLICA, UN CODEUDOR CON LOS MISMOS REQUISITOS DEL DEUDOR, QUIEN",null,null,null,null,null,null,null,null,null,null,null,null,null,null,null,null,null,null,null,null,null,null,null,null,null,null,null,null,null,33,33,"OD07","Orientador de Defensa","GRADO NUEVO","E6","Especialista Sexto","CIVIL - GRADO ANTIGUO",3000000,5000000,"60 MESES","CIVIL O MILITAR CON MAS DE TRES AÑOS DE ANTIGÜEDAD"]
["    PODRA PRESENTAR FOTOCOPIA DEL ULTIMO DESPRENDIBLE DE PAGO",null,null,null,null,null,null,null,null,null,null,null,null,null,null,null,null,null,null,null,null,null,null,null,null,null,null,null,null,null,34,34,"TA12","Técnico para Apoyo de Seguridad y Defensa","GRADO NUEVO","E6","Especialista Sexto","CIVIL - GRADO ANTIGUO",3000000,5000000,"60 MESES","CIVIL O MILITAR CON MAS DE TRES AÑOS DE ANTIGÜEDAD"]
["6. LAS LIBRANZAS DE GABINETE REQUIEREN VISADO",null,null,null,null,null,null,null,null,null,null,null,null,null,null,null,null,null,null,null,null,null,null,null,null,null,null,null,null,null,35,35,"TI12","Técnico de Inteligencia","GRADO NUEVO","E6","Especialista Sexto","CIVIL - GRADO ANTIGUO",3000000,5000000,"60 MESES","CIVIL O MILITAR CON MAS DE TRES AÑOS DE ANTIGÜEDAD"]
[null,null,null,null,null,null,null,null,null,null,null,null,null,null,null,null,null,null,null,null,null,null,null,null,null,null,null,null,null,null,null,null,null,null,null,null,null,null,3000000,5000000,"60 MESES"]
["DESCUENTOS QUE SIEMPRE SE CONSIDERAN INDEFINIDOS",null,null,null,null,null,null,null,null,null,null,null,null,null,null,null,null,null,null,null,null,null,null,null,null,null,null,null,null,null,36,36,"AS12","Auxiliar de Servicios","GRADO NUEVO","DJ","Adjunto Jefe","CIVIL - GRADO ANTIGUO",3000000,5000000,"60 MESES","CIVIL O MILITAR CON MAS DE TRES AÑOS DE ANTIGÜEDAD"]
["AUN CUANDO TENGAN FECHA DE TERMINO EN EL DESPRENDIBLE:",null,null,null,null,null,null,null,null,null,null,null,null,null,null,null,null,null,null,null,null,null,null,null,null,null,null,null,null,null,37,37,"OD06","Orientador de Defensa","GRADO NUEVO","DJ","Adjunto Jefe","CIVIL - GRADO ANTIGUO",3000000,5000000,"60 MESES","CIVIL O MILITAR CON MAS DE TRES AÑOS DE ANTIGÜEDAD"]
["1. CASAS FISCALES = VIMILITAR, ICFEJCDES",null,null,null,null,null,null,null,null,null,null,null,null,null,null,null,null,null,null,null,null,null,null,null,null,null,null,null,null,null,38,38,"AA12","Técnico para Apoyo de Seguridad y Defensa","GRADO NUEVO","DJ","Adjunto Jefe","CIVIL - GRADO ANTIGUO",3000000,5000000,"60 MESES","CIVIL O MILITAR CON MAS DE TRES AÑOS DE ANTIGÜEDAD"]
["2. EMBARGOS = JUZCIVMPALBTA",null,null,null,null,null,null,null,null,null,null,null,null,null,null,null,null,null,null,null,null,null,null,null,null,null,null,null,null,null,39,39,"TI11","Técnico de Inteligencia","GRADO NUEVO","DJ","Adjunto Jefe","CIVIL - GRADO ANTIGUO",3000000,5000000,"60 MESES","CIVIL O MILITAR CON MAS DE TRES AÑOS DE ANTIGÜEDAD"]
[null,null,null,null,null,null,null,null,null,null,null,null,null,null,null,null,null,null,null,null,null,null,null,null,null,null,null,null,null,null,40,40,"AS11","Auxiliar de Servicios","GRADO NUEVO","DI","Adjunto Intendente","CIVIL - GRADO ANTIGUO",3000000,5000000,"60 MESES","CIVIL O MILITAR CON MAS DE TRES AÑOS DE ANTIGÜEDAD"]
["DEVENGADOS QUE NO SE TIENEN EN CUENTA DENTRO DE LA",null,null,null,null,null,null,null,null,null,null,null,null,null,null,null,null,null,null,null,null,null,null,null,null,null,null,null,null,null,41,41,"AD05","Orientador de Defensa","GRADO NUEVO","DI","Adjunto Intendente","CIVIL - GRADO ANTIGUO",3000000,5000000,"60 MESES","CIVIL O MILITAR CON MAS DE TRES AÑOS DE ANTIGÜEDAD"]
["CAPACIDAD DE PAGO:",null,null,null,null,null,null,null,null,null,null,null,null,null,null,null,null,null,null,null,null,null,null,null,null,null,null,null,null,null,42,42,"AA11","Técnico para Apoyo de Seguridad y Defensa","GRADO NUEVO","DI","Adjunto Intendente","CIVIL - GRADO ANTIGUO",3000000,5000000,"60 MESES","CIVIL O MILITAR CON MAS DE TRES AÑOS DE ANTIGÜEDAD"]
["1. PRIMA DE ORDEN PUBLICO",null,null,null,null,null,null,null,null,null,null,null,null,null,null,null,null,null,null,null,null,null,null,null,null,null,null,null,null,null,43,43,"TI09","Técnico de Inteligencia","GRADO NUEVO","DI","Adjunto Intendente","CIVIL - GRADO ANTIGUO",3000000,5000000,"60 MESES","CIVIL O MILITAR CON MAS DE TRES AÑOS DE ANTIGÜEDAD"]
["2. PARTIDA DE ALIMENTACION",null,null,null,null,null,null,null,null,null,null,null,null,null,null,null,null,null,null,null,null,null,null,null,null,null,null,null,null,null,44,44,"AS10","Auxiliar de Servicios","GRADO NUEVO","DM","Adjunto Mayor","CIVIL - GRADO ANTIGUO",3000000,5000000,"60 MESES","CIVIL O MILITAR CON MAS DE TRES AÑOS DE ANTIGÜEDAD"]
[null,null,null,null,null,null,null,null,null,null,null,null,null,null,null,null,null,null,null,null,null,null,null,null,null,null,null,null,null,null,45,45,"OD04","Orientador de Defensa","GRADO NUEVO","DM","Adjunto Mayor","CIVIL - GRADO ANTIGUO",3000000,5000000,"60 MESES","CIVIL O MILITAR CON MAS DE TRES AÑOS DE ANTIGÜEDAD"]
["IMPORTANTE:",null,null,null,null,null,null,null,null,null,null,null,null,null,null,null,null,null,null,null,null,null,null,null,null,null,null,null,null,null,46,46,"AA10","Auxiliar para Apoyo de Seguridad y Defensa","GRADO NUEVO","DM","Adjunto Mayor","CIVIL - GRADO ANTIGUO",3000000,5000000,"60 MESES","CIVIL O MILITAR CON MAS DE TRES AÑOS DE ANTIGÜEDAD"]
["CUANDO EL SOLICITANTE RECIBE PRIMA DE VACACIONES SE DEBE ",null,null,null,null,null,null,null,null,null,null,null,null,null,null,null,null,null,null,null,null,null,null,null,null,null,null,null,null,null,47,47,"TI08","Técnico de Inteligencia","GRADO NUEVO","DM","Adjunto Mayor","CIVIL - GRADO ANTIGUO",3000000,5000000,"60 MESES","CIVIL O MILITAR CON MAS DE TRES AÑOS DE ANTIGÜEDAD"]
["SUMAR EL DESCUENTO DEL FONDO DE VACACIONES",null,null,null,null,null,null,null,null,null,null,null,null,null,null,null,null,null,null,null,null,null,null,null,null,null,null,null,null,null,48,48,"AS09","Auxiliar de Servicios","GRADO NUEVO","DE","Adjunto Especial","CIVIL - GRADO ANTIGUO",3000000,5000000,"60 MESES","CIVIL O MILITAR CON MAS DE TRES AÑOS DE ANTIGÜEDAD"]
[null,null,null,null,null,null,null,null,null,null,null,null,null,null,null,null,null,null,null,null,null,null,null,null,null,null,null,null,null,null,49,49,"OD3","Orientador de Defensa","GRADO NUEVO","DE","Adjunto Especial","CIVIL - GRADO ANTIGUO",3000000,5000000,"60 MESES","CIVIL O MILITAR CON MAS DE TRES AÑOS DE ANTIGÜEDAD"]
[null,null,null,null,null,null,null,null,null,null,null,null,null,null,null,null,null,null,null,null,null,null,null,null,null,null,null,null,null,null,50,50,"AA09","Auxiliar para Apoyo de Seguridad y Defensa","GRADO NUEVO","DE","Adjunto Especial","CIVIL - GRADO ANTIGUO",3000000,5000000,"60 MESES","CIVIL O MILITAR CON MAS DE TRES AÑOS DE ANTIGÜEDAD"]
[null,null,null,null,null,null,null,null,null,null,null,null,null,null,null,null,null,null,null,null,null,null,null,null,null,null,null,null,null,null,51,51,"TI07","Técnico de Inteligencia","GRADO NUEVO","DE","Adjunto Especial","CIVIL - GRADO ANTIGUO",3000000,5000000,"60 MESES","CIVIL O MILITAR CON MAS DE TRES AÑOS DE ANTIGÜEDAD"]
[null,null,null,null,null,null,null,null,null,null,null,null,null,null,null,null,null,null,null,null,null,null,null,null,null,null,null,null,null,null,52,52,"AS07","Auxiliar de Servicios","GRADO NUEVO","D1","Adjunto Primero","CIVIL - GRADO ANTIGUO",3000000,5000000,"60 MESES","CIVIL O MILITAR CON MAS DE TRES AÑOS DE ANTIGÜEDAD"]
[null,null,null,null,null,null,null,null,null,null,null,null,null,null,null,null,null,null,null,null,null,null,null,null,null,null,null,null,null,null,53,53,"AD02","Orientador de Defensa","GRADO NUEVO","D1","Adjunto Primero","CIVIL - GRADO ANTIGUO",3000000,5000000,"60 MESES","CIVIL O MILITAR CON MAS DE TRES AÑOS DE ANTIGÜEDAD"]
[null,null,null,null,null,null,null,null,null,null,null,null,null,null,null,null,null,null,null,null,null,null,null,null,null,null,null,null,null,null,54,54,"AA07","Auxiliar para Apoyo de Seguridad y Defensa","GRADO NUEVO","D1","Adjunto Primero","CIVIL - GRADO ANTIGUO",3000000,5000000,"60 MESES","CIVIL O MILITAR CON MAS DE TRES AÑOS DE ANTIGÜEDAD"]
[null,null,null,null,null,null,null,null,null,null,null,null,null,null,null,null,null,null,null,null,null,null,null,null,null,null,null,null,null,null,55,55,"TI06","Técnico de Inteligencia","GRADO NUEVO","D1","Adjunto Primero","CIVIL - GRADO ANTIGUO",3000000,5000000,"60 MESES","CIVIL O MILITAR CON MAS DE TRES AÑOS DE ANTIGÜEDAD"]
[null,null,null,null,null,null,null,null,null,null,null,null,null,null,null,null,null,null,null,null,null,null,null,null,null,null,null,null,null,null,56,56,"AS06","Auxiliar de Servicios","GRADO NUEVO","D2","Adjunto Segundo","CIVIL - GRADO ANTIGUO",3000000,5000000,"60 MESES","CIVIL O MILITAR CON MAS DE TRES AÑOS DE ANTIGÜEDAD"]
[null,null,null,null,null,null,null,null,null,null,null,null,null,null,null,null,null,null,null,null,null,null,null,null,null,null,null,null,null,null,57,57,"OD01","Orientador de Defensa","GRADO NUEVO","D2","Adjunto Segundo","CIVIL - GRADO ANTIGUO",3000000,5000000,"60 MESES","CIVIL O MILITAR CON MAS DE TRES AÑOS DE ANTIGÜEDAD"]
[null,null,null,null,null,null,null,null,null,null,null,null,null,null,null,null,null,null,null,null,null,null,null,null,null,null,null,null,null,null,58,58,"AA06","Auxiliar para Apoyo de Seguridad y Defensa","GRADO NUEVO","D2","Adjunto Segundo","CIVIL - GRADO ANTIGUO",3000000,5000000,"60 MESES","CIVIL O MILITAR CON MAS DE TRES AÑOS DE ANTIGÜEDAD"]
[null,null,null,null,null,null,null,null,null,null,null,null,null,null,null,null,null,null,null,null,null,null,null,null,null,null,null,null,null,null,59,59,"TI05","Técnico de Inteligencia","GRADO NUEVO","D2","Adjunto Segundo","CIVIL - GRADO ANTIGUO",3000000,5000000,"60 MESES","CIVIL O MILITAR CON MAS DE TRES AÑOS DE ANTIGÜEDAD"]
[null,null,null,null,null,null,null,null,null,null,null,null,null,null,null,null,null,null,null,null,null,null,null,null,null,null,null,null,null,null,60,60,"AS05","Auxiliar de Servicios","GRADO NUEVO","D3","Adjunto Tercero","CIVIL - GRADO ANTIGUO",3000000,5000000,"60 MESES","CIVIL O MILITAR CON MAS DE TRES AÑOS DE ANTIGÜEDAD"]
[null,null,null,null,null,null,null,null,null,null,null,null,null,null,null,null,null,null,null,null,null,null,null,null,null,null,null,null,null,null,61,61,"AA05","Auxiliar para Apoyo de Seguridad y Defensa","GRADO NUEVO","D3","Adjunto Tercero","CIVIL - GRADO ANTIGUO",3000000,5000000,"60 MESES","CIVIL O MILITAR CON MAS DE TRES AÑOS DE ANTIGÜEDAD"]
[null,null,null,null,null,null,null,null,null,null,null,null,null,null,null,null,null,null,null,null,null,null,null,null,null,null,null,null,null,null,62,62,"TI04","Técnico de Inteligencia","GRADO NUEVO","D3","Adjunto Tercero","CIVIL - GRADO ANTIGUO",3000000,5000000,"60 MESES","CIVIL O MILITAR CON MAS DE TRES AÑOS DE ANTIGÜEDAD"]
[null,null,null,null,null,null,null,null,null,null,null,null,null,null,null,null,null,null,null,null,null,null,null,null,null,null,null,null,null,null,63,63,"AS03","Auxiliar de Servicios","GRADO NUEVO","D4","Adjunto Cuarto","CIVIL - GRADO ANTIGUO",3000000,5000000,"60 MESES","CIVIL O MILITAR CON MAS DE TRES AÑOS DE ANTIGÜEDAD"]
[null,null,null,null,null,null,null,null,null,null,null,null,null,null,null,null,null,null,null,null,null,null,null,null,null,null,null,null,null,null,64,64,"AA03","Auxiliar para Apoyo de Seguridad y Defensa","GRADO NUEVO","D4","Adjunto Cuarto","CIVIL - GRADO ANTIGUO",3000000,5000000,"60 MESES","CIVIL O MILITAR CON MAS DE TRES AÑOS DE ANTIGÜEDAD"]
[null,null,null,null,null,null,null,null,null,null,null,null,null,null,null,null,null,null,null,null,null,null,null,null,null,null,null,null,null,null,65,65,"AS01","Auxiliar de Servicios","GRADO NUEVO","D5","Adjunto Quinto","CIVIL - GRADO ANTIGUO",{"$f":"$AM$5","v":3000000},{"$f":"$AN$5","v":5000000},{"$f":"$AO$5","v":"60 MESES"},"CIVIL O MILITAR CON MAS DE TRES AÑOS DE ANTIGÜEDAD"]
[null,null,null,null,null,null,null,null,null,null,null,null,null,null,null,null,null,null,null,null,null,null,null,null,null,null,null,null,null,null,66,66,"AA01","Auxiliar para Apoyo de Seguridad y Defensa","GRADO NUEVO","D5","Adjunto Quinto","CIVIL - GRADO ANTIGUO",3000000,5000000,"60 MESES","CIVIL O MILITAR CON MAS DE TRES AÑOS DE ANTIGÜEDAD"]
[null,null,null,null,null,null,null,null,null,null,null,null,null,null,null,null,null,null,null,null,null,null,null,null,null,null,null,null,null,null,67,67,"PU10","Profesional Universitario 10","GRADO ANTIGUO","AD06","Asesor del Sector Defensa","CIVIL - GRADO NUEVO",3000000,5000000,"60 MESES","CIVIL O MILITAR CON MAS DE TRES AÑOS DE ANTIGÜEDAD"]
[null,null,null,null,null,null,null,null,null,null,null,null,null,null,null,null,null,null,null,null,null,null,null,null,null,null,null,null,null,null,68,68,"PU08","Profesional Universitario 08","GRADO ANTIGUO","AD04","Asesor del Sector Defensa","CIVIL - GRADO NUEVO",3000000,5000000,"60 MESES","CIVIL O MILITAR CON MAS DE TRES AÑOS DE ANTIGÜEDAD"]
[null,null,null,null,null,null,null,null,null,null,null,null,null,null,null,null,null,null,null,null,null,null,null,null,null,null,null,null,null,null,69,69,"PU06","Profesional Universitario 06","GRADO ANTIGUO","AD02","Asesor del Sector Defensa","CIVIL - GRADO NUEVO",3000000,5000000,"60 MESES","CIVIL O MILITAR CON MAS DE TRES AÑOS DE ANTIGÜEDAD"]
[null,null,null,null,null,null,null,null,null,null,null,null,null,null,null,null,null,null,null,null,null,null,null,null,null,null,null,null,null,null,70,70,"PU06","Profesional Universitario 06","GRADO ANTIGUO","OE18","Orientador Espiritual","CIVIL - GRADO NUEVO",3000000,5000000,"60 MESES","CIVIL O MILITAR CON MAS DE TRES AÑOS DE ANTIGÜEDAD"]
[null,null,null,null,null,null,null,null,null,null,null,null,null,null,null,null,null,null,null,null,null,null,null,null,null,null,null,null,null,null,71,71,"PU","Profesional Universitario ","GRADO ANTIGUO","OD18","Orientador de Defensa","CIVIL - GRADO NUEVO",3000000,5000000,"60 MESES","CIVIL O MILITAR CON MAS DE TRES AÑOS DE ANTIGÜEDAD"]
[null,null,null,null,null,null,null,null,null,null,null,null,null,null,null,null,null,null,null,null,null,null,null,null,null,null,null,null,null,null,72,72,"EP","Especialista Asesor Primero","GRADO ANTIGUO","PD04","Profesional de Defensa","CIVIL - GRADO NUEVO",3000000,5000000,"60 MESES","CIVIL O MILITAR CON MAS DE TRES AÑOS DE ANTIGÜEDAD"]
[null,null,null,null,null,null,null,null,null,null,null,null,null,null,null,null,null,null,null,null,null,null,null,null,null,null,null,null,null,null,73,73,"EP","Especialista Asesor Primero","GRADO ANTIGUO","OD16","Orientador de Defensa","CIVIL - GRADO NUEVO",3000000,5000000,"60 MESES","CIVIL O MILITAR CON MAS DE TRES AÑOS DE ANTIGÜEDAD"]
[null,null,null,null,null,null,null,null,null,null,null,null,null,null,null,null,null,null,null,null,null,null,null,null,null,null,null,null,null,null,74,74,"EP","Especialista Asesor Primero","GRADO ANTIGUO","OE16","Orientador Espiritual","CIVIL - GRADO NUEVO",3000000,5000000,"60 MESES","CIVIL O MILITAR CON MAS DE TRES AÑOS DE ANTIGÜEDAD"]
[null,null,null,null,null,null,null,null,null,null,null,null,null,null,null,null,null,null,null,null,null,null,null,null,null,null,null,null,null,null,75,75,"ES","Especialista Asesor Segundo","GRADO ANTIGUO","PD02","Profesional de Defensa","CIVIL - GRADO NUEVO",3000000,5000000,"60 MESES","CIVIL O MILITAR CON MAS DE TRES AÑOS DE ANTIGÜEDAD"]
[null,null,null,null,null,null,null,null,null,null,null,null,null,null,null,null,null,null,null,null,null,null,null,null,null,null,null,null,null,null,76,76,"ES","Especialista Asesor Segundo","GRADO ANTIGUO","OD14","Orientador de Defensa","CIVIL - GRADO NUEVO",3000000,5000000,"60 MESES","CIVIL O MILITAR CON MAS DE TRES AÑOS DE ANTIGÜEDAD"]
[null,null,null,null,null,null,null,null,null,null,null,null,null,null,null,null,null,null,null,null,null,null,null,null,null,null,null,null,null,null,77,77,"ES","Especialista Asesor Segundo","GRADO ANTIGUO","OE14","Orientador Espiritual","CIVIL - GRADO NUEVO",3000000,5000000,"60 MESES","CIVIL O MILITAR CON MAS DE TRES AÑOS DE ANTIGÜEDAD"]
[null,null,null,null,null,null,null,null,null,null,null,null,null,null,null,null,null,null,null,null,null,null,null,null,null,null,null,null,null,null,78,78,"EJ","Especialista Jefe","GRADO ANTIGUO","PD01","Profesional de Defensa","CIVIL - GRADO NUEVO",3000000,5000000,"60 MESES","CIVIL O MILITAR CON MAS DE TRES AÑOS DE ANTIGÜEDAD"]
[null,null,null,null,null,null,null,null,null,null,null,null,null,null,null,null,null,null,null,null,null,null,null,null,null,null,null,null,null,null,79,79,"EJ","Especialista Jefe","GRADO ANTIGUO","OD13","Orientador de Defensa","CIVIL - GRADO NUEVO",3000000,5000000,"60 MESES","CIVIL O MILITAR CON MAS DE TRES AÑOS DE ANTIGÜEDAD"]
[null,null,null,null,null,null,null,null,null,null,null,null,null,null,null,null,null,null,null,null,null,null,null,null,null,null,null,null,null,null,80,80,"EJ","Especialista Jefe","GRADO ANTIGUO","OE13","Orientador Espiritual","CIVIL - GRADO NUEVO",3000000,5000000,"60 MESES","CIVIL O MILITAR CON MAS DE TRES AÑOS DE ANTIGÜEDAD"]
[null,null,null,null,null,null,null,null,null,null,null,null,null,null,null,null,null,null,null,null,null,null,null,null,null,null,null,null,null,null,81,81,"E1","Especialista Primero","GRADO ANTIGUO","TS21","Tecnico de Servicios","CIVIL - GRADO NUEVO",3000000,5000000,"60 MESES","CIVIL O MILITAR CON MAS DE TRES AÑOS DE ANTIGÜEDAD"]
[null,null,null,null,null,null,null,null,null,null,null,null,null,null,null,null,null,null,null,null,null,null,null,null,null,null,null,null,null,null,82,82,"E1","Especialista Primero","GRADO ANTIGUO","OD12","Orientador de Defensa","CIVIL - GRADO NUEVO",3000000,5000000,"60 MESES","CIVIL O MILITAR CON MAS DE TRES AÑOS DE ANTIGÜEDAD"]
[null,null,null,null,null,null,null,null,null,null,null,null,null,null,null,null,null,null,null,null,null,null,null,null,null,null,null,null,null,null,83,83,"E1","Especialista Primero","GRADO ANTIGUO","TA21","Tecnico para Apoyo de Seguridad y Defensa","CIVIL - GRADO NUEVO",3000000,5000000,"60 MESES","CIVIL O MILITAR CON MAS DE TRES AÑOS DE ANTIGÜEDAD"]
[null,null,null,null,null,null,null,null,null,null,null,null,null,null,null,null,null,null,null,null,null,null,null,null,null,null,null,null,null,null,84,84,"E2","Especialista Segundo","GRADO ANTIGUO","TS19","Tecnico de Servicios","CIVIL - GRADO NUEVO",3000000,5000000,"60 MESES","CIVIL O MILITAR CON MAS DE TRES AÑOS DE ANTIGÜEDAD"]
[null,null,null,null,null,null,null,null,null,null,null,null,null,null,null,null,null,null,null,null,null,null,null,null,null,null,null,null,null,null,85,85,"E2","Especialista Segundo","GRADO ANTIGUO","OD11","Orientador de Defensa","CIVIL - GRADO NUEVO",3000000,5000000,"60 MESES","CIVIL O MILITAR CON MAS DE TRES AÑOS DE ANTIGÜEDAD"]
[null,null,null,null,null,null,null,null,null,null,null,null,null,null,null,null,null,null,null,null,null,null,null,null,null,null,null,null,null,null,86,86,"E2","Especialista Segundo","GRADO ANTIGUO","TA19","Tecnico para Apoyo de Seguridad y Defensa","CIVIL - GRADO NUEVO",3000000,5000000,"60 MESES","CIVIL O MILITAR CON MAS DE TRES AÑOS DE ANTIGÜEDAD"]
[null,null,null,null,null,null,null,null,null,null,null,null,null,null,null,null,null,null,null,null,null,null,null,null,null,null,null,null,null,null,87,87,"E3","Especialista Tercero","GRADO ANTIGUO","TS18","Tecnico de Servicios","CIVIL - GRADO NUEVO",3000000,5000000,"60 MESES","CIVIL O MILITAR CON MAS DE TRES AÑOS DE ANTIGÜEDAD"]
[null,null,null,null,null,null,null,null,null,null,null,null,null,null,null,null,null,null,null,null,null,null,null,null,null,null,null,null,null,null,88,88,"E3","Especialista Tercero","GRADO ANTIGUO","OD10","Orientador de Defensa","CIVIL - GRADO NUEVO",3000000,5000000,"60 MESES","CIVIL O MILITAR CON MAS DE TRES AÑOS DE ANTIGÜEDAD"]
[null,null,null,null,null,null,null,null,null,null,null,null,null,null,null,null,null,null,null,null,null,null,null,null,null,null,null,null,null,null,89,89,"E3","Especialista Tercero","GRADO ANTIGUO","TA18","Tecnico para Apoyo de Seguridad y Defensa","CIVIL - GRADO NUEVO",3000000,5000000,"60 MESES","CIVIL O MILITAR CON MAS DE TRES AÑOS DE ANTIGÜEDAD"]
[null,null,null,null,null,null,null,null,null,null,null,null,null,null,null,null,null,null,null,null,null,null,null,null,null,null,null,null,null,null,90,90,"E3","Especialista Tercero","GRADO ANTIGUO","TI18","Tecnico de Inteligencia","CIVIL - GRADO NUEVO",3000000,5000000,"60 MESES","CIVIL O MILITAR CON MAS DE TRES AÑOS DE ANTIGÜEDAD"]
[null,null,null,null,null,null,null,null,null,null,null,null,null,null,null,null,null,null,null,null,null,null,null,null,null,null,null,null,null,null,91,91,"E4","Especialista Cuarto","GRADO ANTIGUO","TS17","Tecnico de Servicios","CIVIL - GRADO NUEVO",3000000,5000000,"60 MESES","CIVIL O MILITAR CON MAS DE TRES AÑOS DE ANTIGÜEDAD"]
[null,null,null,null,null,null,null,null,null,null,null,null,null,null,null,null,null,null,null,null,null,null,null,null,null,null,null,null,null,null,92,92,"E4","Especialista Cuarto","GRADO ANTIGUO","OD09","Orientador de Defensa","CIVIL - GRADO NUEVO",3000000,5000000,"60 MESES","CIVIL O MILITAR CON MAS DE TRES AÑOS DE ANTIGÜEDAD"]
[null,null,null,null,null,null,null,null,null,null,null,null,null,null,null,null,null,null,null,null,null,null,null,null,null,null,null,null,null,null,93,93,"E4","Especialista Cuarto","GRADO ANTIGUO","TA17","Tecnico para Apoyo de Seguridad y Defensa","CIVIL - GRADO NUEVO",3000000,5000000,"60 MESES","CIVIL O MILITAR CON MAS DE TRES AÑOS DE ANTIGÜEDAD"]
[null,null,null,null,null,null,null,null,null,null,null,null,null,null,null,null,null,null,null,null,null,null,null,null,null,null,null,null,null,null,94,94,"E5","Especialista Quinto","GRADO ANTIGUO","TS14","Tecnico de Servicios","CIVIL - GRADO NUEVO",3000000,5000000,"60 MESES","CIVIL O MILITAR CON MAS DE TRES AÑOS DE ANTIGÜEDAD"]
[null,null,null,null,null,null,null,null,null,null,null,null,null,null,null,null,null,null,null,null,null,null,null,null,null,null,null,null,null,null,95,95,"E5","Especialista Quinto","GRADO ANTIGUO","OD08","Orientador de Defensa","CIVIL - GRADO NUEVO",3000000,5000000,"60 MESES","CIVIL O MILITAR CON MAS DE TRES AÑOS DE ANTIGÜEDAD"]
[null,null,null,null,null,null,null,null,null,null,null,null,null,null,null,null,null,null,null,null,null,null,null,null,null,null,null,null,null,null,96,96,"E5","Especialista Quinto","GRADO ANTIGUO","TA14","Tecnico para Apoyo de Seguridad y Defensa","CIVIL - GRADO NUEVO",3000000,5000000,"60 MESES","CIVIL O MILITAR CON MAS DE TRES AÑOS DE ANTIGÜEDAD"]
[null,null,null,null,null,null,null,null,null,null,null,null,null,null,null,null,null,null,null,null,null,null,null,null,null,null,null,null,null,null,97,97,"E5","Especialista Quinto","GRADO ANTIGUO","TI14","Tecnico de Inteligencia","CIVIL - GRADO NUEVO",3000000,5000000,"60 MESES","CIVIL O MILITAR CON MAS DE TRES AÑOS DE ANTIGÜEDAD"]
[null,null,null,null,null,null,null,null,null,null,null,null,null,null,null,null,null,null,null,null,null,null,null,null,null,null,null,null,null,null,98,98,"E6","Especialista Sexto","GRADO ANTIGUO","TS12","Tecnico de Servicios","CIVIL - GRADO NUEVO",3000000,5000000,"60 MESES","CIVIL O MILITAR CON MAS DE TRES AÑOS DE ANTIGÜEDAD"]
[null,null,null,null,null,null,null,null,null,null,null,null,null,null,null,null,null,null,null,null,null,null,null,null,null,null,null,null,null,null,99,99,"E6","Especialista Sexto","GRADO ANTIGUO","OD07","Orientador de Defensa","CIVIL - GRADO NUEVO",3000000,5000000,"60 MESES","CIVIL O MILITAR CON MAS DE TRES AÑOS DE ANTIGÜEDAD"]
[null,null,null,null,null,null,null,null,null,null,null,null,null,null,null,null,null,null,null,null,null,null,null,null,null,null,null,null,null,null,100,100,"E6","Especialista Sexto","GRADO ANTIGUO","TA12","Tecnico para Apoyo de Seguridad y Defensa","CIVIL - GRADO NUEVO",3000000,5000000,"60 MESES","CIVIL O MILITAR CON MAS DE TRES AÑOS DE ANTIGÜEDAD"]
[null,null,null,null,null,null,null,null,null,null,null,null,null,null,null,null,null,null,null,null,null,null,null,null,null,null,null,null,null,null,101,101,"E6","Especialista Sexto","GRADO ANTIGUO","TI12","Tecnico de Inteligencia","CIVIL - GRADO NUEVO",3000000,5000000,"60 MESES","CIVIL O MILITAR CON MAS DE TRES AÑOS DE ANTIGÜEDAD"]
[null,null,null,null,null,null,null,null,null,null,null,null,null,null,null,null,null,null,null,null,null,null,null,null,null,null,null,null,null,null,102,102,"DJ","Adjunto Jefe","GRADO ANTIGUO","AS12","Auxiliar de Servicios","CIVIL - GRADO NUEVO",3000000,5000000,"60 MESES","CIVIL O MILITAR CON MAS DE TRES AÑOS DE ANTIGÜEDAD"]
[null,null,null,null,null,null,null,null,null,null,null,null,null,null,null,null,null,null,null,null,null,null,null,null,null,null,null,null,null,null,103,103,"DJ","Adjunto Jefe","GRADO ANTIGUO","OD06","Orientador de Defensa","CIVIL - GRADO NUEVO",3000000,5000000,"60 MESES","CIVIL O MILITAR CON MAS DE TRES AÑOS DE ANTIGÜEDAD"]
[null,null,null,null,null,null,null,null,null,null,null,null,null,null,null,null,null,null,null,null,null,null,null,null,null,null,null,null,null,null,104,104,"DJ","Adjunto Jefe","GRADO ANTIGUO","AA12","Tecnico para Apoyo de Seguridad y Defensa","CIVIL - GRADO NUEVO",3000000,5000000,"60 MESES","CIVIL O MILITAR CON MAS DE TRES AÑOS DE ANTIGÜEDAD"]
[null,null,null,null,null,null,null,null,null,null,null,null,null,null,null,null,null,null,null,null,null,null,null,null,null,null,null,null,null,null,105,105,"DJ","Adjunto Jefe","GRADO ANTIGUO","TI11","Tecnico de Inteligencia","CIVIL - GRADO NUEVO",3000000,5000000,"60 MESES","CIVIL O MILITAR CON MAS DE TRES AÑOS DE ANTIGÜEDAD"]
[null,null,null,null,null,null,null,null,null,null,null,null,null,null,null,null,null,null,null,null,null,null,null,null,null,null,null,null,null,null,106,106,"DI","Adjunto Intendente","GRADO ANTIGUO","AS11","Auxiliar de Servicios","CIVIL - GRADO NUEVO",3000000,5000000,"60 MESES","CIVIL O MILITAR CON MAS DE TRES AÑOS DE ANTIGÜEDAD"]
[null,null,null,null,null,null,null,null,null,null,null,null,null,null,null,null,null,null,null,null,null,null,null,null,null,null,null,null,null,null,107,107,"DI","Adjunto Intendente","GRADO ANTIGUO","AD05","Orientador de Defensa","CIVIL - GRADO NUEVO",3000000,5000000,"60 MESES","CIVIL O MILITAR CON MAS DE TRES AÑOS DE ANTIGÜEDAD"]
[null,null,null,null,null,null,null,null,null,null,null,null,null,null,null,null,null,null,null,null,null,null,null,null,null,null,null,null,null,null,108,108,"DI","Adjunto Intendente","GRADO ANTIGUO","AA11","Tecnico para Apoyo de Seguridad y Defensa","CIVIL - GRADO NUEVO",3000000,5000000,"60 MESES","CIVIL O MILITAR CON MAS DE TRES AÑOS DE ANTIGÜEDAD"]
[null,null,null,null,null,null,null,null,null,null,null,null,null,null,null,null,null,null,null,null,null,null,null,null,null,null,null,null,null,null,109,109,"DI","Adjunto Intendente","GRADO ANTIGUO","TI09","Tecnico de Inteligencia","CIVIL - GRADO NUEVO",3000000,5000000,"60 MESES","CIVIL O MILITAR CON MAS DE TRES AÑOS DE ANTIGÜEDAD"]
[null,null,null,null,null,null,null,null,null,null,null,null,null,null,null,null,null,null,null,null,null,null,null,null,null,null,null,null,null,null,110,110,"DM","Adjunto Mayor","GRADO ANTIGUO","AS10","Auxiliar de Servicios","CIVIL - GRADO NUEVO",3000000,5000000,"60 MESES","CIVIL O MILITAR CON MAS DE TRES AÑOS DE ANTIGÜEDAD"]
[null,null,null,null,null,null,null,null,null,null,null,null,null,null,null,null,null,null,null,null,null,null,null,null,null,null,null,null,null,null,111,111,"DM","Adjunto Mayor","GRADO ANTIGUO","OD04","Orientador de Defensa","CIVIL - GRADO NUEVO",3000000,5000000,"60 MESES","CIVIL O MILITAR CON MAS DE TRES AÑOS DE ANTIGÜEDAD"]
[null,null,null,null,null,null,null,null,null,null,null,null,null,null,null,null,null,null,null,null,null,null,null,null,null,null,null,null,null,null,112,112,"DM","Adjunto Mayor","GRADO ANTIGUO","AA10","Auxiliar para Apoyo de Seguridad y Defensa","CIVIL - GRADO NUEVO",3000000,5000000,"60 MESES","CIVIL O MILITAR CON MAS DE TRES AÑOS DE ANTIGÜEDAD"]
[null,null,null,null,null,null,null,null,null,null,null,null,null,null,null,null,null,null,null,null,null,null,null,null,null,null,null,null,null,null,113,113,"DM","Adjunto Mayor","GRADO ANTIGUO","TI08","Tecnico de Inteligencia","CIVIL - GRADO NUEVO",3000000,5000000,"60 MESES","CIVIL O MILITAR CON MAS DE TRES AÑOS DE ANTIGÜEDAD"]
[null,null,null,null,null,null,null,null,null,null,null,null,null,null,null,null,null,null,null,null,null,null,null,null,null,null,null,null,null,null,114,114,"DE","Adjunto Especial","GRADO ANTIGUO","AS09","Auxiliar de Servicios","CIVIL - GRADO NUEVO",3000000,5000000,"60 MESES","CIVIL O MILITAR CON MAS DE TRES AÑOS DE ANTIGÜEDAD"]
[null,null,null,null,null,null,null,null,null,null,null,null,null,null,null,null,null,null,null,null,null,null,null,null,null,null,null,null,null,null,115,115,"DE","Adjunto Especial","GRADO ANTIGUO","OD3","Orientador de Defensa","CIVIL - GRADO NUEVO",3000000,5000000,"60 MESES","CIVIL O MILITAR CON MAS DE TRES AÑOS DE ANTIGÜEDAD"]
[null,null,null,null,null,null,null,null,null,null,null,null,null,null,null,null,null,null,null,null,null,null,null,null,null,null,null,null,null,null,116,116,"DE","Adjunto Especial","GRADO ANTIGUO","AA09","Auxiliar para Apoyo de Seguridad y Defensa","CIVIL - GRADO NUEVO",3000000,5000000,"60 MESES","CIVIL O MILITAR CON MAS DE TRES AÑOS DE ANTIGÜEDAD"]
[null,null,null,null,null,null,null,null,null,null,null,null,null,null,null,null,null,null,null,null,null,null,null,null,null,null,null,null,null,null,117,117,"DE","Adjunto Especial","GRADO ANTIGUO","TI07","Tecnico de Inteligencia","CIVIL - GRADO NUEVO",3000000,5000000,"60 MESES","CIVIL O MILITAR CON MAS DE TRES AÑOS DE ANTIGÜEDAD"]
[null,null,null,null,null,null,null,null,null,null,null,null,null,null,null,null,null,null,null,null,null,null,null,null,null,null,null,null,null,null,118,118,"D1","Adjunto Primero","GRADO ANTIGUO","AS07","Auxiliar de Servicios","CIVIL - GRADO NUEVO",3000000,5000000,"60 MESES","CIVIL O MILITAR CON MAS DE TRES AÑOS DE ANTIGÜEDAD"]
[null,null,null,null,null,null,null,null,null,null,null,null,null,null,null,null,null,null,null,null,null,null,null,null,null,null,null,null,null,null,119,119,"D1","Adjunto Primero","GRADO ANTIGUO","AD02","Orientador de Defensa","CIVIL - GRADO NUEVO",3000000,5000000,"60 MESES","CIVIL O MILITAR CON MAS DE TRES AÑOS DE ANTIGÜEDAD"]
[null,null,null,null,null,null,null,null,null,null,null,null,null,null,null,null,null,null,null,null,null,null,null,null,null,null,null,null,null,null,120,120,"D1","Adjunto Primero","GRADO ANTIGUO","AA07","Auxiliar para Apoyo de Seguridad y Defensa","CIVIL - GRADO NUEVO",3000000,5000000,"60 MESES","CIVIL O MILITAR CON MAS DE TRES AÑOS DE ANTIGÜEDAD"]
[null,null,null,null,null,null,null,null,null,null,null,null,null,null,null,null,null,null,null,null,null,null,null,null,null,null,null,null,null,null,121,121,"D1","Adjunto Primero","GRADO ANTIGUO","TI06","Tecnico de Inteligencia","CIVIL - GRADO NUEVO",3000000,5000000,"60 MESES","CIVIL O MILITAR CON MAS DE TRES AÑOS DE ANTIGÜEDAD"]
[null,null,null,null,null,null,null,null,null,null,null,null,null,null,null,null,null,null,null,null,null,null,null,null,null,null,null,null,null,null,122,122,"D2","Adjunto Segundo","GRADO ANTIGUO","AS06","Auxiliar de Servicios","CIVIL - GRADO NUEVO",3000000,5000000,"60 MESES","CIVIL O MILITAR CON MAS DE TRES AÑOS DE ANTIGÜEDAD"]
[null,null,null,null,null,null,null,null,null,null,null,null,null,null,null,null,null,null,null,null,null,null,null,null,null,null,null,null,null,null,123,123,"D2","Adjunto Segundo","GRADO ANTIGUO","OD01","Orientador de Defensa","CIVIL - GRADO NUEVO",3000000,5000000,"60 MESES","CIVIL O MILITAR CON MAS DE TRES AÑOS DE ANTIGÜEDAD"]
[null,null,null,null,null,null,null,null,null,null,null,null,null,null,null,null,null,null,null,null,null,null,null,null,null,null,null,null,null,null,124,124,"D2","Adjunto Segundo","GRADO ANTIGUO","AA06","Auxiliar para Apoyo de Seguridad y Defensa","CIVIL - GRADO NUEVO",3000000,5000000,"60 MESES","CIVIL O MILITAR CON MAS DE TRES AÑOS DE ANTIGÜEDAD"]
[null,null,null,null,null,null,null,null,null,null,null,null,null,null,null,null,null,null,null,null,null,null,null,null,null,null,null,null,null,null,125,125,"D2","Adjunto Segundo","GRADO ANTIGUO","TI05","Tecnico de Inteligencia","CIVIL - GRADO NUEVO",3000000,5000000,"60 MESES","CIVIL O MILITAR CON MAS DE TRES AÑOS DE ANTIGÜEDAD"]
[null,null,null,null,null,null,null,null,null,null,null,null,null,null,null,null,null,null,null,null,null,null,null,null,null,null,null,null,null,null,126,126,"D3","Adjunto Tercero","GRADO ANTIGUO","AS05","Auxiliar de Servicios","CIVIL - GRADO NUEVO",3000000,5000000,"60 MESES","CIVIL O MILITAR CON MAS DE TRES AÑOS DE ANTIGÜEDAD"]
[null,null,null,null,null,null,null,null,null,null,null,null,null,null,null,null,null,null,null,null,null,null,null,null,null,null,null,null,null,null,127,127,"D3","Adjunto Tercero","GRADO ANTIGUO","AA05","Auxiliar para Apoyo de Seguridad y Defensa","CIVIL - GRADO NUEVO",3000000,5000000,"60 MESES","CIVIL O MILITAR CON MAS DE TRES AÑOS DE ANTIGÜEDAD"]
[null,null,null,null,null,null,null,null,null,null,null,null,null,null,null,null,null,null,null,null,null,null,null,null,null,null,null,null,null,null,128,128,"D3","Adjunto Tercero","GRADO ANTIGUO","TI04","Tecnico de Inteligencia","CIVIL - GRADO NUEVO",3000000,5000000,"60 MESES","CIVIL O MILITAR CON MAS DE TRES AÑOS DE ANTIGÜEDAD"]
[null,null,null,null,null,null,null,null,null,null,null,null,null,null,null,null,null,null,null,null,null,null,null,null,null,null,null,null,null,null,129,129,"D4","Adjunto Cuarto","GRADO ANTIGUO","AS03","Auxiliar de Servicios","CIVIL - GRADO NUEVO",{"$f":"$AM$5","v":3000000},{"$f":"$AN$5","v":5000000},{"$f":"$AO$5","v":"60 MESES"},"CIVIL O MILITAR CON MAS DE TRES AÑOS DE ANTIGÜEDAD"]
[null,null,null,null,null,null,null,null,null,null,null,null,null,null,null,null,null,null,null,null,null,null,null,null,null,null,null,null,null,null,130,130,"D4","Adjunto Cuarto","GRADO ANTIGUO","AA03","Auxiliar para Apoyo de Seguridad y Defensa","CIVIL - GRADO NUEVO",{"$f":"$AM$5","v":3000000},{"$f":"$AN$5","v":5000000},"60 MESES","CIVIL O MILITAR CON MAS DE TRES AÑOS DE ANTIGÜEDAD"]
[null,null,null,null,null,null,null,null,null,null,null,null,null,null,null,null,null,null,null,null,null,null,null,null,null,null,null,null,null,null,131,131,"D5","Adjunto Quinto","GRADO ANTIGUO","AS01","Auxiliar de Servicios","CIVIL - GRADO NUEVO",{"$f":"$AM$5","v":3000000},{"$f":"$AN$5","v":5000000},"60 MESES","CIVIL O MILITAR CON MAS DE TRES AÑOS DE ANTIGÜEDAD"]
[null,null,null,null,null,null,null,null,null,null,null,null,null,null,null,null,null,null,null,null,null,null,null,null,null,null,null,null,null,null,132,132,"D5","Adjunto Quinto","GRADO ANTIGUO","AA01","Auxiliar para Apoyo de Seguridad y Defensa","CIVIL - GRADO NUEVO",{"$f":"$AM$5","v":3000000},{"$f":"$AN$5","v":5000000},"60 MESES","CIVIL O MILITAR CON MAS DE TRES AÑOS DE ANTIGÜEDAD"]
[null,null,null,null,null,null,null,null,null,null,null,null,null,null,null,null,null,null,null,null,null,null,null,null,null,null,null,null,null,null,null,133,"G","GENERAL","EN OFICIALES","G","NO HAY CAMBIO DE GRADO","OFICIAL",{"$f":"$AN$5","v":5000000},"NO REQUIERE","60 MESES","NO REQUIERE CODEUDOR"]
[null,null,null,null,null,null,null,null,null,null,null,null,null,null,null,null,null,null,null,null,null,null,null,null,null,null,null,null,null,null,null,134,"MG","MAYOR GENERAL","EN OFICIALES","MG","NO HAY CAMBIO DE GRADO","OFICIAL",{"$f":"$AN$5","v":5000000},"NO REQUIERE","60 MESES","NO REQUIERE CODEUDOR"]
[null,null,null,null,null,null,null,null,null,null,null,null,null,null,null,null,null,null,null,null,null,null,null,null,null,null,null,null,null,null,null,135,"BG","BRIGADIER GENERAL","EN OFICIALES","BG","NO HAY CAMBIO DE GRADO","OFICIAL",{"$f":"$AN$5","v":5000000},"NO REQUIERE","60 MESES","NO REQUIERE CODEUDOR"]
[null,null,null,null,null,null,null,null,null,null,null,null,null,null,null,null,null,null,null,null,null,null,null,null,null,null,null,null,null,null,null,136,"CO","CORONEL","EN OFICIALES","CO","NO HAY CAMBIO DE GRADO","OFICIAL",20000000,{"$f":"$AN$5","v":5000000},"60 MESES","SV - SP - SM - CT - MY - TC"]
[null,null,null,null,null,null,null,null,null,null,null,null,null,null,null,null,null,null,null,null,null,null,null,null,null,null,null,null,null,null,null,137,"TC","TENIENTE CORONEL","EN OFICIALES","TC","NO HAY CAMBIO DE GRADO","OFICIAL",15000000,{"$f":"$AN$5","v":5000000},"60 MESES","SV - SP - SM - CT - MY - TC"]
[null,null,null,null,null,null,null,null,null,null,null,null,null,null,null,null,null,null,null,null,null,null,null,null,null,null,null,null,null,null,null,138,"MY","MAYOR","EN OFICIALES","MY","NO HAY CAMBIO DE GRADO","OFICIAL",10000000,{"$f":"$AN$5","v":5000000},"60 MESES","SV - SP - SM - CT - MY - TC"]
[null,null,null,null,null,null,null,null,null,null,null,null,null,null,null,null,null,null,null,null,null,null,null,null,null,null,null,null,null,null,null,139,"CT","CAPITAN ","EN OFICIALES","CT","NO HAY CAMBIO DE GRADO","OFICIAL",8000000,15000000,"60 MESES","SV - SP - SM - CT - MY - TC"]
[null,null,null,null,null,null,null,null,null,null,null,null,null,null,null,null,null,null,null,null,null,null,null,null,null,null,null,null,null,null,null,140,"TE","TENIENTE","EN OFICIALES","TE","NO HAY CAMBIO DE GRADO","OFICIAL",4000000,10000000,"60 MESES","SS - SV - SP - SM - TE - CT - MY - TC"]
[null,null,null,null,null,null,null,null,null,null,null,null,null,null,null,null,null,null,null,null,null,null,null,null,null,null,null,null,null,null,null,141,"ST","SUBTENIENTE","EN OFICIALES","ST","NO HAY CAMBIO DE GRADO","OFICIAL","NO SE OTORGA",5000000,"60 MESES","CP - SS - SV - SP - SM - TE - CT - MY - TC"]
[null,null,null,null,null,null,null,null,null,null,null,null,null,null,null,null,null,null,null,null,null,null,null,null,null,null,null,null,null,null,null,142,"SM","SARGENTO MAYOR","EN SUBOFICIALES","SM","NO HAY CAMBIO DE GRADO","SUBOFICIAL",{"$f":"$AN$5","v":5000000},"NO REQUIERE","60 MESES","NO REQUIERE CODEUDOR"]
[null,null,null,null,null,null,null,null,null,null,null,null,null,null,null,null,null,null,null,null,null,null,null,null,null,null,null,null,null,null,null,143,"SP","SARGENTO PRIMERO","EN SUBOFICIALES","SP","NO HAY CAMBIO DE GRADO","SUBOFICIAL",{"$f":"$AN$5","v":5000000},"NO REQUIERE","60 MESES","NO REQUIERE CODEUDOR"]
[null,null,null,null,null,null,null,null,null,null,null,null,null,null,null,null,null,null,null,null,null,null,null,null,null,null,null,null,null,null,null,144,"SV","SARGENTO VICEPRIMERO","EN SUBOFICIALES","SV","NO HAY CAMBIO DE GRADO","SUBOFICIAL",{"$f":"$AN$5","v":5000000},"NO REQUIERE","60 MESES","NO REQUIERE CODEUDOR"]
[null,null,null,null,null,null,null,null,null,null,null,null,null,null,null,null,null,null,null,null,null,null,null,null,null,null,null,null,null,null,null,145,"SS","SARGENTO SEGUNDO","EN SUBOFICIALES","SS","NO HAY CAMBIO DE GRADO","SUBOFICIAL",10000000,15000000,"60 MESES","SS - SV - SP - SM - TE - CT - MY - TC"]
[null,null,null,null,null,null,null,null,null,null,null,null,null,null,null,null,null,null,null,null,null,null,null,null,null,null,null,null,null,null,null,146,"CP","CABO PRIMERO","EN SUBOFICIALES","CP","NO HAY CAMBIO DE GRADO","SUBOFICIAL",4000000,8000000,"60 MESES","CP - SS - SV - SP - SM - TE - CT - MY - TC"]
[null,null,null,null,null,null,null,null,null,null,null,null,null,null,null,null,null,null,null,null,null,null,null,null,null,null,null,null,null,null,null,147,"CS","CABO SEGUNDO","EN SUBOFICIALES","CS","NO HAY CAMBIO DE GRADO","SUBOFICIAL","NO SE OTORGA",4000000,"NO SE OTORGA","CP - SS - SV - SP - SM - TE - CT - MY - TC"]
[null,null,null,null,null,null,null,null,null,null,null,null,null,null,null,null,null,null,null,null,null,null,null,null,null,null,null,null,null,null,null,148,"C3","CABO TERCERO","EN SUBOFICIALES","C3","NO HAY CAMBIO DE GRADO","SUBOFICIAL","NO SE OTORGA","NO SE OTORGA","NO SE OTORGA","NO SE OTORGA"]
[null,null,null,null,null,null,null,null,null,null,null,null,null,null,null,null,null,null,null,null,null,null,null,null,null,null,null,null,null,null,null,149,"SLP","SOLDADO PROFESIONAL","EN SOLDADOS","SLP","NO HAY CAMBIO DE GRADO","SOLDADO PROFESIONAL","NO SE OTORGA","NO SE OTORGA","NO SE OTORGA","NO SE OTORGA"]
[null,null,null,null,null,null,null,null,null,null,null,null,null,null,null,null,null,null,null,null,null,null,null,null,null,null,null,null,null,null,null,150,"SLV","SOLDADO VOLUNTARIO","EN SOLDADOS","SLV","NO HAY CAMBIO DE GRADO","SOLDADO VOLUNTARIO","NO SE OTORGA","NO SE OTORGA","NO SE OTORGA","NO SE OTORGA"]

{"sheet":"EJC","index":4,"n_rows":158,"n_cols":42,"rows_kept":158,"cut":false,"hidden":false,"merged":[[26,19,26,20],[28,14,28,16],[0,3,0,4],[0,5,0,6],[19,3,19,5],[11,8,11,13],[10,4,10,5],[6,3,6,4],[3,3,3,4],[3,5,3,7],[4,3,4,4],[4,5,4,7],[0,12,0,13],[1,8,1,13],[3,8,3,13],[28,8,28,13],[26,0,28,0],[22,0,25,2],[12,0,12,2],[13,0,13,2],[14,0,18,2],[19,0,19,2],[20,0,21,2],[6,0,6,2],[0,0,0,2],[1,0,1,2],[2,0,2,2],[3,0,3,2],[4,0,4,2],[5,0,5,2],[8,0,8,2],[9,0,9,2],[7,0,7,2],[10,0,10,2],[11,0,11,2],[33,6,34,6],[14,4,14,5],[14,6,18,6],[15,4,15,5],[16,4,16,5],[17,4,17,5],[18,4,18,5],[27,3,27,5],[34,14,34,16],[34,19,34,20],[35,14,35,16],[35,19,35,20],[30,14,30,16],[30,19,30,20],[31,14,31,16],[31,19,31,20],[33,14,33,16],[33,19,33,20],[32,14,32,16],[32,19,32,20],[29,19,29,20],[19,14,19,16],[19,19,19,20],[20,14,20,16],[20,19,20,20],[21,14,21,16],[21,19,21,20],[28,19,28,20],[23,14,23,16],[23,19,23,20],[22,14,22,16],[22,19,22,20],[24,14,24,16],[24,19,24,20],[25,14,25,16],[25,19,25,20],[2,8,2,13],[26,14,26,16],[29,14,29,16],[12,8,12,13],[13,8,13,13],[26,8,26,13],[27,8,27,13]]}
["EJC CO 1 - PA CO 1 - CR 1",null,null,"50%    -",null,{"$f":"TASAS!G11","v":1423500},null,null,null,null,null,null,{"$f":"TASAS!G15","v":"2025-03"}]
["SELECCIONE EL GRADO DEL USUARIO",null,null,null,{"$f":"IF(($D$2= \"\"),\"\",VLOOKUP($D$2,$AG$8:$AP$158,2,FALSE))","v":""},null,null,null,"La tasa de interés preferencial",null,null,null,null,null,{"$f":"D9-D10","v":0},{"$f":"D11-O2","v":0}]
[{"$f":"IF(($D$2= \"\"),\"\",VLOOKUP($D$2,$AG$8:$AP$158,6,FALSE))","v":""},null,null,{"$f":"IF(($D$2= \"\"),\"\",VLOOKUP($D$2,$AG$8:$AP$158,4,FALSE))","v":""},{"$f":"IF(($D$2= \"\"),\"\",VLOOKUP($D$2,$AG$8:$AP$158,5,FALSE))","v":""},null,null,null,"solo aplica para pensionados, no para activos",null,null,null,null,null,null,null,null,null,{"$f":"IF(AND(E27<TASAS!H11,D27<TASAS!M2),TASAS!H6,TASAS!H5)","v":{"$error":"#VALUE!"}}]
[{"$f":"IF(($D$2=\"\"),\"\",\"MONTO MAXIMO SIN CODEUDOR\")","v":""},null,null,{"$f":"IF(($D$2= \"\"),\"\",VLOOKUP($D$2,$AG$8:$AP$158,7,FALSE))","v":""},null,null,null,null,"NO SE TRAMITAN COMPRAS DE CARTERA",null,null,null,null,null,null,null,null,null,{"$f":"B27-S3","v":{"$error":"#VALUE!"}}]
[{"$f":"IF(($D$2=\"\"),\"\",\"MONTO MAXIMO CON CODEUDOR\")","v":""},null,null,{"$f":"IF(($D$2= \"\"),\"\",VLOOKUP($D$2,$AG$8:$AP$158,8,FALSE))","v":""},null,null,null,null,null,null,null,null,null,null,null,null,null,null,0,null,null,null,null,null,null,null,null,null,null,null,null,null,null,null,null,null,null,null,3000000,5000000,"60 MESES",{"$f":"LEFT(AO5,2)","v":"60"}]
[{"$f":"IF(($D$2=\"\"),\"\",\"CODEUDOR REQUERIDO\")","v":""},null,null,{"$f":"IF(($D$2= \"\"),\"\",VLOOKUP($D$2,$AG$8:$AP$158,10,FALSE))","v":""},null,null,null,null,null,null,null,null,null,null,null,null,null,null,{"$f":"TASAS!H3","v":1.77E-2},"TASA"]
[{"$f":"IF(($D$2=\"\"),\"\",\"PLAZO MAXIMO PARA EL CREDITO\")","v":""},null,null,{"$f":"IF(($D$2= \"\"),\"\",VLOOKUP($D$2,$AG$8:$AP$158,9,FALSE))","v":""},null,{"$f":"IF(($D$2=\"\"),\"\",\"REVISE ABAJO LOS REQUISITOS\")","v":""},null,null,null,null,null,null,null,null,null,null,null,null,{"$f":"TASAS!H4","v":1.8200000000000001E-2},"TASA",null,null,null,null,null,null,null,null,null,null,null,"No.","SIGLA","DESCRIPCION","CLASIFICACION","SIGLA","DESCRIPCION","CLASIFICACION","MONTO MAX SIN CD","MONTO MAX CON CD","PLAZO","CD REQUEIRDO"]
["EVALUACION CAPACIDAD DE PAGO",null,null,"VALOR 1","VALOR 2","VALOR 3","TOTALES",null,null,null,null,null,null,null,null,null,null,null,{"$f":"TASAS!H5","v":1.8699999999999998E-2},"TASA",null,null,null,null,null,null,null,null,null,null,1,1,"AD06","Asesor del Sector Defensa","GRADO NUEVO","PU10","Profesional Universitario 10","CIVIL - GRADO ANTIGUO",{"$f":"$AM$5","v":3000000},{"$f":"$AN$5","v":5000000},{"$f":"$AO$5","v":"60 MESES"},"CIVIL O MILITAR CON MAS DE TRES AÑOS DE ANTIGÜEDAD"]
["TOTAL INGRESOS",null,null,0,null,null,{"$f":"IF((D9/2)<=F1,(D9-F1),(D9/2))","v":-1423500},null,null,null,null,null,null,null,null,null,null,null,{"$f":"TASAS!H6","v":3.4999999999999996E-2},"TASA",null,null,null,null,null,null,null,null,null,null,2,2,"AD04","Asesor del Sector Defensa","GRADO NUEVO","PU08","Profesional Universitario 08","CIVIL - GRADO ANTIGUO",{"$f":"$AM$5","v":3000000},{"$f":"$AN$5","v":5000000},{"$f":"$AO$5","v":"60 MESES"},"CIVIL O MILITAR CON MAS DE TRES AÑOS DE ANTIGÜEDAD"]
["(-) TOTAL DESCUENTOS",null,null,0,null,null,{"$f":"IF(($P$2>3),\"ERROR EN\",IF($P$2<-3,\"ERROR EN\",D10))","v":0},null,null,null,null,null,null,null,null,null,null,null,{"$f":"TASAS!H7","v":1.4499999999999999E-2},"TASA",null,null,null,null,null,null,null,null,null,null,3,3,"AD02","Asesor del Sector Defensa","GRADO NUEVO","PU06","Profesional Universitario 06","CIVIL - GRADO ANTIGUO",3000000,5000000,"60 MESES","CIVIL O MILITAR CON MAS DE TRES AÑOS DE ANTIGÜEDAD"]
["INGRESO NETO RECIBIDO EN EL DESPRENDIBLE DE PAGO",null,null,0,"DISPONIBLE PARA CREDITO",null,{"$f":"IF(($P$2>3),\"LOS DATOS\",IF($P$2<-3,\"LOS DATOS\",G9-G10+G12+G13-G14))","v":-1423500},"*",null,null,null,null,null,null,null,null,null,null,{"$f":"TASAS!H8","v":1.4999999999999999E-2},"TASA",null,null,null,null,null,null,null,null,null,null,4,4,"OE18","Orientador Espiritual","GRADO NUEVO","PU06","Profesional Universitario 06","CIVIL - GRADO ANTIGUO",3000000,5000000,"60 MESES","CIVIL O MILITAR CON MAS DE TRES AÑOS DE ANTIGÜEDAD"]
["(+) DESCUENTOS FINALIZADOS EN EL PRESENTE MES Y EN EL PROXIMO",null,null,0,0,0,{"$f":"SUM(D12:F12)","v":0},null,{"$f":"IF((B27=0),\"¡ ¡ ¡ Por favor seleccione la tasa de interés ! ! !\",\" \")","v":"¡ ¡ ¡ Por favor seleccione la tasa de interés ! ! !"},null,null,null,null,null,null,null,null,null,{"$f":"TASAS!H9","v":1.55E-2},"TASA",null,null,null,null,null,null,null,null,null,null,5,5,"OD18","Orientador de Defensa","GRADO NUEVO","PU","Profesional Universitario ","CIVIL - GRADO ANTIGUO",3000000,5000000,"60 MESES","CIVIL O MILITAR CON MAS DE TRES AÑOS DE ANTIGÜEDAD"]
["(+) CUOTAS DE COMPRAS DE CARTERA",null,null,0,0,0,{"$f":"SUM(D13:F13)","v":0},null,{"$f":"IF((S4=0),\" \",\"¡¡¡   A T E N C I O N   !!!\")","v":{"$error":"#VALUE!"}},null,null,null,null,null,null,null,null,null,null,null,null,null,null,null,null,null,null,null,null,null,6,6,"PD04","Profesional de Defensa","GRADO NUEVO","EP","Especialista Asesor Primero","CIVIL - GRADO ANTIGUO",3000000,5000000,"60 MESES","CIVIL O MILITAR CON MAS DE TRES AÑOS DE ANTIGÜEDAD"]
["(-) VALOR INGRESOS ADICIONALES Y OTROS DEDUCIBLES",null,null,0,0,0,{"$f":"SUM(D14:F14)","v":0},null,{"$f":"IF((S4=0),\" \",\"La tasa máxima para ese monto y plazo es del\")","v":{"$error":"#VALUE!"}},null,null,null,null,null,null,null,null,{"$f":"D3*1","v":{"$error":"#VALUE!"}},{"$f":"(PV($B$27,$D$27,$T$18))*-1","v":{"$error":"#VALUE!"}},null,null,null,null,null,null,null,null,null,null,null,7,7,"OD16","Orientador de Defensa","GRADO NUEVO","EP","Especialista Asesor Primero","CIVIL - GRADO ANTIGUO",3000000,5000000,"60 MESES","CIVIL O MILITAR CON MAS DE TRES AÑOS DE ANTIGÜEDAD"]
["(-) VALOR ESTIMADO CUOTA DE CREDITO CON COOSERFIN",null,null,0,{"$f":"IF(($D$17=\"TASA\"),\" \",\"VALOR SOLICITADO\")","v":"VALOR SOLICITADO"},null,{"$f":"IF(($D$2=\"\"),\"RECUERDE DIGITAR ARRIBA EL GRADO\",ROUNDUP(((((D15*D17))*(D16+D18))+D15)/D16,0))","v":"RECUERDE DIGITAR ARRIBA EL GRADO"},null,null,null,null,null,null,null,null,null,null,null,{"$f":"(IF(S14>R14,R14,FLOOR(S14,100000)))","v":{"$error":"#VALUE!"}},null,null,null,null,null,null,null,null,null,null,null,8,8,"OE16","Orientador Espiritual","GRADO NUEVO","EP","Especialista Asesor Primero","CIVIL - GRADO ANTIGUO",3000000,5000000,"60 MESES","CIVIL O MILITAR CON MAS DE TRES AÑOS DE ANTIGÜEDAD"]
[null,null,null,0,{"$f":"IF(($D$17=\"TASA\"),\" \",\"PLAZO\")","v":"PLAZO"},null,null,null,null,null,null,null,null,null,null,null,null,null,null,null,null,null,null,null,null,null,null,null,null,null,9,9,"PD02","Profesional de Defensa","GRADO NUEVO","ES","Especialista Asesor Segundo","CIVIL - GRADO ANTIGUO",3000000,5000000,"60 MESES","CIVIL O MILITAR CON MAS DE TRES AÑOS DE ANTIGÜEDAD"]
[null,null,null,2.3E-2,"FACTOR",null,null,null,null,null,null,null,null,null,null,null,null,null,null,{"$f":"F22","v":"NO APLICA"},null,null,null,null,null,null,null,null,null,null,10,10,"OD14","Orientador de Defensa","GRADO NUEVO","ES","Especialista Asesor Segundo","CIVIL - GRADO ANTIGUO",3000000,5000000,"60 MESES","CIVIL O MILITAR CON MAS DE TRES AÑOS DE ANTIGÜEDAD"]
[null,null,null,0,{"$f":"IF(($D$17=\"TASA\"),\" \",\"MES(ES) DE GRACIA\")","v":"MES(ES) DE GRACIA"},null,null,null,null,null,null,null,null,null,null,null,null,{"$f":"(PV($B$27,$D$27,$F$22))*-1","v":{"$error":"#VALUE!"}},null,{"$f":"((T17*(1-R23))-R25-V20-V24)*0.99","v":{"$error":"#VALUE!"}},null,null,null,null,{"$f":"R20*R24","v":{"$error":"#VALUE!"}},null,null,null,null,null,11,11,"OE14","Orientador Espiritual","GRADO NUEVO","ES","Especialista Asesor Segundo","CIVIL - GRADO ANTIGUO",3000000,5000000,"60 MESES","CIVIL O MILITAR CON MAS DE TRES AÑOS DE ANTIGÜEDAD"]
[null,null,null,{"$f":"IF($G$20>=0,(G15*D16),IF($G$20<0,\"\"))","v":{"$error":"#VALUE!"}},{"$f":"IF(($D$17=\"TASA\"),\" \",\"VALOR LIBRANZA\")","v":"VALOR LIBRANZA"},null,null,null,null,null,null,null,null,null,null,null,null,null,null,null,null,null,null,null,{"$f":"R29*R33","v":{"$error":"#VALUE!"}},null,null,null,null,null,12,12,"PD01","Profesional de Defensa","GRADO NUEVO","EJ","Especialista Jefe","CIVIL - GRADO ANTIGUO",3000000,5000000,"60 MESES","CIVIL O MILITAR CON MAS DE TRES AÑOS DE ANTIGÜEDAD"]
["INGRESO ESTIMADO EN EL PRIMER MES DE PAGO DEL CREDITO",null,null,{"$f":"IF($G$20>=0,\"USUARIO CON CAPACIDAD DE PAGO\",IF($G$20<0,\"INTENTE CON OTRO MONTO Y/O PLAZO\"))","v":{"$error":"#VALUE!"}},{"$f":"IF($J$16>=AD13,\"USUARIO CON CAPACIDAD DE ENDEUDAMIENTO\",IF($J$16<AD13,\"CREDITO INVIABLE INTENTE CON OTRO MONTO Y/O PLAZO\"))","v":"USUARIO CON CAPACIDAD DE ENDEUDAMIENTO"},{"$f":"IF($J$16>=AE13,\"USUARIO CON CAPACIDAD DE ENDEUDAMIENTO\",IF($J$16<AE13,\"CREDITO INVIABLE INTENTE CON OTRO MONTO Y/O PLAZO\"))","v":"CREDITO INVIABLE INTENTE CON OTRO MONTO Y/O PLAZO"},{"$f":"G11-G15","v":{"$error":"#VALUE!"}},null,null,null,null,null,null,null,"VALOR CREDITO         :",null,null,{"$f":"R18","v":{"$error":"#VALUE!"}},null,"VALOR SEGURO          :",null,{"$f":"R20*TASAS!C12","v":{"$error":"#VALUE!"}},null,null,{"$f":"(((($R$21)*((1+($R$21))^$R$22))/(((1+($R$21))^$R$22)-1))*$R$20)+((((R20*R21)/30)*R27)/R22)+R25+V20+V23","v":{"$error":"#DIV/0!"}},null,null,null,null,null,13,13,"OD13","Orientador de Defensa","GRADO NUEVO","EJ","Especialista Jefe","CIVIL - GRADO ANTIGUO",3000000,5000000,"60 MESES","CIVIL O MILITAR CON MAS DE TRES AÑOS DE ANTIGÜEDAD"]
[{"$f":"IF($W$22>0,\"MONTO MAXIMO DE ENDEUDAMIENTO\",IF($W$22<=0,\"EL SOLICITANTE NO TIENE POSIBILIDADES DE CREDITO\"))","v":"EL SOLICITANTE NO TIENE POSIBILIDADES DE CREDITO"},null,null,"PLAZO","MONTO MAX","VALOR CUOTA","VR LIBRANZA",null,null,null,null,null,null,null,"TASA NOMINAL MENSUAL  :",null,null,{"$f":"B27","v":0},null,"TASA EFECTIVA ANUAL   :",null,{"$f":"((1+((R21*12)/12))^12)-1","v":0},null,null,null,null,null,null,null,null,14,14,"OE13","Orientador Espiritual","GRADO NUEVO","EJ","Especialista Jefe","CIVIL - GRADO ANTIGUO",3000000,5000000,"60 MESES","CIVIL O MILITAR CON MAS DE TRES AÑOS DE ANTIGÜEDAD"]
[null,null,null,{"$f":"AP5","v":"60"},{"$f":"IF(($W$22<=0),\"NO APLICA\",$G$22*100/((($D$17*100)*($D$22+$D$18))+100))","v":"NO APLICA"},{"$f":"IF(($W$22<=0),\"NO APLICA\",$G$11)","v":"NO APLICA"},{"$f":"IF(($W$22<=0),\"NO APLICA\",($D$22*$F$22))","v":"NO APLICA"},"*",null,null,null,null,null,null,"PLAZO EN MESES        :",null,null,{"$f":"D27","v":"60"},null,"CUOTA NETA            :",null,{"$f":"((((R21)*((1+(R21))^R22))/(((1+(R21))^R22)-1))*(R20+Y18))+(((((R20+Y18)*R21)/30)*R27)/R22)","v":{"$error":"#DIV/0!"}},{"$f":"$G$11+$G$12+$G$13","v":-1423500},"PLAZO","MONTO MAX","VR MAX CUOTA","VALOR LZ",null,null,null,15,15,"TS21","Técnico de Servicios","GRADO NUEVO","E1","Especialista Primero","CIVIL - GRADO ANTIGUO",3000000,5000000,"60 MESES","CIVIL O MILITAR CON MAS DE TRES AÑOS DE ANTIGÜEDAD"]
[{"$f":"IF($G$20>=0,\"OTRAS OPCIONES DE CREDITO DISPONIBLES\",IF($G$20<0,\"INTENTE CON OTRO MONTO Y/O PLAZO\"))","v":{"$error":"#VALUE!"}},null,null,{"$f":"IF($Y$23<=$AA$27,12,IF($Y$23>$AA$27,\"NO APLICA\"))","v":{"$error":"#VALUE!"}},{"$f":"IF(Y23>$AA$27,\"NO APLICA\",IF(Y23<=$AA$27,FLOOR(Y23,10000)))","v":{"$error":"#VALUE!"}},{"$f":"IF($Y$23>$AA$27,\"NO APLICA\",IF(Y23<=$AA$27,((((E23*($D$17)*((D23+$D$18))+E23)/D23)))))","v":{"$error":"#VALUE!"}},{"$f":"IF($Y$23>$AA$27,\"NO APLICA\",IF(Y23<=$AA$27,(D23*F23)))","v":{"$error":"#VALUE!"}},null,null,null,null,null,null,null,"TASA COMISION RECAUDO :",null,null,0,null,"COMISION POR RECAUDO  :",null,{"$f":"((((((R21)*((1+(R21))^R22))/(((1+(R21))^R22)-1))*(R20+Y18))+(((((R20+Y18)*R21)/30)*R27)/R22)+R25+V20)*100)/(100-(R23*100))-(((((R21)*((1+(R21))^R22))/(((1+(R21))^R22)-1))*(R20+Y18))+(((((R20+Y18)*R21)/30)*R27)/R22)+R25+V20)","v":{"$error":"#DIV/0!"}},null,12,{"$f":"IF(($G$20>=0),AA23*100/((($D$17*100)*(X23+$D$18))+100),\"\")","v":{"$error":"#VALUE!"}},{"$f":"IF(($G$20>=0),($G$20+$G$15),\"\")","v":{"$error":"#VALUE!"}},{"$f":"IF(($G$20>=0),(Z23*X23),\"\")","v":{"$error":"#VALUE!"}},null,null,null,16,16,"OD12","Orientador de Defensa","GRADO NUEVO","E1","Especialista Primero","CIVIL - GRADO ANTIGUO",3000000,5000000,"60 MESES","CIVIL O MILITAR CON MAS DE TRES AÑOS DE ANTIGÜEDAD"]
[null,null,null,{"$f":"IF($Y$24<=$AA$27,24,IF($Y$24>$AA$27,\"NO APLICA\"))","v":{"$error":"#VALUE!"}},{"$f":"IF(Y24>$AA$27,\"NO APLICA\",IF(Y24<=$AA$27,FLOOR(Y24,10000)))","v":{"$error":"#VALUE!"}},{"$f":"IF($Y$24>$AA$27,\"NO APLICA\",IF(Y24<=$AA$27,((((E24*($D$17)*((D24+$D$18))+E24)/D24)))))","v":{"$error":"#VALUE!"}},{"$f":"IF($Y$24>$AA$27,\"NO APLICA\",IF(Y24<=$AA$27,(D24*F24)))","v":{"$error":"#VALUE!"}},null,null,null,null,null,null,null,"OTROS GASTOS          :",null,null,{"$f":"B29","v":0},null,"VALOR OTROS GASTOS    :",null,{"$f":"V27-Y20","v":{"$error":"#DIV/0!"}},null,24,{"$f":"IF(($G$20>=0),AA24*100/((($D$17*100)*(X24+$D$18))+100),\"\")","v":{"$error":"#VALUE!"}},{"$f":"IF(($G$20>=0),($G$20+$G$15),\"\")","v":{"$error":"#VALUE!"}},{"$f":"IF(($G$20>=0),(Z24*X24),\"\")","v":{"$error":"#VALUE!"}},null,null,null,17,17,"TA21","Técnico para Apoyo de Seguridad y Defensa","GRADO NUEVO","E1","Especialista Primero","CIVIL - GRADO ANTIGUO",3000000,5000000,"60 MESES","CIVIL O MILITAR CON MAS DE TRES AÑOS DE ANTIGÜEDAD"]
[null,null,null,{"$f":"IF($Y$25<=$AA$27,36,IF($Y$25>$AA$27,\"NO APLICA\"))","v":{"$error":"#VALUE!"}},{"$f":"IF(Y25>$AA$27,\"NO APLICA\",IF(Y25<=$AA$27,FLOOR(Y25,10000)))","v":{"$error":"#VALUE!"}},{"$f":"IF($Y$25>$AA$27,\"NO APLICA\",IF(Y25<=$AA$27,((((E25*($D$17)*((D25+$D$18))+E25)/D25)))))","v":{"$error":"#VALUE!"}},{"$f":"IF($Y$25>$AA$27,\"NO APLICA\",IF(Y25<=$AA$27,(D25*F25)))","v":{"$error":"#VALUE!"}},null,null,null,null,null,null,null,"APORTES SOCIALES      :",null,null,0,null,"FECHA DE INICIO       :",null,{"$f":"(R26+((R22+1)*29))-((R22-1)*29)","v":"2012-02-28"},null,36,{"$f":"IF(($G$20>=0),AA25*100/((($D$17*100)*(X25+$D$18))+100),\"\")","v":{"$error":"#VALUE!"}},{"$f":"IF(($G$20>=0),($G$20+$G$15),\"\")","v":{"$error":"#VALUE!"}},{"$f":"IF(($G$20>=0),(Z25*X25),\"\")","v":{"$error":"#VALUE!"}},null,null,null,18,18,"TS19","Técnico de Servicios","GRADO NUEVO","E2","Especialista Segundo","CIVIL - GRADO ANTIGUO",3000000,5000000,"60 MESES","CIVIL O MILITAR CON MAS DE TRES AÑOS DE ANTIGÜEDAD"]
[null,null,null,{"$f":"IF($Y$26<=$AA$27,48,IF($Y$26>$AA$27,\"NO APLICA\"))","v":{"$error":"#VALUE!"}},{"$f":"IF(Y26>$AA$27,\"NO APLICA\",IF(Y26<=$AA$27,FLOOR(Y26,10000)))","v":{"$error":"#VALUE!"}},{"$f":"IF($Y$26>$AA$27,\"NO APLICA\",IF(Y26<=$AA$27,((((E26*($D$17)*((D26+$D$18))+E26)/D26)))))","v":{"$error":"#VALUE!"}},{"$f":"IF($Y$26>$AA$27,\"NO APLICA\",IF(Y26<=$AA$27,(D26*F26)))","v":{"$error":"#VALUE!"}},null,null,null,null,null,null,null,"FECHA DESEMBOLSO      :",null,null,"2012-01-01",null,"FECHA DE TERMINO      :",null,{"$f":"(R26+((R22+1)*29))-((R22-1)*29)+((R22-1)*30)","v":"2017-01-02"},null,48,{"$f":"IF(($G$20>=0),AA26*100/((($D$17*100)*(X26+$D$18))+100),\"\")","v":{"$error":"#VALUE!"}},{"$f":"IF(($G$20>=0),($G$20+$G$15),\"\")","v":{"$error":"#VALUE!"}},{"$f":"IF(($G$20>=0),(Z26*X26),\"\")","v":{"$error":"#VALUE!"}},null,null,null,19,19,"OD11","Orientador de Defensa","GRADO NUEVO","E2","Especialista Segundo","CIVIL - GRADO ANTIGUO",3000000,5000000,"60 MESES","CIVIL O MILITAR CON MAS DE TRES AÑOS DE ANTIGÜEDAD"]
["LIBRE INVERSION - COBRO DE AVAL ANTICIPADO",0,"N.M.V.",{"$f":"AP5","v":"60"},{"$f":"S15","v":{"$error":"#VALUE!"}},"  VR CUOTA   ",{"$f":"(((($R$30)*((1+($R$30))^$R$31))/(((1+($R$30))^$R$31)-1))*($E$27+$Y$19))+(((((E27+Y19)*R30)/30)*R36)/R31)+R34+V29+V32+V33","v":{"$error":"#DIV/0!"}},null,{"$f":"IF((S4=0),\" \",S3)","v":{"$error":"#VALUE!"}},null,null,null,null,null,"DIAS DE GRACIA        :",null,null,{"$f":"B30","v":0},null,"TOTAL CUOTA MENSUAL   :",null,{"$f":"V22+R25+V23+V20","v":{"$error":"#DIV/0!"}},null,null,null,"MONTO MAXIMO POR CLIENTE",15000000,null,null,null,20,20,"TA19","Técnico para Apoyo de Seguridad y Defensa","GRADO NUEVO","E2","Especialista Segundo","CIVIL - GRADO ANTIGUO",3000000,5000000,"60 MESES","CIVIL O MILITAR CON MAS DE TRES AÑOS DE ANTIGÜEDAD"]
[null,{"$f":"((1+((B27*12)/12))^12)-1","v":0}," E. A.",{"$f":"IF($G$28>=0,\"USUARIO CON CAPACIDAD DE PAGO\",IF($G$28<0,\"INTENTE CON OTRO MONTO Y/O PLAZO\"))","v":{"$error":"#DIV/0!"}},null,null,{"$f":"G11-G27","v":{"$error":"#DIV/0!"}},null,{"$f":"IF(B27=TASAS!H3,\"Tasa para clientes con puntaje > a 750 y sin procesos\",\" \")","v":" "},null,null,null,null,null,null,null,null,null,null,null,null,null,null,null,null,null,null,null,null,null,21,21,"TS18","Técnico de Servicios","GRADO NUEVO","E3","Especialista Tercero","CIVIL - GRADO ANTIGUO",3000000,5000000,"60 MESES","CIVIL O MILITAR CON MAS DE TRES AÑOS DE ANTIGÜEDAD"]
[null,0," O. G.","% AVAL","VALOR AVAL ","A GIRAR",null,null,{"$f":"IF(B27=TASAS!H4,\"Tasa para clientes con puntaje entre 650 - 749 y sin procesos\",\" \")","v":" "},null,null,null,null,null,"VALOR CREDITO         :",null,null,{"$f":"E27","v":{"$error":"#VALUE!"}},null,"VALOR SEGURO          :",null,{"$f":"R29*TASAS!C12","v":{"$error":"#VALUE!"}},null,null,null,null,null,null,null,null,22,22,"OD10","Orientador de Defensa","GRADO NUEVO","E3","Especialista Tercero","CIVIL - GRADO ANTIGUO",3000000,5000000,"60 MESES","CIVIL O MILITAR CON MAS DE TRES AÑOS DE ANTIGÜEDAD"]
[null,0," D. G.",0.09,{"$f":"E27*D30","v":{"$error":"#VALUE!"}},{"$f":"E27-E30","v":{"$error":"#VALUE!"}},null,null,null,null,null,null,null,null,"TASA NOMINAL MENSUAL  :",null,null,{"$f":"R21","v":0},null,"TASA EFECTIVA ANUAL   :",null,{"$f":"((1+((R30*12)/12))^12)-1","v":0},null,null,null,null,null,null,null,null,23,23,"TA18","Técnico para Apoyo de Seguridad y Defensa","GRADO NUEVO","E3","Especialista Tercero","CIVIL - GRADO ANTIGUO",3000000,5000000,"60 MESES","CIVIL O MILITAR CON MAS DE TRES AÑOS DE ANTIGÜEDAD"]
[null,"% Simple",{"$f":"(((G27*D27)-E27)/E27)/D27","v":{"$error":"#DIV/0!"}},null,null,null,null,null,null,null,null,null,null,null,"PLAZO EN MESES        :",null,null,"60",null,"CUOTA NETA            :",null,{"$f":"((((R30)*((1+(R30))^R31))/(((1+(R30))^R31)-1))*(R29+Y19))+(((((R29+Y19)*R30)/30)*R36)/R31)","v":{"$error":"#DIV/0!"}},null,null,null,null,null,null,null,null,24,24,"TI18","Técnico de Inteligencia","GRADO NUEVO","E3","Especialista Tercero","CIVIL - GRADO ANTIGUO",3000000,5000000,"60 MESES","CIVIL O MILITAR CON MAS DE TRES AÑOS DE ANTIGÜEDAD"]
[null,null,null,null,null,null,null,null,null,null,null,null,null,null,"TASA COMISION RECAUDO :",null,null,0,null,"COMISION POR RECAUDO  :",null,{"$f":"((((((R30)*((1+(R30))^R31))/(((1+(R30))^R31)-1))*(R29+Y19))+(((((R29+Y19)*R30)/30)*R36)/R31)+R34+V29)*100)/(100-(R32*100))-(((((R30)*((1+(R30))^R31))/(((1+(R30))^R31)-1))*(R29+Y19))+(((((R29+Y19)*R30)/30)*R36)/R31)+R34+V29)","v":{"$error":"#DIV/0!"}},null,null,null,null,null,null,null,null,25,25,"TS17","Técnico de Servicios","GRADO NUEVO","E4","Especialista Cuarto","CIVIL - GRADO ANTIGUO",3000000,5000000,"60 MESES","CIVIL O MILITAR CON MAS DE TRES AÑOS DE ANTIGÜEDAD"]
["REQUISITOS PARA SOLICITUD DE CREDITO:",null,null,null,null,null,null,null,null,null,null,null,null,null,"OTROS GASTOS          :",null,null,0,null,"VALOR OTROS GASTOS    :",null,null,null,null,null,null,null,null,null,null,26,26,"OD09","Orientador de Defensa","GRADO NUEVO","E4","Especialista Cuarto","CIVIL - GRADO ANTIGUO",3000000,5000000,"60 MESES","CIVIL O MILITAR CON MAS DE TRES AÑOS DE ANTIGÜEDAD"]
["1. DESPRENDIBLES DE PAGO ORIGINALES  DE LOS DOS (2) ULTIMOS ",null,null,null,null,null,null,null,null,null,null,null,null,null,"APORTES SOCIALES      :",null,null,0,null,"FECHA DE INICIO       :",null,{"$f":"(R35+((R31+1)*29))-((R31-1)*29)","v":"2012-02-28"},null,null,null,null,null,null,null,null,27,27,"TA17","Técnico para Apoyo de Seguridad y Defensa","GRADO NUEVO","E4","Especialista Cuarto","CIVIL - GRADO ANTIGUO",3000000,5000000,"60 MESES","CIVIL O MILITAR CON MAS DE TRES AÑOS DE ANTIGÜEDAD"]
["    MESES CON FIRMA Y HUELLA DACTILAR",null,null,null,null,null,null,null,null,null,null,null,null,null,"FECHA DESEMBOLSO      :",null,null,"2012-01-01",null,"FECHA DE TERMINO      :",null,{"$f":"(R35+((R31+1)*29))-((R31-1)*29)+((R31-1)*30)","v":"2017-01-02"},null,null,null,null,null,null,null,null,28,28,"TS14","Técnico de Servicios","GRADO NUEVO","E5","Especialista Quinto","CIVIL - GRADO ANTIGUO",3000000,5000000,"60 MESES","CIVIL O MILITAR CON MAS DE TRES AÑOS DE ANTIGÜEDAD"]
["2. FOTOCOPIA AMPLIADA AL 200%, A COLOR Y LEGIBLE DE LA CEDULA DE CIUDADANIA",null,null,null,null,null,null,null,null,null,null,null,null,null,"DIAS DE GRACIA        :",null,null,0,null,"TOTAL CUOTA MENSUAL   :",null,{"$f":"V31+R34+V32+V29","v":{"$error":"#DIV/0!"}},null,null,null,null,null,null,null,null,29,29,"OD08","Orientador de Defensa","GRADO NUEVO","E5","Especialista Quinto","CIVIL - GRADO ANTIGUO",3000000,5000000,"60 MESES","CIVIL O MILITAR CON MAS DE TRES AÑOS DE ANTIGÜEDAD"]
["3. FOTOCOPIA AMPLIADA AL 200%, A COLOR Y LEGIBLE DE LA CEDULA MILITAR O DE ",null,null,null,null,null,null,null,null,null,null,null,null,null,null,null,null,null,null,null,null,null,null,null,null,null,null,null,null,null,30,30,"TA14","Técnico para Apoyo de Seguridad y Defensa","GRADO NUEVO","E5","Especialista Quinto","CIVIL - GRADO ANTIGUO",3000000,5000000,"60 MESES","CIVIL O MILITAR CON MAS DE TRES AÑOS DE ANTIGÜEDAD"]
["    PERSONAL CIVIL CON EL GRADO ACTUALIZADO (IGUAL AL DEL DESPRENDIBLE)",null,null,null,null,null,null,null,null,null,null,null,null,null,null,null,null,null,null,null,null,null,null,null,null,null,null,null,null,null,31,31,"TI14","Técnico de Inteligencia","GRADO NUEVO","E5","Especialista Quinto","CIVIL - GRADO ANTIGUO",3000000,5000000,"60 MESES","CIVIL O MILITAR CON MAS DE TRES AÑOS DE ANTIGÜEDAD"]
["4. FIRMAR EL FORMATO DE AUTORIZACION DE DESCUENTO",null,null,null,null,null,null,null,null,null,null,null,null,null,null,null,null,null,null,null,null,null,null,null,null,null,null,null,null,null,32,32,"TS12","Técnico de Servicios","GRADO NUEVO","E6","Especialista Sexto","CIVIL - GRADO ANTIGUO",3000000,5000000,"60 MESES","CIVIL O MILITAR CON MAS DE TRES AÑOS DE ANTIGÜEDAD"]
["5. SI APLICA, UN CODEUDOR CON LOS MISMOS REQUISITOS DEL DEUDOR, QUIEN",null,null,null,null,null,null,null,null,null,null,null,null,null,null,null,null,null,null,null,null,null,null,null,null,null,null,null,null,null,33,33,"OD07","Orientador de Defensa","GRADO NUEVO","E6","Especialista Sexto","CIVIL - GRADO ANTIGUO",3000000,5000000,"60 MESES","CIVIL O MILITAR CON MAS DE TRES AÑOS DE ANTIGÜEDAD"]
["    PODRA PRESENTAR FOTOCOPIA DEL ULTIMO DESPRENDIBLE DE PAGO",null,null,null,null,null,null,null,null,null,null,null,null,null,null,null,null,null,null,null,null,null,null,null,null,null,null,null,null,null,34,34,"TA12","Técnico para Apoyo de Seguridad y Defensa","GRADO NUEVO","E6","Especialista Sexto","CIVIL - GRADO ANTIGUO",3000000,5000000,"60 MESES","CIVIL O MILITAR CON MAS DE TRES AÑOS DE ANTIGÜEDAD"]
[null,null,null,null,null,null,null,null,null,null,null,null,null,null,null,null,null,null,null,null,null,null,null,null,null,null,null,null,null,null,35,35,"TI12","Técnico de Inteligencia","GRADO NUEVO","E6","Especialista Sexto","CIVIL - GRADO ANTIGUO",3000000,5000000,"60 MESES","CIVIL O MILITAR CON MAS DE TRES AÑOS DE ANTIGÜEDAD"]
["DESCUENTOS QUE SIEMPRE SE CONSIDERAN INDEFINIDOS",null,null,null,null,null,null,null,null,null,null,null,null,null,null,null,null,null,null,null,null,null,null,null,null,null,null,null,null,null,null,null,null,null,null,null,null,null,3000000,5000000,"60 MESES"]
["AUN CUANDO TENGAN FECHA DE TERMINO EN EL DESPRENDIBLE:",null,null,null,null,null,null,null,null,null,null,null,null,null,null,null,null,null,null,null,null,null,null,null,null,null,null,null,null,null,36,36,"AS12","Auxiliar de Servicios","GRADO NUEVO","DJ","Adjunto Jefe","CIVIL - GRADO ANTIGUO",3000000,5000000,"60 MESES","CIVIL O MILITAR CON MAS DE TRES AÑOS DE ANTIGÜEDAD"]
["1. CASAS FISCALES = VIMILITAR, ICFEJCDES",null,null,null,null,null,null,null,null,null,null,null,null,null,null,null,null,null,null,null,null,null,null,null,null,null,null,null,null,null,37,37,"OD06","Orientador de Defensa","GRADO NUEVO","DJ","Adjunto Jefe","CIVIL - GRADO ANTIGUO",3000000,5000000,"60 MESES","CIVIL O MILITAR CON MAS DE TRES AÑOS DE ANTIGÜEDAD"]
["2. EMBARGOS = JUZCIVMPALBTA",null,null,null,null,null,null,null,null,null,null,null,null,null,null,null,null,null,null,null,null,null,null,null,null,null,null,null,null,null,38,38,"AA12","Técnico para Apoyo de Seguridad y Defensa","GRADO NUEVO","DJ","Adjunto Jefe","CIVIL - GRADO ANTIGUO",3000000,5000000,"60 MESES","CIVIL O MILITAR CON MAS DE TRES AÑOS DE ANTIGÜEDAD"]
[null,null,null,null,null,null,null,null,null,null,null,null,null,null,null,null,null,null,null,null,null,null,null,null,null,null,null,null,null,null,39,39,"TI11","Técnico de Inteligencia","GRADO NUEVO","DJ","Adjunto Jefe","CIVIL - GRADO ANTIGUO",3000000,5000000,"60 MESES","CIVIL O MILITAR CON MAS DE TRES AÑOS DE ANTIGÜEDAD"]
["DEVENGADOS QUE NO SE TIENEN EN CUENTA DENTRO DE LA",null,null,null,null,null,null,null,null,null,null,null,null,null,null,null,null,null,null,null,null,null,null,null,null,null,null,null,null,null,40,40,"AS11","Auxiliar de Servicios","GRADO NUEVO","DI","Adjunto Intendente","CIVIL - GRADO ANTIGUO",3000000,5000000,"60 MESES","CIVIL O MILITAR CON MAS DE TRES AÑOS DE ANTIGÜEDAD"]
["CAPACIDAD DE PAGO:",null,null,null,null,null,null,null,null,null,null,null,null,null,null,null,null,null,null,null,null,null,null,null,null,null,null,null,null,null,41,41,"AD05","Orientador de Defensa","GRADO NUEVO","DI","Adjunto Intendente","CIVIL - GRADO ANTIGUO",3000000,5000000,"60 MESES","CIVIL O MILITAR CON MAS DE TRES AÑOS DE ANTIGÜEDAD"]
["1. PRIMA DE ORDEN PUBLICO",null,null,null,null,null,null,null,null,null,null,null,null,null,null,null,null,null,null,null,null,null,null,null,null,null,null,null,null,null,42,42,"AA11","Técnico para Apoyo de Seguridad y Defensa","GRADO NUEVO","DI","Adjunto Intendente","CIVIL - GRADO ANTIGUO",3000000,5000000,"60 MESES","CIVIL O MILITAR CON MAS DE TRES AÑOS DE ANTIGÜEDAD"]
["2. PARTIDA DE ALIMENTACION",null,null,null,null,null,null,null,null,null,null,null,null,null,null,null,null,null,null,null,null,null,null,null,null,null,null,null,null,null,43,43,"TI09","Técnico de Inteligencia","GRADO NUEVO","DI","Adjunto Intendente","CIVIL - GRADO ANTIGUO",3000000,5000000,"60 MESES","CIVIL O MILITAR CON MAS DE TRES AÑOS DE ANTIGÜEDAD"]
[null,null,null,null,null,null,null,null,null,null,null,null,null,null,null,null,null,null,null,null,null,null,null,null,null,null,null,null,null,null,44,44,"AS10","Auxiliar de Servicios","GRADO NUEVO","DM","Adjunto Mayor","CIVIL - GRADO ANTIGUO",3000000,5000000,"60 MESES","CIVIL O MILITAR CON MAS DE TRES AÑOS DE ANTIGÜEDAD"]
["IMPORTANTE:",null,null,null,null,null,null,null,null,null,null,null,null,null,null,null,null,null,null,null,null,null,null,null,null,null,null,null,null,null,45,45,"OD04","Orientador de Defensa","GRADO NUEVO","DM","Adjunto Mayor","CIVIL - GRADO ANTIGUO",3000000,5000000,"60 MESES","CIVIL O MILITAR CON MAS DE TRES AÑOS DE ANTIGÜEDAD"]
["CUANDO EL SOLICITANTE RECIBE PRIMA DE VACACIONES SE DEBE ",null,null,null,null,null,null,null,null,null,null,null,null,null,null,null,null,null,null,null,null,null,null,null,null,null,null,null,null,null,46,46,"AA10","Auxiliar para Apoyo de Seguridad y Defensa","GRADO NUEVO","DM","Adjunto Mayor","CIVIL - GRADO ANTIGUO",3000000,5000000,"60 MESES","CIVIL O MILITAR CON MAS DE TRES AÑOS DE ANTIGÜEDAD"]
["SUMAR EL DESCUENTO DEL FONDO DE VACACIONES",null,null,null,null,null,null,null,null,null,null,null,null,null,null,null,null,null,null,null,null,null,null,null,null,null,null,null,null,null,47,47,"TI08","Técnico de Inteligencia","GRADO NUEVO","DM","Adjunto Mayor","CIVIL - GRADO ANTIGUO",3000000,5000000,"60 MESES","CIVIL O MILITAR CON MAS DE TRES AÑOS DE ANTIGÜEDAD"]
[null,null,null,null,null,null,null,null,null,null,null,null,null,null,null,null,null,null,null,null,null,null,null,null,null,null,null,null,null,null,48,48,"AS09","Auxiliar de Servicios","GRADO NUEVO","DE","Adjunto Especial","CIVIL - GRADO ANTIGUO",3000000,5000000,"60 MESES","CIVIL O MILITAR CON MAS DE TRES AÑOS DE ANTIGÜEDAD"]
[null,null,null,null,null,null,null,null,null,null,null,null,null,null,null,null,null,null,null,null,null,null,null,null,null,null,null,null,null,null,49,49,"OD3","Orientador de Defensa","GRADO NUEVO","DE","Adjunto Especial","CIVIL - GRADO ANTIGUO",3000000,5000000,"60 MESES","CIVIL O MILITAR CON MAS DE TRES AÑOS DE ANTIGÜEDAD"]
[null,null,null,null,null,null,null,null,null,null,null,null,null,null,null,null,null,null,null,null,null,null,null,null,null,null,null,null,null,null,50,50,"AA09","Auxiliar para Apoyo de Seguridad y Defensa","GRADO NUEVO","DE","Adjunto Especial","CIVIL - GRADO ANTIGUO",3000000,5000000,"60 MESES","CIVIL O MILITAR CON MAS DE TRES AÑOS DE ANTIGÜEDAD"]
[null,null,null,null,null,null,null,null,null,null,null,null,null,null,null,null,null,null,null,null,null,null,null,null,null,null,null,null,null,null,51,51,"TI07","Técnico de Inteligencia","GRADO NUEVO","DE","Adjunto Especial","CIVIL - GRADO ANTIGUO",3000000,5000000,"60 MESES","CIVIL O MILITAR CON MAS DE TRES AÑOS DE ANTIGÜEDAD"]
[null,null,null,null,null,null,null,null,null,null,null,null,null,null,null,null,null,null,null,null,null,null,null,null,null,null,null,null,null,null,52,52,"AS07","Auxiliar de Servicios","GRADO NUEVO","D1","Adjunto Primero","CIVIL - GRADO ANTIGUO",3000000,5000000,"60 MESES","CIVIL O MILITAR CON MAS DE TRES AÑOS DE ANTIGÜEDAD"]
[null,null,null,null,null,null,null,null,null,null,null,null,null,null,null,null,null,null,null,null,null,null,null,null,null,null,null,null,null,null,53,53,"AD02","Orientador de Defensa","GRADO NUEVO","D1","Adjunto Primero","CIVIL - GRADO ANTIGUO",3000000,5000000,"60 MESES","CIVIL O MILITAR CON MAS DE TRES AÑOS DE ANTIGÜEDAD"]
[null,null,null,null,null,null,null,null,null,null,null,null,null,null,null,null,null,null,null,null,null,null,null,null,null,null,null,null,null,null,54,54,"AA07","Auxiliar para Apoyo de Seguridad y Defensa","GRADO NUEVO","D1","Adjunto Primero","CIVIL - GRADO ANTIGUO",3000000,5000000,"60 MESES","CIVIL O MILITAR CON MAS DE TRES AÑOS DE ANTIGÜEDAD"]
[null,null,null,null,null,null,null,null,null,null,null,null,null,null,null,null,null,null,null,null,null,null,null,null,null,null,null,null,null,null,55,55,"TI06","Técnico de Inteligencia","GRADO NUEVO","D1","Adjunto Primero","CIVIL - GRADO ANTIGUO",3000000,5000000,"60 MESES","CIVIL O MILITAR CON MAS DE TRES AÑOS DE ANTIGÜEDAD"]
[null,null,null,null,null,null,null,null,null,null,null,null,null,null,null,null,null,null,null,null,null,null,null,null,null,null,null,null,null,null,56,56,"AS06","Auxiliar de Servicios","GRADO NUEVO","D2","Adjunto Segundo","CIVIL - GRADO ANTIGUO",3000000,5000000,"60 MESES","CIVIL O MILITAR CON MAS DE TRES AÑOS DE ANTIGÜEDAD"]
[null,null,null,null,null,null,null,null,null,null,null,null,null,null,null,null,null,null,null,null,null,null,null,null,null,null,null,null,null,null,57,57,"OD01","Orientador de Defensa","GRADO NUEVO","D2","Adjunto Segundo","CIVIL - GRADO ANTIGUO",3000000,5000000,"60 MESES","CIVIL O MILITAR CON MAS DE TRES AÑOS DE ANTIGÜEDAD"]
[null,null,null,null,null,null,null,null,null,null,null,null,null,null,null,null,null,null,null,null,null,null,null,null,null,null,null,null,null,null,58,58,"AA06","Auxiliar para Apoyo de Seguridad y Defensa","GRADO NUEVO","D2","Adjunto Segundo","CIVIL - GRADO ANTIGUO",3000000,5000000,"60 MESES","CIVIL O MILITAR CON MAS DE TRES AÑOS DE ANTIGÜEDAD"]
[null,null,null,null,null,null,null,null,null,null,null,null,null,null,null,null,null,null,null,null,null,null,null,null,null,null,null,null,null,null,59,59,"TI05","Técnico de Inteligencia","GRADO NUEVO","D2","Adjunto Segundo","CIVIL - GRADO ANTIGUO",3000000,5000000,"60 MESES","CIVIL O MILITAR CON MAS DE TRES AÑOS DE ANTIGÜEDAD"]
[null,null,null,null,null,null,null,null,null,null,null,null,null,null,null,null,null,null,null,null,null,null,null,null,null,null,null,null,null,null,60,60,"AS05","Auxiliar de Servicios","GRADO NUEVO","D3","Adjunto Tercero","CIVIL - GRADO ANTIGUO",3000000,5000000,"60 MESES","CIVIL O MILITAR CON MAS DE TRES AÑOS DE ANTIGÜEDAD"]
[null,null,null,null,null,null,null,null,null,null,null,null,null,null,null,null,null,null,null,null,null,null,null,null,null,null,null,null,null,null,61,61,"AA05","Auxiliar para Apoyo de Seguridad y Defensa","GRADO NUEVO","D3","Adjunto Tercero","CIVIL - GRADO ANTIGUO",3000000,5000000,"60 MESES","CIVIL O MILITAR CON MAS DE TRES AÑOS DE ANTIGÜEDAD"]
[null,null,null,null,null,null,null,null,null,null,null,null,null,null,null,null,null,null,null,null,null,null,null,null,null,null,null,null,null,null,62,62,"TI04","Técnico de Inteligencia","GRADO NUEVO","D3","Adjunto Tercero","CIVIL - GRADO ANTIGUO",3000000,5000000,"60 MESES","CIVIL O MILITAR CON MAS DE TRES AÑOS DE ANTIGÜEDAD"]
[null,null,null,null,null,null,null,null,null,null,null,null,null,null,null,null,null,null,null,null,null,null,null,null,null,null,null,null,null,null,63,63,"AS03","Auxiliar de Servicios","GRADO NUEVO","D4","Adjunto Cuarto","CIVIL - GRADO ANTIGUO",3000000,5000000,"60 MESES","CIVIL O MILITAR CON MAS DE TRES AÑOS DE ANTIGÜEDAD"]
[null,null,null,null,null,null,null,null,null,null,null,null,null,null,null,null,null,null,null,null,null,null,null,null,null,null,null,null,null,null,64,64,"AA03","Auxiliar para Apoyo de Seguridad y Defensa","GRADO NUEVO","D4","Adjunto Cuarto","CIVIL - GRADO ANTIGUO",3000000,5000000,"60 MESES","CIVIL O MILITAR CON MAS DE TRES AÑOS DE ANTIGÜEDAD"]
[null,null,null,null,null,null,null,null,null,null,null,null,null,null,null,null,null,null,null,null,null,null,null,null,null,null,null,null,null,null,65,65,"AS01","Auxiliar de Servicios","GRADO NUEVO","D5","Adjunto Quinto","CIVIL - GRADO ANTIGUO",{"$f":"$AM$5","v":3000000},{"$f":"$AN$5","v":5000000},{"$f":"$AO$5","v":"60 MESES"},"CIVIL O MILITAR CON MAS DE TRES AÑOS DE ANTIGÜEDAD"]
[null,null,null,null,null,null,null,null,null,null,null,null,null,null,null,null,null,null,null,null,null,null,null,null,null,null,null,null,null,null,66,66,"AA01","Auxiliar para Apoyo de Seguridad y Defensa","GRADO NUEVO","D5","Adjunto Quinto","CIVIL - GRADO ANTIGUO",3000000,5000000,"60 MESES","CIVIL O MILITAR CON MAS DE TRES AÑOS DE ANTIGÜEDAD"]
[null,null,null,null,null,null,null,null,null,null,null,null,null,null,null,null,null,null,null,null,null,null,null,null,null,null,null,null,null,null,67,67,"PU10","Profesional Universitario 10","GRADO ANTIGUO","AD06","Asesor del Sector Defensa","CIVIL - GRADO NUEVO",3000000,5000000,"60 MESES","CIVIL O MILITAR CON MAS DE TRES AÑOS DE ANTIGÜEDAD"]
[null,null,null,null,null,null,null,null,null,null,null,null,null,null,null,null,null,null,null,null,null,null,null,null,null,null,null,null,null,null,68,68,"PU08","Profesional Universitario 08","GRADO ANTIGUO","AD04","Asesor del Sector Defensa","CIVIL - GRADO NUEVO",3000000,5000000,"60 MESES","CIVIL O MILITAR CON MAS DE TRES AÑOS DE ANTIGÜEDAD"]
[null,null,null,null,null,null,null,null,null,null,null,null,null,null,null,null,null,null,null,null,null,null,null,null,null,null,null,null,null,null,69,69,"PU06","Profesional Universitario 06","GRADO ANTIGUO","AD02","Asesor del Sector Defensa","CIVIL - GRADO NUEVO",3000000,5000000,"60 MESES","CIVIL O MILITAR CON MAS DE TRES AÑOS DE ANTIGÜEDAD"]
[null,null,null,null,null,null,null,null,null,null,null,null,null,null,null,null,null,null,null,null,null,null,null,null,null,null,null,null,null,null,70,70,"PU06","Profesional Universitario 06","GRADO ANTIGUO","OE18","Orientador Espiritual","CIVIL - GRADO NUEVO",3000000,5000000,"60 MESES","CIVIL O MILITAR CON MAS DE TRES AÑOS DE ANTIGÜEDAD"]
[null,null,null,null,null,null,null,null,null,null,null,null,null,null,null,null,null,null,null,null,null,null,null,null,null,null,null,null,null,null,71,71,"PU","Profesional Universitario ","GRADO ANTIGUO","OD18","Orientador de Defensa","CIVIL - GRADO NUEVO",3000000,5000000,"60 MESES","CIVIL O MILITAR CON MAS DE TRES AÑOS DE ANTIGÜEDAD"]
[null,null,null,null,null,null,null,null,null,null,null,null,null,null,null,null,null,null,null,null,null,null,null,null,null,null,null,null,null,null,72,72,"EP","Especialista Asesor Primero","GRADO ANTIGUO","PD04","Profesional de Defensa","CIVIL - GRADO NUEVO",3000000,5000000,"60 MESES","CIVIL O MILITAR CON MAS DE TRES AÑOS DE ANTIGÜEDAD"]
[null,null,null,null,null,null,null,null,null,null,null,null,null,null,null,null,null,null,null,null,null,null,null,null,null,null,null,null,null,null,73,73,"EP","Especialista Asesor Primero","GRADO ANTIGUO","OD16","Orientador de Defensa","CIVIL - GRADO NUEVO",3000000,5000000,"60 MESES","CIVIL O MILITAR CON MAS DE TRES AÑOS DE ANTIGÜEDAD"]
[null,null,null,null,null,null,null,null,null,null,null,null,null,null,null,null,null,null,null,null,null,null,null,null,null,null,null,null,null,null,74,74,"EP","Especialista Asesor Primero","GRADO ANTIGUO","OE16","Orientador Espiritual","CIVIL - GRADO NUEVO",3000000,5000000,"60 MESES","CIVIL O MILITAR CON MAS DE TRES AÑOS DE ANTIGÜEDAD"]
[null,null,null,null,null,null,null,null,null,null,null,null,null,null,null,null,null,null,null,null,null,null,null,null,null,null,null,null,null,null,75,75,"ES","Especialista Asesor Segundo","GRADO ANTIGUO","PD02","Profesional de Defensa","CIVIL - GRADO NUEVO",3000000,5000000,"60 MESES","CIVIL O MILITAR CON MAS DE TRES AÑOS DE ANTIGÜEDAD"]
[null,null,null,null,null,null,null,null,null,null,null,null,null,null,null,null,null,null,null,null,null,null,null,null,null,null,null,null,null,null,76,76,"ES","Especialista Asesor Segundo","GRADO ANTIGUO","OD14","Orientador de Defensa","CIVIL - GRADO NUEVO",3000000,5000000,"60 MESES","CIVIL O MILITAR CON MAS DE TRES AÑOS DE ANTIGÜEDAD"]
[null,null,null,null,null,null,null,null,null,null,null,null,null,null,null,null,null,null,null,null,null,null,null,null,null,null,null,null,null,null,77,77,"ES","Especialista Asesor Segundo","GRADO ANTIGUO","OE14","Orientador Espiritual","CIVIL - GRADO NUEVO",3000000,5000000,"60 MESES","CIVIL O MILITAR CON MAS DE TRES AÑOS DE ANTIGÜEDAD"]
[null,null,null,null,null,null,null,null,null,null,null,null,null,null,null,null,null,null,null,null,null,null,null,null,null,null,null,null,null,null,78,78,"EJ","Especialista Jefe","GRADO ANTIGUO","PD01","Profesional de Defensa","CIVIL - GRADO NUEVO",3000000,5000000,"60 MESES","CIVIL O MILITAR CON MAS DE TRES AÑOS DE ANTIGÜEDAD"]
[null,null,null,null,null,null,null,null,null,null,null,null,null,null,null,null,null,null,null,null,null,null,null,null,null,null,null,null,null,null,79,79,"EJ","Especialista Jefe","GRADO ANTIGUO","OD13","Orientador de Defensa","CIVIL - GRADO NUEVO",3000000,5000000,"60 MESES","CIVIL O MILITAR CON MAS DE TRES AÑOS DE ANTIGÜEDAD"]
[null,null,null,null,null,null,null,null,null,null,null,null,null,null,null,null,null,null,null,null,null,null,null,null,null,null,null,null,null,null,80,80,"EJ","Especialista Jefe","GRADO ANTIGUO","OE13","Orientador Espiritual","CIVIL - GRADO NUEVO",3000000,5000000,"60 MESES","CIVIL O MILITAR CON MAS DE TRES AÑOS DE ANTIGÜEDAD"]
[null,null,null,null,null,null,null,null,null,null,null,null,null,null,null,null,null,null,null,null,null,null,null,null,null,null,null,null,null,null,81,81,"E1","Especialista Primero","GRADO ANTIGUO","TS21","Tecnico de Servicios","CIVIL - GRADO NUEVO",3000000,5000000,"60 MESES","CIVIL O MILITAR CON MAS DE TRES AÑOS DE ANTIGÜEDAD"]
[null,null,null,null,null,null,null,null,null,null,null,null,null,null,null,null,null,null,null,null,null,null,null,null,null,null,null,null,null,null,82,82,"E1","Especialista Primero","GRADO ANTIGUO","OD12","Orientador de Defensa","CIVIL - GRADO NUEVO",3000000,5000000,"60 MESES","CIVIL O MILITAR CON MAS DE TRES AÑOS DE ANTIGÜEDAD"]
[null,null,null,null,null,null,null,null,null,null,null,null,null,null,null,null,null,null,null,null,null,null,null,null,null,null,null,null,null,null,83,83,"E1","Especialista Primero","GRADO ANTIGUO","TA21","Tecnico para Apoyo de Seguridad y Defensa","CIVIL - GRADO NUEVO",3000000,5000000,"60 MESES","CIVIL O MILITAR CON MAS DE TRES AÑOS DE ANTIGÜEDAD"]
[null,null,null,null,null,null,null,null,null,null,null,null,null,null,null,null,null,null,null,null,null,null,null,null,null,null,null,null,null,null,84,84,"E2","Especialista Segundo","GRADO ANTIGUO","TS19","Tecnico de Servicios","CIVIL - GRADO NUEVO",3000000,5000000,"60 MESES","CIVIL O MILITAR CON MAS DE TRES AÑOS DE ANTIGÜEDAD"]
[null,null,null,null,null,null,null,null,null,null,null,null,null,null,null,null,null,null,null,null,null,null,null,null,null,null,null,null,null,null,85,85,"E2","Especialista Segundo","GRADO ANTIGUO","OD11","Orientador de Defensa","CIVIL - GRADO NUEVO",3000000,5000000,"60 MESES","CIVIL O MILITAR CON MAS DE TRES AÑOS DE ANTIGÜEDAD"]
[null,null,null,null,null,null,null,null,null,null,null,null,null,null,null,null,null,null,null,null,null,null,null,null,null,null,null,null,null,null,86,86,"E2","Especialista Segundo","GRADO ANTIGUO","TA19","Tecnico para Apoyo de Seguridad y Defensa","CIVIL - GRADO NUEVO",3000000,5000000,"60 MESES","CIVIL O MILITAR CON MAS DE TRES AÑOS DE ANTIGÜEDAD"]
[null,null,null,null,null,null,null,null,null,null,null,null,null,null,null,null,null,null,null,null,null,null,null,null,null,null,null,null,null,null,87,87,"E3","Especialista Tercero","GRADO ANTIGUO","TS18","Tecnico de Servicios","CIVIL - GRADO NUEVO",3000000,5000000,"60 MESES","CIVIL O MILITAR CON MAS DE TRES AÑOS DE ANTIGÜEDAD"]
[null,null,null,null,null,null,null,null,null,null,null,null,null,null,null,null,null,null,null,null,null,null,null,null,null,null,null,null,null,null,88,88,"E3","Especialista Tercero","GRADO ANTIGUO","OD10","Orientador de Defensa","CIVIL - GRADO NUEVO",3000000,5000000,"60 MESES","CIVIL O MILITAR CON MAS DE TRES AÑOS DE ANTIGÜEDAD"]
[null,null,null,null,null,null,null,null,null,null,null,null,null,null,null,null,null,null,null,null,null,null,null,null,null,null,null,null,null,null,89,89,"E3","Especialista Tercero","GRADO ANTIGUO","TA18","Tecnico para Apoyo de Seguridad y Defensa","CIVIL - GRADO NUEVO",3000000,5000000,"60 MESES","CIVIL O MILITAR CON MAS DE TRES AÑOS DE ANTIGÜEDAD"]
[null,null,null,null,null,null,null,null,null,null,null,null,null,null,null,null,null,null,null,null,null,null,null,null,null,null,null,null,null,null,90,90,"E3","Especialista Tercero","GRADO ANTIGUO","TI18","Tecnico de Inteligencia","CIVIL - GRADO NUEVO",3000000,5000000,"60 MESES","CIVIL O MILITAR CON MAS DE TRES AÑOS DE ANTIGÜEDAD"]
[null,null,null,null,null,null,null,null,null,null,null,null,null,null,null,null,null,null,null,null,null,null,null,null,null,null,null,null,null,null,91,91,"E4","Especialista Cuarto","GRADO ANTIGUO","TS17","Tecnico de Servicios","CIVIL - GRADO NUEVO",3000000,5000000,"60 MESES","CIVIL O MILITAR CON MAS DE TRES AÑOS DE ANTIGÜEDAD"]
[null,null,null,null,null,null,null,null,null,null,null,null,null,null,null,null,null,null,null,null,null,null,null,null,null,null,null,null,null,null,92,92,"E4","Especialista Cuarto","GRADO ANTIGUO","OD09","Orientador de Defensa","CIVIL - GRADO NUEVO",3000000,5000000,"60 MESES","CIVIL O MILITAR CON MAS DE TRES AÑOS DE ANTIGÜEDAD"]
[null,null,null,null,null,null,null,null,null,null,null,null,null,null,null,null,null,null,null,null,null,null,null,null,null,null,null,null,null,null,93,93,"E4","Especialista Cuarto","GRADO ANTIGUO","TA17","Tecnico para Apoyo de Seguridad y Defensa","CIVIL - GRADO NUEVO",3000000,5000000,"60 MESES","CIVIL O MILITAR CON MAS DE TRES AÑOS DE ANTIGÜEDAD"]
[null,null,null,null,null,null,null,null,null,null,null,null,null,null,null,null,null,null,null,null,null,null,null,null,null,null,null,null,null,null,94,94,"E5","Especialista Quinto","GRADO ANTIGUO","TS14","Tecnico de Servicios","CIVIL - GRADO NUEVO",3000000,5000000,"60 MESES","CIVIL O MILITAR CON MAS DE TRES AÑOS DE ANTIGÜEDAD"]
[null,null,null,null,null,null,null,null,null,null,null,null,null,null,null,null,null,null,null,null,null,null,null,null,null,null,null,null,null,null,95,95,"E5","Especialista Quinto","GRADO ANTIGUO","OD08","Orientador de Defensa","CIVIL - GRADO NUEVO",3000000,5000000,"60 MESES","CIVIL O MILITAR CON MAS DE TRES AÑOS DE ANTIGÜEDAD"]
[null,null,null,null,null,null,null,null,null,null,null,null,null,null,null,null,null,null,null,null,null,null,null,null,null,null,null,null,null,null,96,96,"E5","Especialista Quinto","GRADO ANTIGUO","TA14","Tecnico para Apoyo de Seguridad y Defensa","CIVIL - GRADO NUEVO",3000000,5000000,"60 MESES","CIVIL O MILITAR CON MAS DE TRES AÑOS DE ANTIGÜEDAD"]
[null,null,null,null,null,null,null,null,null,null,null,null,null,null,null,null,null,null,null,null,null,null,null,null,null,null,null,null,null,null,97,97,"E5","Especialista Quinto","GRADO ANTIGUO","TI14","Tecnico de Inteligencia","CIVIL - GRADO NUEVO",3000000,5000000,"60 MESES","CIVIL O MILITAR CON MAS DE TRES AÑOS DE ANTIGÜEDAD"]
[null,null,null,null,null,null,null,null,null,null,null,null,null,null,null,null,null,null,null,null,null,null,null,null,null,null,null,null,null,null,98,98,"E6","Especialista Sexto","GRADO ANTIGUO","TS12","Tecnico de Servicios","CIVIL - GRADO NUEVO",3000000,5000000,"60 MESES","CIVIL O MILITAR CON MAS DE TRES AÑOS DE ANTIGÜEDAD"]
[null,null,null,null,null,null,null,null,null,null,null,null,null,null,null,null,null,null,null,null,null,null,null,null,null,null,null,null,null,null,99,99,"E6","Especialista Sexto","GRADO ANTIGUO","OD07","Orientador de Defensa","CIVIL - GRADO NUEVO",3000000,5000000,"60 MESES","CIVIL O MILITAR CON MAS DE TRES AÑOS DE ANTIGÜEDAD"]
[null,null,null,null,null,null,null,null,null,null,null,null,null,null,null,null,null,null,null,null,null,null,null,null,null,null,null,null,null,null,100,100,"E6","Especialista Sexto","GRADO ANTIGUO","TA12","Tecnico para Apoyo de Seguridad y Defensa","CIVIL - GRADO NUEVO",3000000,5000000,"60 MESES","CIVIL O MILITAR CON MAS DE TRES AÑOS DE ANTIGÜEDAD"]
[null,null,null,null,null,null,null,null,null,null,null,null,null,null,null,null,null,null,null,null,null,null,null,null,null,null,null,null,null,null,101,101,"E6","Especialista Sexto","GRADO ANTIGUO","TI12","Tecnico de Inteligencia","CIVIL - GRADO NUEVO",3000000,5000000,"60 MESES","CIVIL O MILITAR CON MAS DE TRES AÑOS DE ANTIGÜEDAD"]
[null,null,null,null,null,null,null,null,null,null,null,null,null,null,null,null,null,null,null,null,null,null,null,null,null,null,null,null,null,null,102,102,"DJ","Adjunto Jefe","GRADO ANTIGUO","AS12","Auxiliar de Servicios","CIVIL - GRADO NUEVO",3000000,5000000,"60 MESES","CIVIL O MILITAR CON MAS DE TRES AÑOS DE ANTIGÜEDAD"]
[null,null,null,null,null,null,null,null,null,null,null,null,null,null,null,null,null,null,null,null,null,null,null,null,null,null,null,null,null,null,103,103,"DJ","Adjunto Jefe","GRADO ANTIGUO","OD06","Orientador de Defensa","CIVIL - GRADO NUEVO",3000000,5000000,"60 MESES","CIVIL O MILITAR CON MAS DE TRES AÑOS DE ANTIGÜEDAD"]
[null,null,null,null,null,null,null,null,null,null,null,null,null,null,null,null,null,null,null,null,null,null,null,null,null,null,null,null,null,null,104,104,"DJ","Adjunto Jefe","GRADO ANTIGUO","AA12","Tecnico para Apoyo de Seguridad y Defensa","CIVIL - GRADO NUEVO",3000000,5000000,"60 MESES","CIVIL O MILITAR CON MAS DE TRES AÑOS DE ANTIGÜEDAD"]
[null,null,null,null,null,null,null,null,null,null,null,null,null,null,null,null,null,null,null,null,null,null,null,null,null,null,null,null,null,null,105,105,"DJ","Adjunto Jefe","GRADO ANTIGUO","TI11","Tecnico de Inteligencia","CIVIL - GRADO NUEVO",3000000,5000000,"60 MESES","CIVIL O MILITAR CON MAS DE TRES AÑOS DE ANTIGÜEDAD"]
[null,null,null,null,null,null,null,null,null,null,null,null,null,null,null,null,null,null,null,null,null,null,null,null,null,null,null,null,null,null,106,106,"DI","Adjunto Intendente","GRADO ANTIGUO","AS11","Auxiliar de Servicios","CIVIL - GRADO NUEVO",3000000,5000000,"60 MESES","CIVIL O MILITAR CON MAS DE TRES AÑOS DE ANTIGÜEDAD"]
[null,null,null,null,null,null,null,null,null,null,null,null,null,null,null,null,null,null,null,null,null,null,null,null,null,null,null,null,null,null,107,107,"DI","Adjunto Intendente","GRADO ANTIGUO","AD05","Orientador de Defensa","CIVIL - GRADO NUEVO",3000000,5000000,"60 MESES","CIVIL O MILITAR CON MAS DE TRES AÑOS DE ANTIGÜEDAD"]
[null,null,null,null,null,null,null,null,null,null,null,null,null,null,null,null,null,null,null,null,null,null,null,null,null,null,null,null,null,null,108,108,"DI","Adjunto Intendente","GRADO ANTIGUO","AA11","Tecnico para Apoyo de Seguridad y Defensa","CIVIL - GRADO NUEVO",3000000,5000000,"60 MESES","CIVIL O MILITAR CON MAS DE TRES AÑOS DE ANTIGÜEDAD"]
[null,null,null,null,null,null,null,null,null,null,null,null,null,null,null,null,null,null,null,null,null,null,null,null,null,null,null,null,null,null,109,109,"DI","Adjunto Intendente","GRADO ANTIGUO","TI09","Tecnico de Inteligencia","CIVIL - GRADO NUEVO",3000000,5000000,"60 MESES","CIVIL O MILITAR CON MAS DE TRES AÑOS DE ANTIGÜEDAD"]
[null,null,null,null,null,null,null,null,null,null,null,null,null,null,null,null,null,null,null,null,null,null,null,null,null,null,null,null,null,null,110,110,"DM","Adjunto Mayor","GRADO ANTIGUO","AS10","Auxiliar de Servicios","CIVIL - GRADO NUEVO",3000000,5000000,"60 MESES","CIVIL O MILITAR CON MAS DE TRES AÑOS DE ANTIGÜEDAD"]
[null,null,null,null,null,null,null,null,null,null,null,null,null,null,null,null,null,null,null,null,null,null,null,null,null,null,null,null,null,null,111,111,"DM","Adjunto Mayor","GRADO ANTIGUO","OD04","Orientador de Defensa","CIVIL - GRADO NUEVO",3000000,5000000,"60 MESES","CIVIL O MILITAR CON MAS DE TRES AÑOS DE ANTIGÜEDAD"]
[null,null,null,null,null,null,null,null,null,null,null,null,null,null,null,null,null,null,null,null,null,null,null,null,null,null,null,null,null,null,112,112,"DM","Adjunto Mayor","GRADO ANTIGUO","AA10","Auxiliar para Apoyo de Seguridad y Defensa","CIVIL - GRADO NUEVO",3000000,5000000,"60 MESES","CIVIL O MILITAR CON MAS DE TRES AÑOS DE ANTIGÜEDAD"]
[null,null,null,null,null,null,null,null,null,null,null,null,null,null,null,null,null,null,null,null,null,null,null,null,null,null,null,null,null,null,113,113,"DM","Adjunto Mayor","GRADO ANTIGUO","TI08","Tecnico de Inteligencia","CIVIL - GRADO NUEVO",3000000,5000000,"60 MESES","CIVIL O MILITAR CON MAS DE TRES AÑOS DE ANTIGÜEDAD"]
[null,null,null,null,null,null,null,null,null,null,null,null,null,null,null,null,null,null,null,null,null,null,null,null,null,null,null,null,null,null,114,114,"DE","Adjunto Especial","GRADO ANTIGUO","AS09","Auxiliar de Servicios","CIVIL - GRADO NUEVO",3000000,5000000,"60 MESES","CIVIL O MILITAR CON MAS DE TRES AÑOS DE ANTIGÜEDAD"]
[null,null,null,null,null,null,null,null,null,null,null,null,null,null,null,null,null,null,null,null,null,null,null,null,null,null,null,null,null,null,115,115,"DE","Adjunto Especial","GRADO ANTIGUO","OD3","Orientador de Defensa","CIVIL - GRADO NUEVO",3000000,5000000,"60 MESES","CIVIL O MILITAR CON MAS DE TRES AÑOS DE ANTIGÜEDAD"]
[null,null,null,null,null,null,null,null,null,null,null,null,null,null,null,null,null,null,null,null,null,null,null,null,null,null,null,null,null,null,116,116,"DE","Adjunto Especial","GRADO ANTIGUO","AA09","Auxiliar para Apoyo de Seguridad y Defensa","CIVIL - GRADO NUEVO",3000000,5000000,"60 MESES","CIVIL O MILITAR CON MAS DE TRES AÑOS DE ANTIGÜEDAD"]
[null,null,null,null,null,null,null,null,null,null,null,null,null,null,null,null,null,null,null,null,null,null,null,null,null,null,null,null,null,null,117,117,"DE","Adjunto Especial","GRADO ANTIGUO","TI07","Tecnico de Inteligencia","CIVIL - GRADO NUEVO",3000000,5000000,"60 MESES","CIVIL O MILITAR CON MAS DE TRES AÑOS DE ANTIGÜEDAD"]
[null,null,null,null,null,null,null,null,null,null,null,null,null,null,null,null,null,null,null,null,null,null,null,null,null,null,null,null,null,null,118,118,"D1","Adjunto Primero","GRADO ANTIGUO","AS07","Auxiliar de Servicios","CIVIL - GRADO NUEVO",3000000,5000000,"60 MESES","CIVIL O MILITAR CON MAS DE TRES AÑOS DE ANTIGÜEDAD"]
[null,null,null,null,null,null,null,null,null,null,null,null,null,null,null,null,null,null,null,null,null,null,null,null,null,null,null,null,null,null,119,119,"D1","Adjunto Primero","GRADO ANTIGUO","AD02","Orientador de Defensa","CIVIL - GRADO NUEVO",3000000,5000000,"60 MESES","CIVIL O MILITAR CON MAS DE TRES AÑOS DE ANTIGÜEDAD"]
[null,null,null,null,null,null,null,null,null,null,null,null,null,null,null,null,null,null,null,null,null,null,null,null,null,null,null,null,null,null,120,120,"D1","Adjunto Primero","GRADO ANTIGUO","AA07","Auxiliar para Apoyo de Seguridad y Defensa","CIVIL - GRADO NUEVO",3000000,5000000,"60 MESES","CIVIL O MILITAR CON MAS DE TRES AÑOS DE ANTIGÜEDAD"]
[null,null,null,null,null,null,null,null,null,null,null,null,null,null,null,null,null,null,null,null,null,null,null,null,null,null,null,null,null,null,121,121,"D1","Adjunto Primero","GRADO ANTIGUO","TI06","Tecnico de Inteligencia","CIVIL - GRADO NUEVO",3000000,5000000,"60 MESES","CIVIL O MILITAR CON MAS DE TRES AÑOS DE ANTIGÜEDAD"]
[null,null,null,null,null,null,null,null,null,null,null,null,null,null,null,null,null,null,null,null,null,null,null,null,null,null,null,null,null,null,122,122,"D2","Adjunto Segundo","GRADO ANTIGUO","AS06","Auxiliar de Servicios","CIVIL - GRADO NUEVO",3000000,5000000,"60 MESES","CIVIL O MILITAR CON MAS DE TRES AÑOS DE ANTIGÜEDAD"]
[null,null,null,null,null,null,null,null,null,null,null,null,null,null,null,null,null,null,null,null,null,null,null,null,null,null,null,null,null,null,123,123,"D2","Adjunto Segundo","GRADO ANTIGUO","OD01","Orientador de Defensa","CIVIL - GRADO NUEVO",3000000,5000000,"60 MESES","CIVIL O MILITAR CON MAS DE TRES AÑOS DE ANTIGÜEDAD"]
[null,null,null,null,null,null,null,null,null,null,null,null,null,null,null,null,null,null,null,null,null,null,null,null,null,null,null,null,null,null,124,124,"D2","Adjunto Segundo","GRADO ANTIGUO","AA06","Auxiliar para Apoyo de Seguridad y Defensa","CIVIL - GRADO NUEVO",3000000,5000000,"60 MESES","CIVIL O MILITAR CON MAS DE TRES AÑOS DE ANTIGÜEDAD"]
[null,null,null,null,null,null,null,null,null,null,null,null,null,null,null,null,null,null,null,null,null,null,null,null,null,null,null,null,null,null,125,125,"D2","Adjunto Segundo","GRADO ANTIGUO","TI05","Tecnico de Inteligencia","CIVIL - GRADO NUEVO",3000000,5000000,"60 MESES","CIVIL O MILITAR CON MAS DE TRES AÑOS DE ANTIGÜEDAD"]
[null,null,null,null,null,null,null,null,null,null,null,null,null,null,null,null,null,null,null,null,null,null,null,null,null,null,null,null,null,null,126,126,"D3","Adjunto Tercero","GRADO ANTIGUO","AS05","Auxiliar de Servicios","CIVIL - GRADO NUEVO",3000000,5000000,"60 MESES","CIVIL O MILITAR CON MAS DE TRES AÑOS DE ANTIGÜEDAD"]
[null,null,null,null,null,null,null,null,null,null,null,null,null,null,null,null,null,null,null,null,null,null,null,null,null,null,null,null,null,null,127,127,"D3","Adjunto Tercero","GRADO ANTIGUO","AA05","Auxiliar para Apoyo de Seguridad y Defensa","CIVIL - GRADO NUEVO",3000000,5000000,"60 MESES","CIVIL O MILITAR CON MAS DE TRES AÑOS DE ANTIGÜEDAD"]
[null,null,null,null,null,null,null,null,null,null,null,null,null,null,null,null,null,null,null,null,null,null,null,null,null,null,null,null,null,null,128,128,"D3","Adjunto Tercero","GRADO ANTIGUO","TI04","Tecnico de Inteligencia","CIVIL - GRADO NUEVO",3000000,5000000,"60 MESES","CIVIL O MILITAR CON MAS DE TRES AÑOS DE ANTIGÜEDAD"]
[null,null,null,null,null,null,null,null,null,null,null,null,null,null,null,null,null,null,null,null,null,null,null,null,null,null,null,null,null,null,129,129,"D4","Adjunto Cuarto","GRADO ANTIGUO","AS03","Auxiliar de Servicios","CIVIL - GRADO NUEVO",{"$f":"$AM$5","v":3000000},{"$f":"$AN$5","v":5000000},{"$f":"$AO$5","v":"60 MESES"},"CIVIL O MILITAR CON MAS DE TRES AÑOS DE ANTIGÜEDAD"]
[null,null,null,null,null,null,null,null,null,null,null,null,null,null,null,null,null,null,null,null,null,null,null,null,null,null,null,null,null,null,130,130,"D4","Adjunto Cuarto","GRADO ANTIGUO","AA03","Auxiliar para Apoyo de Seguridad y Defensa","CIVIL - GRADO NUEVO",{"$f":"$AM$5","v":3000000},{"$f":"$AN$5","v":5000000},"60 MESES","CIVIL O MILITAR CON MAS DE TRES AÑOS DE ANTIGÜEDAD"]
[null,null,null,null,null,null,null,null,null,null,null,null,null,null,null,null,null,null,null,null,null,null,null,null,null,null,null,null,null,null,131,131,"D5","Adjunto Quinto","GRADO ANTIGUO","AS01","Auxiliar de Servicios","CIVIL - GRADO NUEVO",{"$f":"$AM$5","v":3000000},{"$f":"$AN$5","v":5000000},"60 MESES","CIVIL O MILITAR CON MAS DE TRES AÑOS DE ANTIGÜEDAD"]
[null,null,null,null,null,null,null,null,null,null,null,null,null,null,null,null,null,null,null,null,null,null,null,null,null,null,null,null,null,null,132,132,"D5","Adjunto Quinto","GRADO ANTIGUO","AA01","Auxiliar para Apoyo de Seguridad y Defensa","CIVIL - GRADO NUEVO",{"$f":"$AM$5","v":3000000},{"$f":"$AN$5","v":5000000},"60 MESES","CIVIL O MILITAR CON MAS DE TRES AÑOS DE ANTIGÜEDAD"]
[null,null,null,null,null,null,null,null,null,null,null,null,null,null,null,null,null,null,null,null,null,null,null,null,null,null,null,null,null,null,null,133,"G","GENERAL","EN OFICIALES","G","NO HAY CAMBIO DE GRADO","OFICIAL DEL EJERCITO",{"$f":"$AN$5","v":5000000},"NO REQUIERE","60 MESES","NO REQUIERE CODEUDOR"]
[null,null,null,null,null,null,null,null,null,null,null,null,null,null,null,null,null,null,null,null,null,null,null,null,null,null,null,null,null,null,null,134,"MG","MAYOR GENERAL","EN OFICIALES","MG","NO HAY CAMBIO DE GRADO","OFICIAL DEL EJERCITO",{"$f":"$AN$5","v":5000000},"NO REQUIERE","60 MESES","NO REQUIERE CODEUDOR"]
[null,null,null,null,null,null,null,null,null,null,null,null,null,null,null,null,null,null,null,null,null,null,null,null,null,null,null,null,null,null,null,135,"BG","BRIGADIER GENERAL","EN OFICIALES","BG","NO HAY CAMBIO DE GRADO","OFICIAL DEL EJERCITO",{"$f":"$AN$5","v":5000000},"NO REQUIERE","60 MESES","NO REQUIERE CODEUDOR"]
[null,null,null,null,null,null,null,null,null,null,null,null,null,null,null,null,null,null,null,null,null,null,null,null,null,null,null,null,null,null,null,136,"CO","CORONEL","EN OFICIALES","CO","NO HAY CAMBIO DE GRADO","OFICIAL DEL EJERCITO",20000000,{"$f":"$AN$5","v":5000000},"60 MESES","SV - SP - SM - CT - MY - TC"]
[null,null,null,null,null,null,null,null,null,null,null,null,null,null,null,null,null,null,null,null,null,null,null,null,null,null,null,null,null,null,null,137,"TC","TENIENTE CORONEL","EN OFICIALES","TC","NO HAY CAMBIO DE GRADO","OFICIAL DEL EJERCITO",15000000,{"$f":"$AN$5","v":5000000},"60 MESES","SV - SP - SM - CT - MY - TC"]
[null,null,null,null,null,null,null,null,null,null,null,null,null,null,null,null,null,null,null,null,null,null,null,null,null,null,null,null,null,null,null,138,"MY","MAYOR","EN OFICIALES","MY","NO HAY CAMBIO DE GRADO","OFICIAL DEL EJERCITO",10000000,{"$f":"$AN$5","v":5000000},"60 MESES","SV - SP - SM - CT - MY - TC"]
[null,null,null,null,null,null,null,null,null,null,null,null,null,null,null,null,null,null,null,null,null,null,null,null,null,null,null,null,null,null,null,139,"CT","CAPITAN ","EN OFICIALES","CT","NO HAY CAMBIO DE GRADO","OFICIAL DEL EJERCITO",8000000,15000000,"60 MESES","SV - SP - SM - CT - MY - TC"]
[null,null,null,null,null,null,null,null,null,null,null,null,null,null,null,null,null,null,null,null,null,null,null,null,null,null,null,null,null,null,null,140,"TE","TENIENTE","EN OFICIALES","TE","NO HAY CAMBIO DE GRADO","OFICIAL DEL EJERCITO",4000000,10000000,"60 MESES","SS - SV - SP - SM - TE - CT - MY - TC"]
[null,null,null,null,null,null,null,null,null,null,null,null,null,null,null,null,null,null,null,null,null,null,null,null,null,null,null,null,null,null,null,141,"ST","SUBTENIENTE","EN OFICIALES","ST","NO HAY CAMBIO DE GRADO","OFICIAL DEL EJERCITO","NO SE OTORGA",5000000,"60 MESES","CP - SS - SV - SP - SM - TE - CT - MY - TC"]
[null,null,null,null,null,null,null,null,null,null,null,null,null,null,null,null,null,null,null,null,null,null,null,null,null,null,null,null,null,null,null,142,"SM","SARGENTO MAYOR","EN SUBOFICIALES","SM","NO HAY CAMBIO DE GRADO","SUBOFICIAL DEL EJERCITO",{"$f":"$AN$5","v":5000000},"NO REQUIERE","60 MESES","NO REQUIERE CODEUDOR"]
[null,null,null,null,null,null,null,null,null,null,null,null,null,null,null,null,null,null,null,null,null,null,null,null,null,null,null,null,null,null,null,143,"SP","SARGENTO PRIMERO","EN SUBOFICIALES","SP","NO HAY CAMBIO DE GRADO","SUBOFICIAL DEL EJERCITO",{"$f":"$AN$5","v":5000000},"NO REQUIERE","60 MESES","NO REQUIERE CODEUDOR"]
[null,null,null,null,null,null,null,null,null,null,null,null,null,null,null,null,null,null,null,null,null,null,null,null,null,null,null,null,null,null,null,144,"SV","SARGENTO VICEPRIMERO","EN SUBOFICIALES","SV","NO HAY CAMBIO DE GRADO","SUBOFICIAL DEL EJERCITO",{"$f":"$AN$5","v":5000000},"NO REQUIERE","60 MESES","NO REQUIERE CODEUDOR"]
[null,null,null,null,null,null,null,null,null,null,null,null,null,null,null,null,null,null,null,null,null,null,null,null,null,null,null,null,null,null,null,145,"SS","SARGENTO SEGUNDO","EN SUBOFICIALES","SS","NO HAY CAMBIO DE GRADO","SUBOFICIAL DEL EJERCITO",10000000,15000000,"60 MESES","SS - SV - SP - SM - TE - CT - MY - TC"]
[null,null,null,null,null,null,null,null,null,null,null,null,null,null,null,null,null,null,null,null,null,null,null,null,null,null,null,null,null,null,null,146,"CP","CABO PRIMERO","EN SUBOFICIALES","CP","NO HAY CAMBIO DE GRADO","SUBOFICIAL DEL EJERCITO",4000000,8000000,"60 MESES","CP - SS - SV - SP - SM - TE - CT - MY - TC"]
[null,null,null,null,null,null,null,null,null,null,null,null,null,null,null,null,null,null,null,null,null,null,null,null,null,null,null,null,null,null,null,147,"CS","CABO SEGUNDO","EN SUBOFICIALES","CS","NO HAY CAMBIO DE GRADO","SUBOFICIAL DEL EJERCITO","NO SE OTORGA",4000000,"NO SE OTORGA","CP - SS - SV - SP - SM - TE - CT - MY - TC"]
[null,null,null,null,null,null,null,null,null,null,null,null,null,null,null,null,null,null,null,null,null,null,null,null,null,null,null,null,null,null,null,148,"C3","CABO TERCERO","EN SUBOFICIALES","C3","NO HAY CAMBIO DE GRADO","SUBOFICIAL DEL EJERCITO","NO SE OTORGA","NO SE OTORGA","NO SE OTORGA","NO SE OTORGA"]
[null,null,null,null,null,null,null,null,null,null,null,null,null,null,null,null,null,null,null,null,null,null,null,null,null,null,null,null,null,null,null,149,"SLP","SOLDADO PROFESIONAL","EN SOLDADOS","SLP","NO HAY CAMBIO DE GRADO","SOLDADO PROFESIONAL",0,2000000,"NO SE OTORGA","CIVIL O MILITAR CON MAS DE CINCO AÑOS DE ANTIGÜEDAD"]
[null,null,null,null,null,null,null,null,null,null,null,null,null,null,null,null,null,null,null,null,null,null,null,null,null,null,null,null,null,null,null,150,"SLV","SOLDADO VOLUNTARIO","EN SOLDADOS","SLV","NO HAY CAMBIO DE GRADO","SOLDADO VOLUNTARIO","NO SE OTORGA","NO SE OTORGA","NO SE OTORGA","NO SE OTORGA"]

{"sheet":"ARC","index":5,"n_rows":173,"n_cols":42,"rows_kept":173,"cut":false,"hidden":false,"merged":[[10,0,10,2],[11,0,11,2],[12,0,12,2],[13,0,13,2],[14,0,18,2],[5,0,5,2],[6,0,6,2],[7,0,7,2],[8,0,8,2],[9,0,9,2],[26,0,28,0],[19,3,19,5],[0,0,0,2],[1,0,1,2],[2,0,2,2],[3,0,3,2],[4,0,4,2],[14,4,14,5],[22,0,25,2],[0,3,0,4],[0,5,0,6],[14,6,18,6],[15,4,15,5],[16,4,16,5],[17,4,17,5],[18,4,18,5],[35,14,35,16],[35,19,35,20],[27,3,27,5],[30,14,30,16],[30,19,30,20],[31,14,31,16],[31,19,31,20],[33,14,33,16],[33,19,33,20],[27,8,27,13],[32,14,32,16],[32,19,32,20],[28,14,28,16],[28,19,28,20],[29,14,29,16],[29,19,29,20],[22,14,22,16],[22,19,22,20],[24,14,24,16],[24,19,24,20],[34,14,34,16],[34,19,34,20],[25,14,25,16],[25,19,25,20],[23,14,23,16],[23,19,23,20],[26,14,26,16],[26,19,26,20],[19,14,19,16],[19,19,19,20],[20,14,20,16],[20,19,20,20],[19,0,19,2],[20,0,21,2],[21,14,21,16],[21,19,21,20],[0,12,0,13],[1,8,1,13],[3,8,3,13],[28,8,28,13],[10,4,10,5],[6,3,6,4],[3,3,3,4],[3,5,3,7],[4,3,4,4],[4,5,4,7],[11,8,11,13],[2,8,2,13],[12,8,12,13],[13,8,13,13],[26,8,26,13]]}
["ARC CO 1 - PA CO 1 - CR 1",null,null,"50%    -",null,{"$f":"TASAS!G11","v":1423500},null,null,null,null,null,null,{"$f":"TASAS!G15","v":"2025-03"}]
["SELECCIONE EL GRADO DEL USUARIO",null,null,null,{"$f":"IF(($D$2= \"\"),\"\",VLOOKUP($D$2,$AG$8:$AP$194,2,FALSE))","v":""},null,null,null,"La tasa de interés preferencial",null,null,null,null,null,{"$f":"D9-D10","v":0},{"$f":"D11-O2","v":0}]
[{"$f":"IF(($D$2= \"\"),\"\",VLOOKUP($D$2,$AG$8:$AP$194,6,FALSE))","v":""},null,null,{"$f":"IF(($D$2= \"\"),\"\",VLOOKUP($D$2,$AG$8:$AP$194,4,FALSE))","v":""},{"$f":"IF(($D$2= \"\"),\"\",VLOOKUP($D$2,$AG$8:$AP$194,5,FALSE))","v":""},null,null,null,"solo aplica para pensionados, no para activos",null,null,null,null,null,null,null,null,null,{"$f":"IF(AND(E27<TASAS!H11,D27<TASAS!M2),TASAS!H6,TASAS!H5)","v":{"$error":"#VALUE!"}}]
[{"$f":"IF(($D$2=\"\"),\"\",\"MONTO MAXIMO SIN CODEUDOR\")","v":""},null,null,{"$f":"IF(($D$2= \"\"),\"\",VLOOKUP($D$2,$AG$8:$AP$194,7,FALSE))","v":""},null,null,null,null,"NO SE TRAMITAN COMPRAS DE CARTERA",null,null,null,null,null,null,null,null,null,{"$f":"B27-S3","v":{"$error":"#VALUE!"}}]
[{"$f":"IF(($D$2=\"\"),\"\",\"MONTO MAXIMO CON CODEUDOR\")","v":""},null,null,{"$f":"IF(($D$2= \"\"),\"\",VLOOKUP($D$2,$AG$8:$AP$194,8,FALSE))","v":""},null,null,null,null,null,null,null,null,null,null,null,null,null,null,0,null,null,null,null,null,null,null,null,null,null,null,null,null,null,null,null,null,null,null,3000000,5000000,"60 MESES",{"$f":"LEFT(AO5,2)","v":"60"}]
[{"$f":"IF(($D$2=\"\"),\"\",\"CODEUDOR REQUERIDO\")","v":""},null,null,{"$f":"IF(($D$2= \"\"),\"\",VLOOKUP($D$2,$AG$8:$AP$194,10,FALSE))","v":""},null,null,null,null,null,null,null,null,null,null,null,null,null,null,{"$f":"TASAS!H3","v":1.77E-2},"TASA"]
[{"$f":"IF(($D$2=\"\"),\"\",\"PLAZO MAXIMO PARA EL CREDITO\")","v":""},null,null,{"$f":"IF(($D$2= \"\"),\"\",VLOOKUP($D$2,$AG$8:$AP$194,9,FALSE))","v":""},null,{"$f":"IF(($D$2=\"\"),\"\",\"REVISE ABAJO LOS REQUISITOS\")","v":""},null,null,null,null,null,null,null,null,null,null,null,null,{"$f":"TASAS!H4","v":1.8200000000000001E-2},"TASA",null,null,null,null,null,null,null,null,null,null,null,"No.","SIGLA","DESCRIPCION","CLASIFICACION","SIGLA","DESCRIPCION","CLASIFICACION","MONTO MAX SIN CD","MONTO MAX CON CD","PLAZO","CD REQUEIRDO"]
["EVALUACION CAPACIDAD DE PAGO",null,null,"VALOR 1","VALOR 2","VALOR 3","TOTALES",null,null,null,null,null,null,null,null,null,null,null,{"$f":"TASAS!H5","v":1.8699999999999998E-2},"TASA",null,null,null,null,null,null,null,null,null,null,1,1,"AD06","Asesor del Sector Defensa","GRADO NUEVO","PU10","Profesional Universitario 10","CIVIL - GRADO ANTIGUO",{"$f":"$AM$5","v":3000000},{"$f":"$AN$5","v":5000000},{"$f":"$AO$5","v":"60 MESES"},"CIVIL O MILITAR CON MAS DE TRES AÑOS DE ANTIGÜEDAD"]
["TOTAL INGRESOS",null,null,0,null,null,{"$f":"IF((D9/2)<=F1,(D9-F1),(D9/2))","v":-1423500},null,null,null,null,null,null,null,null,null,null,null,{"$f":"TASAS!H6","v":3.4999999999999996E-2},"TASA",null,null,null,null,null,null,null,null,null,null,2,2,"AD04","Asesor del Sector Defensa","GRADO NUEVO","PU08","Profesional Universitario 08","CIVIL - GRADO ANTIGUO",{"$f":"$AM$5","v":3000000},{"$f":"$AN$5","v":5000000},{"$f":"$AO$5","v":"60 MESES"},"CIVIL O MILITAR CON MAS DE TRES AÑOS DE ANTIGÜEDAD"]
["(-) TOTAL DESCUENTOS",null,null,0,null,null,{"$f":"IF(($P$2>3),\"ERROR EN\",IF($P$2<-3,\"ERROR EN\",D10))","v":0},null,null,null,null,null,null,null,null,null,null,null,{"$f":"TASAS!H7","v":1.4499999999999999E-2},"TASA",null,null,null,null,null,null,null,null,null,null,3,3,"AD02","Asesor del Sector Defensa","GRADO NUEVO","PU06","Profesional Universitario 06","CIVIL - GRADO ANTIGUO",3000000,5000000,"60 MESES","CIVIL O MILITAR CON MAS DE TRES AÑOS DE ANTIGÜEDAD"]
["INGRESO NETO RECIBIDO EN EL DESPRENDIBLE DE PAGO",null,null,0,"DISPONIBLE PARA CREDITO",null,{"$f":"IF(($P$2>3),\"LOS DATOS\",IF($P$2<-3,\"LOS DATOS\",G9-G10+G12+G13-G14))","v":-1423500},"*",null,null,null,null,null,null,null,null,null,null,{"$f":"TASAS!H8","v":1.4999999999999999E-2},"TASA",null,null,null,null,null,null,null,null,null,null,4,4,"OE18","Orientador Espiritual","GRADO NUEVO","PU06","Profesional Universitario 06","CIVIL - GRADO ANTIGUO",3000000,5000000,"60 MESES","CIVIL O MILITAR CON MAS DE TRES AÑOS DE ANTIGÜEDAD"]
["(+) DESCUENTOS FINALIZADOS EN EL PRESENTE MES Y EN EL PROXIMO",null,null,0,0,0,{"$f":"SUM(D12:F12)","v":0},null,{"$f":"IF((B27=0),\"¡ ¡ ¡ Por favor seleccione la tasa de interés ! ! !\",\" \")","v":"¡ ¡ ¡ Por favor seleccione la tasa de interés ! ! !"},null,null,null,null,null,null,null,null,null,{"$f":"TASAS!H9","v":1.55E-2},"TASA",null,null,null,null,null,null,null,null,null,null,5,5,"OD18","Orientador de Defensa","GRADO NUEVO","PU","Profesional Universitario ","CIVIL - GRADO ANTIGUO",3000000,5000000,"60 MESES","CIVIL O MILITAR CON MAS DE TRES AÑOS DE ANTIGÜEDAD"]
["(+) CUOTAS DE COMPRAS DE CARTERA",null,null,0,0,0,{"$f":"SUM(D13:F13)","v":0},null,{"$f":"IF((S4=0),\" \",\"¡¡¡   A T E N C I O N   !!!\")","v":{"$error":"#VALUE!"}},null,null,null,null,null,null,null,null,null,null,null,null,null,null,null,null,null,null,null,null,null,6,6,"PD04","Profesional de Defensa","GRADO NUEVO","EP","Especialista Asesor Primero","CIVIL - GRADO ANTIGUO",3000000,5000000,"60 MESES","CIVIL O MILITAR CON MAS DE TRES AÑOS DE ANTIGÜEDAD"]
["(-) VALOR INGRESOS ADICIONALES Y OTROS DEDUCIBLES",null,null,0,0,0,{"$f":"SUM(D14:F14)","v":0},null,{"$f":"IF((S4=0),\" \",\"La tasa máxima para ese monto y plazo es del\")","v":{"$error":"#VALUE!"}},null,null,null,null,null,null,null,null,{"$f":"D3*1","v":{"$error":"#VALUE!"}},{"$f":"(PV($B$27,$D$27,$T$18))*-1","v":{"$error":"#VALUE!"}},null,null,null,null,null,null,null,null,null,null,null,7,7,"OD16","Orientador de Defensa","GRADO NUEVO","EP","Especialista Asesor Primero","CIVIL - GRADO ANTIGUO",3000000,5000000,"60 MESES","CIVIL O MILITAR CON MAS DE TRES AÑOS DE ANTIGÜEDAD"]
["(-) VALOR ESTIMADO CUOTA DE CREDITO CON COOSERFIN",null,null,0,{"$f":"IF(($D$17=\"TASA\"),\" \",\"VALOR SOLICITADO\")","v":"VALOR SOLICITADO"},null,{"$f":"IF(($D$2=\"\"),\"RECUERDE DIGITAR ARRIBA EL GRADO\",ROUNDUP(((((D15*D17))*(D16+D18))+D15)/D16,0))","v":"RECUERDE DIGITAR ARRIBA EL GRADO"},null,null,null,null,null,null,null,null,null,null,null,{"$f":"(IF(S14>R14,R14,FLOOR(S14,100000)))","v":{"$error":"#VALUE!"}},null,null,null,null,null,null,null,null,null,null,null,8,8,"OE16","Orientador Espiritual","GRADO NUEVO","EP","Especialista Asesor Primero","CIVIL - GRADO ANTIGUO",3000000,5000000,"60 MESES","CIVIL O MILITAR CON MAS DE TRES AÑOS DE ANTIGÜEDAD"]
[null,null,null,0,{"$f":"IF(($D$17=\"TASA\"),\" \",\"PLAZO\")","v":"PLAZO"},null,null,null,null,null,null,null,null,null,null,null,null,null,null,null,null,null,null,null,null,null,null,null,null,null,9,9,"PD02","Profesional de Defensa","GRADO NUEVO","ES","Especialista Asesor Segundo","CIVIL - GRADO ANTIGUO",3000000,5000000,"60 MESES","CIVIL O MILITAR CON MAS DE TRES AÑOS DE ANTIGÜEDAD"]
[null,null,null,2.3E-2,"FACTOR",null,null,null,null,null,null,null,null,null,null,null,null,null,null,{"$f":"F22","v":"NO APLICA"},null,null,null,null,null,null,null,null,null,null,10,10,"OD14","Orientador de Defensa","GRADO NUEVO","ES","Especialista Asesor Segundo","CIVIL - GRADO ANTIGUO",3000000,5000000,"60 MESES","CIVIL O MILITAR CON MAS DE TRES AÑOS DE ANTIGÜEDAD"]
[null,null,null,0,{"$f":"IF(($D$17=\"TASA\"),\" \",\"MES(ES) DE GRACIA\")","v":"MES(ES) DE GRACIA"},null,null,null,null,null,null,null,null,null,null,null,null,{"$f":"(PV($B$27,$D$27,$F$22))*-1","v":{"$error":"#VALUE!"}},null,{"$f":"((T17*(1-R23))-R25-V20-V24)*0.99","v":{"$error":"#VALUE!"}},null,null,null,null,{"$f":"R20*R24","v":{"$error":"#VALUE!"}},null,null,null,null,null,11,11,"OE14","Orientador Espiritual","GRADO NUEVO","ES","Especialista Asesor Segundo","CIVIL - GRADO ANTIGUO",3000000,5000000,"60 MESES","CIVIL O MILITAR CON MAS DE TRES AÑOS DE ANTIGÜEDAD"]
[null,null,null,{"$f":"IF($G$20>=0,(G15*D16),IF($G$20<0,\"\"))","v":{"$error":"#VALUE!"}},{"$f":"IF(($D$17=\"TASA\"),\" \",\"VALOR LIBRANZA\")","v":"VALOR LIBRANZA"},null,null,null,null,null,null,null,null,null,null,null,null,null,null,null,null,null,null,null,{"$f":"R29*R33","v":{"$error":"#VALUE!"}},null,null,null,null,null,12,12,"PD01","Profesional de Defensa","GRADO NUEVO","EJ","Especialista Jefe","CIVIL - GRADO ANTIGUO",3000000,5000000,"60 MESES","CIVIL O MILITAR CON MAS DE TRES AÑOS DE ANTIGÜEDAD"]
["INGRESO ESTIMADO EN EL PRIMER MES DE PAGO DEL CREDITO",null,null,{"$f":"IF($G$20>=0,\"USUARIO CON CAPACIDAD DE PAGO\",IF($G$20<0,\"INTENTE CON OTRO MONTO Y/O PLAZO\"))","v":{"$error":"#VALUE!"}},{"$f":"IF($J$16>=AD13,\"USUARIO CON CAPACIDAD DE ENDEUDAMIENTO\",IF($J$16<AD13,\"CREDITO INVIABLE INTENTE CON OTRO MONTO Y/O PLAZO\"))","v":"USUARIO CON CAPACIDAD DE ENDEUDAMIENTO"},{"$f":"IF($J$16>=AE13,\"USUARIO CON CAPACIDAD DE ENDEUDAMIENTO\",IF($J$16<AE13,\"CREDITO INVIABLE INTENTE CON OTRO MONTO Y/O PLAZO\"))","v":"CREDITO INVIABLE INTENTE CON OTRO MONTO Y/O PLAZO"},{"$f":"G11-G15","v":{"$error":"#VALUE!"}},null,null,null,null,null,null,null,"VALOR CREDITO         :",null,null,{"$f":"R18","v":{"$error":"#VALUE!"}},null,"VALOR SEGURO          :",null,{"$f":"R20*TASAS!C12","v":{"$error":"#VALUE!"}},null,null,{"$f":"(((($R$21)*((1+($R$21))^$R$22))/(((1+($R$21))^$R$22)-1))*$R$20)+((((R20*R21)/30)*R27)/R22)+R25+V20+V23","v":{"$error":"#DIV/0!"}},null,null,null,null,null,13,13,"OD13","Orientador de Defensa","GRADO NUEVO","EJ","Especialista Jefe","CIVIL - GRADO ANTIGUO",3000000,5000000,"60 MESES","CIVIL O MILITAR CON MAS DE TRES AÑOS DE ANTIGÜEDAD"]
[{"$f":"IF($W$22>0,\"MONTO MAXIMO DE ENDEUDAMIENTO\",IF($W$22<=0,\"EL SOLICITANTE NO TIENE POSIBILIDADES DE CREDITO\"))","v":"EL SOLICITANTE NO TIENE POSIBILIDADES DE CREDITO"},null,null,"PLAZO","MONTO MAX","VALOR CUOTA","VR LIBRANZA",null,null,null,null,null,null,null,"TASA NOMINAL MENSUAL  :",null,null,{"$f":"B27","v":0},null,"TASA EFECTIVA ANUAL   :",null,{"$f":"((1+((R21*12)/12))^12)-1","v":0},null,null,null,null,null,null,null,null,14,14,"OE13","Orientador Espiritual","GRADO NUEVO","EJ","Especialista Jefe","CIVIL - GRADO ANTIGUO",3000000,5000000,"60 MESES","CIVIL O MILITAR CON MAS DE TRES AÑOS DE ANTIGÜEDAD"]
[null,null,null,{"$f":"AP5","v":"60"},{"$f":"IF(($W$22<=0),\"NO APLICA\",$G$22*100/((($D$17*100)*($D$22+$D$18))+100))","v":"NO APLICA"},{"$f":"IF(($W$22<=0),\"NO APLICA\",$G$11)","v":"NO APLICA"},{"$f":"IF(($W$22<=0),\"NO APLICA\",($D$22*$F$22))","v":"NO APLICA"},"*",null,null,null,null,null,null,"PLAZO EN MESES        :",null,null,{"$f":"D27","v":"60"},null,"CUOTA NETA            :",null,{"$f":"((((R21)*((1+(R21))^R22))/(((1+(R21))^R22)-1))*(R20+Y18))+(((((R20+Y18)*R21)/30)*R27)/R22)","v":{"$error":"#DIV/0!"}},{"$f":"$G$11+$G$12+$G$13","v":-1423500},"PLAZO","MONTO MAX","VR MAX CUOTA","VALOR LZ",null,null,null,15,15,"TS21","Técnico de Servicios","GRADO NUEVO","E1","Especialista Primero","CIVIL - GRADO ANTIGUO",3000000,5000000,"60 MESES","CIVIL O MILITAR CON MAS DE TRES AÑOS DE ANTIGÜEDAD"]
[{"$f":"IF($G$20>=0,\"OTRAS OPCIONES DE CREDITO DISPONIBLES\",IF($G$20<0,\"INTENTE CON OTRO MONTO Y/O PLAZO\"))","v":{"$error":"#VALUE!"}},null,null,{"$f":"IF($Y$23<=$AA$27,12,IF($Y$23>$AA$27,\"NO APLICA\"))","v":{"$error":"#VALUE!"}},{"$f":"IF(Y23>$AA$27,\"NO APLICA\",IF(Y23<=$AA$27,FLOOR(Y23,10000)))","v":{"$error":"#VALUE!"}},{"$f":"IF($Y$23>$AA$27,\"NO APLICA\",IF(Y23<=$AA$27,((((E23*($D$17)*((D23+$D$18))+E23)/D23)))))","v":{"$error":"#VALUE!"}},{"$f":"IF($Y$23>$AA$27,\"NO APLICA\",IF(Y23<=$AA$27,(D23*F23)))","v":{"$error":"#VALUE!"}},null,null,null,null,null,null,null,"TASA COMISION RECAUDO :",null,null,0,null,"COMISION POR RECAUDO  :",null,{"$f":"((((((R21)*((1+(R21))^R22))/(((1+(R21))^R22)-1))*(R20+Y18))+(((((R20+Y18)*R21)/30)*R27)/R22)+R25+V20)*100)/(100-(R23*100))-(((((R21)*((1+(R21))^R22))/(((1+(R21))^R22)-1))*(R20+Y18))+(((((R20+Y18)*R21)/30)*R27)/R22)+R25+V20)","v":{"$error":"#DIV/0!"}},null,12,{"$f":"IF(($G$20>=0),AA23*100/((($D$17*100)*(X23+$D$18))+100),\"\")","v":{"$error":"#VALUE!"}},{"$f":"IF(($G$20>=0),($G$20+$G$15),\"\")","v":{"$error":"#VALUE!"}},{"$f":"IF(($G$20>=0),(Z23*X23),\"\")","v":{"$error":"#VALUE!"}},null,null,null,16,16,"OD12","Orientador de Defensa","GRADO NUEVO","E1","Especialista Primero","CIVIL - GRADO ANTIGUO",3000000,5000000,"60 MESES","CIVIL O MILITAR CON MAS DE TRES AÑOS DE ANTIGÜEDAD"]
[null,null,null,{"$f":"IF($Y$24<=$AA$27,24,IF($Y$24>$AA$27,\"NO APLICA\"))","v":{"$error":"#VALUE!"}},{"$f":"IF(Y24>$AA$27,\"NO APLICA\",IF(Y24<=$AA$27,FLOOR(Y24,10000)))","v":{"$error":"#VALUE!"}},{"$f":"IF($Y$24>$AA$27,\"NO APLICA\",IF(Y24<=$AA$27,((((E24*($D$17)*((D24+$D$18))+E24)/D24)))))","v":{"$error":"#VALUE!"}},{"$f":"IF($Y$24>$AA$27,\"NO APLICA\",IF(Y24<=$AA$27,(D24*F24)))","v":{"$error":"#VALUE!"}},null,null,null,null,null,null,null,"OTROS GASTOS          :",null,null,{"$f":"B29","v":0},null,"VALOR OTROS GASTOS    :",null,{"$f":"V27-Y20","v":{"$error":"#DIV/0!"}},null,24,{"$f":"IF(($G$20>=0),AA24*100/((($D$17*100)*(X24+$D$18))+100),\"\")","v":{"$error":"#VALUE!"}},{"$f":"IF(($G$20>=0),($G$20+$G$15),\"\")","v":{"$error":"#VALUE!"}},{"$f":"IF(($G$20>=0),(Z24*X24),\"\")","v":{"$error":"#VALUE!"}},null,null,null,17,17,"TA21","Técnico para Apoyo de Seguridad y Defensa","GRADO NUEVO","E1","Especialista Primero","CIVIL - GRADO ANTIGUO",3000000,5000000,"60 MESES","CIVIL O MILITAR CON MAS DE TRES AÑOS DE ANTIGÜEDAD"]
[null,null,null,{"$f":"IF($Y$25<=$AA$27,36,IF($Y$25>$AA$27,\"NO APLICA\"))","v":{"$error":"#VALUE!"}},{"$f":"IF(Y25>$AA$27,\"NO APLICA\",IF(Y25<=$AA$27,FLOOR(Y25,10000)))","v":{"$error":"#VALUE!"}},{"$f":"IF($Y$25>$AA$27,\"NO APLICA\",IF(Y25<=$AA$27,((((E25*($D$17)*((D25+$D$18))+E25)/D25)))))","v":{"$error":"#VALUE!"}},{"$f":"IF($Y$25>$AA$27,\"NO APLICA\",IF(Y25<=$AA$27,(D25*F25)))","v":{"$error":"#VALUE!"}},null,null,null,null,null,null,null,"APORTES SOCIALES      :",null,null,0,null,"FECHA DE INICIO       :",null,{"$f":"(R26+((R22+1)*29))-((R22-1)*29)","v":"2012-02-28"},null,36,{"$f":"IF(($G$20>=0),AA25*100/((($D$17*100)*(X25+$D$18))+100),\"\")","v":{"$error":"#VALUE!"}},{"$f":"IF(($G$20>=0),($G$20+$G$15),\"\")","v":{"$error":"#VALUE!"}},{"$f":"IF(($G$20>=0),(Z25*X25),\"\")","v":{"$error":"#VALUE!"}},null,null,null,18,18,"TS19","Técnico de Servicios","GRADO NUEVO","E2","Especialista Segundo","CIVIL - GRADO ANTIGUO",3000000,5000000,"60 MESES","CIVIL O MILITAR CON MAS DE TRES AÑOS DE ANTIGÜEDAD"]
[null,null,null,{"$f":"IF($Y$26<=$AA$27,48,IF($Y$26>$AA$27,\"NO APLICA\"))","v":{"$error":"#VALUE!"}},{"$f":"IF(Y26>$AA$27,\"NO APLICA\",IF(Y26<=$AA$27,FLOOR(Y26,10000)))","v":{"$error":"#VALUE!"}},{"$f":"IF($Y$26>$AA$27,\"NO APLICA\",IF(Y26<=$AA$27,((((E26*($D$17)*((D26+$D$18))+E26)/D26)))))","v":{"$error":"#VALUE!"}},{"$f":"IF($Y$26>$AA$27,\"NO APLICA\",IF(Y26<=$AA$27,(D26*F26)))","v":{"$error":"#VALUE!"}},null,null,null,null,null,null,null,"FECHA DESEMBOLSO      :",null,null,"2012-01-01",null,"FECHA DE TERMINO      :",null,{"$f":"(R26+((R22+1)*29))-((R22-1)*29)+((R22-1)*30)","v":"2017-01-02"},null,48,{"$f":"IF(($G$20>=0),AA26*100/((($D$17*100)*(X26+$D$18))+100),\"\")","v":{"$error":"#VALUE!"}},{"$f":"IF(($G$20>=0),($G$20+$G$15),\"\")","v":{"$error":"#VALUE!"}},{"$f":"IF(($G$20>=0),(Z26*X26),\"\")","v":{"$error":"#VALUE!"}},null,null,null,19,19,"OD11","Orientador de Defensa","GRADO NUEVO","E2","Especialista Segundo","CIVIL - GRADO ANTIGUO",3000000,5000000,"60 MESES","CIVIL O MILITAR CON MAS DE TRES AÑOS DE ANTIGÜEDAD"]
["LIBRE INVERSION - COBRO DE AVAL ANTICIPADO",0,"N.M.V.",{"$f":"AP5","v":"60"},{"$f":"S15","v":{"$error":"#VALUE!"}},"  VR CUOTA   ",{"$f":"(((($R$30)*((1+($R$30))^$R$31))/(((1+($R$30))^$R$31)-1))*($E$27+$Y$19))+(((((E27+Y19)*R30)/30)*R36)/R31)+R34+V29+V32+V33","v":{"$error":"#DIV/0!"}},null,{"$f":"IF((S4=0),\" \",S3)","v":{"$error":"#VALUE!"}},null,null,null,null,null,"DIAS DE GRACIA        :",null,null,{"$f":"B30","v":0},null,"TOTAL CUOTA MENSUAL   :",null,{"$f":"V22+R25+V23+V20","v":{"$error":"#DIV/0!"}},null,null,null,"MONTO MAXIMO POR CLIENTE",15000000,null,null,null,20,20,"TA19","Técnico para Apoyo de Seguridad y Defensa","GRADO NUEVO","E2","Especialista Segundo","CIVIL - GRADO ANTIGUO",3000000,5000000,"60 MESES","CIVIL O MILITAR CON MAS DE TRES AÑOS DE ANTIGÜEDAD"]
[null,{"$f":"((1+((B27*12)/12))^12)-1","v":0}," E. A.",{"$f":"IF($G$28>=0,\"USUARIO CON CAPACIDAD DE PAGO\",IF($G$28<0,\"INTENTE CON OTRO MONTO Y/O PLAZO\"))","v":{"$error":"#DIV/0!"}},null,null,{"$f":"G11-G27","v":{"$error":"#DIV/0!"}},null,{"$f":"IF(B27=TASAS!H3,\"Tasa para clientes con puntaje > a 750 y sin procesos\",\" \")","v":" "},null,null,null,null,null,null,null,null,null,null,null,null,null,null,null,null,null,null,null,null,null,21,21,"TS18","Técnico de Servicios","GRADO NUEVO","E3","Especialista Tercero","CIVIL - GRADO ANTIGUO",3000000,5000000,"60 MESES","CIVIL O MILITAR CON MAS DE TRES AÑOS DE ANTIGÜEDAD"]
[null,0," O. G.","% AVAL","VALOR AVAL ","A GIRAR",null,null,{"$f":"IF(B27=TASAS!H4,\"Tasa para clientes con puntaje entre 650 - 749 y sin procesos\",\" \")","v":" "},null,null,null,null,null,"VALOR CREDITO         :",null,null,{"$f":"E27","v":{"$error":"#VALUE!"}},null,"VALOR SEGURO          :",null,{"$f":"R29*TASAS!C12","v":{"$error":"#VALUE!"}},null,null,null,null,null,null,null,null,22,22,"OD10","Orientador de Defensa","GRADO NUEVO","E3","Especialista Tercero","CIVIL - GRADO ANTIGUO",3000000,5000000,"60 MESES","CIVIL O MILITAR CON MAS DE TRES AÑOS DE ANTIGÜEDAD"]
[null,0," D. G.",0.09,{"$f":"E27*D30","v":{"$error":"#VALUE!"}},{"$f":"E27-E30","v":{"$error":"#VALUE!"}},null,null,null,null,null,null,null,null,"TASA NOMINAL MENSUAL  :",null,null,{"$f":"R21","v":0},null,"TASA EFECTIVA ANUAL   :",null,{"$f":"((1+((R30*12)/12))^12)-1","v":0},null,null,null,null,null,null,null,null,23,23,"TA18","Técnico para Apoyo de Seguridad y Defensa","GRADO NUEVO","E3","Especialista Tercero","CIVIL - GRADO ANTIGUO",3000000,5000000,"60 MESES","CIVIL O MILITAR CON MAS DE TRES AÑOS DE ANTIGÜEDAD"]
[null,"% Simple",{"$f":"(((G27*D27)-E27)/E27)/D27","v":{"$error":"#DIV/0!"}},null,null,null,null,null,null,null,null,null,null,null,"PLAZO EN MESES        :",null,null,"60",null,"CUOTA NETA            :",null,{"$f":"((((R30)*((1+(R30))^R31))/(((1+(R30))^R31)-1))*(R29+Y19))+(((((R29+Y19)*R30)/30)*R36)/R31)","v":{"$error":"#DIV/0!"}},null,null,null,null,null,null,null,null,24,24,"TI18","Técnico de Inteligencia","GRADO NUEVO","E3","Especialista Tercero","CIVIL - GRADO ANTIGUO",3000000,5000000,"60 MESES","CIVIL O MILITAR CON MAS DE TRES AÑOS DE ANTIGÜEDAD"]
[null,null,null,null,null,null,null,null,null,null,null,null,null,null,"TASA COMISION RECAUDO :",null,null,0,null,"COMISION POR RECAUDO  :",null,{"$f":"((((((R30)*((1+(R30))^R31))/(((1+(R30))^R31)-1))*(R29+Y19))+(((((R29+Y19)*R30)/30)*R36)/R31)+R34+V29)*100)/(100-(R32*100))-(((((R30)*((1+(R30))^R31))/(((1+(R30))^R31)-1))*(R29+Y19))+(((((R29+Y19)*R30)/30)*R36)/R31)+R34+V29)","v":{"$error":"#DIV/0!"}},null,null,null,null,null,null,null,null,25,25,"TS17","Técnico de Servicios","GRADO NUEVO","E4","Especialista Cuarto","CIVIL - GRADO ANTIGUO",3000000,5000000,"60 MESES","CIVIL O MILITAR CON MAS DE TRES AÑOS DE ANTIGÜEDAD"]
["REQUISITOS PARA SOLICITUD DE CREDITO:",null,null,null,null,null,null,null,null,null,null,null,null,null,"OTROS GASTOS          :",null,null,0,null,"VALOR OTROS GASTOS    :",null,null,null,null,null,null,null,null,null,null,26,26,"OD09","Orientador de Defensa","GRADO NUEVO","E4","Especialista Cuarto","CIVIL - GRADO ANTIGUO",3000000,5000000,"60 MESES","CIVIL O MILITAR CON MAS DE TRES AÑOS DE ANTIGÜEDAD"]
["1. DESPRENDIBLES DE PAGO ORIGINALES  DE LOS DOS (2) ULTIMOS ",null,null,null,null,null,null,null,null,null,null,null,null,null,"APORTES SOCIALES      :",null,null,0,null,"FECHA DE INICIO       :",null,{"$f":"(R35+((R31+1)*29))-((R31-1)*29)","v":"2012-02-28"},null,null,null,null,null,null,null,null,27,27,"TA17","Técnico para Apoyo de Seguridad y Defensa","GRADO NUEVO","E4","Especialista Cuarto","CIVIL - GRADO ANTIGUO",3000000,5000000,"60 MESES","CIVIL O MILITAR CON MAS DE TRES AÑOS DE ANTIGÜEDAD"]
["    MESES ",null,null,null,null,null,null,null,null,null,null,null,null,null,"FECHA DESEMBOLSO      :",null,null,"2012-01-01",null,"FECHA DE TERMINO      :",null,{"$f":"(R35+((R31+1)*29))-((R31-1)*29)+((R31-1)*30)","v":"2017-01-02"},null,null,null,null,null,null,null,null,28,28,"TS14","Técnico de Servicios","GRADO NUEVO","E5","Especialista Quinto","CIVIL - GRADO ANTIGUO",3000000,5000000,"60 MESES","CIVIL O MILITAR CON MAS DE TRES AÑOS DE ANTIGÜEDAD"]
["2. FOTOCOPIA AMPLIADA AL 200%, A COLOR Y LEGIBLE DE LA CEDULA DE CIUDADANIA",null,null,null,null,null,null,null,null,null,null,null,null,null,"DIAS DE GRACIA        :",null,null,0,null,"TOTAL CUOTA MENSUAL   :",null,{"$f":"V31+R34+V32+V29","v":{"$error":"#DIV/0!"}},null,null,null,null,null,null,null,null,29,29,"OD08","Orientador de Defensa","GRADO NUEVO","E5","Especialista Quinto","CIVIL - GRADO ANTIGUO",3000000,5000000,"60 MESES","CIVIL O MILITAR CON MAS DE TRES AÑOS DE ANTIGÜEDAD"]
["3. FOTOCOPIA AMPLIADA AL 200%, A COLOR Y LEGIBLE DE LA CEDULA MILITAR O DE ",null,null,null,null,null,null,null,null,null,null,null,null,null,null,null,null,null,null,null,null,null,null,null,null,null,null,null,null,null,30,30,"TA14","Técnico para Apoyo de Seguridad y Defensa","GRADO NUEVO","E5","Especialista Quinto","CIVIL - GRADO ANTIGUO",3000000,5000000,"60 MESES","CIVIL O MILITAR CON MAS DE TRES AÑOS DE ANTIGÜEDAD"]
["    PERSONAL CIVIL CON EL GRADO ACTUALIZADO (IGUAL AL DEL DESPRENDIBLE)",null,null,null,null,null,null,null,null,null,null,null,null,null,null,null,null,null,null,null,null,null,null,null,null,null,null,null,null,null,31,31,"TI14","Técnico de Inteligencia","GRADO NUEVO","E5","Especialista Quinto","CIVIL - GRADO ANTIGUO",3000000,5000000,"60 MESES","CIVIL O MILITAR CON MAS DE TRES AÑOS DE ANTIGÜEDAD"]
["4. FIRMAR EL FORMATO DE AUTORIZACION DE DESCUENTO",null,null,null,null,null,null,null,null,null,null,null,null,null,null,null,null,null,null,null,null,null,null,null,null,null,null,null,null,null,32,32,"TS12","Técnico de Servicios","GRADO NUEVO","E6","Especialista Sexto","CIVIL - GRADO ANTIGUO",3000000,5000000,"60 MESES","CIVIL O MILITAR CON MAS DE TRES AÑOS DE ANTIGÜEDAD"]
["5. SI APLICA, UN CODEUDOR CON LOS MISMOS REQUISITOS DEL DEUDOR, QUIEN",null,null,null,null,null,null,null,null,null,null,null,null,null,null,null,null,null,null,null,null,null,null,null,null,null,null,null,null,null,33,33,"OD07","Orientador de Defensa","GRADO NUEVO","E6","Especialista Sexto","CIVIL - GRADO ANTIGUO",3000000,5000000,"60 MESES","CIVIL O MILITAR CON MAS DE TRES AÑOS DE ANTIGÜEDAD"]
["    PODRA PRESENTAR FOTOCOPIA DEL ULTIMO DESPRENDIBLE DE PAGO",null,null,null,null,null,null,null,null,null,null,null,null,null,null,null,null,null,null,null,null,null,null,null,null,null,null,null,null,null,34,34,"TA12","Técnico para Apoyo de Seguridad y Defensa","GRADO NUEVO","E6","Especialista Sexto","CIVIL - GRADO ANTIGUO",3000000,5000000,"60 MESES","CIVIL O MILITAR CON MAS DE TRES AÑOS DE ANTIGÜEDAD"]
[null,null,null,null,null,null,null,null,null,null,null,null,null,null,null,null,null,null,null,null,null,null,null,null,null,null,null,null,null,null,35,35,"TI12","Técnico de Inteligencia","GRADO NUEVO","E6","Especialista Sexto","CIVIL - GRADO ANTIGUO",3000000,5000000,"60 MESES","CIVIL O MILITAR CON MAS DE TRES AÑOS DE ANTIGÜEDAD"]
["DESCUENTOS QUE SIEMPRE SE CONSIDERAN INDEFINIDOS",null,null,null,null,null,null,null,null,null,null,null,null,null,null,null,null,null,null,null,null,null,null,null,null,null,null,null,null,null,36,36,"AS12","Auxiliar de Servicios","GRADO NUEVO","DJ","Adjunto Jefe","CIVIL - GRADO ANTIGUO",3000000,5000000,"60 MESES","CIVIL O MILITAR CON MAS DE TRES AÑOS DE ANTIGÜEDAD"]
["AUN CUANDO TENGAN FECHA DE TERMINO EN EL DESPRENDIBLE:",null,null,null,null,null,null,null,null,null,null,null,null,null,null,null,null,null,null,null,null,null,null,null,null,null,null,null,null,null,37,37,"OD06","Orientador de Defensa","GRADO NUEVO","DJ","Adjunto Jefe","CIVIL - GRADO ANTIGUO",3000000,5000000,"60 MESES","CIVIL O MILITAR CON MAS DE TRES AÑOS DE ANTIGÜEDAD"]
["1. CASAS FISCALES = VIMILITAR, ICFEJCDES",null,null,null,null,null,null,null,null,null,null,null,null,null,null,null,null,null,null,null,null,null,null,null,null,null,null,null,null,null,38,38,"AA12","Técnico para Apoyo de Seguridad y Defensa","GRADO NUEVO","DJ","Adjunto Jefe","CIVIL - GRADO ANTIGUO",3000000,5000000,"60 MESES","CIVIL O MILITAR CON MAS DE TRES AÑOS DE ANTIGÜEDAD"]
["2. EMBARGOS = JUZCIVMPALBTA",null,null,null,null,null,null,null,null,null,null,null,null,null,null,null,null,null,null,null,null,null,null,null,null,null,null,null,null,null,39,39,"TI11","Técnico de Inteligencia","GRADO NUEVO","DJ","Adjunto Jefe","CIVIL - GRADO ANTIGUO",3000000,5000000,"60 MESES","CIVIL O MILITAR CON MAS DE TRES AÑOS DE ANTIGÜEDAD"]
[null,null,null,null,null,null,null,null,null,null,null,null,null,null,null,null,null,null,null,null,null,null,null,null,null,null,null,null,null,null,40,40,"AS11","Auxiliar de Servicios","GRADO NUEVO","DI","Adjunto Intendente","CIVIL - GRADO ANTIGUO",3000000,5000000,"60 MESES","CIVIL O MILITAR CON MAS DE TRES AÑOS DE ANTIGÜEDAD"]
["DEVENGADOS QUE NO SE TIENEN EN CUENTA DENTRO DE LA",null,null,null,null,null,null,null,null,null,null,null,null,null,null,null,null,null,null,null,null,null,null,null,null,null,null,null,null,null,41,41,"AD05","Orientador de Defensa","GRADO NUEVO","DI","Adjunto Intendente","CIVIL - GRADO ANTIGUO",3000000,5000000,"60 MESES","CIVIL O MILITAR CON MAS DE TRES AÑOS DE ANTIGÜEDAD"]
["CAPACIDAD DE PAGO:",null,null,null,null,null,null,null,null,null,null,null,null,null,null,null,null,null,null,null,null,null,null,null,null,null,null,null,null,null,42,42,"AA11","Técnico para Apoyo de Seguridad y Defensa","GRADO NUEVO","DI","Adjunto Intendente","CIVIL - GRADO ANTIGUO",3000000,5000000,"60 MESES","CIVIL O MILITAR CON MAS DE TRES AÑOS DE ANTIGÜEDAD"]
["1. PRIMA DE ORDEN PUBLICO",null,null,null,null,null,null,null,null,null,null,null,null,null,null,null,null,null,null,null,null,null,null,null,null,null,null,null,null,null,43,43,"TI09","Técnico de Inteligencia","GRADO NUEVO","DI","Adjunto Intendente","CIVIL - GRADO ANTIGUO",3000000,5000000,"60 MESES","CIVIL O MILITAR CON MAS DE TRES AÑOS DE ANTIGÜEDAD"]
["2. PARTIDA DE ALIMENTACION",null,null,null,null,null,null,null,null,null,null,null,null,null,null,null,null,null,null,null,null,null,null,null,null,null,null,null,null,null,44,44,"AS10","Auxiliar de Servicios","GRADO NUEVO","DM","Adjunto Mayor","CIVIL - GRADO ANTIGUO",3000000,5000000,"60 MESES","CIVIL O MILITAR CON MAS DE TRES AÑOS DE ANTIGÜEDAD"]
[null,null,null,null,null,null,null,null,null,null,null,null,null,null,null,null,null,null,null,null,null,null,null,null,null,null,null,null,null,null,45,45,"OD04","Orientador de Defensa","GRADO NUEVO","DM","Adjunto Mayor","CIVIL - GRADO ANTIGUO",3000000,5000000,"60 MESES","CIVIL O MILITAR CON MAS DE TRES AÑOS DE ANTIGÜEDAD"]
[null,null,null,null,null,null,null,null,null,null,null,null,null,null,null,null,null,null,null,null,null,null,null,null,null,null,null,null,null,null,46,46,"AA10","Auxiliar para Apoyo de Seguridad y Defensa","GRADO NUEVO","DM","Adjunto Mayor","CIVIL - GRADO ANTIGUO",3000000,5000000,"60 MESES","CIVIL O MILITAR CON MAS DE TRES AÑOS DE ANTIGÜEDAD"]
[null,null,null,null,null,null,null,null,null,null,null,null,null,null,null,null,null,null,null,null,null,null,null,null,null,null,null,null,null,null,47,47,"TI08","Técnico de Inteligencia","GRADO NUEVO","DM","Adjunto Mayor","CIVIL - GRADO ANTIGUO",3000000,5000000,"60 MESES","CIVIL O MILITAR CON MAS DE TRES AÑOS DE ANTIGÜEDAD"]
[null,null,null,null,null,null,null,null,null,null,null,null,null,null,null,null,null,null,null,null,null,null,null,null,null,null,null,null,null,null,48,48,"AS09","Auxiliar de Servicios","GRADO NUEVO","DE","Adjunto Especial","CIVIL - GRADO ANTIGUO",3000000,5000000,"60 MESES","CIVIL O MILITAR CON MAS DE TRES AÑOS DE ANTIGÜEDAD"]
[null,null,null,null,null,null,null,null,null,null,null,null,null,null,null,null,null,null,null,null,null,null,null,null,null,null,null,null,null,null,49,49,"OD3","Orientador de Defensa","GRADO NUEVO","DE","Adjunto Especial","CIVIL - GRADO ANTIGUO",3000000,5000000,"60 MESES","CIVIL O MILITAR CON MAS DE TRES AÑOS DE ANTIGÜEDAD"]
[null,null,null,null,null,null,null,null,null,null,null,null,null,null,null,null,null,null,null,null,null,null,null,null,null,null,null,null,null,null,50,50,"AA09","Auxiliar para Apoyo de Seguridad y Defensa","GRADO NUEVO","DE","Adjunto Especial","CIVIL - GRADO ANTIGUO",3000000,5000000,"60 MESES","CIVIL O MILITAR CON MAS DE TRES AÑOS DE ANTIGÜEDAD"]
[null,null,null,null,null,null,null,null,null,null,null,null,null,null,null,null,null,null,null,null,null,null,null,null,null,null,null,null,null,null,51,51,"TI07","Técnico de Inteligencia","GRADO NUEVO","DE","Adjunto Especial","CIVIL - GRADO ANTIGUO",3000000,5000000,"60 MESES","CIVIL O MILITAR CON MAS DE TRES AÑOS DE ANTIGÜEDAD"]
[null,null,null,null,null,null,null,null,null,null,null,null,null,null,null,null,null,null,null,null,null,null,null,null,null,null,null,null,null,null,52,52,"AS07","Auxiliar de Servicios","GRADO NUEVO","D1","Adjunto Primero","CIVIL - GRADO ANTIGUO",3000000,5000000,"60 MESES","CIVIL O MILITAR CON MAS DE TRES AÑOS DE ANTIGÜEDAD"]
[null,null,null,null,null,null,null,null,null,null,null,null,null,null,null,null,null,null,null,null,null,null,null,null,null,null,null,null,null,null,53,53,"AD02","Orientador de Defensa","GRADO NUEVO","D1","Adjunto Primero","CIVIL - GRADO ANTIGUO",3000000,5000000,"60 MESES","CIVIL O MILITAR CON MAS DE TRES AÑOS DE ANTIGÜEDAD"]
[null,null,null,null,null,null,null,null,null,null,null,null,null,null,null,null,null,null,null,null,null,null,null,null,null,null,null,null,null,null,54,54,"AA07","Auxiliar para Apoyo de Seguridad y Defensa","GRADO NUEVO","D1","Adjunto Primero","CIVIL - GRADO ANTIGUO",3000000,5000000,"60 MESES","CIVIL O MILITAR CON MAS DE TRES AÑOS DE ANTIGÜEDAD"]
[null,null,null,null,null,null,null,null,null,null,null,null,null,null,null,null,null,null,null,null,null,null,null,null,null,null,null,null,null,null,55,55,"TI06","Técnico de Inteligencia","GRADO NUEVO","D1","Adjunto Primero","CIVIL - GRADO ANTIGUO",3000000,5000000,"60 MESES","CIVIL O MILITAR CON MAS DE TRES AÑOS DE ANTIGÜEDAD"]
[null,null,null,null,null,null,null,null,null,null,null,null,null,null,null,null,null,null,null,null,null,null,null,null,null,null,null,null,null,null,56,56,"AS06","Auxiliar de Servicios","GRADO NUEVO","D2","Adjunto Segundo","CIVIL - GRADO ANTIGUO",3000000,5000000,"60 MESES","CIVIL O MILITAR CON MAS DE TRES AÑOS DE ANTIGÜEDAD"]
[null,null,null,null,null,null,null,null,null,null,null,null,null,null,null,null,null,null,null,null,null,null,null,null,null,null,null,null,null,null,57,57,"OD01","Orientador de Defensa","GRADO NUEVO","D2","Adjunto Segundo","CIVIL - GRADO ANTIGUO",3000000,5000000,"60 MESES","CIVIL O MILITAR CON MAS DE TRES AÑOS DE ANTIGÜEDAD"]
[null,null,null,null,null,null,null,null,null,null,null,null,null,null,null,null,null,null,null,null,null,null,null,null,null,null,null,null,null,null,58,58,"AA06","Auxiliar para Apoyo de Seguridad y Defensa","GRADO NUEVO","D2","Adjunto Segundo","CIVIL - GRADO ANTIGUO",3000000,5000000,"60 MESES","CIVIL O MILITAR CON MAS DE TRES AÑOS DE ANTIGÜEDAD"]
[null,null,null,null,null,null,null,null,null,null,null,null,null,null,null,null,null,null,null,null,null,null,null,null,null,null,null,null,null,null,59,59,"TI05","Técnico de Inteligencia","GRADO NUEVO","D2","Adjunto Segundo","CIVIL - GRADO ANTIGUO",3000000,5000000,"60 MESES","CIVIL O MILITAR CON MAS DE TRES AÑOS DE ANTIGÜEDAD"]
[null,null,null,null,null,null,null,null,null,null,null,null,null,null,null,null,null,null,null,null,null,null,null,null,null,null,null,null,null,null,60,60,"AS05","Auxiliar de Servicios","GRADO NUEVO","D3","Adjunto Tercero","CIVIL - GRADO ANTIGUO",3000000,5000000,"60 MESES","CIVIL O MILITAR CON MAS DE TRES AÑOS DE ANTIGÜEDAD"]
[null,null,null,null,null,null,null,null,null,null,null,null,null,null,null,null,null,null,null,null,null,null,null,null,null,null,null,null,null,null,61,61,"AA05","Auxiliar para Apoyo de Seguridad y Defensa","GRADO NUEVO","D3","Adjunto Tercero","CIVIL - GRADO ANTIGUO",3000000,5000000,"60 MESES","CIVIL O MILITAR CON MAS DE TRES AÑOS DE ANTIGÜEDAD"]
[null,null,null,null,null,null,null,null,null,null,null,null,null,null,null,null,null,null,null,null,null,null,null,null,null,null,null,null,null,null,62,62,"TI04","Técnico de Inteligencia","GRADO NUEVO","D3","Adjunto Tercero","CIVIL - GRADO ANTIGUO",3000000,5000000,"60 MESES","CIVIL O MILITAR CON MAS DE TRES AÑOS DE ANTIGÜEDAD"]
[null,null,null,null,null,null,null,null,null,null,null,null,null,null,null,null,null,null,null,null,null,null,null,null,null,null,null,null,null,null,63,63,"AS03","Auxiliar de Servicios","GRADO NUEVO","D4","Adjunto Cuarto","CIVIL - GRADO ANTIGUO",3000000,5000000,"60 MESES","CIVIL O MILITAR CON MAS DE TRES AÑOS DE ANTIGÜEDAD"]
[null,null,null,null,null,null,null,null,null,null,null,null,null,null,null,null,null,null,null,null,null,null,null,null,null,null,null,null,null,null,64,64,"AA03","Auxiliar para Apoyo de Seguridad y Defensa","GRADO NUEVO","D4","Adjunto Cuarto","CIVIL - GRADO ANTIGUO",3000000,5000000,"60 MESES","CIVIL O MILITAR CON MAS DE TRES AÑOS DE ANTIGÜEDAD"]
[null,null,null,null,null,null,null,null,null,null,null,null,null,null,null,null,null,null,null,null,null,null,null,null,null,null,null,null,null,null,65,65,"AS01","Auxiliar de Servicios","GRADO NUEVO","D5","Adjunto Quinto","CIVIL - GRADO ANTIGUO",3000000,5000000,"60 MESES","CIVIL O MILITAR CON MAS DE TRES AÑOS DE ANTIGÜEDAD"]
[null,null,null,null,null,null,null,null,null,null,null,null,null,null,null,null,null,null,null,null,null,null,null,null,null,null,null,null,null,null,66,66,"AA01","Auxiliar para Apoyo de Seguridad y Defensa","GRADO NUEVO","D5","Adjunto Quinto","CIVIL - GRADO ANTIGUO",{"$f":"$AM$5","v":3000000},{"$f":"$AN$5","v":5000000},{"$f":"$AO$5","v":"60 MESES"},"CIVIL O MILITAR CON MAS DE TRES AÑOS DE ANTIGÜEDAD"]
[null,null,null,null,null,null,null,null,null,null,null,null,null,null,null,null,null,null,null,null,null,null,null,null,null,null,null,null,null,null,67,67,"PU10","Profesional Universitario 10","GRADO ANTIGUO","AD06","Asesor del Sector Defensa","CIVIL - GRADO NUEVO",3000000,5000000,"60 MESES","CIVIL O MILITAR CON MAS DE TRES AÑOS DE ANTIGÜEDAD"]
[null,null,null,null,null,null,null,null,null,null,null,null,null,null,null,null,null,null,null,null,null,null,null,null,null,null,null,null,null,null,68,68,"PU08","Profesional Universitario 08","GRADO ANTIGUO","AD04","Asesor del Sector Defensa","CIVIL - GRADO NUEVO",3000000,5000000,"60 MESES","CIVIL O MILITAR CON MAS DE TRES AÑOS DE ANTIGÜEDAD"]
[null,null,null,null,null,null,null,null,null,null,null,null,null,null,null,null,null,null,null,null,null,null,null,null,null,null,null,null,null,null,69,69,"PU06","Profesional Universitario 06","GRADO ANTIGUO","AD02","Asesor del Sector Defensa","CIVIL - GRADO NUEVO",3000000,5000000,"60 MESES","CIVIL O MILITAR CON MAS DE TRES AÑOS DE ANTIGÜEDAD"]
[null,null,null,null,null,null,null,null,null,null,null,null,null,null,null,null,null,null,null,null,null,null,null,null,null,null,null,null,null,null,70,70,"PU06","Profesional Universitario 06","GRADO ANTIGUO","OE18","Orientador Espiritual","CIVIL - GRADO NUEVO",3000000,5000000,"60 MESES","CIVIL O MILITAR CON MAS DE TRES AÑOS DE ANTIGÜEDAD"]
[null,null,null,null,null,null,null,null,null,null,null,null,null,null,null,null,null,null,null,null,null,null,null,null,null,null,null,null,null,null,71,71,"PU","Profesional Universitario ","GRADO ANTIGUO","OD18","Orientador de Defensa","CIVIL - GRADO NUEVO",3000000,5000000,"60 MESES","CIVIL O MILITAR CON MAS DE TRES AÑOS DE ANTIGÜEDAD"]
[null,null,null,null,null,null,null,null,null,null,null,null,null,null,null,null,null,null,null,null,null,null,null,null,null,null,null,null,null,null,72,72,"EP","Especialista Asesor Primero","GRADO ANTIGUO","PD04","Profesional de Defensa","CIVIL - GRADO NUEVO",3000000,5000000,"60 MESES","CIVIL O MILITAR CON MAS DE TRES AÑOS DE ANTIGÜEDAD"]
[null,null,null,null,null,null,null,null,null,null,null,null,null,null,null,null,null,null,null,null,null,null,null,null,null,null,null,null,null,null,73,73,"EP","Especialista Asesor Primero","GRADO ANTIGUO","OD16","Orientador de Defensa","CIVIL - GRADO NUEVO",3000000,5000000,"60 MESES","CIVIL O MILITAR CON MAS DE TRES AÑOS DE ANTIGÜEDAD"]
[null,null,null,null,null,null,null,null,null,null,null,null,null,null,null,null,null,null,null,null,null,null,null,null,null,null,null,null,null,null,74,74,"EP","Especialista Asesor Primero","GRADO ANTIGUO","OE16","Orientador Espiritual","CIVIL - GRADO NUEVO",3000000,5000000,"60 MESES","CIVIL O MILITAR CON MAS DE TRES AÑOS DE ANTIGÜEDAD"]
[null,null,null,null,null,null,null,null,null,null,null,null,null,null,null,null,null,null,null,null,null,null,null,null,null,null,null,null,null,null,75,75,"ES","Especialista Asesor Segundo","GRADO ANTIGUO","PD02","Profesional de Defensa","CIVIL - GRADO NUEVO",3000000,5000000,"60 MESES","CIVIL O MILITAR CON MAS DE TRES AÑOS DE ANTIGÜEDAD"]
[null,null,null,null,null,null,null,null,null,null,null,null,null,null,null,null,null,null,null,null,null,null,null,null,null,null,null,null,null,null,76,76,"ES","Especialista Asesor Segundo","GRADO ANTIGUO","OD14","Orientador de Defensa","CIVIL - GRADO NUEVO",3000000,5000000,"60 MESES","CIVIL O MILITAR CON MAS DE TRES AÑOS DE ANTIGÜEDAD"]
[null,null,null,null,null,null,null,null,null,null,null,null,null,null,null,null,null,null,null,null,null,null,null,null,null,null,null,null,null,null,77,77,"ES","Especialista Asesor Segundo","GRADO ANTIGUO","OE14","Orientador Espiritual","CIVIL - GRADO NUEVO",3000000,5000000,"60 MESES","CIVIL O MILITAR CON MAS DE TRES AÑOS DE ANTIGÜEDAD"]
[null,null,null,null,null,null,null,null,null,null,null,null,null,null,null,null,null,null,null,null,null,null,null,null,null,null,null,null,null,null,78,78,"EJ","Especialista Jefe","GRADO ANTIGUO","PD01","Profesional de Defensa","CIVIL - GRADO NUEVO",3000000,5000000,"60 MESES","CIVIL O MILITAR CON MAS DE TRES AÑOS DE ANTIGÜEDAD"]
[null,null,null,null,null,null,null,null,null,null,null,null,null,null,null,null,null,null,null,null,null,null,null,null,null,null,null,null,null,null,79,79,"EJ","Especialista Jefe","GRADO ANTIGUO","OD13","Orientador de Defensa","CIVIL - GRADO NUEVO",3000000,5000000,"60 MESES","CIVIL O MILITAR CON MAS DE TRES AÑOS DE ANTIGÜEDAD"]
[null,null,null,null,null,null,null,null,null,null,null,null,null,null,null,null,null,null,null,null,null,null,null,null,null,null,null,null,null,null,80,80,"EJ","Especialista Jefe","GRADO ANTIGUO","OE13","Orientador Espiritual","CIVIL - GRADO NUEVO",3000000,5000000,"60 MESES","CIVIL O MILITAR CON MAS DE TRES AÑOS DE ANTIGÜEDAD"]
[null,null,null,null,null,null,null,null,null,null,null,null,null,null,null,null,null,null,null,null,null,null,null,null,null,null,null,null,null,null,81,81,"E1","Especialista Primero","GRADO ANTIGUO","TS21","Tecnico de Servicios","CIVIL - GRADO NUEVO",3000000,5000000,"60 MESES","CIVIL O MILITAR CON MAS DE TRES AÑOS DE ANTIGÜEDAD"]
[null,null,null,null,null,null,null,null,null,null,null,null,null,null,null,null,null,null,null,null,null,null,null,null,null,null,null,null,null,null,82,82,"E1","Especialista Primero","GRADO ANTIGUO","OD12","Orientador de Defensa","CIVIL - GRADO NUEVO",3000000,5000000,"60 MESES","CIVIL O MILITAR CON MAS DE TRES AÑOS DE ANTIGÜEDAD"]
[null,null,null,null,null,null,null,null,null,null,null,null,null,null,null,null,null,null,null,null,null,null,null,null,null,null,null,null,null,null,83,83,"E1","Especialista Primero","GRADO ANTIGUO","TA21","Tecnico para Apoyo de Seguridad y Defensa","CIVIL - GRADO NUEVO",3000000,5000000,"60 MESES","CIVIL O MILITAR CON MAS DE TRES AÑOS DE ANTIGÜEDAD"]
[null,null,null,null,null,null,null,null,null,null,null,null,null,null,null,null,null,null,null,null,null,null,null,null,null,null,null,null,null,null,84,84,"E2","Especialista Segundo","GRADO ANTIGUO","TS19","Tecnico de Servicios","CIVIL - GRADO NUEVO",3000000,5000000,"60 MESES","CIVIL O MILITAR CON MAS DE TRES AÑOS DE ANTIGÜEDAD"]
[null,null,null,null,null,null,null,null,null,null,null,null,null,null,null,null,null,null,null,null,null,null,null,null,null,null,null,null,null,null,85,85,"E2","Especialista Segundo","GRADO ANTIGUO","OD11","Orientador de Defensa","CIVIL - GRADO NUEVO",3000000,5000000,"60 MESES","CIVIL O MILITAR CON MAS DE TRES AÑOS DE ANTIGÜEDAD"]
[null,null,null,null,null,null,null,null,null,null,null,null,null,null,null,null,null,null,null,null,null,null,null,null,null,null,null,null,null,null,86,86,"E2","Especialista Segundo","GRADO ANTIGUO","TA19","Tecnico para Apoyo de Seguridad y Defensa","CIVIL - GRADO NUEVO",3000000,5000000,"60 MESES","CIVIL O MILITAR CON MAS DE TRES AÑOS DE ANTIGÜEDAD"]
[null,null,null,null,null,null,null,null,null,null,null,null,null,null,null,null,null,null,null,null,null,null,null,null,null,null,null,null,null,null,87,87,"E3","Especialista Tercero","GRADO ANTIGUO","TS18","Tecnico de Servicios","CIVIL - GRADO NUEVO",3000000,5000000,"60 MESES","CIVIL O MILITAR CON MAS DE TRES AÑOS DE ANTIGÜEDAD"]
[null,null,null,null,null,null,null,null,null,null,null,null,null,null,null,null,null,null,null,null,null,null,null,null,null,null,null,null,null,null,88,88,"E3","Especialista Tercero","GRADO ANTIGUO","OD10","Orientador de Defensa","CIVIL - GRADO NUEVO",3000000,5000000,"60 MESES","CIVIL O MILITAR CON MAS DE TRES AÑOS DE ANTIGÜEDAD"]
[null,null,null,null,null,null,null,null,null,null,null,null,null,null,null,null,null,null,null,null,null,null,null,null,null,null,null,null,null,null,89,89,"E3","Especialista Tercero","GRADO ANTIGUO","TA18","Tecnico para Apoyo de Seguridad y Defensa","CIVIL - GRADO NUEVO",3000000,5000000,"60 MESES","CIVIL O MILITAR CON MAS DE TRES AÑOS DE ANTIGÜEDAD"]
[null,null,null,null,null,null,null,null,null,null,null,null,null,null,null,null,null,null,null,null,null,null,null,null,null,null,null,null,null,null,90,90,"E3","Especialista Tercero","GRADO ANTIGUO","TI18","Tecnico de Inteligencia","CIVIL - GRADO NUEVO",3000000,5000000,"60 MESES","CIVIL O MILITAR CON MAS DE TRES AÑOS DE ANTIGÜEDAD"]
[null,null,null,null,null,null,null,null,null,null,null,null,null,null,null,null,null,null,null,null,null,null,null,null,null,null,null,null,null,null,91,91,"E4","Especialista Cuarto","GRADO ANTIGUO","TS17","Tecnico de Servicios","CIVIL - GRADO NUEVO",3000000,5000000,"60 MESES","CIVIL O MILITAR CON MAS DE TRES AÑOS DE ANTIGÜEDAD"]
[null,null,null,null,null,null,null,null,null,null,null,null,null,null,null,null,null,null,null,null,null,null,null,null,null,null,null,null,null,null,92,92,"E4","Especialista Cuarto","GRADO ANTIGUO","OD09","Orientador de Defensa","CIVIL - GRADO NUEVO",3000000,5000000,"60 MESES","CIVIL O MILITAR CON MAS DE TRES AÑOS DE ANTIGÜEDAD"]
[null,null,null,null,null,null,null,null,null,null,null,null,null,null,null,null,null,null,null,null,null,null,null,null,null,null,null,null,null,null,93,93,"E4","Especialista Cuarto","GRADO ANTIGUO","TA17","Tecnico para Apoyo de Seguridad y Defensa","CIVIL - GRADO NUEVO",3000000,5000000,"60 MESES","CIVIL O MILITAR CON MAS DE TRES AÑOS DE ANTIGÜEDAD"]
[null,null,null,null,null,null,null,null,null,null,null,null,null,null,null,null,null,null,null,null,null,null,null,null,null,null,null,null,null,null,94,94,"E5","Especialista Quinto","GRADO ANTIGUO","TS14","Tecnico de Servicios","CIVIL - GRADO NUEVO",3000000,5000000,"60 MESES","CIVIL O MILITAR CON MAS DE TRES AÑOS DE ANTIGÜEDAD"]
[null,null,null,null,null,null,null,null,null,null,null,null,null,null,null,null,null,null,null,null,null,null,null,null,null,null,null,null,null,null,95,95,"E5","Especialista Quinto","GRADO ANTIGUO","OD08","Orientador de Defensa","CIVIL - GRADO NUEVO",3000000,5000000,"60 MESES","CIVIL O MILITAR CON MAS DE TRES AÑOS DE ANTIGÜEDAD"]
[null,null,null,null,null,null,null,null,null,null,null,null,null,null,null,null,null,null,null,null,null,null,null,null,null,null,null,null,null,null,96,96,"E5","Especialista Quinto","GRADO ANTIGUO","TA14","Tecnico para Apoyo de Seguridad y Defensa","CIVIL - GRADO NUEVO",3000000,5000000,"60 MESES","CIVIL O MILITAR CON MAS DE TRES AÑOS DE ANTIGÜEDAD"]
[null,null,null,null,null,null,null,null,null,null,null,null,null,null,null,null,null,null,null,null,null,null,null,null,null,null,null,null,null,null,97,97,"E5","Especialista Quinto","GRADO ANTIGUO","TI14","Tecnico de Inteligencia","CIVIL - GRADO NUEVO",3000000,5000000,"60 MESES","CIVIL O MILITAR CON MAS DE TRES AÑOS DE ANTIGÜEDAD"]
[null,null,null,null,null,null,null,null,null,null,null,null,null,null,null,null,null,null,null,null,null,null,null,null,null,null,null,null,null,null,98,98,"E6","Especialista Sexto","GRADO ANTIGUO","TS12","Tecnico de Servicios","CIVIL - GRADO NUEVO",3000000,5000000,"60 MESES","CIVIL O MILITAR CON MAS DE TRES AÑOS DE ANTIGÜEDAD"]
[null,null,null,null,null,null,null,null,null,null,null,null,null,null,null,null,null,null,null,null,null,null,null,null,null,null,null,null,null,null,99,99,"E6","Especialista Sexto","GRADO ANTIGUO","OD07","Orientador de Defensa","CIVIL - GRADO NUEVO",3000000,5000000,"60 MESES","CIVIL O MILITAR CON MAS DE TRES AÑOS DE ANTIGÜEDAD"]
[null,null,null,null,null,null,null,null,null,null,null,null,null,null,null,null,null,null,null,null,null,null,null,null,null,null,null,null,null,null,100,100,"E6","Especialista Sexto","GRADO ANTIGUO","TA12","Tecnico para Apoyo de Seguridad y Defensa","CIVIL - GRADO NUEVO",3000000,5000000,"60 MESES","CIVIL O MILITAR CON MAS DE TRES AÑOS DE ANTIGÜEDAD"]
[null,null,null,null,null,null,null,null,null,null,null,null,null,null,null,null,null,null,null,null,null,null,null,null,null,null,null,null,null,null,101,101,"E6","Especialista Sexto","GRADO ANTIGUO","TI12","Tecnico de Inteligencia","CIVIL - GRADO NUEVO",3000000,5000000,"60 MESES","CIVIL O MILITAR CON MAS DE TRES AÑOS DE ANTIGÜEDAD"]
[null,null,null,null,null,null,null,null,null,null,null,null,null,null,null,null,null,null,null,null,null,null,null,null,null,null,null,null,null,null,102,102,"DJ","Adjunto Jefe","GRADO ANTIGUO","AS12","Auxiliar de Servicios","CIVIL - GRADO NUEVO",3000000,5000000,"60 MESES","CIVIL O MILITAR CON MAS DE TRES AÑOS DE ANTIGÜEDAD"]
[null,null,null,null,null,null,null,null,null,null,null,null,null,null,null,null,null,null,null,null,null,null,null,null,null,null,null,null,null,null,103,103,"DJ","Adjunto Jefe","GRADO ANTIGUO","OD06","Orientador de Defensa","CIVIL - GRADO NUEVO",3000000,5000000,"60 MESES","CIVIL O MILITAR CON MAS DE TRES AÑOS DE ANTIGÜEDAD"]
[null,null,null,null,null,null,null,null,null,null,null,null,null,null,null,null,null,null,null,null,null,null,null,null,null,null,null,null,null,null,104,104,"DJ","Adjunto Jefe","GRADO ANTIGUO","AA12","Tecnico para Apoyo de Seguridad y Defensa","CIVIL - GRADO NUEVO",3000000,5000000,"60 MESES","CIVIL O MILITAR CON MAS DE TRES AÑOS DE ANTIGÜEDAD"]
[null,null,null,null,null,null,null,null,null,null,null,null,null,null,null,null,null,null,null,null,null,null,null,null,null,null,null,null,null,null,105,105,"DJ","Adjunto Jefe","GRADO ANTIGUO","TI11","Tecnico de Inteligencia","CIVIL - GRADO NUEVO",3000000,5000000,"60 MESES","CIVIL O MILITAR CON MAS DE TRES AÑOS DE ANTIGÜEDAD"]
[null,null,null,null,null,null,null,null,null,null,null,null,null,null,null,null,null,null,null,null,null,null,null,null,null,null,null,null,null,null,106,106,"DI","Adjunto Intendente","GRADO ANTIGUO","AS11","Auxiliar de Servicios","CIVIL - GRADO NUEVO",3000000,5000000,"60 MESES","CIVIL O MILITAR CON MAS DE TRES AÑOS DE ANTIGÜEDAD"]
[null,null,null,null,null,null,null,null,null,null,null,null,null,null,null,null,null,null,null,null,null,null,null,null,null,null,null,null,null,null,107,107,"DI","Adjunto Intendente","GRADO ANTIGUO","AD05","Orientador de Defensa","CIVIL - GRADO NUEVO",3000000,5000000,"60 MESES","CIVIL O MILITAR CON MAS DE TRES AÑOS DE ANTIGÜEDAD"]
[null,null,null,null,null,null,null,null,null,null,null,null,null,null,null,null,null,null,null,null,null,null,null,null,null,null,null,null,null,null,108,108,"DI","Adjunto Intendente","GRADO ANTIGUO","AA11","Tecnico para Apoyo de Seguridad y Defensa","CIVIL - GRADO NUEVO",3000000,5000000,"60 MESES","CIVIL O MILITAR CON MAS DE TRES AÑOS DE ANTIGÜEDAD"]
[null,null,null,null,null,null,null,null,null,null,null,null,null,null,null,null,null,null,null,null,null,null,null,null,null,null,null,null,null,null,109,109,"DI","Adjunto Intendente","GRADO ANTIGUO","TI09","Tecnico de Inteligencia","CIVIL - GRADO NUEVO",3000000,5000000,"60 MESES","CIVIL O MILITAR CON MAS DE TRES AÑOS DE ANTIGÜEDAD"]
[null,null,null,null,null,null,null,null,null,null,null,null,null,null,null,null,null,null,null,null,null,null,null,null,null,null,null,null,null,null,110,110,"DM","Adjunto Mayor","GRADO ANTIGUO","AS10","Auxiliar de Servicios","CIVIL - GRADO NUEVO",3000000,5000000,"60 MESES","CIVIL O MILITAR CON MAS DE TRES AÑOS DE ANTIGÜEDAD"]
[null,null,null,null,null,null,null,null,null,null,null,null,null,null,null,null,null,null,null,null,null,null,null,null,null,null,null,null,null,null,111,111,"DM","Adjunto Mayor","GRADO ANTIGUO","OD04","Orientador de Defensa","CIVIL - GRADO NUEVO",3000000,5000000,"60 MESES","CIVIL O MILITAR CON MAS DE TRES AÑOS DE ANTIGÜEDAD"]
[null,null,null,null,null,null,null,null,null,null,null,null,null,null,null,null,null,null,null,null,null,null,null,null,null,null,null,null,null,null,112,112,"DM","Adjunto Mayor","GRADO ANTIGUO","AA10","Auxiliar para Apoyo de Seguridad y Defensa","CIVIL - GRADO NUEVO",3000000,5000000,"60 MESES","CIVIL O MILITAR CON MAS DE TRES AÑOS DE ANTIGÜEDAD"]
[null,null,null,null,null,null,null,null,null,null,null,null,null,null,null,null,null,null,null,null,null,null,null,null,null,null,null,null,null,null,113,113,"DM","Adjunto Mayor","GRADO ANTIGUO","TI08","Tecnico de Inteligencia","CIVIL - GRADO NUEVO",3000000,5000000,"60 MESES","CIVIL O MILITAR CON MAS DE TRES AÑOS DE ANTIGÜEDAD"]
[null,null,null,null,null,null,null,null,null,null,null,null,null,null,null,null,null,null,null,null,null,null,null,null,null,null,null,null,null,null,114,114,"DE","Adjunto Especial","GRADO ANTIGUO","AS09","Auxiliar de Servicios","CIVIL - GRADO NUEVO",3000000,5000000,"60 MESES","CIVIL O MILITAR CON MAS DE TRES AÑOS DE ANTIGÜEDAD"]
[null,null,null,null,null,null,null,null,null,null,null,null,null,null,null,null,null,null,null,null,null,null,null,null,null,null,null,null,null,null,115,115,"DE","Adjunto Especial","GRADO ANTIGUO","OD3","Orientador de Defensa","CIVIL - GRADO NUEVO",3000000,5000000,"60 MESES","CIVIL O MILITAR CON MAS DE TRES AÑOS DE ANTIGÜEDAD"]
[null,null,null,null,null,null,null,null,null,null,null,null,null,null,null,null,null,null,null,null,null,null,null,null,null,null,null,null,null,null,116,116,"DE","Adjunto Especial","GRADO ANTIGUO","AA09","Auxiliar para Apoyo de Seguridad y Defensa","CIVIL - GRADO NUEVO",3000000,5000000,"60 MESES","CIVIL O MILITAR CON MAS DE TRES AÑOS DE ANTIGÜEDAD"]
[null,null,null,null,null,null,null,null,null,null,null,null,null,null,null,null,null,null,null,null,null,null,null,null,null,null,null,null,null,null,117,117,"DE","Adjunto Especial","GRADO ANTIGUO","TI07","Tecnico de Inteligencia","CIVIL - GRADO NUEVO",3000000,5000000,"60 MESES","CIVIL O MILITAR CON MAS DE TRES AÑOS DE ANTIGÜEDAD"]
[null,null,null,null,null,null,null,null,null,null,null,null,null,null,null,null,null,null,null,null,null,null,null,null,null,null,null,null,null,null,118,118,"D1","Adjunto Primero","GRADO ANTIGUO","AS07","Auxiliar de Servicios","CIVIL - GRADO NUEVO",3000000,5000000,"60 MESES","CIVIL O MILITAR CON MAS DE TRES AÑOS DE ANTIGÜEDAD"]
[null,null,null,null,null,null,null,null,null,null,null,null,null,null,null,null,null,null,null,null,null,null,null,null,null,null,null,null,null,null,119,119,"D1","Adjunto Primero","GRADO ANTIGUO","AD02","Orientador de Defensa","CIVIL - GRADO NUEVO",3000000,5000000,"60 MESES","CIVIL O MILITAR CON MAS DE TRES AÑOS DE ANTIGÜEDAD"]
[null,null,null,null,null,null,null,null,null,null,null,null,null,null,null,null,null,null,null,null,null,null,null,null,null,null,null,null,null,null,120,120,"D1","Adjunto Primero","GRADO ANTIGUO","AA07","Auxiliar para Apoyo de Seguridad y Defensa","CIVIL - GRADO NUEVO",3000000,5000000,"60 MESES","CIVIL O MILITAR CON MAS DE TRES AÑOS DE ANTIGÜEDAD"]
[null,null,null,null,null,null,null,null,null,null,null,null,null,null,null,null,null,null,null,null,null,null,null,null,null,null,null,null,null,null,121,121,"D1","Adjunto Primero","GRADO ANTIGUO","TI06","Tecnico de Inteligencia","CIVIL - GRADO NUEVO",3000000,5000000,"60 MESES","CIVIL O MILITAR CON MAS DE TRES AÑOS DE ANTIGÜEDAD"]
[null,null,null,null,null,null,null,null,null,null,null,null,null,null,null,null,null,null,null,null,null,null,null,null,null,null,null,null,null,null,122,122,"D2","Adjunto Segundo","GRADO ANTIGUO","AS06","Auxiliar de Servicios","CIVIL - GRADO NUEVO",3000000,5000000,"60 MESES","CIVIL O MILITAR CON MAS DE TRES AÑOS DE ANTIGÜEDAD"]
[null,null,null,null,null,null,null,null,null,null,null,null,null,null,null,null,null,null,null,null,null,null,null,null,null,null,null,null,null,null,123,123,"D2","Adjunto Segundo","GRADO ANTIGUO","OD01","Orientador de Defensa","CIVIL - GRADO NUEVO",3000000,5000000,"60 MESES","CIVIL O MILITAR CON MAS DE TRES AÑOS DE ANTIGÜEDAD"]
[null,null,null,null,null,null,null,null,null,null,null,null,null,null,null,null,null,null,null,null,null,null,null,null,null,null,null,null,null,null,124,124,"D2","Adjunto Segundo","GRADO ANTIGUO","AA06","Auxiliar para Apoyo de Seguridad y Defensa","CIVIL - GRADO NUEVO",3000000,5000000,"60 MESES","CIVIL O MILITAR CON MAS DE TRES AÑOS DE ANTIGÜEDAD"]
[null,null,null,null,null,null,null,null,null,null,null,null,null,null,null,null,null,null,null,null,null,null,null,null,null,null,null,null,null,null,125,125,"D2","Adjunto Segundo","GRADO ANTIGUO","TI05","Tecnico de Inteligencia","CIVIL - GRADO NUEVO",3000000,5000000,"60 MESES","CIVIL O MILITAR CON MAS DE TRES AÑOS DE ANTIGÜEDAD"]
[null,null,null,null,null,null,null,null,null,null,null,null,null,null,null,null,null,null,null,null,null,null,null,null,null,null,null,null,null,null,126,126,"D3","Adjunto Tercero","GRADO ANTIGUO","AS05","Auxiliar de Servicios","CIVIL - GRADO NUEVO",3000000,5000000,"60 MESES","CIVIL O MILITAR CON MAS DE TRES AÑOS DE ANTIGÜEDAD"]
[null,null,null,null,null,null,null,null,null,null,null,null,null,null,null,null,null,null,null,null,null,null,null,null,null,null,null,null,null,null,127,127,"D3","Adjunto Tercero","GRADO ANTIGUO","AA05","Auxiliar para Apoyo de Seguridad y Defensa","CIVIL - GRADO NUEVO",3000000,5000000,"60 MESES","CIVIL O MILITAR CON MAS DE TRES AÑOS DE ANTIGÜEDAD"]
[null,null,null,null,null,null,null,null,null,null,null,null,null,null,null,null,null,null,null,null,null,null,null,null,null,null,null,null,null,null,128,128,"D3","Adjunto Tercero","GRADO ANTIGUO","TI04","Tecnico de Inteligencia","CIVIL - GRADO NUEVO",3000000,5000000,"60 MESES","CIVIL O MILITAR CON MAS DE TRES AÑOS DE ANTIGÜEDAD"]
[null,null,null,null,null,null,null,null,null,null,null,null,null,null,null,null,null,null,null,null,null,null,null,null,null,null,null,null,null,null,129,129,"D4","Adjunto Cuarto","GRADO ANTIGUO","AS03","Auxiliar de Servicios","CIVIL - GRADO NUEVO",3000000,5000000,"60 MESES","CIVIL O MILITAR CON MAS DE TRES AÑOS DE ANTIGÜEDAD"]
[null,null,null,null,null,null,null,null,null,null,null,null,null,null,null,null,null,null,null,null,null,null,null,null,null,null,null,null,null,null,130,130,"D4","Adjunto Cuarto","GRADO ANTIGUO","AA03","Auxiliar para Apoyo de Seguridad y Defensa","CIVIL - GRADO NUEVO",{"$f":"$AM$5","v":3000000},{"$f":"$AN$5","v":5000000},{"$f":"$AO$5","v":"60 MESES"},"CIVIL O MILITAR CON MAS DE TRES AÑOS DE ANTIGÜEDAD"]
[null,null,null,null,null,null,null,null,null,null,null,null,null,null,null,null,null,null,null,null,null,null,null,null,null,null,null,null,null,null,131,131,"D5","Adjunto Quinto","GRADO ANTIGUO","AS01","Auxiliar de Servicios","CIVIL - GRADO NUEVO",{"$f":"$AM$5","v":3000000},{"$f":"$AN$5","v":5000000},"60 MESES","CIVIL O MILITAR CON MAS DE TRES AÑOS DE ANTIGÜEDAD"]
[null,null,null,null,null,null,null,null,null,null,null,null,null,null,null,null,null,null,null,null,null,null,null,null,null,null,null,null,null,null,132,132,"D5","Adjunto Quinto","GRADO ANTIGUO","AA01","Auxiliar para Apoyo de Seguridad y Defensa","CIVIL - GRADO NUEVO",{"$f":"$AM$5","v":3000000},{"$f":"$AN$5","v":5000000},"60 MESES","CIVIL O MILITAR CON MAS DE TRES AÑOS DE ANTIGÜEDAD"]
[null,null,null,null,null,null,null,null,null,null,null,null,null,null,null,null,null,null,null,null,null,null,null,null,null,null,null,null,null,null,133,133,"G","GENERAL","EN OFICIALES","G","EQUIVALENTE A ALM NAVAL","OFICIAL DE INFANTERIA DE MARINA",{"$f":"$AN$5","v":5000000},"NO REQUIERE","60 MESES","NO REQUIERE CODEUDOR"]
[null,null,null,null,null,null,null,null,null,null,null,null,null,null,null,null,null,null,null,null,null,null,null,null,null,null,null,null,null,null,134,134,"MG","MAYOR GENERAL","EN OFICIALES","MG","EQUIVALENTE A VALM NAVAL","OFICIAL DE INFANTERIA DE MARINA",{"$f":"$AN$5","v":5000000},"NO REQUIERE","60 MESES","NO REQUIERE CODEUDOR"]
[null,null,null,null,null,null,null,null,null,null,null,null,null,null,null,null,null,null,null,null,null,null,null,null,null,null,null,null,null,null,135,135,"BG","BRIGADIER GENERAL","EN OFICIALES","BG","EQUIVALENTE A CA NAVAL","OFICIAL DE INFANTERIA DE MARINA",{"$f":"$AN$5","v":5000000},"NO REQUIERE","60 MESES","NO REQUIERE CODEUDOR"]
[null,null,null,null,null,null,null,null,null,null,null,null,null,null,null,null,null,null,null,null,null,null,null,null,null,null,null,null,null,null,136,136,"CO","CORONEL","EN OFICIALES","CO","EQUIVALENTE A CN NAVAL","OFICIAL DE INFANTERIA DE MARINA",20000000,{"$f":"$AN$5","v":5000000},"60 MESES","SV - SP - SM - CT - MY - TC"]
[null,null,null,null,null,null,null,null,null,null,null,null,null,null,null,null,null,null,null,null,null,null,null,null,null,null,null,null,null,null,137,137,"TC","TENIENTE CORONEL","EN OFICIALES","TC","EQUIVALENTE A CF NAVAL","OFICIAL DE INFANTERIA DE MARINA",15000000,{"$f":"$AN$5","v":5000000},"60 MESES","SV - SP - SM - CT - MY - TC"]
[null,null,null,null,null,null,null,null,null,null,null,null,null,null,null,null,null,null,null,null,null,null,null,null,null,null,null,null,null,null,138,138,"MY","MAYOR","EN OFICIALES","MY","EQUIVALENTE A CC NAVAL","OFICIAL DE INFANTERIA DE MARINA",10000000,{"$f":"$AN$5","v":5000000},"60 MESES","SV - SP - SM - CT - MY - TC"]
[null,null,null,null,null,null,null,null,null,null,null,null,null,null,null,null,null,null,null,null,null,null,null,null,null,null,null,null,null,null,139,139,"CT","CAPITAN ","EN OFICIALES","CT","EQUIVALENTE A TN NAVAL","OFICIAL DE INFANTERIA DE MARINA",8000000,15000000,"60 MESES","SV - SP - SM - CT - MY - TC"]
[null,null,null,null,null,null,null,null,null,null,null,null,null,null,null,null,null,null,null,null,null,null,null,null,null,null,null,null,null,null,140,140,"TE","TENIENTE","EN OFICIALES","TE","EQUIVALENTE A TF NAVAL","OFICIAL DE INFANTERIA DE MARINA",4000000,10000000,"60 MESES","SS - SV - SP - SM - TE - CT - MY - TC"]
[null,null,null,null,null,null,null,null,null,null,null,null,null,null,null,null,null,null,null,null,null,null,null,null,null,null,null,null,null,null,141,141,"ST","SUBTENIENTE","EN OFICIALES","ST","EQUIVALENTE A TK NAVAL","OFICIAL DE INFANTERIA DE MARINA","NO SE OTORGA",5000000,"60 MESES","CP - SS - SV - SP - SM - TE - CT - MY - TC"]
[null,null,null,null,null,null,null,null,null,null,null,null,null,null,null,null,null,null,null,null,null,null,null,null,null,null,null,null,null,null,142,142,"ALM","ALMIRANTE","EN OFICIALES","ALM","EQUIVALENTE A G DE INFANTERIA DE MARINA","OFICIAL NAVAL",{"$f":"$AN$5","v":5000000},"NO REQUIERE","60 MESES","NO REQUIERE CODEUDOR"]
[null,null,null,null,null,null,null,null,null,null,null,null,null,null,null,null,null,null,null,null,null,null,null,null,null,null,null,null,null,null,143,143,"VALM","VICEALMIRANTE","EN OFICIALES","VALM","EQUIVALENTE A MG DE INFANTERIA DE MARINA","OFICIAL NAVAL",{"$f":"$AN$5","v":5000000},"NO REQUIERE","60 MESES","NO REQUIERE CODEUDOR"]
[null,null,null,null,null,null,null,null,null,null,null,null,null,null,null,null,null,null,null,null,null,null,null,null,null,null,null,null,null,null,144,144,"CA","CONTRAALMIRANTE","EN OFICIALES","CA","EQUIVALENTE A BG DE INFANTERIA DE MARINA","OFICIAL NAVAL",{"$f":"$AN$5","v":5000000},"NO REQUIERE","60 MESES","NO REQUIERE CODEUDOR"]
[null,null,null,null,null,null,null,null,null,null,null,null,null,null,null,null,null,null,null,null,null,null,null,null,null,null,null,null,null,null,145,145,"CN","CAPITAN DE NAVIO","EN OFICIALES","CN","EQUIVALENTE A CO DE INFANTERIA DE MARINA","OFICIAL NAVAL",20000000,{"$f":"$AN$5","v":5000000},"60 MESES","SV - SP - SM - CT - MY - TC"]
[null,null,null,null,null,null,null,null,null,null,null,null,null,null,null,null,null,null,null,null,null,null,null,null,null,null,null,null,null,null,146,146,"CF","CAPITAN DE FRAGATA","EN OFICIALES","CF","EQUIVALENTE A TC DE INFANTERIA DE MARINA","OFICIAL NAVAL",15000000,{"$f":"$AN$5","v":5000000},"60 MESES","SV - SP - SM - CT - MY - TC"]
[null,null,null,null,null,null,null,null,null,null,null,null,null,null,null,null,null,null,null,null,null,null,null,null,null,null,null,null,null,null,147,147,"CC","CAPITAN DE CORBETA","EN OFICIALES","CC","EQUIVALENTE A MY DE INFANTERIA DE MARINA","OFICIAL NAVAL",10000000,{"$f":"$AN$5","v":5000000},"60 MESES","SV - SP - SM - CT - MY - TC"]
[null,null,null,null,null,null,null,null,null,null,null,null,null,null,null,null,null,null,null,null,null,null,null,null,null,null,null,null,null,null,148,148,"TN","TENIENTE DE NAVIO","EN OFICIALES","TN","EQUIVALENTE A CT DE INFANTERIA DE MARINA","OFICIAL NAVAL",8000000,15000000,"60 MESES","SV - SP - SM - CT - MY - TC"]
[null,null,null,null,null,null,null,null,null,null,null,null,null,null,null,null,null,null,null,null,null,null,null,null,null,null,null,null,null,null,149,149,"TF","TENIENTE DE FRAGATA","EN OFICIALES","TF","EQUIVALENTE A TE DE INFANTERIA DE MARINA","OFICIAL NAVAL",4000000,10000000,"60 MESES","SS - SV - SP - SM - TE - CT - MY - TC"]
[null,null,null,null,null,null,null,null,null,null,null,null,null,null,null,null,null,null,null,null,null,null,null,null,null,null,null,null,null,null,150,150,"TK","TENIENTE DE CORBETA","EN OFICIALES","TK","EQUIVALENTE A ST DE INFANTERIA DE MARINA","OFICIAL NAVAL","NO SE OTORGA",5000000,"60 MESES","CP - SS - SV - SP - SM - TE - CT - MY - TC"]
[null,null,null,null,null,null,null,null,null,null,null,null,null,null,null,null,null,null,null,null,null,null,null,null,null,null,null,null,null,null,151,151,"SM","SARGENTO MAYOR","EN SUBOFICIALES","SM","EQUIVALENTE A SJT NAVAL","SUBOFICIAL DE INFANTERIA DE MARINA",{"$f":"$AN$5","v":5000000},"NO REQUIERE","60 MESES","NO REQUIERE CODEUDOR"]
[null,null,null,null,null,null,null,null,null,null,null,null,null,null,null,null,null,null,null,null,null,null,null,null,null,null,null,null,null,null,152,152,"SP","SARGENTO PRIMERO","EN SUBOFICIALES","SP","EQUIVALENTE A SJ NAVAL","SUBOFICIAL DE INFANTERIA DE MARINA",{"$f":"$AN$5","v":5000000},"NO REQUIERE","60 MESES","NO REQUIERE CODEUDOR"]
[null,null,null,null,null,null,null,null,null,null,null,null,null,null,null,null,null,null,null,null,null,null,null,null,null,null,null,null,null,null,153,153,"SV","SARGENTO VICEPRIMERO","EN SUBOFICIALES","SV","EQUIVALENTE A S1 NAVAL","SUBOFICIAL DE INFANTERIA DE MARINA",{"$f":"$AN$5","v":5000000},"NO REQUIERE","60 MESES","NO REQUIERE CODEUDOR"]
[null,null,null,null,null,null,null,null,null,null,null,null,null,null,null,null,null,null,null,null,null,null,null,null,null,null,null,null,null,null,154,154,"SS","SARGENTO SEGUNDO","EN SUBOFICIALES","SS","EQUIVALENTE A S2 NAVAL","SUBOFICIAL DE INFANTERIA DE MARINA",10000000,15000000,"60 MESES","SS - SV - SP - SM - TE - CT - MY - TC"]
[null,null,null,null,null,null,null,null,null,null,null,null,null,null,null,null,null,null,null,null,null,null,null,null,null,null,null,null,null,null,155,155,"CP","CABO PRIMERO","EN SUBOFICIALES","CP","EQUIVALENTE A S3 NAVAL","SUBOFICIAL DE INFANTERIA DE MARINA",4000000,8000000,"60 MESES","CP - SS - SV - SP - SM - TE - CT - MY - TC"]
[null,null,null,null,null,null,null,null,null,null,null,null,null,null,null,null,null,null,null,null,null,null,null,null,null,null,null,null,null,null,156,156,"CS","CABO SEGUNDO","EN SUBOFICIALES","CS","EQUIVALENTE A M1 NAVAL","SUBOFICIAL DE INFANTERIA DE MARINA","NO SE OTORGA",4000000,"NO SE OTORGA","CP - SS - SV - SP - SM - TE - CT - MY - TC"]
[null,null,null,null,null,null,null,null,null,null,null,null,null,null,null,null,null,null,null,null,null,null,null,null,null,null,null,null,null,null,157,157,"C3","CABO TERCERO","EN SUBOFICIALES","C3","EQUIVALENTE A M2 NAVAL","SUBOFICIAL DE INFANTERIA DE MARINA","NO SE OTORGA","NO SE OTORGA","NO SE OTORGA","NO SE OTORGA"]
[null,null,null,null,null,null,null,null,null,null,null,null,null,null,null,null,null,null,null,null,null,null,null,null,null,null,null,null,null,null,158,158,"SJT","SUBOFICIAL JEFE TECNICO","EN SUBOFICIALES","SJT","EQUIVALENTE A SM DE INFANTERIA DE MARINA","SUBOFICIAL NAVAL",{"$f":"$AN$5","v":5000000},"NO REQUIERE",{"$f":"$AO$5","v":"60 MESES"},"NO REQUIERE CODEUDOR"]
[null,null,null,null,null,null,null,null,null,null,null,null,null,null,null,null,null,null,null,null,null,null,null,null,null,null,null,null,null,null,159,159,"SJ","SUBOFICIAL JEFE ","EN SUBOFICIALES","SJ","EQUIVALENTE A SP DE INFANTERIA DE MARINA","SUBOFICIAL NAVAL",{"$f":"$AN$5","v":5000000},"NO REQUIERE",{"$f":"$AO$5","v":"60 MESES"},"NO REQUIERE CODEUDOR"]
[null,null,null,null,null,null,null,null,null,null,null,null,null,null,null,null,null,null,null,null,null,null,null,null,null,null,null,null,null,null,160,160,"S1","SUBOFICIAL PRIMERO","EN SUBOFICIALES","S1","EQUIVALENTE A SV DE INFANTERIA DE MARINA","SUBOFICIAL NAVAL",{"$f":"$AN$5","v":5000000},"NO REQUIERE",{"$f":"$AO$5","v":"60 MESES"},"NO REQUIERE CODEUDOR"]
[null,null,null,null,null,null,null,null,null,null,null,null,null,null,null,null,null,null,null,null,null,null,null,null,null,null,null,null,null,null,161,161,"S2","SUBOFICIAL SEGUNDO","EN SUBOFICIALES","S2","EQUIVALENTE A SS DE INFANTERIA DE MARINA","SUBOFICIAL NAVAL",10000000,15000000,{"$f":"$AO$5","v":"60 MESES"},"SS - SV - SP - SM - TE - CT - MY - TC"]
[null,null,null,null,null,null,null,null,null,null,null,null,null,null,null,null,null,null,null,null,null,null,null,null,null,null,null,null,null,null,162,162,"S3","SUBOFICIAL TERCERO","EN SUBOFICIALES","S3","EQUIVALENTE A CP DE INFANTERIA DE MARINA","SUBOFICIAL NAVAL",4000000,8000000,{"$f":"$AO$5","v":"60 MESES"},"CP - SS - SV - SP - SM - TE - CT - MY - TC"]
[null,null,null,null,null,null,null,null,null,null,null,null,null,null,null,null,null,null,null,null,null,null,null,null,null,null,null,null,null,null,163,163,"M1","MARINERO PRIMERO","EN SUBOFICIALES","M1","EQUIVALENTE A CS DE INFANTERIA DE MARINA","SUBOFICIAL NAVAL","NO SE OTORGA",4000000,"NO SE OTORGA","CP - SS - SV - SP - SM - TE - CT - MY - TC"]
[null,null,null,null,null,null,null,null,null,null,null,null,null,null,null,null,null,null,null,null,null,null,null,null,null,null,null,null,null,null,164,164,"M2","MARINERO SEGUNDO","EN SUBOFICIALES","M2","EQUIVALENTE A C3 DE INFANTERIA DE MARINA","SUBOFICIAL NAVAL","NO SE OTORGA","NO SE OTORGA","NO SE OTORGA","NO SE OTORGA"]
[null,null,null,null,null,null,null,null,null,null,null,null,null,null,null,null,null,null,null,null,null,null,null,null,null,null,null,null,null,null,165,165,"SLP","SOLDADO PROFESIONAL","EN SOLDADOS","SLP","NO HAY CAMBIO DE GRADO","SOLDADO PROFESIONAL","NO SE OTORGA","NO SE OTORGA","NO SE OTORGA","NO SE OTORGA"]
[null,null,null,null,null,null,null,null,null,null,null,null,null,null,null,null,null,null,null,null,null,null,null,null,null,null,null,null,null,null,166,166,"SLV","SOLDADO VOLUNTARIO","EN SOLDADOS","SLV","NO HAY CAMBIO DE GRADO","SOLDADO VOLUNTARIO","NO SE OTORGA","NO SE OTORGA","NO SE OTORGA","NO SE OTORGA"]

{"sheet":"FAC","index":6,"n_rows":157,"n_cols":42,"rows_kept":157,"cut":false,"hidden":false,"merged":[[19,0,19,2],[20,0,21,2],[22,0,25,2],[34,14,34,16],[26,14,26,16],[22,14,22,16],[19,14,19,16],[19,3,19,5],[26,0,28,0],[23,14,23,16],[32,14,32,16],[26,8,26,13],[27,8,27,13],[34,19,34,20],[35,14,35,16],[35,19,35,20],[27,3,27,5],[30,14,30,16],[30,19,30,20],[31,14,31,16],[31,19,31,20],[33,14,33,16],[33,19,33,20],[32,19,32,20],[26,19,26,20],[28,14,28,16],[28,19,28,20],[29,14,29,16],[29,19,29,20],[22,19,22,20],[24,14,24,16],[24,19,24,20],[25,14,25,16],[25,19,25,20],[23,19,23,20],[19,19,19,20],[20,14,20,16],[20,19,20,20],[21,14,21,16],[21,19,21,20],[14,0,18,2],[14,4,14,5],[14,6,18,6],[15,4,15,5],[16,4,16,5],[18,4,18,5],[11,0,11,2],[12,0,12,2],[13,0,13,2],[3,3,3,4],[3,5,3,7],[4,3,4,4],[4,5,4,7],[6,3,6,4],[9,0,9,2],[10,0,10,2],[3,0,3,2],[4,0,4,2],[5,0,5,2],[6,0,6,2],[0,0,0,2],[1,0,1,2],[2,0,2,2],[7,0,7,2],[8,0,8,2],[1,8,1,13],[3,8,3,13],[28,8,28,13],[0,3,0,4],[10,4,10,5],[17,4,17,5],[2,8,2,13],[12,8,12,13],[13,8,13,13],[11,8,11,13],[0,12,0,13]]}
["FAC CO 1 - PA CO 1 - CR 1",null,null,"50%    -",null,"Adic y Deducibles",null,null,null,null,null,null,{"$f":"TASAS!G15","v":"2025-03"}]
["SELECCIONE EL GRADO DEL USUARIO",null,null,null,{"$f":"IF(($D$2= \"\"),\"\",VLOOKUP($D$2,$AG$8:$AP$157,2,FALSE))","v":""},null,null,null,"La tasa de interés preferencial",null,null,null,null,null,{"$f":"D9-D10","v":0},{"$f":"D11-O2","v":0}]
[{"$f":"IF(($D$2= \"\"),\"\",VLOOKUP($D$2,$AG$8:$AP$157,6,FALSE))","v":""},null,null,{"$f":"IF(($D$2= \"\"),\"\",VLOOKUP($D$2,$AG$8:$AP$194,4,FALSE))","v":""},{"$f":"IF(($D$2= \"\"),\"\",VLOOKUP($D$2,$AG$8:$AP$157,5,FALSE))","v":""},null,null,null,"solo aplica para pensionados, no para activos",null,null,null,null,null,null,null,null,null,{"$f":"IF(AND(E27<TASAS!H11,D27<TASAS!M2),TASAS!H6,TASAS!H5)","v":{"$error":"#VALUE!"}}]
[{"$f":"IF(($D$2=\"\"),\"\",\"MONTO MAXIMO SIN CODEUDOR\")","v":""},null,null,{"$f":"IF(($D$2= \"\"),\"\",VLOOKUP($D$2,$AG$8:$AP$157,7,FALSE))","v":""},null,null,null,null,"NO SE TRAMITAN COMPRAS DE CARTERA",null,null,null,null,null,null,null,null,null,{"$f":"B27-S3","v":{"$error":"#VALUE!"}}]
[{"$f":"IF(($D$2=\"\"),\"\",\"MONTO MAXIMO CON CODEUDOR\")","v":""},null,null,{"$f":"IF(($D$2= \"\"),\"\",VLOOKUP($D$2,$AG$8:$AP$157,8,FALSE))","v":""},null,null,null,null,null,null,null,null,null,null,null,null,null,null,0,null,null,null,null,null,null,null,null,null,null,null,null,null,null,null,null,null,null,null,3000000,5000000,"60 MESES",{"$f":"LEFT(AO5,2)","v":"60"}]
[{"$f":"IF(($D$2=\"\"),\"\",\"CODEUDOR REQUERIDO\")","v":""},null,null,{"$f":"IF(($D$2= \"\"),\"\",VLOOKUP($D$2,$AG$8:$AP$157,10,FALSE))","v":""},null,null,null,null,null,null,null,null,null,null,null,null,null,null,{"$f":"TASAS!H3","v":1.77E-2},"TASA"]
[{"$f":"IF(($D$2=\"\"),\"\",\"PLAZO MAXIMO PARA EL CREDITO\")","v":""},null,null,{"$f":"IF(($D$2= \"\"),\"\",VLOOKUP($D$2,$AG$8:$AP$157,9,FALSE))","v":""},null,{"$f":"IF(($D$2=\"\"),\"\",\"REVISE ABAJO LOS REQUISITOS\")","v":""},null,null,null,null,null,null,null,null,null,null,null,null,{"$f":"TASAS!H4","v":1.8200000000000001E-2},"TASA",null,null,null,null,null,null,null,null,null,null,null,"No.","SIGLA","DESCRIPCION","CLASIFICACION","SIGLA","DESCRIPCION","CLASIFICACION","MONTO MAX SIN CD","MONTO MAX CON CD","PLAZO","CD REQUEIRDO"]
["EVALUACION CAPACIDAD DE PAGO",null,null,"VALOR 1","VALOR 2","VALOR 3","TOTALES",null,null,null,null,null,null,null,null,null,null,null,{"$f":"TASAS!H5","v":1.8699999999999998E-2},"TASA",null,null,null,null,null,null,null,null,null,null,1,1,"AD06","Asesor del Sector Defensa","GRADO NUEVO","PU10","Profesional Universitario 10","CIVIL - GRADO ANTIGUO",{"$f":"$AM$5","v":3000000},{"$f":"$AN$5","v":5000000},{"$f":"$AO$5","v":"60 MESES"},"CIVIL O MILITAR CON MAS DE TRES AÑOS DE ANTIGÜEDAD"]
["TOTAL INGRESOS",null,null,0,null,null,{"$f":"D9","v":0},null,null,null,null,null,null,null,null,null,null,null,{"$f":"TASAS!H6","v":3.4999999999999996E-2},"TASA",null,null,null,null,null,null,null,null,null,null,2,2,"AD04","Asesor del Sector Defensa","GRADO NUEVO","PU08","Profesional Universitario 08","CIVIL - GRADO ANTIGUO",{"$f":"$AM$5","v":3000000},{"$f":"$AN$5","v":5000000},{"$f":"$AO$5","v":"60 MESES"},"CIVIL O MILITAR CON MAS DE TRES AÑOS DE ANTIGÜEDAD"]
["(-) TOTAL DESCUENTOS",null,null,0,null,null,{"$f":"IF(($P$2>3),\"ERROR EN\",IF($P$2<-3,\"ERROR EN\",D10))","v":0},null,null,null,null,null,null,null,null,null,null,null,{"$f":"TASAS!H7","v":1.4499999999999999E-2},"TASA",null,null,null,null,null,null,null,null,null,null,3,3,"AD02","Asesor del Sector Defensa","GRADO NUEVO","PU06","Profesional Universitario 06","CIVIL - GRADO ANTIGUO",3000000,5000000,"60 MESES","CIVIL O MILITAR CON MAS DE TRES AÑOS DE ANTIGÜEDAD"]
["INGRESO NETO RECIBIDO EN EL DESPRENDIBLE DE PAGO",null,null,0,"DISPONIBLE PARA CREDITO",null,{"$f":"IF(($P$2>3),\"LOS DATOS\",IF($P$2<-3,\"LOS DATOS\",(((G9-G14)/2)-G10+G12+G13)))","v":0},"*",null,null,null,null,null,null,null,null,null,null,{"$f":"TASAS!H8","v":1.4999999999999999E-2},"TASA",null,null,null,null,null,null,null,null,null,null,4,4,"OE18","Orientador Espiritual","GRADO NUEVO","PU06","Profesional Universitario 06","CIVIL - GRADO ANTIGUO",3000000,5000000,"60 MESES","CIVIL O MILITAR CON MAS DE TRES AÑOS DE ANTIGÜEDAD"]
["(+) DESCUENTOS FINALIZADOS EN EL PRESENTE MES Y EN EL PROXIMO",null,null,0,0,0,{"$f":"SUM(D12:F12)","v":0},null,{"$f":"IF((B27=0),\"¡ ¡ ¡ Por favor seleccione la tasa de interés ! ! !\",\" \")","v":"¡ ¡ ¡ Por favor seleccione la tasa de interés ! ! !"},null,null,null,null,null,null,null,null,null,{"$f":"TASAS!H9","v":1.55E-2},"TASA",null,null,null,null,null,null,null,null,null,null,5,5,"OD18","Orientador de Defensa","GRADO NUEVO","PU","Profesional Universitario ","CIVIL - GRADO ANTIGUO",3000000,5000000,"60 MESES","CIVIL O MILITAR CON MAS DE TRES AÑOS DE ANTIGÜEDAD"]
["(+) CUOTAS DE COMPRAS DE CARTERA",null,null,0,0,0,{"$f":"SUM(D13:F13)","v":0},null,{"$f":"IF((S4=0),\" \",\"¡¡¡   A T E N C I O N   !!!\")","v":{"$error":"#VALUE!"}},null,null,null,null,null,null,null,null,null,null,null,null,null,null,null,null,null,null,null,null,null,6,6,"PD04","Profesional de Defensa","GRADO NUEVO","EP","Especialista Asesor Primero","CIVIL - GRADO ANTIGUO",3000000,5000000,"60 MESES","CIVIL O MILITAR CON MAS DE TRES AÑOS DE ANTIGÜEDAD"]
["(-) VALOR INGRESOS ADICIONALES Y OTROS DEDUCIBLES",null,null,0,0,0,{"$f":"SUM(D14:F14)","v":0},null,{"$f":"IF((S4=0),\" \",\"La tasa máxima para ese monto y plazo es del\")","v":{"$error":"#VALUE!"}},null,null,null,null,null,null,null,null,{"$f":"D3*1","v":{"$error":"#VALUE!"}},{"$f":"(PV($B$27,$D$27,$T$18))*-1","v":{"$error":"#VALUE!"}},null,null,null,null,null,null,null,null,null,null,null,7,7,"OD16","Orientador de Defensa","GRADO NUEVO","EP","Especialista Asesor Primero","CIVIL - GRADO ANTIGUO",3000000,5000000,"60 MESES","CIVIL O MILITAR CON MAS DE TRES AÑOS DE ANTIGÜEDAD"]
["(-) VALOR ESTIMADO CUOTA DE CREDITO CON COOSERFIN",null,null,0,{"$f":"IF(($D$17=\"TASA\"),\" \",\"VALOR SOLICITADO\")","v":"VALOR SOLICITADO"},null,{"$f":"IF(($D$2=\"\"),\"RECUERDE DIGITAR ARRIBA EL GRADO\",ROUNDUP(((((D15*D17))*(D16+D18))+D15)/D16,0))","v":"RECUERDE DIGITAR ARRIBA EL GRADO"},null,null,null,null,null,null,null,null,null,null,null,{"$f":"(IF(S14>R14,R14,FLOOR(S14,100000)))","v":{"$error":"#VALUE!"}},null,null,null,null,null,null,null,null,null,null,null,8,8,"OE16","Orientador Espiritual","GRADO NUEVO","EP","Especialista Asesor Primero","CIVIL - GRADO ANTIGUO",3000000,5000000,"60 MESES","CIVIL O MILITAR CON MAS DE TRES AÑOS DE ANTIGÜEDAD"]
[null,null,null,0,{"$f":"IF(($D$17=\"TASA\"),\" \",\"PLAZO\")","v":"PLAZO"},null,null,null,null,null,null,null,null,null,null,null,null,null,null,null,null,null,null,null,null,null,null,null,null,null,9,9,"PD02","Profesional de Defensa","GRADO NUEVO","ES","Especialista Asesor Segundo","CIVIL - GRADO ANTIGUO",3000000,5000000,"60 MESES","CIVIL O MILITAR CON MAS DE TRES AÑOS DE ANTIGÜEDAD"]
[null,null,null,2.3E-2,"FACTOR",null,null,null,null,null,null,null,null,null,null,null,null,null,null,{"$f":"F22","v":"NO APLICA"},null,null,null,null,null,null,null,null,null,null,10,10,"OD14","Orientador de Defensa","GRADO NUEVO","ES","Especialista Asesor Segundo","CIVIL - GRADO ANTIGUO",3000000,5000000,"60 MESES","CIVIL O MILITAR CON MAS DE TRES AÑOS DE ANTIGÜEDAD"]
[null,null,null,0,{"$f":"IF(($D$17=\"TASA\"),\" \",\"MES(ES) DE GRACIA\")","v":"MES(ES) DE GRACIA"},null,null,null,null,null,null,null,null,null,null,null,null,{"$f":"(PV($B$27,$D$27,$F$22))*-1","v":{"$error":"#VALUE!"}},null,{"$f":"((T17*(1-R23))-R25-V20-V24)*0.99","v":{"$error":"#VALUE!"}},null,null,null,null,{"$f":"R20*R24","v":{"$error":"#VALUE!"}},null,null,null,null,null,11,11,"OE14","Orientador Espiritual","GRADO NUEVO","ES","Especialista Asesor Segundo","CIVIL - GRADO ANTIGUO",3000000,5000000,"60 MESES","CIVIL O MILITAR CON MAS DE TRES AÑOS DE ANTIGÜEDAD"]
[null,null,null,{"$f":"IF($G$20>=0,(G15*D16),IF($G$20<0,\"\"))","v":{"$error":"#VALUE!"}},{"$f":"IF(($D$17=\"TASA\"),\" \",\"VALOR LIBRANZA\")","v":"VALOR LIBRANZA"},null,null,null,null,null,null,null,null,null,null,null,null,null,null,null,null,null,null,null,{"$f":"R29*R33","v":{"$error":"#VALUE!"}},null,null,null,null,null,12,12,"PD01","Profesional de Defensa","GRADO NUEVO","EJ","Especialista Jefe","CIVIL - GRADO ANTIGUO",3000000,5000000,"60 MESES","CIVIL O MILITAR CON MAS DE TRES AÑOS DE ANTIGÜEDAD"]
["INGRESO ESTIMADO EN EL PRIMER MES DE PAGO DEL CREDITO",null,null,{"$f":"IF($G$20>=0,\"USUARIO CON CAPACIDAD DE PAGO\",IF($G$20<0,\"INTENTE CON OTRO MONTO Y/O PLAZO\"))","v":{"$error":"#VALUE!"}},{"$f":"IF($J$16>=AD13,\"USUARIO CON CAPACIDAD DE ENDEUDAMIENTO\",IF($J$16<AD13,\"CREDITO INVIABLE INTENTE CON OTRO MONTO Y/O PLAZO\"))","v":"USUARIO CON CAPACIDAD DE ENDEUDAMIENTO"},{"$f":"IF($J$16>=AE13,\"USUARIO CON CAPACIDAD DE ENDEUDAMIENTO\",IF($J$16<AE13,\"CREDITO INVIABLE INTENTE CON OTRO MONTO Y/O PLAZO\"))","v":"CREDITO INVIABLE INTENTE CON OTRO MONTO Y/O PLAZO"},{"$f":"G11-G15","v":{"$error":"#VALUE!"}},null,null,null,null,null,null,null,"VALOR CREDITO         :",null,null,{"$f":"R18","v":{"$error":"#VALUE!"}},null,"VALOR SEGURO          :",null,{"$f":"R20*TASAS!C12","v":{"$error":"#VALUE!"}},null,null,{"$f":"(((($R$21)*((1+($R$21))^$R$22))/(((1+($R$21))^$R$22)-1))*$R$20)+((((R20*R21)/30)*R27)/R22)+R25+V20+V23","v":{"$error":"#DIV/0!"}},null,null,null,null,null,13,13,"OD13","Orientador de Defensa","GRADO NUEVO","EJ","Especialista Jefe","CIVIL - GRADO ANTIGUO",3000000,5000000,"60 MESES","CIVIL O MILITAR CON MAS DE TRES AÑOS DE ANTIGÜEDAD"]
[{"$f":"IF($W$22>0,\"MONTO MAXIMO DE ENDEUDAMIENTO\",IF($W$22<=0,\"EL SOLICITANTE NO TIENE POSIBILIDADES DE CREDITO\"))","v":"EL SOLICITANTE NO TIENE POSIBILIDADES DE CREDITO"},null,null,"PLAZO","MONTO MAX","VALOR CUOTA","VR LIBRANZA",null,null,null,null,null,null,null,"TASA NOMINAL MENSUAL  :",null,null,{"$f":"B27","v":0},null,"TASA EFECTIVA ANUAL   :",null,{"$f":"((1+((R21*12)/12))^12)-1","v":0},null,null,null,null,null,null,null,null,14,14,"OE13","Orientador Espiritual","GRADO NUEVO","EJ","Especialista Jefe","CIVIL - GRADO ANTIGUO",3000000,5000000,"60 MESES","CIVIL O MILITAR CON MAS DE TRES AÑOS DE ANTIGÜEDAD"]
[null,null,null,{"$f":"AP5","v":"60"},{"$f":"IF(($W$22<=0),\"NO APLICA\",$G$22*100/((($D$17*100)*($D$22+$D$18))+100))","v":"NO APLICA"},{"$f":"IF(($W$22<=0),\"NO APLICA\",$G$11)","v":"NO APLICA"},{"$f":"IF(($W$22<=0),\"NO APLICA\",($D$22*$F$22))","v":"NO APLICA"},"*",null,null,null,null,null,null,"PLAZO EN MESES        :",null,null,{"$f":"D27","v":"60"},null,"CUOTA NETA            :",null,{"$f":"((((R21)*((1+(R21))^R22))/(((1+(R21))^R22)-1))*(R20+Y18))+(((((R20+Y18)*R21)/30)*R27)/R22)","v":{"$error":"#DIV/0!"}},{"$f":"$G$11+$G$12+$G$13","v":0},"PLAZO","MONTO MAX","VR MAX CUOTA","VALOR LZ",null,null,null,15,15,"TS21","Técnico de Servicios","GRADO NUEVO","E1","Especialista Primero","CIVIL - GRADO ANTIGUO",3000000,5000000,"60 MESES","CIVIL O MILITAR CON MAS DE TRES AÑOS DE ANTIGÜEDAD"]
[{"$f":"IF($G$20>=0,\"OTRAS OPCIONES DE CREDITO DISPONIBLES\",IF($G$20<0,\"INTENTE CON OTRO MONTO Y/O PLAZO\"))","v":{"$error":"#VALUE!"}},null,null,{"$f":"IF($Y$23<=$AA$27,12,IF($Y$23>$AA$27,\"NO APLICA\"))","v":{"$error":"#VALUE!"}},{"$f":"IF(Y23>$AA$27,\"NO APLICA\",IF(Y23<=$AA$27,FLOOR(Y23,10000)))","v":{"$error":"#VALUE!"}},{"$f":"IF($Y$23>$AA$27,\"NO APLICA\",IF(Y23<=$AA$27,((((E23*($D$17)*((D23+$D$18))+E23)/D23)))))","v":{"$error":"#VALUE!"}},{"$f":"IF($Y$23>$AA$27,\"NO APLICA\",IF(Y23<=$AA$27,(D23*F23)))","v":{"$error":"#VALUE!"}},null,null,null,null,null,null,null,"TASA COMISION RECAUDO :",null,null,0,null,"COMISION POR RECAUDO  :",null,{"$f":"((((((R21)*((1+(R21))^R22))/(((1+(R21))^R22)-1))*(R20+Y18))+(((((R20+Y18)*R21)/30)*R27)/R22)+R25+V20)*100)/(100-(R23*100))-(((((R21)*((1+(R21))^R22))/(((1+(R21))^R22)-1))*(R20+Y18))+(((((R20+Y18)*R21)/30)*R27)/R22)+R25+V20)","v":{"$error":"#DIV/0!"}},null,12,{"$f":"IF(($G$20>=0),AA23*100/((($D$17*100)*(X23+$D$18))+100),\"\")","v":{"$error":"#VALUE!"}},{"$f":"IF(($G$20>=0),($G$20+$G$15),\"\")","v":{"$error":"#VALUE!"}},{"$f":"IF(($G$20>=0),(Z23*X23),\"\")","v":{"$error":"#VALUE!"}},null,null,null,16,16,"OD12","Orientador de Defensa","GRADO NUEVO","E1","Especialista Primero","CIVIL - GRADO ANTIGUO",3000000,5000000,"60 MESES","CIVIL O MILITAR CON MAS DE TRES AÑOS DE ANTIGÜEDAD"]
[null,null,null,{"$f":"IF($Y$24<=$AA$27,24,IF($Y$24>$AA$27,\"NO APLICA\"))","v":{"$error":"#VALUE!"}},{"$f":"IF(Y24>$AA$27,\"NO APLICA\",IF(Y24<=$AA$27,FLOOR(Y24,10000)))","v":{"$error":"#VALUE!"}},{"$f":"IF($Y$24>$AA$27,\"NO APLICA\",IF(Y24<=$AA$27,((((E24*($D$17)*((D24+$D$18))+E24)/D24)))))","v":{"$error":"#VALUE!"}},{"$f":"IF($Y$24>$AA$27,\"NO APLICA\",IF(Y24<=$AA$27,(D24*F24)))","v":{"$error":"#VALUE!"}},null,null,null,null,null,null,null,"OTROS GASTOS          :",null,null,{"$f":"B29","v":0},null,"VALOR OTROS GASTOS    :",null,{"$f":"V27-Y20","v":{"$error":"#DIV/0!"}},null,24,{"$f":"IF(($G$20>=0),AA24*100/((($D$17*100)*(X24+$D$18))+100),\"\")","v":{"$error":"#VALUE!"}},{"$f":"IF(($G$20>=0),($G$20+$G$15),\"\")","v":{"$error":"#VALUE!"}},{"$f":"IF(($G$20>=0),(Z24*X24),\"\")","v":{"$error":"#VALUE!"}},null,null,null,17,17,"TA21","Técnico para Apoyo de Seguridad y Defensa","GRADO NUEVO","E1","Especialista Primero","CIVIL - GRADO ANTIGUO",3000000,5000000,"60 MESES","CIVIL O MILITAR CON MAS DE TRES AÑOS DE ANTIGÜEDAD"]
[null,null,null,{"$f":"IF($Y$25<=$AA$27,36,IF($Y$25>$AA$27,\"NO APLICA\"))","v":{"$error":"#VALUE!"}},{"$f":"IF(Y25>$AA$27,\"NO APLICA\",IF(Y25<=$AA$27,FLOOR(Y25,10000)))","v":{"$error":"#VALUE!"}},{"$f":"IF($Y$25>$AA$27,\"NO APLICA\",IF(Y25<=$AA$27,((((E25*($D$17)*((D25+$D$18))+E25)/D25)))))","v":{"$error":"#VALUE!"}},{"$f":"IF($Y$25>$AA$27,\"NO APLICA\",IF(Y25<=$AA$27,(D25*F25)))","v":{"$error":"#VALUE!"}},null,null,null,null,null,null,null,"APORTES SOCIALES      :",null,null,0,null,"FECHA DE INICIO       :",null,{"$f":"(R26+((R22+1)*29))-((R22-1)*29)","v":"2012-02-28"},null,36,{"$f":"IF(($G$20>=0),AA25*100/((($D$17*100)*(X25+$D$18))+100),\"\")","v":{"$error":"#VALUE!"}},{"$f":"IF(($G$20>=0),($G$20+$G$15),\"\")","v":{"$error":"#VALUE!"}},{"$f":"IF(($G$20>=0),(Z25*X25),\"\")","v":{"$error":"#VALUE!"}},null,null,null,18,18,"TS19","Técnico de Servicios","GRADO NUEVO","E2","Especialista Segundo","CIVIL - GRADO ANTIGUO",3000000,5000000,"60 MESES","CIVIL O MILITAR CON MAS DE TRES AÑOS DE ANTIGÜEDAD"]
[null,null,null,{"$f":"IF($Y$26<=$AA$27,48,IF($Y$26>$AA$27,\"NO APLICA\"))","v":{"$error":"#VALUE!"}},{"$f":"IF(Y26>$AA$27,\"NO APLICA\",IF(Y26<=$AA$27,FLOOR(Y26,10000)))","v":{"$error":"#VALUE!"}},{"$f":"IF($Y$26>$AA$27,\"NO APLICA\",IF(Y26<=$AA$27,((((E26*($D$17)*((D26+$D$18))+E26)/D26)))))","v":{"$error":"#VALUE!"}},{"$f":"IF($Y$26>$AA$27,\"NO APLICA\",IF(Y26<=$AA$27,(D26*F26)))","v":{"$error":"#VALUE!"}},null,null,null,null,null,null,null,"FECHA DESEMBOLSO      :",null,null,"2012-01-01",null,"FECHA DE TERMINO      :",null,{"$f":"(R26+((R22+1)*29))-((R22-1)*29)+((R22-1)*30)","v":"2017-01-02"},null,48,{"$f":"IF(($G$20>=0),AA26*100/((($D$17*100)*(X26+$D$18))+100),\"\")","v":{"$error":"#VALUE!"}},{"$f":"IF(($G$20>=0),($G$20+$G$15),\"\")","v":{"$error":"#VALUE!"}},{"$f":"IF(($G$20>=0),(Z26*X26),\"\")","v":{"$error":"#VALUE!"}},null,null,null,19,19,"OD11","Orientador de Defensa","GRADO NUEVO","E2","Especialista Segundo","CIVIL - GRADO ANTIGUO",3000000,5000000,"60 MESES","CIVIL O MILITAR CON MAS DE TRES AÑOS DE ANTIGÜEDAD"]
["LIBRE INVERSION - COBRO DE AVAL ANTICIPADO",0,"N.M.V.",{"$f":"AP5","v":"60"},{"$f":"S15","v":{"$error":"#VALUE!"}},"  VR CUOTA   ",{"$f":"(((($R$30)*((1+($R$30))^$R$31))/(((1+($R$30))^$R$31)-1))*($E$27+$Y$19))+(((((E27+Y19)*R30)/30)*R36)/R31)+R34+V29+V32+V33","v":{"$error":"#DIV/0!"}},null,{"$f":"IF((S4=0),\" \",S3)","v":{"$error":"#VALUE!"}},null,null,null,null,null,"DIAS DE GRACIA        :",null,null,{"$f":"B30","v":0},null,"TOTAL CUOTA MENSUAL   :",null,{"$f":"V22+R25+V23+V20","v":{"$error":"#DIV/0!"}},null,null,null,"MONTO MAXIMO POR CLIENTE",15000000,null,null,null,20,20,"TA19","Técnico para Apoyo de Seguridad y Defensa","GRADO NUEVO","E2","Especialista Segundo","CIVIL - GRADO ANTIGUO",3000000,5000000,"60 MESES","CIVIL O MILITAR CON MAS DE TRES AÑOS DE ANTIGÜEDAD"]
[null,{"$f":"((1+((B27*12)/12))^12)-1","v":0}," E. A.",{"$f":"IF(G28>=0,\"USUARIO CON CAPACIDAD DE PAGO\",IF(G28<0,\"INTENTE CON OTRO MONTO Y/O PLAZO\"))","v":{"$error":"#DIV/0!"}},null,null,{"$f":"G11-G27","v":{"$error":"#DIV/0!"}},null,{"$f":"IF(B27=TASAS!H3,\"Tasa para clientes con puntaje > a 750 y sin procesos\",\" \")","v":" "},null,null,null,null,null,null,null,null,null,null,null,null,null,null,null,null,null,null,null,null,null,21,21,"TS18","Técnico de Servicios","GRADO NUEVO","E3","Especialista Tercero","CIVIL - GRADO ANTIGUO",3000000,5000000,"60 MESES","CIVIL O MILITAR CON MAS DE TRES AÑOS DE ANTIGÜEDAD"]
[null,0," O. G.","% AVAL","VALOR AVAL ","A GIRAR",null,null,{"$f":"IF(B27=TASAS!H4,\"Tasa para clientes con puntaje entre 650 - 749 y sin procesos\",\" \")","v":" "},null,null,null,null,null,"VALOR CREDITO         :",null,null,{"$f":"E27","v":{"$error":"#VALUE!"}},null,"VALOR SEGURO          :",null,{"$f":"R29*TASAS!C12","v":{"$error":"#VALUE!"}},null,null,null,null,null,null,null,null,22,22,"OD10","Orientador de Defensa","GRADO NUEVO","E3","Especialista Tercero","CIVIL - GRADO ANTIGUO",3000000,5000000,"60 MESES","CIVIL O MILITAR CON MAS DE TRES AÑOS DE ANTIGÜEDAD"]
[null,0," D. G.",0.09,{"$f":"E27*D30","v":{"$error":"#VALUE!"}},{"$f":"E27-E30","v":{"$error":"#VALUE!"}},null,null,null,null,null,null,null,null,"TASA NOMINAL MENSUAL  :",null,null,{"$f":"R21","v":0},null,"TASA EFECTIVA ANUAL   :",null,{"$f":"((1+((R30*12)/12))^12)-1","v":0},null,null,null,null,null,null,null,null,23,23,"TA18","Técnico para Apoyo de Seguridad y Defensa","GRADO NUEVO","E3","Especialista Tercero","CIVIL - GRADO ANTIGUO",3000000,5000000,"60 MESES","CIVIL O MILITAR CON MAS DE TRES AÑOS DE ANTIGÜEDAD"]
[null,"% Simple",{"$f":"(((G27*D27)-E27)/E27)/D27","v":{"$error":"#DIV/0!"}},null,null,null,null,null,null,null,null,null,null,null,"PLAZO EN MESES        :",null,null,"60",null,"CUOTA NETA            :",null,{"$f":"((((R30)*((1+(R30))^R31))/(((1+(R30))^R31)-1))*(R29+Y19))+(((((R29+Y19)*R30)/30)*R36)/R31)","v":{"$error":"#DIV/0!"}},null,null,null,null,null,null,null,null,24,24,"TI18","Técnico de Inteligencia","GRADO NUEVO","E3","Especialista Tercero","CIVIL - GRADO ANTIGUO",3000000,5000000,"60 MESES","CIVIL O MILITAR CON MAS DE TRES AÑOS DE ANTIGÜEDAD"]
[null,null,null,null,null,null,null,null,null,null,null,null,null,null,"TASA COMISION RECAUDO :",null,null,0,null,"COMISION POR RECAUDO  :",null,{"$f":"((((((R30)*((1+(R30))^R31))/(((1+(R30))^R31)-1))*(R29+Y19))+(((((R29+Y19)*R30)/30)*R36)/R31)+R34+V29)*100)/(100-(R32*100))-(((((R30)*((1+(R30))^R31))/(((1+(R30))^R31)-1))*(R29+Y19))+(((((R29+Y19)*R30)/30)*R36)/R31)+R34+V29)","v":{"$error":"#DIV/0!"}},null,null,null,null,null,null,null,null,25,25,"TS17","Técnico de Servicios","GRADO NUEVO","E4","Especialista Cuarto","CIVIL - GRADO ANTIGUO",3000000,5000000,"60 MESES","CIVIL O MILITAR CON MAS DE TRES AÑOS DE ANTIGÜEDAD"]
["REQUISITOS PARA SOLICITUD DE CREDITO:",null,null,null,null,null,null,null,null,null,null,null,null,null,"OTROS GASTOS          :",null,null,0,null,"VALOR OTROS GASTOS    :",null,null,null,null,null,null,null,null,null,null,26,26,"OD09","Orientador de Defensa","GRADO NUEVO","E4","Especialista Cuarto","CIVIL - GRADO ANTIGUO",3000000,5000000,"60 MESES","CIVIL O MILITAR CON MAS DE TRES AÑOS DE ANTIGÜEDAD"]
["1. DESPRENDIBLES DE PAGO ORIGINALES  DE LOS DOS (2) ULTIMOS ",null,null,null,null,null,null,null,null,null,null,null,null,null,"APORTES SOCIALES      :",null,null,0,null,"FECHA DE INICIO       :",null,{"$f":"(R35+((R31+1)*29))-((R31-1)*29)","v":"2012-02-28"},null,null,null,null,null,null,null,null,27,27,"TA17","Técnico para Apoyo de Seguridad y Defensa","GRADO NUEVO","E4","Especialista Cuarto","CIVIL - GRADO ANTIGUO",3000000,5000000,"60 MESES","CIVIL O MILITAR CON MAS DE TRES AÑOS DE ANTIGÜEDAD"]
["    MESES ",null,null,null,null,null,null,null,null,null,null,null,null,null,"FECHA DESEMBOLSO      :",null,null,"2012-01-01",null,"FECHA DE TERMINO      :",null,{"$f":"(R35+((R31+1)*29))-((R31-1)*29)+((R31-1)*30)","v":"2017-01-02"},null,null,null,null,null,null,null,null,28,28,"TS14","Técnico de Servicios","GRADO NUEVO","E5","Especialista Quinto","CIVIL - GRADO ANTIGUO",3000000,5000000,"60 MESES","CIVIL O MILITAR CON MAS DE TRES AÑOS DE ANTIGÜEDAD"]
["2. FOTOCOPIA AMPLIADA AL 200%, A COLOR Y LEGIBLE DE LA CEDULA DE CIUDADANIA",null,null,null,null,null,null,null,null,null,null,null,null,null,"DIAS DE GRACIA        :",null,null,0,null,"TOTAL CUOTA MENSUAL   :",null,{"$f":"V31+R34+V32+V29","v":{"$error":"#DIV/0!"}},null,null,null,null,null,null,null,null,29,29,"OD08","Orientador de Defensa","GRADO NUEVO","E5","Especialista Quinto","CIVIL - GRADO ANTIGUO",3000000,5000000,"60 MESES","CIVIL O MILITAR CON MAS DE TRES AÑOS DE ANTIGÜEDAD"]
["3. FOTOCOPIA AMPLIADA AL 200%, A COLOR Y LEGIBLE DE LA CEDULA MILITAR O DE ",null,null,null,null,null,null,null,null,null,null,null,null,null,null,null,null,null,null,null,null,null,null,null,null,null,null,null,null,null,30,30,"TA14","Técnico para Apoyo de Seguridad y Defensa","GRADO NUEVO","E5","Especialista Quinto","CIVIL - GRADO ANTIGUO",3000000,5000000,"60 MESES","CIVIL O MILITAR CON MAS DE TRES AÑOS DE ANTIGÜEDAD"]
["    PERSONAL CIVIL CON EL GRADO ACTUALIZADO (IGUAL AL DEL DESPRENDIBLE)",null,null,null,null,null,null,null,null,null,null,null,null,null,null,null,null,null,null,null,null,null,null,null,null,null,null,null,null,null,31,31,"TI14","Técnico de Inteligencia","GRADO NUEVO","E5","Especialista Quinto","CIVIL - GRADO ANTIGUO",3000000,5000000,"60 MESES","CIVIL O MILITAR CON MAS DE TRES AÑOS DE ANTIGÜEDAD"]
["4. FIRMAR EL FORMATO DE AUTORIZACION DE DESCUENTO",null,null,null,null,null,null,null,null,null,null,null,null,null,null,null,null,null,null,null,null,null,null,null,null,null,null,null,null,null,32,32,"TS12","Técnico de Servicios","GRADO NUEVO","E6","Especialista Sexto","CIVIL - GRADO ANTIGUO",3000000,5000000,"60 MESES","CIVIL O MILITAR CON MAS DE TRES AÑOS DE ANTIGÜEDAD"]
["5. SI APLICA, UN CODEUDOR CON LOS MISMOS REQUISITOS DEL DEUDOR, QUIEN",null,null,null,null,null,null,null,null,null,null,null,null,null,null,null,null,null,null,null,null,null,null,null,null,null,null,null,null,null,33,33,"OD07","Orientador de Defensa","GRADO NUEVO","E6","Especialista Sexto","CIVIL - GRADO ANTIGUO",3000000,5000000,"60 MESES","CIVIL O MILITAR CON MAS DE TRES AÑOS DE ANTIGÜEDAD"]
["    PODRA PRESENTAR FOTOCOPIA DEL ULTIMO DESPRENDIBLE DE PAGO",null,null,null,null,null,null,null,null,null,null,null,null,null,null,null,null,null,null,null,null,null,null,null,null,null,null,null,null,null,34,34,"TA12","Técnico para Apoyo de Seguridad y Defensa","GRADO NUEVO","E6","Especialista Sexto","CIVIL - GRADO ANTIGUO",3000000,5000000,"60 MESES","CIVIL O MILITAR CON MAS DE TRES AÑOS DE ANTIGÜEDAD"]
[null,null,null,null,null,null,null,null,null,null,null,null,null,null,null,null,null,null,null,null,null,null,null,null,null,null,null,null,null,null,35,35,"TI12","Técnico de Inteligencia","GRADO NUEVO","E6","Especialista Sexto","CIVIL - GRADO ANTIGUO",3000000,5000000,"60 MESES","CIVIL O MILITAR CON MAS DE TRES AÑOS DE ANTIGÜEDAD"]
["DESCUENTOS QUE SIEMPRE SE CONSIDERAN INDEFINIDOS",null,null,null,null,null,null,null,null,null,null,null,null,null,null,null,null,null,null,null,null,null,null,null,null,null,null,null,null,null,36,36,"AS12","Auxiliar de Servicios","GRADO NUEVO","DJ","Adjunto Jefe","CIVIL - GRADO ANTIGUO",3000000,5000000,"60 MESES","CIVIL O MILITAR CON MAS DE TRES AÑOS DE ANTIGÜEDAD"]
["AUN CUANDO TENGAN FECHA DE TERMINO EN EL DESPRENDIBLE:",null,null,null,null,null,null,null,null,null,null,null,null,null,null,null,null,null,null,null,null,null,null,null,null,null,null,null,null,null,37,37,"OD06","Orientador de Defensa","GRADO NUEVO","DJ","Adjunto Jefe","CIVIL - GRADO ANTIGUO",3000000,5000000,"60 MESES","CIVIL O MILITAR CON MAS DE TRES AÑOS DE ANTIGÜEDAD"]
["1. CASAS FISCALES = VIMILITAR, ICFEJCDES",null,null,null,null,null,null,null,null,null,null,null,null,null,null,null,null,null,null,null,null,null,null,null,null,null,null,null,null,null,38,38,"AA12","Técnico para Apoyo de Seguridad y Defensa","GRADO NUEVO","DJ","Adjunto Jefe","CIVIL - GRADO ANTIGUO",3000000,5000000,"60 MESES","CIVIL O MILITAR CON MAS DE TRES AÑOS DE ANTIGÜEDAD"]
["2. EMBARGOS = JUZCIVMPALBTA",null,null,null,null,null,null,null,null,null,null,null,null,null,null,null,null,null,null,null,null,null,null,null,null,null,null,null,null,null,39,39,"TI11","Técnico de Inteligencia","GRADO NUEVO","DJ","Adjunto Jefe","CIVIL - GRADO ANTIGUO",3000000,5000000,"60 MESES","CIVIL O MILITAR CON MAS DE TRES AÑOS DE ANTIGÜEDAD"]
[null,null,null,null,null,null,null,null,null,null,null,null,null,null,null,null,null,null,null,null,null,null,null,null,null,null,null,null,null,null,40,40,"AS11","Auxiliar de Servicios","GRADO NUEVO","DI","Adjunto Intendente","CIVIL - GRADO ANTIGUO",3000000,5000000,"60 MESES","CIVIL O MILITAR CON MAS DE TRES AÑOS DE ANTIGÜEDAD"]
["DEVENGADOS QUE NO SE TIENEN EN CUENTA DENTRO DE LA",null,null,null,null,null,null,null,null,null,null,null,null,null,null,null,null,null,null,null,null,null,null,null,null,null,null,null,null,null,41,41,"AD05","Orientador de Defensa","GRADO NUEVO","DI","Adjunto Intendente","CIVIL - GRADO ANTIGUO",3000000,5000000,"60 MESES","CIVIL O MILITAR CON MAS DE TRES AÑOS DE ANTIGÜEDAD"]
["CAPACIDAD DE PAGO:",null,null,null,null,null,null,null,null,null,null,null,null,null,null,null,null,null,null,null,null,null,null,null,null,null,null,null,null,null,42,42,"AA11","Técnico para Apoyo de Seguridad y Defensa","GRADO NUEVO","DI","Adjunto Intendente","CIVIL - GRADO ANTIGUO",3000000,5000000,"60 MESES","CIVIL O MILITAR CON MAS DE TRES AÑOS DE ANTIGÜEDAD"]
["1. PRIMA DE ORDEN PUBLICO",null,null,null,null,null,null,null,null,null,null,null,null,null,null,null,null,null,null,null,null,null,null,null,null,null,null,null,null,null,43,43,"TI09","Técnico de Inteligencia","GRADO NUEVO","DI","Adjunto Intendente","CIVIL - GRADO ANTIGUO",3000000,5000000,"60 MESES","CIVIL O MILITAR CON MAS DE TRES AÑOS DE ANTIGÜEDAD"]
["2. PARTIDA DE ALIMENTACION",null,null,null,null,null,null,null,null,null,null,null,null,null,null,null,null,null,null,null,null,null,null,null,null,null,null,null,null,null,44,44,"AS10","Auxiliar de Servicios","GRADO NUEVO","DM","Adjunto Mayor","CIVIL - GRADO ANTIGUO",3000000,5000000,"60 MESES","CIVIL O MILITAR CON MAS DE TRES AÑOS DE ANTIGÜEDAD"]
[null,null,null,null,null,null,null,null,null,null,null,null,null,null,null,null,null,null,null,null,null,null,null,null,null,null,null,null,null,null,45,45,"OD04","Orientador de Defensa","GRADO NUEVO","DM","Adjunto Mayor","CIVIL - GRADO ANTIGUO",3000000,5000000,"60 MESES","CIVIL O MILITAR CON MAS DE TRES AÑOS DE ANTIGÜEDAD"]
["IMPORTANTE:",null,null,null,null,null,null,null,null,null,null,null,null,null,null,null,null,null,null,null,null,null,null,null,null,null,null,null,null,null,46,46,"AA10","Auxiliar para Apoyo de Seguridad y Defensa","GRADO NUEVO","DM","Adjunto Mayor","CIVIL - GRADO ANTIGUO",3000000,5000000,"60 MESES","CIVIL O MILITAR CON MAS DE TRES AÑOS DE ANTIGÜEDAD"]
[" - LAS LIBRANZAS DE FUERZA AEREA REQUIEREN VISADO",null,null,null,null,null,null,null,null,null,null,null,null,null,null,null,null,null,null,null,null,null,null,null,null,null,null,null,null,null,47,47,"TI08","Técnico de Inteligencia","GRADO NUEVO","DM","Adjunto Mayor","CIVIL - GRADO ANTIGUO",3000000,5000000,"60 MESES","CIVIL O MILITAR CON MAS DE TRES AÑOS DE ANTIGÜEDAD"]
[" - DEBE ENVIARSE A LA OFICINA DE NOMINA DE LA FAC EL ORIGINAL Y LA COPIA AZUL DE LA LIBRANZA DILIGENCIADAS,",null,null,null,null,null,null,null,null,null,null,null,null,null,null,null,null,null,null,null,null,null,null,null,null,null,null,null,null,null,48,48,"AS09","Auxiliar de Servicios","GRADO NUEVO","DE","Adjunto Especial","CIVIL - GRADO ANTIGUO",3000000,5000000,"60 MESES","CIVIL O MILITAR CON MAS DE TRES AÑOS DE ANTIGÜEDAD"]
["    LOS DOCUMENTOS SOPORTE Y UN OFICIO REMISORIO",null,null,null,null,null,null,null,null,null,null,null,null,null,null,null,null,null,null,null,null,null,null,null,null,null,null,null,null,null,49,49,"OD3","Orientador de Defensa","GRADO NUEVO","DE","Adjunto Especial","CIVIL - GRADO ANTIGUO",3000000,5000000,"60 MESES","CIVIL O MILITAR CON MAS DE TRES AÑOS DE ANTIGÜEDAD"]
[" - LA SOLICITUD DE VISADO SE TRAMITA EN HORARIO DE OFICINA Y SE RECLAMA AL DIA SIGUIENTE",null,null,null,null,null,null,null,null,null,null,null,null,null,null,null,null,null,null,null,null,null,null,null,null,null,null,null,null,null,50,50,"AA09","Auxiliar para Apoyo de Seguridad y Defensa","GRADO NUEVO","DE","Adjunto Especial","CIVIL - GRADO ANTIGUO",3000000,5000000,"60 MESES","CIVIL O MILITAR CON MAS DE TRES AÑOS DE ANTIGÜEDAD"]
[null,null,null,null,null,null,null,null,null,null,null,null,null,null,null,null,null,null,null,null,null,null,null,null,null,null,null,null,null,null,51,51,"TI07","Técnico de Inteligencia","GRADO NUEVO","DE","Adjunto Especial","CIVIL - GRADO ANTIGUO",3000000,5000000,"60 MESES","CIVIL O MILITAR CON MAS DE TRES AÑOS DE ANTIGÜEDAD"]
[null,null,null,null,null,null,null,null,null,null,null,null,null,null,null,null,null,null,null,null,null,null,null,null,null,null,null,null,null,null,52,52,"AS07","Auxiliar de Servicios","GRADO NUEVO","D1","Adjunto Primero","CIVIL - GRADO ANTIGUO",3000000,5000000,"60 MESES","CIVIL O MILITAR CON MAS DE TRES AÑOS DE ANTIGÜEDAD"]
[null,null,null,null,null,null,null,null,null,null,null,null,null,null,null,null,null,null,null,null,null,null,null,null,null,null,null,null,null,null,53,53,"AD02","Orientador de Defensa","GRADO NUEVO","D1","Adjunto Primero","CIVIL - GRADO ANTIGUO",3000000,5000000,"60 MESES","CIVIL O MILITAR CON MAS DE TRES AÑOS DE ANTIGÜEDAD"]
[null,null,null,null,null,null,null,null,null,null,null,null,null,null,null,null,null,null,null,null,null,null,null,null,null,null,null,null,null,null,54,54,"AA07","Auxiliar para Apoyo de Seguridad y Defensa","GRADO NUEVO","D1","Adjunto Primero","CIVIL - GRADO ANTIGUO",3000000,5000000,"60 MESES","CIVIL O MILITAR CON MAS DE TRES AÑOS DE ANTIGÜEDAD"]
[null,null,null,null,null,null,null,null,null,null,null,null,null,null,null,null,null,null,null,null,null,null,null,null,null,null,null,null,null,null,55,55,"TI06","Técnico de Inteligencia","GRADO NUEVO","D1","Adjunto Primero","CIVIL - GRADO ANTIGUO",3000000,5000000,"60 MESES","CIVIL O MILITAR CON MAS DE TRES AÑOS DE ANTIGÜEDAD"]
[null,null,null,null,null,null,null,null,null,null,null,null,null,null,null,null,null,null,null,null,null,null,null,null,null,null,null,null,null,null,56,56,"AS06","Auxiliar de Servicios","GRADO NUEVO","D2","Adjunto Segundo","CIVIL - GRADO ANTIGUO",3000000,5000000,"60 MESES","CIVIL O MILITAR CON MAS DE TRES AÑOS DE ANTIGÜEDAD"]
[null,null,null,null,null,null,null,null,null,null,null,null,null,null,null,null,null,null,null,null,null,null,null,null,null,null,null,null,null,null,57,57,"OD01","Orientador de Defensa","GRADO NUEVO","D2","Adjunto Segundo","CIVIL - GRADO ANTIGUO",3000000,5000000,"60 MESES","CIVIL O MILITAR CON MAS DE TRES AÑOS DE ANTIGÜEDAD"]
[null,null,null,null,null,null,null,null,null,null,null,null,null,null,null,null,null,null,null,null,null,null,null,null,null,null,null,null,null,null,58,58,"AA06","Auxiliar para Apoyo de Seguridad y Defensa","GRADO NUEVO","D2","Adjunto Segundo","CIVIL - GRADO ANTIGUO",3000000,5000000,"60 MESES","CIVIL O MILITAR CON MAS DE TRES AÑOS DE ANTIGÜEDAD"]
[null,null,null,null,null,null,null,null,null,null,null,null,null,null,null,null,null,null,null,null,null,null,null,null,null,null,null,null,null,null,59,59,"TI05","Técnico de Inteligencia","GRADO NUEVO","D2","Adjunto Segundo","CIVIL - GRADO ANTIGUO",3000000,5000000,"60 MESES","CIVIL O MILITAR CON MAS DE TRES AÑOS DE ANTIGÜEDAD"]
[null,null,null,null,null,null,null,null,null,null,null,null,null,null,null,null,null,null,null,null,null,null,null,null,null,null,null,null,null,null,60,60,"AS05","Auxiliar de Servicios","GRADO NUEVO","D3","Adjunto Tercero","CIVIL - GRADO ANTIGUO",3000000,5000000,"60 MESES","CIVIL O MILITAR CON MAS DE TRES AÑOS DE ANTIGÜEDAD"]
[null,null,null,null,null,null,null,null,null,null,null,null,null,null,null,null,null,null,null,null,null,null,null,null,null,null,null,null,null,null,61,61,"AA05","Auxiliar para Apoyo de Seguridad y Defensa","GRADO NUEVO","D3","Adjunto Tercero","CIVIL - GRADO ANTIGUO",3000000,5000000,"60 MESES","CIVIL O MILITAR CON MAS DE TRES AÑOS DE ANTIGÜEDAD"]
[null,null,null,null,null,null,null,null,null,null,null,null,null,null,null,null,null,null,null,null,null,null,null,null,null,null,null,null,null,null,62,62,"TI04","Técnico de Inteligencia","GRADO NUEVO","D3","Adjunto Tercero","CIVIL - GRADO ANTIGUO",3000000,5000000,"60 MESES","CIVIL O MILITAR CON MAS DE TRES AÑOS DE ANTIGÜEDAD"]
[null,null,null,null,null,null,null,null,null,null,null,null,null,null,null,null,null,null,null,null,null,null,null,null,null,null,null,null,null,null,63,63,"AS03","Auxiliar de Servicios","GRADO NUEVO","D4","Adjunto Cuarto","CIVIL - GRADO ANTIGUO",3000000,5000000,"60 MESES","CIVIL O MILITAR CON MAS DE TRES AÑOS DE ANTIGÜEDAD"]
[null,null,null,null,null,null,null,null,null,null,null,null,null,null,null,null,null,null,null,null,null,null,null,null,null,null,null,null,null,null,64,64,"AA03","Auxiliar para Apoyo de Seguridad y Defensa","GRADO NUEVO","D4","Adjunto Cuarto","CIVIL - GRADO ANTIGUO",3000000,5000000,"60 MESES","CIVIL O MILITAR CON MAS DE TRES AÑOS DE ANTIGÜEDAD"]
[null,null,null,null,null,null,null,null,null,null,null,null,null,null,null,null,null,null,null,null,null,null,null,null,null,null,null,null,null,null,65,65,"AS01","Auxiliar de Servicios","GRADO NUEVO","D5","Adjunto Quinto","CIVIL - GRADO ANTIGUO",3000000,5000000,"60 MESES","CIVIL O MILITAR CON MAS DE TRES AÑOS DE ANTIGÜEDAD"]
[null,null,null,null,null,null,null,null,null,null,null,null,null,null,null,null,null,null,null,null,null,null,null,null,null,null,null,null,null,null,66,66,"AA01","Auxiliar para Apoyo de Seguridad y Defensa","GRADO NUEVO","D5","Adjunto Quinto","CIVIL - GRADO ANTIGUO",{"$f":"$AM$5","v":3000000},{"$f":"$AN$5","v":5000000},{"$f":"$AO$5","v":"60 MESES"},"CIVIL O MILITAR CON MAS DE TRES AÑOS DE ANTIGÜEDAD"]
[null,null,null,null,null,null,null,null,null,null,null,null,null,null,null,null,null,null,null,null,null,null,null,null,null,null,null,null,null,null,67,67,"PU10","Profesional Universitario 10","GRADO ANTIGUO","AD06","Asesor del Sector Defensa","CIVIL - GRADO NUEVO",3000000,5000000,"60 MESES","CIVIL O MILITAR CON MAS DE TRES AÑOS DE ANTIGÜEDAD"]
[null,null,null,null,null,null,null,null,null,null,null,null,null,null,null,null,null,null,null,null,null,null,null,null,null,null,null,null,null,null,68,68,"PU08","Profesional Universitario 08","GRADO ANTIGUO","AD04","Asesor del Sector Defensa","CIVIL - GRADO NUEVO",3000000,5000000,"60 MESES","CIVIL O MILITAR CON MAS DE TRES AÑOS DE ANTIGÜEDAD"]
[null,null,null,null,null,null,null,null,null,null,null,null,null,null,null,null,null,null,null,null,null,null,null,null,null,null,null,null,null,null,69,69,"PU06","Profesional Universitario 06","GRADO ANTIGUO","AD02","Asesor del Sector Defensa","CIVIL - GRADO NUEVO",3000000,5000000,"60 MESES","CIVIL O MILITAR CON MAS DE TRES AÑOS DE ANTIGÜEDAD"]
[null,null,null,null,null,null,null,null,null,null,null,null,null,null,null,null,null,null,null,null,null,null,null,null,null,null,null,null,null,null,70,70,"PU06","Profesional Universitario 06","GRADO ANTIGUO","OE18","Orientador Espiritual","CIVIL - GRADO NUEVO",3000000,5000000,"60 MESES","CIVIL O MILITAR CON MAS DE TRES AÑOS DE ANTIGÜEDAD"]
[null,null,null,null,null,null,null,null,null,null,null,null,null,null,null,null,null,null,null,null,null,null,null,null,null,null,null,null,null,null,71,71,"PU","Profesional Universitario ","GRADO ANTIGUO","OD18","Orientador de Defensa","CIVIL - GRADO NUEVO",3000000,5000000,"60 MESES","CIVIL O MILITAR CON MAS DE TRES AÑOS DE ANTIGÜEDAD"]
[null,null,null,null,null,null,null,null,null,null,null,null,null,null,null,null,null,null,null,null,null,null,null,null,null,null,null,null,null,null,72,72,"EP","Especialista Asesor Primero","GRADO ANTIGUO","PD04","Profesional de Defensa","CIVIL - GRADO NUEVO",3000000,5000000,"60 MESES","CIVIL O MILITAR CON MAS DE TRES AÑOS DE ANTIGÜEDAD"]
[null,null,null,null,null,null,null,null,null,null,null,null,null,null,null,null,null,null,null,null,null,null,null,null,null,null,null,null,null,null,73,73,"EP","Especialista Asesor Primero","GRADO ANTIGUO","OD16","Orientador de Defensa","CIVIL - GRADO NUEVO",3000000,5000000,"60 MESES","CIVIL O MILITAR CON MAS DE TRES AÑOS DE ANTIGÜEDAD"]
[null,null,null,null,null,null,null,null,null,null,null,null,null,null,null,null,null,null,null,null,null,null,null,null,null,null,null,null,null,null,74,74,"EP","Especialista Asesor Primero","GRADO ANTIGUO","OE16","Orientador Espiritual","CIVIL - GRADO NUEVO",3000000,5000000,"60 MESES","CIVIL O MILITAR CON MAS DE TRES AÑOS DE ANTIGÜEDAD"]
[null,null,null,null,null,null,null,null,null,null,null,null,null,null,null,null,null,null,null,null,null,null,null,null,null,null,null,null,null,null,75,75,"ES","Especialista Asesor Segundo","GRADO ANTIGUO","PD02","Profesional de Defensa","CIVIL - GRADO NUEVO",3000000,5000000,"60 MESES","CIVIL O MILITAR CON MAS DE TRES AÑOS DE ANTIGÜEDAD"]
[null,null,null,null,null,null,null,null,null,null,null,null,null,null,null,null,null,null,null,null,null,null,null,null,null,null,null,null,null,null,76,76,"ES","Especialista Asesor Segundo","GRADO ANTIGUO","OD14","Orientador de Defensa","CIVIL - GRADO NUEVO",3000000,5000000,"60 MESES","CIVIL O MILITAR CON MAS DE TRES AÑOS DE ANTIGÜEDAD"]
[null,null,null,null,null,null,null,null,null,null,null,null,null,null,null,null,null,null,null,null,null,null,null,null,null,null,null,null,null,null,77,77,"ES","Especialista Asesor Segundo","GRADO ANTIGUO","OE14","Orientador Espiritual","CIVIL - GRADO NUEVO",3000000,5000000,"60 MESES","CIVIL O MILITAR CON MAS DE TRES AÑOS DE ANTIGÜEDAD"]
[null,null,null,null,null,null,null,null,null,null,null,null,null,null,null,null,null,null,null,null,null,null,null,null,null,null,null,null,null,null,78,78,"EJ","Especialista Jefe","GRADO ANTIGUO","PD01","Profesional de Defensa","CIVIL - GRADO NUEVO",3000000,5000000,"60 MESES","CIVIL O MILITAR CON MAS DE TRES AÑOS DE ANTIGÜEDAD"]
[null,null,null,null,null,null,null,null,null,null,null,null,null,null,null,null,null,null,null,null,null,null,null,null,null,null,null,null,null,null,79,79,"EJ","Especialista Jefe","GRADO ANTIGUO","OD13","Orientador de Defensa","CIVIL - GRADO NUEVO",3000000,5000000,"60 MESES","CIVIL O MILITAR CON MAS DE TRES AÑOS DE ANTIGÜEDAD"]
[null,null,null,null,null,null,null,null,null,null,null,null,null,null,null,null,null,null,null,null,null,null,null,null,null,null,null,null,null,null,80,80,"EJ","Especialista Jefe","GRADO ANTIGUO","OE13","Orientador Espiritual","CIVIL - GRADO NUEVO",3000000,5000000,"60 MESES","CIVIL O MILITAR CON MAS DE TRES AÑOS DE ANTIGÜEDAD"]
[null,null,null,null,null,null,null,null,null,null,null,null,null,null,null,null,null,null,null,null,null,null,null,null,null,null,null,null,null,null,81,81,"E1","Especialista Primero","GRADO ANTIGUO","TS21","Tecnico de Servicios","CIVIL - GRADO NUEVO",3000000,5000000,"60 MESES","CIVIL O MILITAR CON MAS DE TRES AÑOS DE ANTIGÜEDAD"]
[null,null,null,null,null,null,null,null,null,null,null,null,null,null,null,null,null,null,null,null,null,null,null,null,null,null,null,null,null,null,82,82,"E1","Especialista Primero","GRADO ANTIGUO","OD12","Orientador de Defensa","CIVIL - GRADO NUEVO",3000000,5000000,"60 MESES","CIVIL O MILITAR CON MAS DE TRES AÑOS DE ANTIGÜEDAD"]
[null,null,null,null,null,null,null,null,null,null,null,null,null,null,null,null,null,null,null,null,null,null,null,null,null,null,null,null,null,null,83,83,"E1","Especialista Primero","GRADO ANTIGUO","TA21","Tecnico para Apoyo de Seguridad y Defensa","CIVIL - GRADO NUEVO",3000000,5000000,"60 MESES","CIVIL O MILITAR CON MAS DE TRES AÑOS DE ANTIGÜEDAD"]
[null,null,null,null,null,null,null,null,null,null,null,null,null,null,null,null,null,null,null,null,null,null,null,null,null,null,null,null,null,null,84,84,"E2","Especialista Segundo","GRADO ANTIGUO","TS19","Tecnico de Servicios","CIVIL - GRADO NUEVO",3000000,5000000,"60 MESES","CIVIL O MILITAR CON MAS DE TRES AÑOS DE ANTIGÜEDAD"]
[null,null,null,null,null,null,null,null,null,null,null,null,null,null,null,null,null,null,null,null,null,null,null,null,null,null,null,null,null,null,85,85,"E2","Especialista Segundo","GRADO ANTIGUO","OD11","Orientador de Defensa","CIVIL - GRADO NUEVO",3000000,5000000,"60 MESES","CIVIL O MILITAR CON MAS DE TRES AÑOS DE ANTIGÜEDAD"]
[null,null,null,null,null,null,null,null,null,null,null,null,null,null,null,null,null,null,null,null,null,null,null,null,null,null,null,null,null,null,86,86,"E2","Especialista Segundo","GRADO ANTIGUO","TA19","Tecnico para Apoyo de Seguridad y Defensa","CIVIL - GRADO NUEVO",3000000,5000000,"60 MESES","CIVIL O MILITAR CON MAS DE TRES AÑOS DE ANTIGÜEDAD"]
[null,null,null,null,null,null,null,null,null,null,null,null,null,null,null,null,null,null,null,null,null,null,null,null,null,null,null,null,null,null,87,87,"E3","Especialista Tercero","GRADO ANTIGUO","TS18","Tecnico de Servicios","CIVIL - GRADO NUEVO",3000000,5000000,"60 MESES","CIVIL O MILITAR CON MAS DE TRES AÑOS DE ANTIGÜEDAD"]
[null,null,null,null,null,null,null,null,null,null,null,null,null,null,null,null,null,null,null,null,null,null,null,null,null,null,null,null,null,null,88,88,"E3","Especialista Tercero","GRADO ANTIGUO","OD10","Orientador de Defensa","CIVIL - GRADO NUEVO",3000000,5000000,"60 MESES","CIVIL O MILITAR CON MAS DE TRES AÑOS DE ANTIGÜEDAD"]
[null,null,null,null,null,null,null,null,null,null,null,null,null,null,null,null,null,null,null,null,null,null,null,null,null,null,null,null,null,null,89,89,"E3","Especialista Tercero","GRADO ANTIGUO","TA18","Tecnico para Apoyo de Seguridad y Defensa","CIVIL - GRADO NUEVO",3000000,5000000,"60 MESES","CIVIL O MILITAR CON MAS DE TRES AÑOS DE ANTIGÜEDAD"]
[null,null,null,null,null,null,null,null,null,null,null,null,null,null,null,null,null,null,null,null,null,null,null,null,null,null,null,null,null,null,90,90,"E3","Especialista Tercero","GRADO ANTIGUO","TI18","Tecnico de Inteligencia","CIVIL - GRADO NUEVO",3000000,5000000,"60 MESES","CIVIL O MILITAR CON MAS DE TRES AÑOS DE ANTIGÜEDAD"]
[null,null,null,null,null,null,null,null,null,null,null,null,null,null,null,null,null,null,null,null,null,null,null,null,null,null,null,null,null,null,91,91,"E4","Especialista Cuarto","GRADO ANTIGUO","TS17","Tecnico de Servicios","CIVIL - GRADO NUEVO",3000000,5000000,"60 MESES","CIVIL O MILITAR CON MAS DE TRES AÑOS DE ANTIGÜEDAD"]
[null,null,null,null,null,null,null,null,null,null,null,null,null,null,null,null,null,null,null,null,null,null,null,null,null,null,null,null,null,null,92,92,"E4","Especialista Cuarto","GRADO ANTIGUO","OD09","Orientador de Defensa","CIVIL - GRADO NUEVO",3000000,5000000,"60 MESES","CIVIL O MILITAR CON MAS DE TRES AÑOS DE ANTIGÜEDAD"]
[null,null,null,null,null,null,null,null,null,null,null,null,null,null,null,null,null,null,null,null,null,null,null,null,null,null,null,null,null,null,93,93,"E4","Especialista Cuarto","GRADO ANTIGUO","TA17","Tecnico para Apoyo de Seguridad y Defensa","CIVIL - GRADO NUEVO",3000000,5000000,"60 MESES","CIVIL O MILITAR CON MAS DE TRES AÑOS DE ANTIGÜEDAD"]
[null,null,null,null,null,null,null,null,null,null,null,null,null,null,null,null,null,null,null,null,null,null,null,null,null,null,null,null,null,null,94,94,"E5","Especialista Quinto","GRADO ANTIGUO","TS14","Tecnico de Servicios","CIVIL - GRADO NUEVO",3000000,5000000,"60 MESES","CIVIL O MILITAR CON MAS DE TRES AÑOS DE ANTIGÜEDAD"]
[null,null,null,null,null,null,null,null,null,null,null,null,null,null,null,null,null,null,null,null,null,null,null,null,null,null,null,null,null,null,95,95,"E5","Especialista Quinto","GRADO ANTIGUO","OD08","Orientador de Defensa","CIVIL - GRADO NUEVO",3000000,5000000,"60 MESES","CIVIL O MILITAR CON MAS DE TRES AÑOS DE ANTIGÜEDAD"]
[null,null,null,null,null,null,null,null,null,null,null,null,null,null,null,null,null,null,null,null,null,null,null,null,null,null,null,null,null,null,96,96,"E5","Especialista Quinto","GRADO ANTIGUO","TA14","Tecnico para Apoyo de Seguridad y Defensa","CIVIL - GRADO NUEVO",3000000,5000000,"60 MESES","CIVIL O MILITAR CON MAS DE TRES AÑOS DE ANTIGÜEDAD"]
[null,null,null,null,null,null,null,null,null,null,null,null,null,null,null,null,null,null,null,null,null,null,null,null,null,null,null,null,null,null,97,97,"E5","Especialista Quinto","GRADO ANTIGUO","TI14","Tecnico de Inteligencia","CIVIL - GRADO NUEVO",3000000,5000000,"60 MESES","CIVIL O MILITAR CON MAS DE TRES AÑOS DE ANTIGÜEDAD"]
[null,null,null,null,null,null,null,null,null,null,null,null,null,null,null,null,null,null,null,null,null,null,null,null,null,null,null,null,null,null,98,98,"E6","Especialista Sexto","GRADO ANTIGUO","TS12","Tecnico de Servicios","CIVIL - GRADO NUEVO",3000000,5000000,"60 MESES","CIVIL O MILITAR CON MAS DE TRES AÑOS DE ANTIGÜEDAD"]
[null,null,null,null,null,null,null,null,null,null,null,null,null,null,null,null,null,null,null,null,null,null,null,null,null,null,null,null,null,null,99,99,"E6","Especialista Sexto","GRADO ANTIGUO","OD07","Orientador de Defensa","CIVIL - GRADO NUEVO",3000000,5000000,"60 MESES","CIVIL O MILITAR CON MAS DE TRES AÑOS DE ANTIGÜEDAD"]
[null,null,null,null,null,null,null,null,null,null,null,null,null,null,null,null,null,null,null,null,null,null,null,null,null,null,null,null,null,null,100,100,"E6","Especialista Sexto","GRADO ANTIGUO","TA12","Tecnico para Apoyo de Seguridad y Defensa","CIVIL - GRADO NUEVO",3000000,5000000,"60 MESES","CIVIL O MILITAR CON MAS DE TRES AÑOS DE ANTIGÜEDAD"]
[null,null,null,null,null,null,null,null,null,null,null,null,null,null,null,null,null,null,null,null,null,null,null,null,null,null,null,null,null,null,101,101,"E6","Especialista Sexto","GRADO ANTIGUO","TI12","Tecnico de Inteligencia","CIVIL - GRADO NUEVO",3000000,5000000,"60 MESES","CIVIL O MILITAR CON MAS DE TRES AÑOS DE ANTIGÜEDAD"]
[null,null,null,null,null,null,null,null,null,null,null,null,null,null,null,null,null,null,null,null,null,null,null,null,null,null,null,null,null,null,102,102,"DJ","Adjunto Jefe","GRADO ANTIGUO","AS12","Auxiliar de Servicios","CIVIL - GRADO NUEVO",3000000,5000000,"60 MESES","CIVIL O MILITAR CON MAS DE TRES AÑOS DE ANTIGÜEDAD"]
[null,null,null,null,null,null,null,null,null,null,null,null,null,null,null,null,null,null,null,null,null,null,null,null,null,null,null,null,null,null,103,103,"DJ","Adjunto Jefe","GRADO ANTIGUO","OD06","Orientador de Defensa","CIVIL - GRADO NUEVO",3000000,5000000,"60 MESES","CIVIL O MILITAR CON MAS DE TRES AÑOS DE ANTIGÜEDAD"]
[null,null,null,null,null,null,null,null,null,null,null,null,null,null,null,null,null,null,null,null,null,null,null,null,null,null,null,null,null,null,104,104,"DJ","Adjunto Jefe","GRADO ANTIGUO","AA12","Tecnico para Apoyo de Seguridad y Defensa","CIVIL - GRADO NUEVO",3000000,5000000,"60 MESES","CIVIL O MILITAR CON MAS DE TRES AÑOS DE ANTIGÜEDAD"]
[null,null,null,null,null,null,null,null,null,null,null,null,null,null,null,null,null,null,null,null,null,null,null,null,null,null,null,null,null,null,105,105,"DJ","Adjunto Jefe","GRADO ANTIGUO","TI11","Tecnico de Inteligencia","CIVIL - GRADO NUEVO",3000000,5000000,"60 MESES","CIVIL O MILITAR CON MAS DE TRES AÑOS DE ANTIGÜEDAD"]
[null,null,null,null,null,null,null,null,null,null,null,null,null,null,null,null,null,null,null,null,null,null,null,null,null,null,null,null,null,null,106,106,"DI","Adjunto Intendente","GRADO ANTIGUO","AS11","Auxiliar de Servicios","CIVIL - GRADO NUEVO",3000000,5000000,"60 MESES","CIVIL O MILITAR CON MAS DE TRES AÑOS DE ANTIGÜEDAD"]
[null,null,null,null,null,null,null,null,null,null,null,null,null,null,null,null,null,null,null,null,null,null,null,null,null,null,null,null,null,null,107,107,"DI","Adjunto Intendente","GRADO ANTIGUO","AD05","Orientador de Defensa","CIVIL - GRADO NUEVO",3000000,5000000,"60 MESES","CIVIL O MILITAR CON MAS DE TRES AÑOS DE ANTIGÜEDAD"]
[null,null,null,null,null,null,null,null,null,null,null,null,null,null,null,null,null,null,null,null,null,null,null,null,null,null,null,null,null,null,108,108,"DI","Adjunto Intendente","GRADO ANTIGUO","AA11","Tecnico para Apoyo de Seguridad y Defensa","CIVIL - GRADO NUEVO",3000000,5000000,"60 MESES","CIVIL O MILITAR CON MAS DE TRES AÑOS DE ANTIGÜEDAD"]
[null,null,null,null,null,null,null,null,null,null,null,null,null,null,null,null,null,null,null,null,null,null,null,null,null,null,null,null,null,null,109,109,"DI","Adjunto Intendente","GRADO ANTIGUO","TI09","Tecnico de Inteligencia","CIVIL - GRADO NUEVO",3000000,5000000,"60 MESES","CIVIL O MILITAR CON MAS DE TRES AÑOS DE ANTIGÜEDAD"]
[null,null,null,null,null,null,null,null,null,null,null,null,null,null,null,null,null,null,null,null,null,null,null,null,null,null,null,null,null,null,110,110,"DM","Adjunto Mayor","GRADO ANTIGUO","AS10","Auxiliar de Servicios","CIVIL - GRADO NUEVO",3000000,5000000,"60 MESES","CIVIL O MILITAR CON MAS DE TRES AÑOS DE ANTIGÜEDAD"]
[null,null,null,null,null,null,null,null,null,null,null,null,null,null,null,null,null,null,null,null,null,null,null,null,null,null,null,null,null,null,111,111,"DM","Adjunto Mayor","GRADO ANTIGUO","OD04","Orientador de Defensa","CIVIL - GRADO NUEVO",3000000,5000000,"60 MESES","CIVIL O MILITAR CON MAS DE TRES AÑOS DE ANTIGÜEDAD"]
[null,null,null,null,null,null,null,null,null,null,null,null,null,null,null,null,null,null,null,null,null,null,null,null,null,null,null,null,null,null,112,112,"DM","Adjunto Mayor","GRADO ANTIGUO","AA10","Auxiliar para Apoyo de Seguridad y Defensa","CIVIL - GRADO NUEVO",3000000,5000000,"60 MESES","CIVIL O MILITAR CON MAS DE TRES AÑOS DE ANTIGÜEDAD"]
[null,null,null,null,null,null,null,null,null,null,null,null,null,null,null,null,null,null,null,null,null,null,null,null,null,null,null,null,null,null,113,113,"DM","Adjunto Mayor","GRADO ANTIGUO","TI08","Tecnico de Inteligencia","CIVIL - GRADO NUEVO",3000000,5000000,"60 MESES","CIVIL O MILITAR CON MAS DE TRES AÑOS DE ANTIGÜEDAD"]
[null,null,null,null,null,null,null,null,null,null,null,null,null,null,null,null,null,null,null,null,null,null,null,null,null,null,null,null,null,null,114,114,"DE","Adjunto Especial","GRADO ANTIGUO","AS09","Auxiliar de Servicios","CIVIL - GRADO NUEVO",3000000,5000000,"60 MESES","CIVIL O MILITAR CON MAS DE TRES AÑOS DE ANTIGÜEDAD"]
[null,null,null,null,null,null,null,null,null,null,null,null,null,null,null,null,null,null,null,null,null,null,null,null,null,null,null,null,null,null,115,115,"DE","Adjunto Especial","GRADO ANTIGUO","OD3","Orientador de Defensa","CIVIL - GRADO NUEVO",3000000,5000000,"60 MESES","CIVIL O MILITAR CON MAS DE TRES AÑOS DE ANTIGÜEDAD"]
[null,null,null,null,null,null,null,null,null,null,null,null,null,null,null,null,null,null,null,null,null,null,null,null,null,null,null,null,null,null,116,116,"DE","Adjunto Especial","GRADO ANTIGUO","AA09","Auxiliar para Apoyo de Seguridad y Defensa","CIVIL - GRADO NUEVO",3000000,5000000,"60 MESES","CIVIL O MILITAR CON MAS DE TRES AÑOS DE ANTIGÜEDAD"]
[null,null,null,null,null,null,null,null,null,null,null,null,null,null,null,null,null,null,null,null,null,null,null,null,null,null,null,null,null,null,117,117,"DE","Adjunto Especial","GRADO ANTIGUO","TI07","Tecnico de Inteligencia","CIVIL - GRADO NUEVO",3000000,5000000,"60 MESES","CIVIL O MILITAR CON MAS DE TRES AÑOS DE ANTIGÜEDAD"]
[null,null,null,null,null,null,null,null,null,null,null,null,null,null,null,null,null,null,null,null,null,null,null,null,null,null,null,null,null,null,118,118,"D1","Adjunto Primero","GRADO ANTIGUO","AS07","Auxiliar de Servicios","CIVIL - GRADO NUEVO",3000000,5000000,"60 MESES","CIVIL O MILITAR CON MAS DE TRES AÑOS DE ANTIGÜEDAD"]
[null,null,null,null,null,null,null,null,null,null,null,null,null,null,null,null,null,null,null,null,null,null,null,null,null,null,null,null,null,null,119,119,"D1","Adjunto Primero","GRADO ANTIGUO","AD02","Orientador de Defensa","CIVIL - GRADO NUEVO",3000000,5000000,"60 MESES","CIVIL O MILITAR CON MAS DE TRES AÑOS DE ANTIGÜEDAD"]
[null,null,null,null,null,null,null,null,null,null,null,null,null,null,null,null,null,null,null,null,null,null,null,null,null,null,null,null,null,null,120,120,"D1","Adjunto Primero","GRADO ANTIGUO","AA07","Auxiliar para Apoyo de Seguridad y Defensa","CIVIL - GRADO NUEVO",3000000,5000000,"60 MESES","CIVIL O MILITAR CON MAS DE TRES AÑOS DE ANTIGÜEDAD"]
[null,null,null,null,null,null,null,null,null,null,null,null,null,null,null,null,null,null,null,null,null,null,null,null,null,null,null,null,null,null,121,121,"D1","Adjunto Primero","GRADO ANTIGUO","TI06","Tecnico de Inteligencia","CIVIL - GRADO NUEVO",3000000,5000000,"60 MESES","CIVIL O MILITAR CON MAS DE TRES AÑOS DE ANTIGÜEDAD"]
[null,null,null,null,null,null,null,null,null,null,null,null,null,null,null,null,null,null,null,null,null,null,null,null,null,null,null,null,null,null,122,122,"D2","Adjunto Segundo","GRADO ANTIGUO","AS06","Auxiliar de Servicios","CIVIL - GRADO NUEVO",3000000,5000000,"60 MESES","CIVIL O MILITAR CON MAS DE TRES AÑOS DE ANTIGÜEDAD"]
[null,null,null,null,null,null,null,null,null,null,null,null,null,null,null,null,null,null,null,null,null,null,null,null,null,null,null,null,null,null,123,123,"D2","Adjunto Segundo","GRADO ANTIGUO","OD01","Orientador de Defensa","CIVIL - GRADO NUEVO",3000000,5000000,"60 MESES","CIVIL O MILITAR CON MAS DE TRES AÑOS DE ANTIGÜEDAD"]
[null,null,null,null,null,null,null,null,null,null,null,null,null,null,null,null,null,null,null,null,null,null,null,null,null,null,null,null,null,null,124,124,"D2","Adjunto Segundo","GRADO ANTIGUO","AA06","Auxiliar para Apoyo de Seguridad y Defensa","CIVIL - GRADO NUEVO",3000000,5000000,"60 MESES","CIVIL O MILITAR CON MAS DE TRES AÑOS DE ANTIGÜEDAD"]
[null,null,null,null,null,null,null,null,null,null,null,null,null,null,null,null,null,null,null,null,null,null,null,null,null,null,null,null,null,null,125,125,"D2","Adjunto Segundo","GRADO ANTIGUO","TI05","Tecnico de Inteligencia","CIVIL - GRADO NUEVO",3000000,5000000,"60 MESES","CIVIL O MILITAR CON MAS DE TRES AÑOS DE ANTIGÜEDAD"]
[null,null,null,null,null,null,null,null,null,null,null,null,null,null,null,null,null,null,null,null,null,null,null,null,null,null,null,null,null,null,126,126,"D3","Adjunto Tercero","GRADO ANTIGUO","AS05","Auxiliar de Servicios","CIVIL - GRADO NUEVO",3000000,5000000,"60 MESES","CIVIL O MILITAR CON MAS DE TRES AÑOS DE ANTIGÜEDAD"]
[null,null,null,null,null,null,null,null,null,null,null,null,null,null,null,null,null,null,null,null,null,null,null,null,null,null,null,null,null,null,127,127,"D3","Adjunto Tercero","GRADO ANTIGUO","AA05","Auxiliar para Apoyo de Seguridad y Defensa","CIVIL - GRADO NUEVO",3000000,5000000,"60 MESES","CIVIL O MILITAR CON MAS DE TRES AÑOS DE ANTIGÜEDAD"]
[null,null,null,null,null,null,null,null,null,null,null,null,null,null,null,null,null,null,null,null,null,null,null,null,null,null,null,null,null,null,128,128,"D3","Adjunto Tercero","GRADO ANTIGUO","TI04","Tecnico de Inteligencia","CIVIL - GRADO NUEVO",3000000,5000000,"60 MESES","CIVIL O MILITAR CON MAS DE TRES AÑOS DE ANTIGÜEDAD"]
[null,null,null,null,null,null,null,null,null,null,null,null,null,null,null,null,null,null,null,null,null,null,null,null,null,null,null,null,null,null,129,129,"D4","Adjunto Cuarto","GRADO ANTIGUO","AS03","Auxiliar de Servicios","CIVIL - GRADO NUEVO",3000000,5000000,"60 MESES","CIVIL O MILITAR CON MAS DE TRES AÑOS DE ANTIGÜEDAD"]
[null,null,null,null,null,null,null,null,null,null,null,null,null,null,null,null,null,null,null,null,null,null,null,null,null,null,null,null,null,null,130,130,"D4","Adjunto Cuarto","GRADO ANTIGUO","AA03","Auxiliar para Apoyo de Seguridad y Defensa","CIVIL - GRADO NUEVO",{"$f":"$AM$5","v":3000000},{"$f":"$AN$5","v":5000000},{"$f":"$AO$5","v":"60 MESES"},"CIVIL O MILITAR CON MAS DE TRES AÑOS DE ANTIGÜEDAD"]
[null,null,null,null,null,null,null,null,null,null,null,null,null,null,null,null,null,null,null,null,null,null,null,null,null,null,null,null,null,null,131,131,"D5","Adjunto Quinto","GRADO ANTIGUO","AS01","Auxiliar de Servicios","CIVIL - GRADO NUEVO",{"$f":"$AM$5","v":3000000},{"$f":"$AN$5","v":5000000},"60 MESES","CIVIL O MILITAR CON MAS DE TRES AÑOS DE ANTIGÜEDAD"]
[null,null,null,null,null,null,null,null,null,null,null,null,null,null,null,null,null,null,null,null,null,null,null,null,null,null,null,null,null,null,132,132,"D5","Adjunto Quinto","GRADO ANTIGUO","AA01","Auxiliar para Apoyo de Seguridad y Defensa","CIVIL - GRADO NUEVO",{"$f":"$AM$5","v":3000000},{"$f":"$AN$5","v":5000000},"60 MESES","CIVIL O MILITAR CON MAS DE TRES AÑOS DE ANTIGÜEDAD"]
[null,null,null,null,null,null,null,null,null,null,null,null,null,null,null,null,null,null,null,null,null,null,null,null,null,null,null,null,null,null,133,133,"G","GENERAL","EN OFICIALES","G","NO HAY CAMBIO DE GRADO","OFICIAL DE LA FAC",{"$f":"$AN$5","v":5000000},"NO REQUIERE","60 MESES","NO REQUIERE CODEUDOR"]
[null,null,null,null,null,null,null,null,null,null,null,null,null,null,null,null,null,null,null,null,null,null,null,null,null,null,null,null,null,null,134,134,"MG","MAYOR GENERAL","EN OFICIALES","MG","NO HAY CAMBIO DE GRADO","OFICIAL DE LA FAC",{"$f":"$AN$5","v":5000000},"NO REQUIERE","60 MESES","NO REQUIERE CODEUDOR"]
[null,null,null,null,null,null,null,null,null,null,null,null,null,null,null,null,null,null,null,null,null,null,null,null,null,null,null,null,null,null,135,135,"BG","BRIGADIER GENERAL","EN OFICIALES","BG","NO HAY CAMBIO DE GRADO","OFICIAL DE LA FAC",{"$f":"$AN$5","v":5000000},"NO REQUIERE","60 MESES","NO REQUIERE CODEUDOR"]
[null,null,null,null,null,null,null,null,null,null,null,null,null,null,null,null,null,null,null,null,null,null,null,null,null,null,null,null,null,null,136,136,"CO","CORONEL","EN OFICIALES","CO","NO HAY CAMBIO DE GRADO","OFICIAL DE LA FAC",20000000,{"$f":"$AN$5","v":5000000},"60 MESES","SV - SP - SM - CT - MY - TC"]
[null,null,null,null,null,null,null,null,null,null,null,null,null,null,null,null,null,null,null,null,null,null,null,null,null,null,null,null,null,null,137,137,"TC","TENIENTE CORONEL","EN OFICIALES","TC","NO HAY CAMBIO DE GRADO","OFICIAL DE LA FAC",15000000,{"$f":"$AN$5","v":5000000},"60 MESES","SV - SP - SM - CT - MY - TC"]
[null,null,null,null,null,null,null,null,null,null,null,null,null,null,null,null,null,null,null,null,null,null,null,null,null,null,null,null,null,null,138,138,"MY","MAYOR","EN OFICIALES","MY","NO HAY CAMBIO DE GRADO","OFICIAL DE LA FAC",10000000,{"$f":"$AN$5","v":5000000},"60 MESES","SV - SP - SM - CT - MY - TC"]
[null,null,null,null,null,null,null,null,null,null,null,null,null,null,null,null,null,null,null,null,null,null,null,null,null,null,null,null,null,null,139,139,"CT","CAPITAN ","EN OFICIALES","CT","NO HAY CAMBIO DE GRADO","OFICIAL DE LA FAC",8000000,15000000,"60 MESES","SV - SP - SM - CT - MY - TC"]
[null,null,null,null,null,null,null,null,null,null,null,null,null,null,null,null,null,null,null,null,null,null,null,null,null,null,null,null,null,null,140,140,"TE","TENIENTE","EN OFICIALES","TE","NO HAY CAMBIO DE GRADO","OFICIAL DE LA FAC",4000000,10000000,"60 MESES","SS - SV - SP - SM - TE - CT - MY - TC"]
[null,null,null,null,null,null,null,null,null,null,null,null,null,null,null,null,null,null,null,null,null,null,null,null,null,null,null,null,null,null,141,141,"ST","SUBTENIENTE","EN OFICIALES","ST","NO HAY CAMBIO DE GRADO","OFICIAL DE LA FAC","NO SE OTORGA",5000000,"60 MESES","CP - SS - SV - SP - SM - TE - CT - MY - TC"]
[null,null,null,null,null,null,null,null,null,null,null,null,null,null,null,null,null,null,null,null,null,null,null,null,null,null,null,null,null,null,142,142,"STJ","SUBOFICIAL TECNICO JEFE ","EN SUBOFICIALES","STJ","EQUIVALENTE A \"SM\" DEL EJERCITO","SUBOFICIAL DE LA FAC",{"$f":"$AN$5","v":5000000},"NO REQUIERE","60 MESES","NO REQUIERE CODEUDOR"]
[null,null,null,null,null,null,null,null,null,null,null,null,null,null,null,null,null,null,null,null,null,null,null,null,null,null,null,null,null,null,143,143,"STS","SUBOFICIAL TECNICO SUBJEFE ","EN SUBOFICIALES","STS","EQUIVALENTE A \"SP\" DEL EJERCITO","SUBOFICIAL DE LA FAC",{"$f":"$AN$5","v":5000000},"NO REQUIERE","60 MESES","NO REQUIERE CODEUDOR"]
[null,null,null,null,null,null,null,null,null,null,null,null,null,null,null,null,null,null,null,null,null,null,null,null,null,null,null,null,null,null,144,144,"ST1","SUBOFICIAL TECNICO PRIMERO","EN SUBOFICIALES","ST1","EQUIVALENTE A \"SV\" DEL EJERCITO","SUBOFICIAL DE LA FAC",{"$f":"$AN$5","v":5000000},"NO REQUIERE","60 MESES","NO REQUIERE CODEUDOR"]
[null,null,null,null,null,null,null,null,null,null,null,null,null,null,null,null,null,null,null,null,null,null,null,null,null,null,null,null,null,null,145,145,"ST2","SUBOFICIAL TECNICO SEGUNDO","EN SUBOFICIALES","ST2","EQUIVALENTE A \"SS\" DEL EJERCITO","SUBOFICIAL DE LA FAC",10000000,15000000,"60 MESES","SS - SV - SP - SM - TE - CT - MY - TC"]
[null,null,null,null,null,null,null,null,null,null,null,null,null,null,null,null,null,null,null,null,null,null,null,null,null,null,null,null,null,null,146,146,"ST3","SUBOFICIAL TECNICO TERCERO","EN SUBOFICIALES","ST3","EQUIVALENTE A \"CP\" DEL EJERCITO","SUBOFICIAL DE LA FAC",4000000,8000000,"60 MESES","CP - SS - SV - SP - SM - TE - CT - MY - TC"]
[null,null,null,null,null,null,null,null,null,null,null,null,null,null,null,null,null,null,null,null,null,null,null,null,null,null,null,null,null,null,147,147,"ST4","SUBOFICIAL TECNICO CUARTO","EN SUBOFICIALES","ST4","EQUIVALENTE A \"CS\" DEL EJERCITO","SUBOFICIAL DE LA FAC","NO SE OTORGA",4000000,"NO SE OTORGA","CP - SS - SV - SP - SM - TE - CT - MY - TC"]
[null,null,null,null,null,null,null,null,null,null,null,null,null,null,null,null,null,null,null,null,null,null,null,null,null,null,null,null,null,null,148,148,"AE","AEROTECNICO","EN SUBOFICIALES","AE","EQUIVALENTE A \"C3\" DEL EJERCITO","SUBOFICIAL DE LA FAC","NO SE OTORGA","NO SE OTORGA","NO SE OTORGA","NO SE OTORGA"]
[null,null,null,null,null,null,null,null,null,null,null,null,null,null,null,null,null,null,null,null,null,null,null,null,null,null,null,null,null,null,149,149,"SLP","SOLDADO PROFESIONAL","EN SOLDADOS","SLP","NO HAY CAMBIO DE GRADO","SOLDADO PROFESIONAL","NO SE OTORGA","NO SE OTORGA","NO SE OTORGA","NO SE OTORGA"]
[null,null,null,null,null,null,null,null,null,null,null,null,null,null,null,null,null,null,null,null,null,null,null,null,null,null,null,null,null,null,150,150,"SLV","SOLDADO VOLUNTARIO","EN SOLDADOS","SLV","NO HAY CAMBIO DE GRADO","SOLDADO VOLUNTARIO","NO SE OTORGA","NO SE OTORGA","NO SE OTORGA","NO SE OTORGA"]

{"sheet":"PENS MDN","index":7,"n_rows":138,"n_cols":33,"rows_kept":138,"cut":false,"hidden":false,"merged":[[32,14,32,16],[32,19,32,20],[29,14,29,16],[29,19,29,20],[30,14,30,16],[30,19,30,20],[31,14,31,16],[31,19,31,20],[26,14,26,16],[26,19,26,20],[27,14,27,16],[27,19,27,20],[28,14,28,16],[28,19,28,20],[22,14,22,16],[22,19,22,20],[23,0,25,0],[23,14,23,16],[23,19,23,20],[24,3,24,5],[25,14,25,16],[25,19,25,20],[24,14,24,16],[19,0,22,2],[19,14,19,16],[19,19,19,20],[20,14,20,16],[20,19,20,20],[21,14,21,16],[21,19,21,20],[16,14,16,16],[16,19,16,20],[17,0,18,2],[17,14,17,16],[17,19,17,20],[18,14,18,16],[18,19,18,20],[16,0,16,2],[16,3,16,5],[7,0,7,2],[9,0,9,2],[10,0,10,2],[11,0,15,2],[11,4,11,5],[8,0,8,2],[8,4,8,5],[12,4,12,5],[13,4,13,5],[14,4,14,5],[15,4,15,5],[3,0,3,2],[4,0,4,2],[5,0,5,2],[6,0,6,2],[6,4,6,6],[0,0,0,2],[0,3,0,4],[0,5,0,6],[1,0,1,2],[2,0,2,2],[0,12,0,13],[25,8,25,13],[31,3,31,4],[33,3,33,5],[34,3,34,5],[28,3,28,4],[29,3,29,4],[30,3,30,4],[32,3,32,4],[11,6,15,6],[2,8,2,13],[9,8,9,13],[10,8,10,13],[23,8,23,13],[24,8,24,13],[8,8,8,13]]}
["Pensionados MDN CO 1 - PA CO 1 - CR 1",null,null,"50%    -",null,{"$f":"TASAS!G11","v":1423500},null,null,null,null,null,null,{"$f":"TASAS!G15","v":"2025-03"}]
[{"$f":"IF(($D$2=\"\"),\"Digite la edad del cliente\",\"\")","v":""},null,null,60,null,null,null,null,null,null,null,null,null,null,{"$f":"D6+D7-D8","v":0},{"$f":"D9-O2","v":0}]
[{"$f":"IF(($D$3<50000000),\"Monto máximo por COSERFIN\",\"Monto máximo en dos créditos por COSERFIN y PA COSERFIN\")","v":"Monto máximo en dos créditos por COSERFIN y PA COSERFIN"},null,null,{"$f":"IF((D2 = \"\"),\"DIGITE EDAD\",VLOOKUP(D2,$AB$8:$AD$138,2,0))","v":50000000},{"$f":"IF(($D$2=\"\"),\"\",\"Por CREAVAL\")","v":"Por CREAVAL"},{"$f":"IF((D2 = \"\"),\" \",VLOOKUP(D2,$AB$8:$AD$138,3,0))","v":25000000},null,null,"NO SE TRAMITAN COMPRAS DE CARTERA",null,null,null,null,null,null,null,null,null,{"$f":"IF(AND(E24<TASAS!H11,D24<TASAS!M2),TASAS!H6,TASAS!H5)","v":{"$error":"#VALUE!"}},null,null,null,null,null,null,null,null,null,"COSERFIN","CREAVAL"]
[{"$f":"IF(($D$2=\"\"),\"\",\"Plazo máximo para cada crédito\")","v":"Plazo máximo para cada crédito"},null,null,{"$f":"IF((D2 = \"\"),\"DEL SOLICITANTE\",VLOOKUP(D2,$AE$8:$AF$138,2,0))","v":"144 MESES"},null,null,null,null,null,null,null,null,null,null,null,null,null,null,{"$f":"B24-S3","v":{"$error":"#VALUE!"}},null,null,null,null,null,null,null,80,null,0,0,null,0,0]
["EVALUACION CAPACIDAD DE PAGO",null,null,"VALOR 1","VALOR 2","VALOR 3","TOTALES",null,null,null,null,null,null,null,null,null,null,null,0,null,null,null,null,null,null,null,"75-79",null,10000000,10000000,null,"60 MESES",60]
["VALOR PENSION",null,null,0,null,null,{"$f":"IF((D6/2)<=F1,(D6-F1),(D6/2))","v":-1423500},null,null,null,null,null,null,null,null,null,null,null,{"$f":"TASAS!H3","v":1.77E-2},"TASA",null,null,null,null,null,null,"18-70",null,50000000,25000000,null,"144 MESES",144]
["VALOR OTROS INGRESOS (PRIMAS, RETROACTIVOS, ADICIONALES, ETC.)",null,null,0,null,null,null,null,null,null,null,null,null,null,null,null,null,null,{"$f":"TASAS!H4","v":1.8200000000000001E-2},"TASA",null,null,null,null,null,null,"71-74",null,20000000,20000000]
["(-) TOTAL DESCUENTOS",null,null,0,null,null,{"$f":"IF(($P$2>3),\"ERROR EN\",IF($P$2<-3,\"ERROR EN\",D8))","v":0},null,null,null,null,null,null,null,null,null,null,null,{"$f":"TASAS!H5","v":1.8699999999999998E-2},"TASA",null,null,null,null,null,null,null,0,"USUARIO MENOR DE EDAD","USUARIO MENOR DE EDAD",0,"USUARIO MENOR DE EDAD",0]
["INGRESO NETO RECIBIDO EN EL DESPRENDIBLE DE PAGO",null,null,0,"DISPONIBLE PARA CREDITO",null,{"$f":"IF(($P$2>3),\"LOS DATOS\",IF($P$2<-3,\"LOS DATOS\",G6-G8+G10+G11))","v":-1423500},"*",{"$f":"IF((B24=0),\"¡ ¡ ¡ Por favor seleccione la tasa de interés ! ! !\",\" \")","v":"¡ ¡ ¡ Por favor seleccione la tasa de interés ! ! !"},null,null,null,null,null,null,null,null,null,{"$f":"TASAS!H6","v":3.4999999999999996E-2},"TASA",null,null,null,null,null,null,null,1,"USUARIO MENOR DE EDAD","USUARIO MENOR DE EDAD",1,"USUARIO MENOR DE EDAD",0]
["(+) DESCUENTOS FINALIZADOS EN EL PRESENTE MES Y EN EL PROXIMO",null,null,0,0,0,{"$f":"SUM(D10:F10)","v":0},null,{"$f":"IF((S4=0),\" \",\"¡¡¡   A T E N C I O N   !!!\")","v":{"$error":"#VALUE!"}},null,null,null,null,null,null,null,null,null,{"$f":"TASAS!H7","v":1.4499999999999999E-2},"TASA",null,null,null,null,null,null,null,2,"USUARIO MENOR DE EDAD","USUARIO MENOR DE EDAD",2,"USUARIO MENOR DE EDAD",0]
["(+) CUOTAS DE COMPRAS DE CARTERA",null,null,0,0,0,{"$f":"SUM(D11:F11)","v":0},null,{"$f":"IF((S4=0),\" \",\"La tasa máxima para ese monto y plazo es del\")","v":{"$error":"#VALUE!"}},null,null,null,null,null,null,null,null,null,{"$f":"TASAS!H8","v":1.4999999999999999E-2},"TASA",null,null,null,null,null,null,null,3,"USUARIO MENOR DE EDAD","USUARIO MENOR DE EDAD",3,"USUARIO MENOR DE EDAD",0]
["(-) VALOR ESTIMADO CUOTA DE CREDITO CON COOSERFIN",null,null,{"$f":"IF(D3>E19,FLOOR(E19,100000),D3)","v":50000000},{"$f":"IF(($D$14=\"TASA\"),\" \",\"VALOR SOLICITADO\")","v":"VALOR SOLICITADO"},null,{"$f":"IF(($D$2=\"\"),\"RECUERDE DIGITAR ARRIBA LA EDAD\",ROUNDUP(((((D12*D14))*(D13+D15))+D12)/D13,0))","v":1497223},null,null,null,null,null,null,null,null,null,null,null,{"$f":"TASAS!H9","v":1.55E-2},"TASA",null,null,null,null,null,null,null,4,"USUARIO MENOR DE EDAD","USUARIO MENOR DE EDAD",4,"USUARIO MENOR DE EDAD",0]
[null,null,null,{"$f":"D19","v":144},{"$f":"IF(($D$14=\"TASA\"),\" \",\"PLAZO\")","v":"PLAZO"},null,null,null,null,null,null,null,null,null,null,null,null,null,null,null,null,null,null,null,null,null,null,5,"USUARIO MENOR DE EDAD","USUARIO MENOR DE EDAD",5,"USUARIO MENOR DE EDAD",0]
[null,null,null,2.3E-2,"FACTOR",null,null,null,null,null,null,null,null,null,null,null,null,{"$f":"D3*1","v":50000000},{"$f":"(PV($B$24,$D$24,$T$15))*-1","v":{"$error":"#VALUE!"}},{"$f":"F19","v":"NO APLICA"},null,null,null,null,null,null,null,6,"USUARIO MENOR DE EDAD","USUARIO MENOR DE EDAD",10,"USUARIO MENOR DE EDAD",0]
[null,null,null,0,{"$f":"IF(($D$14=\"TASA\"),\" \",\"MES(ES) DE GRACIA\")","v":"MES(ES) DE GRACIA"},null,null,null,null,null,null,null,null,null,null,null,null,{"$f":"(PV(B24,D24,F19))*-1","v":{"$error":"#VALUE!"}},{"$f":"(IF(S14>R14,R14,FLOOR(S14,100000)))","v":{"$error":"#VALUE!"}},{"$f":"((T14*(1-R20))-R22-V17-V21)*0.99","v":{"$error":"#VALUE!"}},null,null,null,null,{"$f":"R17*R21","v":{"$error":"#VALUE!"}},null,null,7,"USUARIO MENOR DE EDAD","USUARIO MENOR DE EDAD",7,"USUARIO MENOR DE EDAD",0]
[null,null,null,{"$f":"IF($G$17>=0,(G12*D13),IF($G$17<0,\"\"))","v":215600112},{"$f":"IF(($D$14=\"TASA\"),\" \",\"VALOR LIBRANZA\")","v":"VALOR LIBRANZA"},null,null,null,null,null,null,null,null,null,null,null,null,null,null,null,null,null,null,null,{"$f":"R26*R30","v":{"$error":"#VALUE!"}},null,null,8,"USUARIO MENOR DE EDAD","USUARIO MENOR DE EDAD",8,"USUARIO MENOR DE EDAD",0]
["INGRESO ESTIMADO EN EL PRIMER MES DE PAGO DEL CREDITO",null,null,{"$f":"IF((G9-G12)>0,\"USUARIO CON CAPACIDAD DE PAGO\",IF(G9-G12<0,\"INTENTE CON OTRO MONTO Y/O PLAZO\"))","v":"INTENTE CON OTRO MONTO Y/O PLAZO"},{"$f":"IF($J$13>=#REF!,\"USUARIO CON CAPACIDAD DE ENDEUDAMIENTO\",IF($J$13<#REF!,\"CREDITO INVIABLE INTENTE CON OTRO MONTO Y/O PLAZO\"))","v":{"$error":"#REF!"}},{"$f":"IF($J$13>=#REF!,\"USUARIO CON CAPACIDAD DE ENDEUDAMIENTO\",IF($J$13<#REF!,\"CREDITO INVIABLE INTENTE CON OTRO MONTO Y/O PLAZO\"))","v":{"$error":"#REF!"}},{"$f":"IF(((G9-G12)>0),(G9-G12),\"SIN CUPO\")","v":"SIN CUPO"},null,null,null,null,null,null,null,"VALOR CREDITO         :",null,null,{"$f":"R15","v":{"$error":"#VALUE!"}},null,"VALOR SEGURO          :",null,{"$f":"R17*W26","v":{"$error":"#VALUE!"}},null,null,{"$f":"((((R18)*((1+(R18))^R19))/(((1+(R18))^R19)-1))*R17)+((((R17*R18)/30)*R24)/R19)+R22+V17+V20","v":{"$error":"#DIV/0!"}},null,null,9,"USUARIO MENOR DE EDAD","USUARIO MENOR DE EDAD",9,"USUARIO MENOR DE EDAD",0]
[{"$f":"IF($W$19>0,\"MONTO MAXIMO DE ENDEUDAMIENTO\",IF($W$19<=0,\"EL SOLICITANTE NO TIENE POSIBILIDADES DE CREDITO\"))","v":"EL SOLICITANTE NO TIENE POSIBILIDADES DE CREDITO"},null,null,"PLAZO","MONTO MAX","VALOR CUOTA","VR LIBRANZA",null,null,null,null,null,null,null,"TASA NOMINAL MENSUAL  :",null,null,{"$f":"B24","v":0},null,"TASA EFECTIVA ANUAL   :",null,{"$f":"((1+((R18*12)/12))^12)-1","v":0},null,null,null,null,null,10,"USUARIO MENOR DE EDAD","USUARIO MENOR DE EDAD",10,"USUARIO MENOR DE EDAD",0]
[null,null,null,{"$f":"IF((D2=\"\"),\"DIGITE EDAD\",VLOOKUP(D2,$AE$4:$AG$135,3,0))","v":144},{"$f":"IF(($W$19<=0),\"NO APLICA\",$G$19*100/((($D$14*100)*($D$19+$D$15))+100))","v":"NO APLICA"},{"$f":"IF(($W$19<=0),\"NO APLICA\",($G$9))","v":"NO APLICA"},{"$f":"IF(($W$19<=0),\"NO APLICA\",($D$19*$F$19))","v":"NO APLICA"},"*",null,null,null,null,null,null,"PLAZO EN MESES        :",null,null,{"$f":"D24","v":144},null,"CUOTA NETA            :",null,{"$f":"((((R18)*((1+(R18))^R19))/(((1+(R18))^R19)-1))*(R17+Y15))+(((((R17+Y15)*R18)/30)*R24)/R19)","v":{"$error":"#DIV/0!"}},{"$f":"$G$9+$G$10+$G$11","v":-1423500},"PLAZO","MONTO MAX","VR MAX CUOTA","VALOR LZ",11,"USUARIO MENOR DE EDAD","USUARIO MENOR DE EDAD",11,"USUARIO MENOR DE EDAD",0]
[{"$f":"IF($G$17>=0,\"OTRAS OPCIONES DE CREDITO DISPONIBLES\",IF($G$17<0,\"INTENTE CON OTRO MONTO Y/O PLAZO\"))","v":"OTRAS OPCIONES DE CREDITO DISPONIBLES"},null,null,{"$f":"IF($Y$20<=$AA$24,12,IF($Y$20>$AA$24,\"NO APLICA\"))","v":{"$error":"#VALUE!"}},{"$f":"IF(Y20>$AA$24,\"NO APLICA\",IF(Y20<=$AA$24,FLOOR(Y20,10000)))","v":{"$error":"#VALUE!"}},{"$f":"IF($Y$20>$AA$24,\"NO APLICA\",IF(Y20<=$AA$24,((((E20*($D$14)*((D20+$D$15))+E20)/D20)))))","v":{"$error":"#VALUE!"}},{"$f":"IF($Y$20>$AA$24,\"NO APLICA\",IF(Y20<=$AA$24,(D20*F20)))","v":{"$error":"#VALUE!"}},null,null,null,null,null,null,null,"TASA COMISION RECAUDO :",null,null,0,null,"COMISION POR RECAUDO  :",null,{"$f":"((((((R18)*((1+(R18))^R19))/(((1+(R18))^R19)-1))*(R17+Y15))+(((((R17+Y15)*R18)/30)*R24)/R19)+R22+V17)*100)/(100-(R20*100))-(((((R18)*((1+(R18))^R19))/(((1+(R18))^R19)-1))*(R17+Y15))+(((((R17+Y15)*R18)/30)*R24)/R19)+R22+V17)","v":{"$error":"#DIV/0!"}},null,12,{"$f":"IF(($G$17>=0),AA20*100/((($D$14*100)*(X20+$D$15))+100),\"\")","v":{"$error":"#VALUE!"}},{"$f":"IF(($G$17>=0),($G$12+$G$17),\"\")","v":{"$error":"#VALUE!"}},{"$f":"IF(($G$17>=0),(Z20*X20),\"\")","v":{"$error":"#VALUE!"}},12,"USUARIO MENOR DE EDAD","USUARIO MENOR DE EDAD",12,"USUARIO MENOR DE EDAD",0]
[null,null,null,{"$f":"IF($Y$21<=$AA$24,24,IF($Y$21>$AA$24,\"NO APLICA\"))","v":{"$error":"#VALUE!"}},{"$f":"IF(Y21>$AA$24,\"NO APLICA\",IF(Y21<=$AA$24,FLOOR(Y21,10000)))","v":{"$error":"#VALUE!"}},{"$f":"IF($Y$21>$AA$24,\"NO APLICA\",IF(Y21<=$AA$24,((((E21*($D$14)*((D21+$D$15))+E21)/D21)))))","v":{"$error":"#VALUE!"}},{"$f":"IF($Y$21>$AA$24,\"NO APLICA\",IF(Y21<=$AA$24,(D21*F21)))","v":{"$error":"#VALUE!"}},null,null,null,null,null,null,null,"OTROS GASTOS          :",null,null,{"$f":"B26","v":0},null,"VALOR OTROS GASTOS    :",null,{"$f":"V24-Y17","v":{"$error":"#DIV/0!"}},null,24,{"$f":"IF(($G$17>=0),AA21*100/((($D$14*100)*(X21+$D$15))+100),\"\")","v":{"$error":"#VALUE!"}},{"$f":"IF(($G$17>=0),($G$12+$G$17),\"\")","v":{"$error":"#VALUE!"}},{"$f":"IF(($G$17>=0),(Z21*X21),\"\")","v":{"$error":"#VALUE!"}},13,"USUARIO MENOR DE EDAD","USUARIO MENOR DE EDAD",13,"USUARIO MENOR DE EDAD",0]
[null,null,null,{"$f":"IF($Y$22<=$AA$24,36,IF($Y$22>$AA$24,\"NO APLICA\"))","v":{"$error":"#VALUE!"}},{"$f":"IF(Y22>$AA$24,\"NO APLICA\",IF(Y22<=$AA$24,FLOOR(Y22,10000)))","v":{"$error":"#VALUE!"}},{"$f":"IF($Y$22>$AA$24,\"NO APLICA\",IF(Y22<=$AA$24,((((E22*($D$14)*((D22+$D$15))+E22)/D22)))))","v":{"$error":"#VALUE!"}},{"$f":"IF($Y$22>$AA$24,\"NO APLICA\",IF(Y22<=$AA$24,(D22*F22)))","v":{"$error":"#VALUE!"}},null,null,null,null,null,null,null,"APORTES SOCIALES      :",null,null,0,null,"FECHA DE INICIO       :",null,{"$f":"(R23+((R19+1)*29))-((R19-1)*29)","v":"2012-02-28"},null,36,{"$f":"IF(($G$17>=0),AA22*100/((($D$14*100)*(X22+$D$15))+100),\"\")","v":{"$error":"#VALUE!"}},{"$f":"IF(($G$17>=0),($G$12+$G$17),\"\")","v":{"$error":"#VALUE!"}},{"$f":"IF(($G$17>=0),(Z22*X22),\"\")","v":{"$error":"#VALUE!"}},14,"USUARIO MENOR DE EDAD","USUARIO MENOR DE EDAD",14,"USUARIO MENOR DE EDAD",0]
[null,null,null,{"$f":"IF($Y$23<=$AA$24,48,IF($Y$23>$AA$24,\"NO APLICA\"))","v":{"$error":"#VALUE!"}},{"$f":"IF(Y23>$AA$24,\"NO APLICA\",IF(Y23<=$AA$24,FLOOR(Y23,10000)))","v":{"$error":"#VALUE!"}},{"$f":"IF($Y$23>$AA$24,\"NO APLICA\",IF(Y23<=$AA$24,((((E23*($D$14)*((D23+$D$15))+E23)/D23)))))","v":{"$error":"#VALUE!"}},{"$f":"IF($Y$23>$AA$24,\"NO APLICA\",IF(Y23<=$AA$24,(D23*F23)))","v":{"$error":"#VALUE!"}},null,null,null,null,null,null,null,"FECHA DESEMBOLSO      :",null,null,"2012-01-01",null,"FECHA DE TERMINO      :",null,{"$f":"(R23+((R19+1)*29))-((R19-1)*29)+((R19-1)*30)","v":"2023-11-27"},null,48,{"$f":"IF(($G$17>=0),AA23*100/((($D$14*100)*(X23+$D$15))+100),\"\")","v":{"$error":"#VALUE!"}},{"$f":"IF(($G$17>=0),($G$12+$G$17),\"\")","v":{"$error":"#VALUE!"}},{"$f":"IF(($G$17>=0),(Z23*X23),\"\")","v":{"$error":"#VALUE!"}},15,"USUARIO MENOR DE EDAD","USUARIO MENOR DE EDAD",15,"USUARIO MENOR DE EDAD",0]
["LIBRE INVERSION - COBRO DE AVAL ANTICIPADO",0,"N.M.V.",{"$f":"D19","v":144},{"$f":"S15","v":{"$error":"#VALUE!"}},"  VR CUOTA   ",{"$f":"((((R27)*((1+(R27))^R28))/(((1+(R27))^R28)-1))*(E24+Y16))+(((((E24+Y16)*R27)/30)*R33)/R28)+R31+V26+V29+V30","v":{"$error":"#DIV/0!"}},null,{"$f":"IF((S4=0),\" \",S3)","v":{"$error":"#VALUE!"}},null,null,null,null,null,"DIAS DE GRACIA        :",null,null,{"$f":"B27","v":0},null,"TOTAL CUOTA MENSUAL   :",null,{"$f":"V19+R22+V20+V17","v":{"$error":"#DIV/0!"}},null,null,null,"MONTO MAXIMO POR CLIENTE",50000000,16,"USUARIO MENOR DE EDAD","USUARIO MENOR DE EDAD",16,"USUARIO MENOR DE EDAD",0]
[null,{"$f":"((1+((B24*12)/12))^12)-1","v":0}," E. A.",{"$f":"IF(G25>=0,\"USUARIO CON CAPACIDAD DE PAGO\",IF(G25<0,\"INTENTE CON OTRO MONTO Y/O PLAZO\"))","v":{"$error":"#DIV/0!"}},null,null,{"$f":"G9-G24","v":{"$error":"#DIV/0!"}},null,{"$f":"IF(B24=TASAS!H3,\"Tasa para clientes con puntaje > a 750 y sin procesos\",\" \")","v":" "},null,null,null,null,null,null,null,null,null,null,null,null,null,"SEGURO",null,null,null,null,17,"USUARIO MENOR DE EDAD","USUARIO MENOR DE EDAD",17,"USUARIO MENOR DE EDAD",0]
[null,0," O. G.","% AVAL","VALOR AVAL ","A GIRAR",null,null,{"$f":"IF(B24=TASAS!H4,\"Tasa para clientes con puntaje entre 650 - 749 y sin procesos\",\" \")","v":" "},null,null,null,null,null,"VALOR CREDITO         :",null,null,{"$f":"E24","v":{"$error":"#VALUE!"}},null,"VALOR SEGURO          :",null,{"$f":"R26*W26","v":{"$error":"#VALUE!"}},{"$f":"IF((D2<66),(TASAS!C12),(VLOOKUP(D2,TASAS!B13:C27,2,0)))","v":1.15E-3},null,null,null,null,18,{"$f":"$AC$6","v":50000000},{"$f":"$AD$6","v":25000000},18,{"$f":"$AF$6","v":"144 MESES"},{"$f":"$AG$6","v":144}]
[null,0," D. G.",0.09,{"$f":"E24*D27","v":{"$error":"#VALUE!"}},{"$f":"E24-E27","v":{"$error":"#VALUE!"}},null,null,null,null,null,null,null,null,"TASA NOMINAL MENSUAL  :",null,null,{"$f":"R18","v":0},null,"TASA EFECTIVA ANUAL   :",null,{"$f":"((1+((R27*12)/12))^12)-1","v":0},null,null,null,null,null,19,{"$f":"$AC$6","v":50000000},{"$f":"$AD$6","v":25000000},19,{"$f":"$AF$6","v":"144 MESES"},{"$f":"$AG$6","v":144}]
[null,"% Simple",{"$f":"(((G24*D24)-E24)/E24)/D24","v":{"$error":"#DIV/0!"}},null,"VR MENSUAL x 1 MM",{"$f":"G24/(E24/1000000)","v":{"$error":"#DIV/0!"}},null,null,null,null,null,null,null,null,"PLAZO EN MESES        :",null,null,144,null,"CUOTA NETA            :",null,{"$f":"((((R27)*((1+(R27))^R28))/(((1+(R27))^R28)-1))*(R26+Y16))+(((((R26+Y16)*R27)/30)*R33)/R28)","v":{"$error":"#DIV/0!"}},null,null,null,null,null,20,50000000,{"$f":"$AD$6","v":25000000},20,"144 MESES",144]
[null,null,null,"COMPRA O AMPLIACION 1",null,0,null,"FIDELIZACIÓN","VR CRÉDITO","VR CUOTA ","PLAZO"," VR AVAL","SALDO","A GIRAR","TASA COMISION RECAUDO :",null,null,0,null,"COMISION POR RECAUDO  :",null,{"$f":"((((((R27)*((1+(R27))^R28))/(((1+(R27))^R28)-1))*(R26+Y16))+(((((R26+Y16)*R27)/30)*R33)/R28)+R31+V26)*100)/(100-(R29*100))-(((((R27)*((1+(R27))^R28))/(((1+(R27))^R28)-1))*(R26+Y16))+(((((R26+Y16)*R27)/30)*R33)/R28)+R31+V26)","v":{"$error":"#DIV/0!"}},null,null,null,null,null,21,50000000,25000000,21,"144 MESES",144]
["Vr. Crédito",{"$f":"E24","v":{"$error":"#VALUE!"}},null,"COMPRA O AMPLIACION 2",null,0,"LIBRE INV",null,0,0,0,0,0,{"$f":"I30-L30-M30","v":0},"OTROS GASTOS          :",null,null,0,null,"VALOR OTROS GASTOS    :",null,null,null,null,null,null,null,22,50000000,25000000,22,"144 MESES",144]
["Aval",{"$f":"E27","v":{"$error":"#VALUE!"}},null,"COMPRA O AMPLIACION 3",null,0,"AMPLIACION","LZ A",0,0,0,0,0,{"$f":"I31-L31-M31","v":0},"APORTES SOCIALES      :",null,null,0,null,"FECHA DE INICIO       :",null,{"$f":"(R32+((R28+1)*29))-((R28-1)*29)","v":"2012-02-28"},null,null,null,null,null,23,50000000,25000000,23,"144 MESES",144]
["Compra(s) / Saneamiento(s) / Ampiación(es)",{"$f":"SUM(F29:F32)","v":0},null,"COMPRA O AMPLIACION 4",null,0,null,null,null,null,null,null,null,null,"FECHA DESEMBOLSO      :",null,null,"2012-01-01",null,"FECHA DE TERMINO      :",null,{"$f":"(R32+((R28+1)*29))-((R28-1)*29)+((R28-1)*30)","v":"2023-11-27"},null,null,null,null,null,24,50000000,25000000,24,"144 MESES",144]
["Vr. Desembolso",{"$f":"B30-B31-B32","v":{"$error":"#VALUE!"}},{"$f":"IF(((B33-F33)>0),\"ERROR\",IF((B33-F33)=0,\" \"))","v":{"$error":"#VALUE!"}},"NETO A GIRAR",null,{"$f":"F27-F29-F30-F31-F32","v":{"$error":"#VALUE!"}},null,null,null,null,null,null,null,null,"DIAS DE GRACIA        :",null,null,0,null,"TOTAL CUOTA MENSUAL   :",null,{"$f":"V28+R31+V29+V26","v":{"$error":"#DIV/0!"}},null,null,null,null,null,25,50000000,25000000,25,"144 MESES",144]
["Vr. Cuota",{"$f":"G24","v":{"$error":"#DIV/0!"}},null,{"$f":"IF(((D3-E24)<0),\"¡¡¡ A T E N C I Ó N !!!\",IF((D3-E24)>=0,\" \"))","v":{"$error":"#VALUE!"}},null,null,null,null,null,null,null,null,null,null,null,null,null,null,null,null,null,null,null,null,null,null,null,26,50000000,25000000,26,"144 MESES",144]
["Plazo",{"$f":"D24","v":144},null,{"$f":"IF(((D3-E24)<0),\"EL MONTO EXCEDE LIMITE PARA ESA EDAD\",IF((D3-E24)>=0,\" \"))","v":{"$error":"#VALUE!"}},null,null,null,null,null,null,null,null,null,null,null,null,null,null,null,null,null,null,null,null,null,null,null,27,50000000,25000000,27,"144 MESES",144]
[null,null,null,null,null,null,null,null,null,null,null,null,null,null,null,null,null,null,null,null,null,null,null,null,null,null,null,28,50000000,25000000,28,"144 MESES",144]
["REQUISITOS PARA SOLICITUD DE CREDITO:",null,null,null,null,null,null,null,null,null,null,null,null,null,null,null,null,null,null,null,null,null,null,null,null,null,null,29,50000000,25000000,29,"144 MESES",144]
["1. Desprendible de pago del último mes, el cual puede descargarse aquí",null,null,null,null,null,null,null,null,null,null,null,null,null,null,null,null,null,null,null,null,null,null,null,null,null,null,30,50000000,25000000,30,"144 MESES",144]
["https://www.mindefensa.gov.co/irj/portal/Mindefensa/contenido?NavigationTarget=navurl://cb8a4670b6ebfcd4422b43d8b5b0a1bc",null,null,null,null,null,null,null,null,null,null,null,null,null,null,null,null,null,null,null,null,null,null,null,null,null,null,31,50000000,25000000,31,"144 MESES",144]
["2. Si el cliente autoriza, se podrá realizar la descarga del desprendible firmando el siguiente formato",null,null,null,null,null,null,null,null,null,null,null,null,null,null,null,null,null,null,null,null,null,null,null,null,null,null,32,50000000,25000000,32,"144 MESES",{"$f":"$AG$6","v":144}]
["https://coserfin.co/panelwi/upload/c8d2ea_AUTORIZACION%20ACCESO%20PLATAFORMAS%20CO%20y%20CR.pdf",null,null,null,null,null,null,null,null,null,null,null,null,null,null,null,null,null,null,null,null,null,null,null,null,null,null,33,50000000,25000000,33,"144 MESES",144]
["3. Suministrar usuario y clave de acceso al portal, para descarga del desprendible",null,null,null,null,null,null,null,null,null,null,null,null,null,null,null,null,null,null,null,null,null,null,null,null,null,null,34,50000000,25000000,34,"144 MESES",144]
["4. Una (1) fotocopia de la cédula de ciudadanía a COLOR",null,null,null,null,null,null,null,null,null,null,null,null,null,null,null,null,null,null,null,null,null,null,null,null,null,null,35,50000000,25000000,35,"144 MESES",144]
["5. Una (1) fotocopia de la cédula de ciudadanía a blanco y negro, con firma y huella",null,null,null,null,null,null,null,null,null,null,null,null,null,null,null,null,null,null,null,null,null,null,null,null,null,null,36,50000000,25000000,36,"144 MESES",144]
["6. Una (1) fotocopia del carné de pensionado(a) o del carné de servicios médicos a COLOR",null,null,null,null,null,null,null,null,null,null,null,null,null,null,null,null,null,null,null,null,null,null,null,null,null,null,37,50000000,25000000,37,"144 MESES",144]
["7. Una (1) fotocopia del carné de pensionado(a) o del carné de servicios médicos a blanco y negro",null,null,null,null,null,null,null,null,null,null,null,null,null,null,null,null,null,null,null,null,null,null,null,null,null,null,38,50000000,25000000,38,"144 MESES",144]
["8. Dos (2) formatos de autorización de descuento, los cuales se descargan aquí",null,null,null,null,null,null,null,null,null,null,null,null,null,null,null,null,null,null,null,null,null,null,null,null,null,null,39,50000000,25000000,39,"144 MESES",144]
["https://coserfin.co/panelwi/upload/409496_AUTORIZACION%20DESCUENTO%20PENSIONADOS%20MDN%20PA%20CO%20Y%20CR.pdf",null,null,null,null,null,null,null,null,null,null,null,null,null,null,null,null,null,null,null,null,null,null,null,null,null,null,40,50000000,25000000,40,"144 MESES",144]
["9. Si el solicitante es pensionado por perdida psicofisica, se requiere resolución de reconocmiento de la pensión y dictamen médico",null,null,null,null,null,null,null,null,null,null,null,null,null,null,null,null,null,null,null,null,null,null,null,null,null,null,41,50000000,25000000,41,"144 MESES",144]
["10. No requiere codeudor, pero es necesario cobro de aval",null,null,null,null,null,null,null,null,null,null,null,null,null,null,null,null,null,null,null,null,null,null,null,null,null,null,42,50000000,25000000,42,"144 MESES",144]
[null,null,null,null,null,null,null,null,null,null,null,null,null,null,null,null,null,null,null,null,null,null,null,null,null,null,null,43,50000000,25000000,43,"144 MESES",144]
["INCORPORACIÓN DEL DESCUENTO Y TIEMPO DE DESEMBOLSO:",null,null,null,null,null,null,null,null,null,null,null,null,null,null,null,null,null,null,null,null,null,null,null,null,null,null,44,50000000,25000000,44,"144 MESES",144]
["1. Las novedades se envían los dias cinco (5) de cada mes y la confirmación de la incorporación se realiza contra el desprendible de",null,null,null,null,null,null,null,null,null,null,null,null,null,null,null,null,null,null,null,null,null,null,null,null,null,null,45,50000000,25000000,45,"144 MESES",144]
["    pago y/o listados de descuento del mes de inicio pactado",null,null,null,null,null,null,null,null,null,null,null,null,null,null,null,null,null,null,null,null,null,null,null,null,null,null,46,50000000,25000000,46,"144 MESES",144]
["2. El descuento opera para el siguiente mes",null,null,null,null,null,null,null,null,null,null,null,null,null,null,null,null,null,null,null,null,null,null,null,null,null,null,47,50000000,25000000,47,"144 MESES",144]
["3. El desembolso se realiza únicamente cuando se confirma la incorporación del descuento, es decir, a finales del mes de inicio del descuento",null,null,null,null,null,null,null,null,null,null,null,null,null,null,null,null,null,null,null,null,null,null,null,null,null,null,48,50000000,25000000,48,"144 MESES",144]
["4. Todas las fechas descritas son aproximadas y pueden cambiar cada mes",null,null,null,null,null,null,null,null,null,null,null,null,null,null,null,null,null,null,null,null,null,null,null,null,null,null,49,50000000,25000000,49,"144 MESES",144]
[null,null,null,null,null,null,null,null,null,null,null,null,null,null,null,null,null,null,null,null,null,null,null,null,null,null,null,50,50000000,25000000,50,"144 MESES",144]
["DOCUMENTOS DE IDENTIFICACION VALIDOS PARA TODAS LAS ENTIDADES:",null,null,null,null,null,null,null,null,null,null,null,null,null,null,null,null,null,null,null,null,null,null,null,null,null,null,51,50000000,25000000,51,"144 MESES",144]
["1. Coia de la licencia de conducción",null,null,null,null,null,null,null,null,null,null,null,null,null,null,null,null,null,null,null,null,null,null,null,null,null,null,52,50000000,25000000,52,"144 MESES",144]
["2. Copia de la tarjeta de propeidad de un vehiculo o moto.",null,null,null,null,null,null,null,null,null,null,null,null,null,null,null,null,null,null,null,null,null,null,null,null,null,null,53,50000000,25000000,53,"144 MESES",144]
["3. Copia del carné de la EPS",null,null,null,null,null,null,null,null,null,null,null,null,null,null,null,null,null,null,null,null,null,null,null,null,null,null,54,50000000,25000000,54,"144 MESES",144]
["4. Copia de un recibo de pago de servicio público del inmueble donde reside el solicitante, a nombre del mismo",null,null,null,null,null,null,null,null,null,null,null,null,null,null,null,null,null,null,null,null,null,null,null,null,null,null,55,50000000,25000000,55,"144 MESES",144]
["5. Copia de un extracto de cuenta bancaria, preferiblemente la de nómina o pensión",null,null,null,null,null,null,null,null,null,null,null,null,null,null,null,null,null,null,null,null,null,null,null,null,null,null,56,50000000,25000000,56,"144 MESES",144]
["6. Copia de un extracto de tarjeta de crédito",null,null,null,null,null,null,null,null,null,null,null,null,null,null,null,null,null,null,null,null,null,null,null,null,null,null,57,50000000,25000000,57,"144 MESES",144]
["7. Copia de una tarjeta de crédito",null,null,null,null,null,null,null,null,null,null,null,null,null,null,null,null,null,null,null,null,null,null,null,null,null,null,58,50000000,25000000,58,"144 MESES",144]
["8. Copia de un carné de afiliación a un club, asociación o cooperativa",null,null,null,null,null,null,null,null,null,null,null,null,null,null,null,null,null,null,null,null,null,null,null,null,null,null,59,50000000,25000000,59,"144 MESES",144]
["9. Copia de una fórmula médica",null,null,null,null,null,null,null,null,null,null,null,null,null,null,null,null,null,null,null,null,null,null,null,null,null,null,60,50000000,25000000,60,"144 MESES",144]
[null,null,null,null,null,null,null,null,null,null,null,null,null,null,null,null,null,null,null,null,null,null,null,null,null,null,null,61,50000000,25000000,61,"144 MESES",144]
[null,null,null,null,null,null,null,null,null,null,null,null,null,null,null,null,null,null,null,null,null,null,null,null,null,null,null,62,50000000,25000000,62,"144 MESES",144]
[null,null,null,null,null,null,null,null,null,null,null,null,null,null,null,null,null,null,null,null,null,null,null,null,null,null,null,63,50000000,25000000,63,"144 MESES",144]
[null,null,null,null,null,null,null,null,null,null,null,null,null,null,null,null,null,null,null,null,null,null,null,null,null,null,null,64,50000000,25000000,64,"144 MESES",144]
[null,null,null,null,null,null,null,null,null,null,null,null,null,null,null,null,null,null,null,null,null,null,null,null,null,null,null,65,50000000,25000000,65,"144 MESES",144]
[null,null,null,null,null,null,null,null,null,null,null,null,null,null,null,null,null,null,null,null,null,null,null,null,null,null,null,66,50000000,0,66,"144 MESES",144]
[null,null,null,null,null,null,null,null,null,null,null,null,null,null,null,null,null,null,null,null,null,null,null,null,null,null,null,67,50000000,0,67,"144 MESES",144]
[null,null,null,null,null,null,null,null,null,null,null,null,null,null,null,null,null,null,null,null,null,null,null,null,null,null,null,68,50000000,0,68,"144 MESES",144]
[null,null,null,null,null,null,null,null,null,null,null,null,null,null,null,null,null,null,null,null,null,null,null,null,null,null,null,69,{"$f":"$AC$6","v":50000000},0,69,"144 MESES",144]
[null,null,null,null,null,null,null,null,null,null,null,null,null,null,null,null,null,null,null,null,null,null,null,null,null,null,null,70,{"$f":"$AC$6","v":50000000},0,70,{"$f":"$AF$6","v":"144 MESES"},144]
[null,null,null,null,null,null,null,null,null,null,null,null,null,null,null,null,null,null,null,null,null,null,null,null,null,null,null,71,{"$f":"$AC$7","v":20000000},{"$f":"$AD$7","v":20000000},71,{"$f":"$AF$6","v":"144 MESES"},144]
[null,null,null,null,null,null,null,null,null,null,null,null,null,null,null,null,null,null,null,null,null,null,null,null,null,null,null,72,{"$f":"$AC$7","v":20000000},{"$f":"$AD$7","v":20000000},72,{"$f":"$AF$6","v":"144 MESES"},144]
[null,null,null,null,null,null,null,null,null,null,null,null,null,null,null,null,null,null,null,null,null,null,null,null,null,null,null,73,{"$f":"$AC$7","v":20000000},{"$f":"$AD$7","v":20000000},73,{"$f":"$AF$6","v":"144 MESES"},144]
[null,null,null,null,null,null,null,null,null,null,null,null,null,null,null,null,null,null,null,null,null,null,null,null,null,null,null,74,{"$f":"$AC$7","v":20000000},{"$f":"$AD$7","v":20000000},74,{"$f":"$AF$6","v":"144 MESES"},144]
[null,null,null,null,null,null,null,null,null,null,null,null,null,null,null,null,null,null,null,null,null,null,null,null,null,null,null,75,{"$f":"$AC$5","v":10000000},{"$f":"$AD$5","v":10000000},75,{"$f":"$AF$5","v":"60 MESES"},{"$f":"$AG$5","v":60}]
[null,null,null,null,null,null,null,null,null,null,null,null,null,null,null,null,null,null,null,null,null,null,null,null,null,null,null,76,{"$f":"$AC$5","v":10000000},{"$f":"$AD$5","v":10000000},76,{"$f":"$AF$5","v":"60 MESES"},{"$f":"$AG$5","v":60}]
[null,null,null,null,null,null,null,null,null,null,null,null,null,null,null,null,null,null,null,null,null,null,null,null,null,null,null,77,{"$f":"$AC$5","v":10000000},{"$f":"$AD$5","v":10000000},77,{"$f":"$AF$5","v":"60 MESES"},{"$f":"$AG$5","v":60}]
[null,null,null,null,null,null,null,null,null,null,null,null,null,null,null,null,null,null,null,null,null,null,null,null,null,null,null,78,{"$f":"$AC$5","v":10000000},{"$f":"$AD$5","v":10000000},78,{"$f":"$AF$5","v":"60 MESES"},{"$f":"$AG$5","v":60}]
[null,null,null,null,null,null,null,null,null,null,null,null,null,null,null,null,null,null,null,null,null,null,null,null,null,null,null,79,{"$f":"$AC$5","v":10000000},{"$f":"$AD$5","v":10000000},79,{"$f":"$AF$5","v":"60 MESES"},{"$f":"$AG$5","v":60}]
[null,null,null,null,null,null,null,null,null,null,null,null,null,null,null,null,null,null,null,null,null,null,null,null,null,null,null,80,"SUPERA EDAD MAXIMA PARA SOLICITUD DE CREDITO","SUPERA EDAD MAXIMA PARA SOLICITUD DE CREDITO",80,"SUPERA EDAD MAXIMA PARA SOLICITUD DE CREDITO",0]
[null,null,null,null,null,null,null,null,null,null,null,null,null,null,null,null,null,null,null,null,null,null,null,null,null,null,null,81,"SUPERA EDAD MAXIMA PARA SOLICITUD DE CREDITO","SUPERA EDAD MAXIMA PARA SOLICITUD DE CREDITO",81,"SUPERA EDAD MAXIMA PARA SOLICITUD DE CREDITO",0]
[null,null,null,null,null,null,null,null,null,null,null,null,null,null,null,null,null,null,null,null,null,null,null,null,null,null,null,82,"SUPERA EDAD MAXIMA PARA SOLICITUD DE CREDITO","SUPERA EDAD MAXIMA PARA SOLICITUD DE CREDITO",82,"SUPERA EDAD MAXIMA PARA SOLICITUD DE CREDITO",0]
[null,null,null,null,null,null,null,null,null,null,null,null,null,null,null,null,null,null,null,null,null,null,null,null,null,null,null,83,"SUPERA EDAD MAXIMA PARA SOLICITUD DE CREDITO","SUPERA EDAD MAXIMA PARA SOLICITUD DE CREDITO",83,"SUPERA EDAD MAXIMA PARA SOLICITUD DE CREDITO",0]
[null,null,null,null,null,null,null,null,null,null,null,null,null,null,null,null,null,null,null,null,null,null,null,null,null,null,null,84,"SUPERA EDAD MAXIMA PARA SOLICITUD DE CREDITO","SUPERA EDAD MAXIMA PARA SOLICITUD DE CREDITO",84,"SUPERA EDAD MAXIMA PARA SOLICITUD DE CREDITO",0]
[null,null,null,null,null,null,null,null,null,null,null,null,null,null,null,null,null,null,null,null,null,null,null,null,null,null,null,85,"SUPERA EDAD MAXIMA PARA SOLICITUD DE CREDITO","SUPERA EDAD MAXIMA PARA SOLICITUD DE CREDITO",85,"SUPERA EDAD MAXIMA PARA SOLICITUD DE CREDITO",0]
[null,null,null,null,null,null,null,null,null,null,null,null,null,null,null,null,null,null,null,null,null,null,null,null,null,null,null,86,"SUPERA EDAD MAXIMA PARA SOLICITUD DE CREDITO","SUPERA EDAD MAXIMA PARA SOLICITUD DE CREDITO",86,"SUPERA EDAD MAXIMA PARA SOLICITUD DE CREDITO",0]
[null,null,null,null,null,null,null,null,null,null,null,null,null,null,null,null,null,null,null,null,null,null,null,null,null,null,null,87,"SUPERA EDAD MAXIMA PARA SOLICITUD DE CREDITO","SUPERA EDAD MAXIMA PARA SOLICITUD DE CREDITO",87,"SUPERA EDAD MAXIMA PARA SOLICITUD DE CREDITO",0]
[null,null,null,null,null,null,null,null,null,null,null,null,null,null,null,null,null,null,null,null,null,null,null,null,null,null,null,88,"SUPERA EDAD MAXIMA PARA SOLICITUD DE CREDITO","SUPERA EDAD MAXIMA PARA SOLICITUD DE CREDITO",88,"SUPERA EDAD MAXIMA PARA SOLICITUD DE CREDITO",0]
[null,null,null,null,null,null,null,null,null,null,null,null,null,null,null,null,null,null,null,null,null,null,null,null,null,null,null,89,"SUPERA EDAD MAXIMA PARA SOLICITUD DE CREDITO","SUPERA EDAD MAXIMA PARA SOLICITUD DE CREDITO",89,"SUPERA EDAD MAXIMA PARA SOLICITUD DE CREDITO",0]
[null,null,null,null,null,null,null,null,null,null,null,null,null,null,null,null,null,null,null,null,null,null,null,null,null,null,null,90,"SUPERA EDAD MAXIMA PARA SOLICITUD DE CREDITO","SUPERA EDAD MAXIMA PARA SOLICITUD DE CREDITO",90,"SUPERA EDAD MAXIMA PARA SOLICITUD DE CREDITO",0]
[null,null,null,null,null,null,null,null,null,null,null,null,null,null,null,null,null,null,null,null,null,null,null,null,null,null,null,91,"SUPERA EDAD MAXIMA PARA SOLICITUD DE CREDITO","SUPERA EDAD MAXIMA PARA SOLICITUD DE CREDITO",91,"SUPERA EDAD MAXIMA PARA SOLICITUD DE CREDITO",0]
[null,null,null,null,null,null,null,null,null,null,null,null,null,null,null,null,null,null,null,null,null,null,null,null,null,null,null,92,"SUPERA EDAD MAXIMA PARA SOLICITUD DE CREDITO","SUPERA EDAD MAXIMA PARA SOLICITUD DE CREDITO",92,"SUPERA EDAD MAXIMA PARA SOLICITUD DE CREDITO",0]
[null,null,null,null,null,null,null,null,null,null,null,null,null,null,null,null,null,null,null,null,null,null,null,null,null,null,null,93,"SUPERA EDAD MAXIMA PARA SOLICITUD DE CREDITO","SUPERA EDAD MAXIMA PARA SOLICITUD DE CREDITO",93,"SUPERA EDAD MAXIMA PARA SOLICITUD DE CREDITO",0]
[null,null,null,null,null,null,null,null,null,null,null,null,null,null,null,null,null,null,null,null,null,null,null,null,null,null,null,94,"SUPERA EDAD MAXIMA PARA SOLICITUD DE CREDITO","SUPERA EDAD MAXIMA PARA SOLICITUD DE CREDITO",94,"SUPERA EDAD MAXIMA PARA SOLICITUD DE CREDITO",0]
[null,null,null,null,null,null,null,null,null,null,null,null,null,null,null,null,null,null,null,null,null,null,null,null,null,null,null,95,"SUPERA EDAD MAXIMA PARA SOLICITUD DE CREDITO","SUPERA EDAD MAXIMA PARA SOLICITUD DE CREDITO",95,"SUPERA EDAD MAXIMA PARA SOLICITUD DE CREDITO",0]
[null,null,null,null,null,null,null,null,null,null,null,null,null,null,null,null,null,null,null,null,null,null,null,null,null,null,null,96,"SUPERA EDAD MAXIMA PARA SOLICITUD DE CREDITO","SUPERA EDAD MAXIMA PARA SOLICITUD DE CREDITO",96,"SUPERA EDAD MAXIMA PARA SOLICITUD DE CREDITO",0]
[null,null,null,null,null,null,null,null,null,null,null,null,null,null,null,null,null,null,null,null,null,null,null,null,null,null,null,97,"SUPERA EDAD MAXIMA PARA SOLICITUD DE CREDITO","SUPERA EDAD MAXIMA PARA SOLICITUD DE CREDITO",97,"SUPERA EDAD MAXIMA PARA SOLICITUD DE CREDITO",0]
[null,null,null,null,null,null,null,null,null,null,null,null,null,null,null,null,null,null,null,null,null,null,null,null,null,null,null,98,"SUPERA EDAD MAXIMA PARA SOLICITUD DE CREDITO","SUPERA EDAD MAXIMA PARA SOLICITUD DE CREDITO",98,"SUPERA EDAD MAXIMA PARA SOLICITUD DE CREDITO",0]
[null,null,null,null,null,null,null,null,null,null,null,null,null,null,null,null,null,null,null,null,null,null,null,null,null,null,null,99,"SUPERA EDAD MAXIMA PARA SOLICITUD DE CREDITO","SUPERA EDAD MAXIMA PARA SOLICITUD DE CREDITO",99,"SUPERA EDAD MAXIMA PARA SOLICITUD DE CREDITO",0]
[null,null,null,null,null,null,null,null,null,null,null,null,null,null,null,null,null,null,null,null,null,null,null,null,null,null,null,100,"SUPERA EDAD MAXIMA PARA SOLICITUD DE CREDITO","SUPERA EDAD MAXIMA PARA SOLICITUD DE CREDITO",100,"SUPERA EDAD MAXIMA PARA SOLICITUD DE CREDITO",0]
[null,null,null,null,null,null,null,null,null,null,null,null,null,null,null,null,null,null,null,null,null,null,null,null,null,null,null,101,"SUPERA EDAD MAXIMA PARA SOLICITUD DE CREDITO","SUPERA EDAD MAXIMA PARA SOLICITUD DE CREDITO",101,"SUPERA EDAD MAXIMA PARA SOLICITUD DE CREDITO",0]
[null,null,null,null,null,null,null,null,null,null,null,null,null,null,null,null,null,null,null,null,null,null,null,null,null,null,null,102,"SUPERA EDAD MAXIMA PARA SOLICITUD DE CREDITO","SUPERA EDAD MAXIMA PARA SOLICITUD DE CREDITO",102,"SUPERA EDAD MAXIMA PARA SOLICITUD DE CREDITO",0]
[null,null,null,null,null,null,null,null,null,null,null,null,null,null,null,null,null,null,null,null,null,null,null,null,null,null,null,103,"SUPERA EDAD MAXIMA PARA SOLICITUD DE CREDITO","SUPERA EDAD MAXIMA PARA SOLICITUD DE CREDITO",103,"SUPERA EDAD MAXIMA PARA SOLICITUD DE CREDITO",0]
[null,null,null,null,null,null,null,null,null,null,null,null,null,null,null,null,null,null,null,null,null,null,null,null,null,null,null,104,"SUPERA EDAD MAXIMA PARA SOLICITUD DE CREDITO","SUPERA EDAD MAXIMA PARA SOLICITUD DE CREDITO",104,"SUPERA EDAD MAXIMA PARA SOLICITUD DE CREDITO",0]
[null,null,null,null,null,null,null,null,null,null,null,null,null,null,null,null,null,null,null,null,null,null,null,null,null,null,null,105,"SUPERA EDAD MAXIMA PARA SOLICITUD DE CREDITO","SUPERA EDAD MAXIMA PARA SOLICITUD DE CREDITO",105,"SUPERA EDAD MAXIMA PARA SOLICITUD DE CREDITO",0]
[null,null,null,null,null,null,null,null,null,null,null,null,null,null,null,null,null,null,null,null,null,null,null,null,null,null,null,106,"SUPERA EDAD MAXIMA PARA SOLICITUD DE CREDITO","SUPERA EDAD MAXIMA PARA SOLICITUD DE CREDITO",106,"SUPERA EDAD MAXIMA PARA SOLICITUD DE CREDITO",0]
[null,null,null,null,null,null,null,null,null,null,null,null,null,null,null,null,null,null,null,null,null,null,null,null,null,null,null,107,"SUPERA EDAD MAXIMA PARA SOLICITUD DE CREDITO","SUPERA EDAD MAXIMA PARA SOLICITUD DE CREDITO",107,"SUPERA EDAD MAXIMA PARA SOLICITUD DE CREDITO",0]
[null,null,null,null,null,null,null,null,null,null,null,null,null,null,null,null,null,null,null,null,null,null,null,null,null,null,null,108,"SUPERA EDAD MAXIMA PARA SOLICITUD DE CREDITO","SUPERA EDAD MAXIMA PARA SOLICITUD DE CREDITO",108,"SUPERA EDAD MAXIMA PARA SOLICITUD DE CREDITO",0]
[null,null,null,null,null,null,null,null,null,null,null,null,null,null,null,null,null,null,null,null,null,null,null,null,null,null,null,109,"SUPERA EDAD MAXIMA PARA SOLICITUD DE CREDITO","SUPERA EDAD MAXIMA PARA SOLICITUD DE CREDITO",109,"SUPERA EDAD MAXIMA PARA SOLICITUD DE CREDITO",0]
[null,null,null,null,null,null,null,null,null,null,null,null,null,null,null,null,null,null,null,null,null,null,null,null,null,null,null,110,"SUPERA EDAD MAXIMA PARA SOLICITUD DE CREDITO","SUPERA EDAD MAXIMA PARA SOLICITUD DE CREDITO",110,"SUPERA EDAD MAXIMA PARA SOLICITUD DE CREDITO",0]
[null,null,null,null,null,null,null,null,null,null,null,null,null,null,null,null,null,null,null,null,null,null,null,null,null,null,null,111,"SUPERA EDAD MAXIMA PARA SOLICITUD DE CREDITO","SUPERA EDAD MAXIMA PARA SOLICITUD DE CREDITO",111,"SUPERA EDAD MAXIMA PARA SOLICITUD DE CREDITO",0]
[null,null,null,null,null,null,null,null,null,null,null,null,null,null,null,null,null,null,null,null,null,null,null,null,null,null,null,112,"SUPERA EDAD MAXIMA PARA SOLICITUD DE CREDITO","SUPERA EDAD MAXIMA PARA SOLICITUD DE CREDITO",112,"SUPERA EDAD MAXIMA PARA SOLICITUD DE CREDITO",0]
[null,null,null,null,null,null,null,null,null,null,null,null,null,null,null,null,null,null,null,null,null,null,null,null,null,null,null,113,"SUPERA EDAD MAXIMA PARA SOLICITUD DE CREDITO","SUPERA EDAD MAXIMA PARA SOLICITUD DE CREDITO",113,"SUPERA EDAD MAXIMA PARA SOLICITUD DE CREDITO",0]
[null,null,null,null,null,null,null,null,null,null,null,null,null,null,null,null,null,null,null,null,null,null,null,null,null,null,null,114,"SUPERA EDAD MAXIMA PARA SOLICITUD DE CREDITO","SUPERA EDAD MAXIMA PARA SOLICITUD DE CREDITO",114,"SUPERA EDAD MAXIMA PARA SOLICITUD DE CREDITO",0]
[null,null,null,null,null,null,null,null,null,null,null,null,null,null,null,null,null,null,null,null,null,null,null,null,null,null,null,115,"SUPERA EDAD MAXIMA PARA SOLICITUD DE CREDITO","SUPERA EDAD MAXIMA PARA SOLICITUD DE CREDITO",115,"SUPERA EDAD MAXIMA PARA SOLICITUD DE CREDITO",0]
[null,null,null,null,null,null,null,null,null,null,null,null,null,null,null,null,null,null,null,null,null,null,null,null,null,null,null,116,"SUPERA EDAD MAXIMA PARA SOLICITUD DE CREDITO","SUPERA EDAD MAXIMA PARA SOLICITUD DE CREDITO",116,"SUPERA EDAD MAXIMA PARA SOLICITUD DE CREDITO",0]
[null,null,null,null,null,null,null,null,null,null,null,null,null,null,null,null,null,null,null,null,null,null,null,null,null,null,null,117,"SUPERA EDAD MAXIMA PARA SOLICITUD DE CREDITO","SUPERA EDAD MAXIMA PARA SOLICITUD DE CREDITO",117,"SUPERA EDAD MAXIMA PARA SOLICITUD DE CREDITO",0]
[null,null,null,null,null,null,null,null,null,null,null,null,null,null,null,null,null,null,null,null,null,null,null,null,null,null,null,118,"SUPERA EDAD MAXIMA PARA SOLICITUD DE CREDITO","SUPERA EDAD MAXIMA PARA SOLICITUD DE CREDITO",118,"SUPERA EDAD MAXIMA PARA SOLICITUD DE CREDITO",0]
[null,null,null,null,null,null,null,null,null,null,null,null,null,null,null,null,null,null,null,null,null,null,null,null,null,null,null,119,"SUPERA EDAD MAXIMA PARA SOLICITUD DE CREDITO","SUPERA EDAD MAXIMA PARA SOLICITUD DE CREDITO",119,"SUPERA EDAD MAXIMA PARA SOLICITUD DE CREDITO",0]
[null,null,null,null,null,null,null,null,null,null,null,null,null,null,null,null,null,null,null,null,null,null,null,null,null,null,null,120,"SUPERA EDAD MAXIMA PARA SOLICITUD DE CREDITO","SUPERA EDAD MAXIMA PARA SOLICITUD DE CREDITO",120,"SUPERA EDAD MAXIMA PARA SOLICITUD DE CREDITO",0]
[null,null,null,null,null,null,null,null,null,null,null,null,null,null,null,null,null,null,null,null,null,null,null,null,null,null,null,121,"SUPERA EDAD MAXIMA PARA SOLICITUD DE CREDITO","SUPERA EDAD MAXIMA PARA SOLICITUD DE CREDITO",121,"SUPERA EDAD MAXIMA PARA SOLICITUD DE CREDITO",0]
[null,null,null,null,null,null,null,null,null,null,null,null,null,null,null,null,null,null,null,null,null,null,null,null,null,null,null,122,"SUPERA EDAD MAXIMA PARA SOLICITUD DE CREDITO","SUPERA EDAD MAXIMA PARA SOLICITUD DE CREDITO",122,"SUPERA EDAD MAXIMA PARA SOLICITUD DE CREDITO",0]
[null,null,null,null,null,null,null,null,null,null,null,null,null,null,null,null,null,null,null,null,null,null,null,null,null,null,null,123,"SUPERA EDAD MAXIMA PARA SOLICITUD DE CREDITO","SUPERA EDAD MAXIMA PARA SOLICITUD DE CREDITO",123,"SUPERA EDAD MAXIMA PARA SOLICITUD DE CREDITO",0]
[null,null,null,null,null,null,null,null,null,null,null,null,null,null,null,null,null,null,null,null,null,null,null,null,null,null,null,124,"SUPERA EDAD MAXIMA PARA SOLICITUD DE CREDITO","SUPERA EDAD MAXIMA PARA SOLICITUD DE CREDITO",124,"SUPERA EDAD MAXIMA PARA SOLICITUD DE CREDITO",0]
[null,null,null,null,null,null,null,null,null,null,null,null,null,null,null,null,null,null,null,null,null,null,null,null,null,null,null,125,"SUPERA EDAD MAXIMA PARA SOLICITUD DE CREDITO","SUPERA EDAD MAXIMA PARA SOLICITUD DE CREDITO",125,"SUPERA EDAD MAXIMA PARA SOLICITUD DE CREDITO",0]
[null,null,null,null,null,null,null,null,null,null,null,null,null,null,null,null,null,null,null,null,null,null,null,null,null,null,null,126,"SUPERA EDAD MAXIMA PARA SOLICITUD DE CREDITO","SUPERA EDAD MAXIMA PARA SOLICITUD DE CREDITO",126,"SUPERA EDAD MAXIMA PARA SOLICITUD DE CREDITO",0]
[null,null,null,null,null,null,null,null,null,null,null,null,null,null,null,null,null,null,null,null,null,null,null,null,null,null,null,127,"SUPERA EDAD MAXIMA PARA SOLICITUD DE CREDITO","SUPERA EDAD MAXIMA PARA SOLICITUD DE CREDITO",127,"SUPERA EDAD MAXIMA PARA SOLICITUD DE CREDITO",0]
[null,null,null,null,null,null,null,null,null,null,null,null,null,null,null,null,null,null,null,null,null,null,null,null,null,null,null,128,"SUPERA EDAD MAXIMA PARA SOLICITUD DE CREDITO","SUPERA EDAD MAXIMA PARA SOLICITUD DE CREDITO",128,"SUPERA EDAD MAXIMA PARA SOLICITUD DE CREDITO",0]
[null,null,null,null,null,null,null,null,null,null,null,null,null,null,null,null,null,null,null,null,null,null,null,null,null,null,null,129,"SUPERA EDAD MAXIMA PARA SOLICITUD DE CREDITO","SUPERA EDAD MAXIMA PARA SOLICITUD DE CREDITO",129,"SUPERA EDAD MAXIMA PARA SOLICITUD DE CREDITO",0]
[null,null,null,null,null,null,null,null,null,null,null,null,null,null,null,null,null,null,null,null,null,null,null,null,null,null,null,130,"SUPERA EDAD MAXIMA PARA SOLICITUD DE CREDITO","SUPERA EDAD MAXIMA PARA SOLICITUD DE CREDITO",130,"SUPERA EDAD MAXIMA PARA SOLICITUD DE CREDITO",0]

{"sheet":"FIDUP","index":8,"n_rows":134,"n_cols":36,"rows_kept":134,"cut":false,"hidden":false,"merged":[[9,0,9,4],[16,16,16,18],[16,21,16,22],[17,1,17,2],[17,3,17,4],[17,5,17,7],[17,16,17,18],[17,21,17,22],[11,0,16,3],[18,16,18,18],[18,21,18,22],[19,16,19,18],[19,21,19,22],[22,16,22,18],[22,21,22,22],[23,16,23,18],[23,21,23,22],[24,0,27,4],[25,16,25,18],[25,21,25,22],[26,16,26,18],[26,21,26,22],[27,16,27,18],[20,0,23,4],[20,16,20,18],[20,21,20,22],[21,16,21,18],[21,21,21,22],[27,21,27,22],[32,21,32,22],[28,16,28,18],[28,21,28,22],[29,5,29,7],[29,16,29,18],[29,21,29,22],[30,16,30,18],[30,10,30,15],[30,21,30,22],[31,16,31,18],[31,21,31,22],[28,10,28,15],[29,10,29,15],[32,16,32,18],[38,5,38,7],[38,0,38,2],[0,14,0,15],[39,5,39,7],[34,5,34,6],[36,5,36,6],[33,5,33,6],[9,10,9,15],[10,10,10,15],[8,10,8,15],[34,0,34,2],[35,0,35,2],[36,0,36,2],[37,0,37,2],[39,0,39,2],[2,0,2,4],[0,0,0,4],[1,0,1,4],[31,0,31,2],[35,5,35,6],[37,5,37,6],[3,0,3,4],[4,0,4,4],[5,0,5,4],[6,0,6,4],[18,0,19,4],[28,0,30,2],[6,6,6,8],[7,0,7,4],[8,0,8,4],[8,6,8,7],[10,0,10,4]]}
["FIDUPREVISORA CO N - PA CO N - CR N",null,null,null,null,"PENSION - SALUD / 2",null,null,null,null,null,null,null,null,{"$f":"TASAS!G15","v":"2025-03"}]
[{"$f":"IF(($F$2=\"\"),\"Digite la edad del cliente\",\"\")","v":"Digite la edad del cliente"},null,null,null,null,null,null,null,null,null,null,null,null,null,null,null,{"$f":"F6+F7-F8","v":0},{"$f":"F9-Q2","v":0}]
[{"$f":"IF(($F$3<50000000),\"Monto máximo por COSERFIN\",\"Monto máximo en dos créditos por COSERFIN y PA COSERFIN\")","v":"Monto máximo en dos créditos por COSERFIN y PA COSERFIN"},null,null,null,null,{"$f":"IF((F2 = \"\"),\"DIGITE EDAD\",VLOOKUP(F2,$AD$8:$AF$134,2,0))","v":"DIGITE EDAD"},{"$f":"IF(($F$2=\"\"),\"\",\"Por CREAVAL\")","v":""},{"$f":"IF((F2 = \"\"),\"DIGITE EDAD\",VLOOKUP(F2,$AD$8:$AF$134,3,0))","v":"DIGITE EDAD"},null,null,null,null,null,null,null,null,null,null,{"$f":"IF(AND(G29<TASAS!H11,F29<TASAS!M2),TASAS!H6,TASAS!H5)","v":{"$error":"#VALUE!"}},null,null,null,null,null,null,null,null,null,null,null,"COSERFIN","CREAVAL"]
[{"$f":"IF(($F$2=\"\"),\"\",\"Plazo máximo para cada crédito\")","v":""},null,null,null,null,{"$f":"IF((F2 = \"\"),\"DEL SOLICITANTE\",VLOOKUP(F2,$AG$8:$AI$134,3,0))","v":"DEL SOLICITANTE"},null,null,null,null,null,null,null,null,null,null,null,null,{"$f":"D29-S3","v":{"$error":"#VALUE!"}},null,null,"TRAIDO DE TASAS",null,{"$f":"IF(F6<=V5,F6*0.04,0)","v":0},null,null,null,null,80,null,0,0,6600000,0,0,0]
["EVALUACION CAPACIDAD DE PAGO",null,null,null,null,"VALOR 1","VALOR 2","VALOR 3","TOTALES",null,null,null,null,null,null,null,null,null,0,null,null,{"$f":"TASAS!G11","v":1423500},null,{"$f":"IF(F6>V5,F6*0.1,0)","v":0},null,null,null,null,"75-79",null,10000000,10000000,30000000,0,"60 MESES",60]
["VALOR PENSION",null,null,null,null,0,null,null,{"$f":"F6","v":0},null,null,null,null,null,null,null,null,null,{"$f":"TASAS!H3","v":1.77E-2},"TASA",null,{"$f":"V5*3","v":4270500},null,{"$f":"IF(F6>V6,F6*0.1,0)","v":0},null,null,null,null,"18-70",null,50000000,25000000,50000000,0,"144 MESES",144]
["VALOR OTROS INGRESOS (PRIMAS, RETROACTIVOS, ADICIONALES, ETC.)",null,null,null,null,0,null,null,null,null,null,null,null,null,null,null,null,null,{"$f":"TASAS!H4","v":1.8200000000000001E-2},"TASA",null,null,null,{"$f":"IF(F6>V6,F6*0.12,0)","v":0},null,null,null,null,"71-74",null,20000000,20000000]
["(-) TOTAL DESCUENTOS INCLUYENDO 12% DE SALUD (FOSYGA O EPS)",null,null,null,null,0,null,null,{"$f":"IF(($R$2>3),\"ERROR EN\",IF($R$2<-3,\"ERROR EN\",F8))","v":0},null,null,null,null,null,null,null,{"$f":"F8-(F6*0.12)","v":0},{"$f":"IF(Q8<0,((Q8*-1)+Q8),Q8)","v":0},{"$f":"TASAS!H5","v":1.8699999999999998E-2},"TASA",null,null,null,{"$f":"X4+X5-X6+X7","v":0},null,null,null,null,null,0,"USUARIO","MENOR DE EDAD",0,"USUARIO","MENOR DE EDAD",0]
["INGRESO NETO RECIBIDO EN EL DESPRENDIBLE DE PAGO",null,null,null,null,0,"DISPONIBLE PARA CREDITO",null,{"$f":"IF(($R$2>3),\"LOS DATOS\",IF($R$2<-3,\"LOS DATOS\",((I6-X9)/2)-(F8-X9)+I10+I11))","v":0},"*",{"$f":"IF((D29=0),\"¡ ¡ ¡ Por favor seleccione la tasa de interés ! ! !\",\" \")","v":"¡ ¡ ¡ Por favor seleccione la tasa de interés ! ! !"},null,null,null,null,null,null,null,{"$f":"TASAS!H6","v":3.4999999999999996E-2},"TASA",null,null,null,{"$f":"CEILING(X8,100)","v":0},null,null,null,null,null,1,"USUARIO","MENOR DE EDAD",1,"USUARIO","MENOR DE EDAD",0]
["(+) DESCUENTOS FINALIZADOS EN EL PRESENTE MES Y EN EL PROXIMO",null,null,null,null,0,0,0,{"$f":"SUM(F10:H10)","v":0},null,{"$f":"IF((S4=0),\" \",\"¡¡¡   A T E N C I O N   !!!\")","v":{"$error":"#VALUE!"}},null,null,null,null,null,null,null,{"$f":"TASAS!H7","v":1.4499999999999999E-2},"TASA",null,null,null,null,null,null,null,null,null,2,"USUARIO","MENOR DE EDAD",2,"USUARIO","MENOR DE EDAD",0]
["(+) CUOTAS DE COMPRAS DE CARTERA",null,null,null,null,0,0,0,{"$f":"SUM(F11:H11)","v":0},null,{"$f":"IF((S4=0),\" \",\"La tasa máxima para ese monto y plazo es del\")","v":{"$error":"#VALUE!"}},null,null,null,null,null,null,null,{"$f":"TASAS!H8","v":1.4999999999999999E-2},"TASA",null,null,null,null,null,null,null,null,null,3,"USUARIO","MENOR DE EDAD",3,"USUARIO","MENOR DE EDAD",0]
["(-) VALOR ESTIMADO CUOTA DE CREDITO CON COOSERFIN",null,null,null,{"$f":"IF(($F$14=\"TASA\"),\" \",\"VR SOLICT\")","v":"VR SOLICT"},{"$f":"IF(F3>G20,FLOOR(G20,100000),F3)","v":"DIGITE EDAD"},0,0,{"$f":"IF($I$18>=0.1,\"VALOR TOTAL\",\"\")","v":"VALOR TOTAL"},null,null,null,null,null,null,null,null,null,{"$f":"TASAS!H9","v":1.55E-2},"TASA",null,null,null,null,null,null,null,null,null,4,"USUARIO","MENOR DE EDAD",4,"USUARIO","MENOR DE EDAD",0]
[null,null,null,null,{"$f":"IF(($F$14=\"TASA\"),\" \",\"PLAZO\")","v":"PLAZO"},{"$f":"F20","v":"DIGITE EDAD"},{"$f":"F13","v":"DIGITE EDAD"},{"$f":"F13","v":"DIGITE EDAD"},{"$f":"IF($I$18>=0.1,\"DE LA\",\"\")","v":"DE LA"},null,null,null,null,null,null,null,null,null,null,null,null,null,null,null,null,null,null,null,null,5,"USUARIO","MENOR DE EDAD",5,"USUARIO","MENOR DE EDAD",0]
[null,null,null,null,"FACTOR",2.3E-2,{"$f":"IF($F$14=\"TASA\",(0),$F$14)","v":2.3E-2},{"$f":"IF($F$14=\"TASA\",(0),$F$14)","v":2.3E-2},{"$f":"IF($I$18>=0.1,\"SOLICITUD\",\"\")","v":"SOLICITUD"},null,null,null,null,null,null,null,null,{"$f":"F3*1","v":{"$error":"#VALUE!"}},{"$f":"(PV(D29,F29,V15))*-1","v":{"$error":"#VALUE!"}},null,null,{"$f":"H20","v":"NO APLICA"},null,null,null,null,null,null,null,6,"USUARIO","MENOR DE EDAD",10,"USUARIO","MENOR DE EDAD",0]
[null,null,null,null,{"$f":"IF(($F$14=\"TASA\"),\" \",\"MESES GRACIA\")","v":"MESES GRACIA"},0,0,0,null,null,null,null,null,null,null,null,null,null,{"$f":"(IF(S14>R14,R14,FLOOR(S14,100000)))","v":{"$error":"#VALUE!"}},{"$f":"(PV(D29,F29,H20))*-1","v":{"$error":"#VALUE!"}},null,{"$f":"((V14*(1-T20))-T22-X17-X21)*0.99","v":{"$error":"#VALUE!"}},null,null,null,null,null,null,null,7,"USUARIO","MENOR DE EDAD",7,"USUARIO","MENOR DE EDAD",0]
[null,null,null,null,{"$f":"IF(($F$14=\"TASA\"),\" \",\"VR LIBRANZA\")","v":"VR LIBRANZA"},{"$f":"IF($I$18>=0,($F$17*F13),IF($I$18<0,\"\"))","v":{"$error":"#VALUE!"}},{"$f":"IF($I$18>=0,($G$17*G13),IF($I$18<0,\"\"))","v":{"$error":"#VALUE!"}},{"$f":"IF($I$18>=0,($H$17*H13),IF($I$18<0,\"\"))","v":{"$error":"#VALUE!"}},{"$f":"IF($I$18>=0,(F12+G12+H12),IF($I$18<0.1,\"\"))","v":{"$error":"#VALUE!"}},null,null,null,null,null,null,null,{"$f":"G20*1","v":{"$error":"#VALUE!"}},null,null,null,null,null,null,null,null,null,null,null,null,8,"USUARIO","MENOR DE EDAD",8,"USUARIO","MENOR DE EDAD",0]
[null,null,null,null,{"$f":"IF(($F$14=\"TASA\"),\" \",\"VR CUOTA\")","v":"VR CUOTA"},{"$f":"IF(($F$2=\"\"),\"RECUERDE\",ROUNDUP((((($F$12*$F$14))*($F$13+$F$15))+$F$12)/$F$13,0))","v":"RECUERDE"},{"$f":"IF(($F$2=\"\"),\"DIGITAR\",ROUNDUP((((($G$12*$G$14))*($G$13+$G$15))+$G$12)/$G$13,0))","v":"DIGITAR"},{"$f":"IF(($F$2=\"\"),\"LA EDAD\",ROUNDUP((((($H$12*$H$14))*($H$13+$H$15))+$H$12)/$H$13,0))","v":"LA EDAD"},{"$f":"SUM(F17:H17)","v":0},null,null,null,null,null,null,null,"VALOR CREDITO         :",null,null,{"$f":"T15","v":{"$error":"#VALUE!"}},null,"VALOR SEGURO          :",null,{"$f":"T17*Y26","v":{"$error":"#VALUE!"}},null,null,null,null,null,9,"USUARIO","MENOR DE EDAD",9,"USUARIO","MENOR DE EDAD",0]
[{"$f":"IF(($F$2=\"\"),\"RECUERDE DIGITAR ARRIBA LA EDAD\",\"MONTO Y PLAZO POSIBLES SEGÚN EDAD\")","v":"RECUERDE DIGITAR ARRIBA LA EDAD"},{"$f":"IF((F2 = \"\"),\"DIGITE\",VLOOKUP(F2,$AD$4:$AE$131,2,0))","v":"DIGITE"},null,{"$f":"IF((F2 = \"\"),\"LA EDAD\",VLOOKUP(F2,$AG$4:$AI$131,3,0))","v":"LA EDAD"},null,{"$f":"IF((I9-I17)>0,\"USUARIO CON CAPACIDAD DE PAGO\",IF(I9-I17<0,\"INTENTE CON OTROS MONTOS Y/O PLAZOS\"))","v":false},{"$f":"IF($L$13>=#REF!,\"USUARIO CON CAPACIDAD DE ENDEUDAMIENTO\",IF($L$13<#REF!,\"CREDITO INVIABLE INTENTE CON OTRO MONTO Y/O PLAZO\"))","v":{"$error":"#REF!"}},{"$f":"IF($L$13>=#REF!,\"USUARIO CON CAPACIDAD DE ENDEUDAMIENTO\",IF($L$13<#REF!,\"CREDITO INVIABLE INTENTE CON OTRO MONTO Y/O PLAZO\"))","v":{"$error":"#REF!"}},{"$f":"IF(((I9-I17)>0),(I9-I17),\"SIN CUPO\")","v":"SIN CUPO"},null,null,null,null,null,null,null,"TASA NOMINAL MENSUAL  :",null,null,{"$f":"D29","v":0},null,"TASA EFECTIVA ANUAL   :",null,{"$f":"((1+((T18*12)/12))^12)-1","v":0},null,null,null,null,null,10,"USUARIO","MENOR DE EDAD",10,"USUARIO","MENOR DE EDAD",0]
[{"$f":"IF($Y$24>0,\"MONTO MAXIMO DE ENDEUDAMIENTO - OPCION 1 CREDITO\",IF($Y$24<=0,\"EL SOLICITANTE NO TIENE POSIBILIDADES DE CREDITO\"))","v":"EL SOLICITANTE NO TIENE POSIBILIDADES DE CREDITO"},null,null,null,null,"PLAZO","MONTO MAX","VALOR CUOTA","VR LIBRANZA",null,null,null,null,null,null,null,"PLAZO EN MESES        :",null,null,{"$f":"F29","v":"DIGITE EDAD"},null,"CUOTA NETA            :",null,{"$f":"((((T18)*((1+(T18))^T19))/(((1+(T18))^T19)-1))*(T17+AA20))+(((((T17+AA20)*T18)/30)*T24)/T19)","v":{"$error":"#VALUE!"}},null,null,null,null,null,11,"USUARIO","MENOR DE EDAD",11,"USUARIO","MENOR DE EDAD",0]
[null,null,null,null,null,{"$f":"IF((F2 = \"\"),\"DIGITE EDAD\",VLOOKUP(F2,$AG$4:$AJ$131,4,0))","v":"DIGITE EDAD"},{"$f":"IF(($Y$24<=0),\"NO APLICA\",$I$20*100/((($F$14*100)*($F$20+$F$15))+100))","v":"NO APLICA"},{"$f":"IF(($Y$24<=0),\"NO APLICA\",($I$9))","v":"NO APLICA"},{"$f":"IF(($Y$24<=0),\"NO APLICA\",($F$20*$H$20))","v":"NO APLICA"},"*",null,null,null,null,null,null,"TASA COMISION RECAUDO :",null,null,0,null,"COMISION POR RECAUDO  :",null,{"$f":"((((((T18)*((1+(T18))^T19))/(((1+(T18))^T19)-1))*(T17+AA20))+(((((T17+AA20)*T18)/30)*T24)/T19)+T22+X17)*100)/(100-(T20*100))-(((((T18)*((1+(T18))^T19))/(((1+(T18))^T19)-1))*(T17+AA20))+(((((T17+AA20)*T18)/30)*T24)/T19)+T22+X17)","v":{"$error":"#VALUE!"}},null,null,{"$f":"T17*T21","v":{"$error":"#VALUE!"}},null,null,12,"USUARIO","MENOR DE EDAD",12,"USUARIO","MENOR DE EDAD",0]
[{"$f":"IF($Y$24>0,\"MONTO MAXIMO DE ENDEUDAMIENTO - OPCION 3 CREDITOS\",IF($Y$24<=0,\"EL SOLICITANTE NO TIENE POSIBILIDADES DE CREDITO\"))","v":"EL SOLICITANTE NO TIENE POSIBILIDADES DE CREDITO"},null,null,null,null,{"$f":"AJ6","v":144},{"$f":"IF(($Y$24<=0),\"NO APLICA\",$I$21*100/((($F$14*100)*($F$21+$F$15))+100))","v":"NO APLICA"},{"$f":"IF(($Y$24<=0),\"NO APLICA\",(($I$9+$I$10+$I$11))*0.425)","v":"NO APLICA"},{"$f":"IF(($Y$24<=0),\"NO APLICA\",($F$21*$H$21))","v":"NO APLICA"},null,null,null,null,null,null,null,"OTROS GASTOS          :",null,null,{"$f":"D31","v":0},null,"VALOR OTROS GASTOS    :",null,{"$f":"X24-AA22","v":{"$error":"#VALUE!"}},null,null,{"$f":"T26*T30","v":{"$error":"#VALUE!"}},null,null,13,"USUARIO","MENOR DE EDAD",13,"USUARIO","MENOR DE EDAD",0]
[null,null,null,null,null,{"$f":"AJ6","v":144},{"$f":"IF(($Y$24<=0),\"NO APLICA\",$I$22*100/((($F$14*100)*($F$22+$F$15))+100))","v":"NO APLICA"},{"$f":"IF(($Y$24<=0),\"NO APLICA\",(($I$9+$I$10+$I$11))*0.425)","v":"NO APLICA"},{"$f":"IF(($Y$24<=0),\"NO APLICA\",($F$22*$H$22))","v":"NO APLICA"},null,null,null,null,null,null,null,"APORTES SOCIALES      :",null,null,0,null,"FECHA DE INICIO       :",null,{"$f":"(T23+((T19+1)*29))-((T19-1)*29)","v":{"$error":"#VALUE!"}},null,null,{"$f":"((((T18)*((1+(T18))^T19))/(((1+(T18))^T19)-1))*T17)+((((T17*T18)/30)*T24)/T19)+T22+X17+X20","v":{"$error":"#VALUE!"}},null,null,14,"USUARIO","MENOR DE EDAD",14,"USUARIO","MENOR DE EDAD",0]
[null,null,null,null,null,12,{"$f":"IF(($Y$24<=0),\"NO APLICA\",$I$23*100/((($F$14*100)*($F$23+$F$15))+100))","v":"NO APLICA"},{"$f":"IF(($Y$24<=0),\"NO APLICA\",(($I$9+$I$10+$I$11))*0.15)","v":"NO APLICA"},{"$f":"IF(($Y$24<=0),\"NO APLICA\",($F$23*$H$23))","v":"NO APLICA"},null,null,null,null,null,null,null,"FECHA DESEMBOLSO      :",null,null,"2012-01-01",null,"FECHA DE TERMINO      :",null,{"$f":"(T23+((T19+1)*29))-((T19-1)*29)+((T19-1)*30)","v":{"$error":"#VALUE!"}},null,null,null,null,null,15,"USUARIO","MENOR DE EDAD",15,"USUARIO","MENOR DE EDAD",0]
[null,null,null,null,null,"TOTALES",{"$f":"SUM(G21:G23)","v":0},{"$f":"SUM(H21:H23)","v":0},{"$f":"SUM(I21:I23)","v":0},null,null,null,null,null,null,null,"DIAS DE GRACIA        :",null,null,{"$f":"D32","v":0},null,"TOTAL CUOTA MENSUAL   :",null,{"$f":"X19+T22+X20+X17","v":{"$error":"#VALUE!"}},{"$f":"$I$9+$I$10+$I$11","v":0},"PLAZO","MONTO MAX","VR MAX CUOTA","VALOR LZ",16,"USUARIO","MENOR DE EDAD",16,"USUARIO","MENOR DE EDAD",0]
[{"$f":"IF(I18>=0,\"OTRAS OPCIONES DE CREDITO DISPONIBLES\",IF(I18<0,\"INTENTE CON OTRO MONTO Y/O PLAZO\"))","v":"OTRAS OPCIONES DE CREDITO DISPONIBLES"},null,null,null,null,{"$f":"IF($AA$25<=$AC$29,12,IF($AA$25>$AC$29,\"NO APLICA\"))","v":{"$error":"#VALUE!"}},{"$f":"IF(AA25>$AC$29,\"NO APLICA\",IF(AA25<=$AC$29,FLOOR(AA25,10000)))","v":{"$error":"#VALUE!"}},{"$f":"IF($AA$25>$AC$29,\"NO APLICA\",IF(AA25<=$AC$29,((((G25*($F$14)*((F25+$F$15))+G25)/F25)))))","v":{"$error":"#VALUE!"}},{"$f":"IF($AA$25>$AC$29,\"NO APLICA\",IF(AA25<=$AC$29,(F25*H25)))","v":{"$error":"#VALUE!"}},null,null,null,null,null,null,null,null,null,null,null,null,null,null,null,"SEGURO",12,{"$f":"IF(($I$18>=0),AC25*100/((($F$14*100)*(Z25+$F$15))+100),\"\")","v":{"$error":"#VALUE!"}},{"$f":"IF(($I$18>=0),($I$17+$I$18),\"\")","v":{"$error":"#VALUE!"}},{"$f":"IF(($I$18>=0),(AB25*Z25),\"\")","v":{"$error":"#VALUE!"}},17,"USUARIO","MENOR DE EDAD",17,"USUARIO","MENOR DE EDAD",0]
[null,null,null,null,null,{"$f":"IF($AA$26<=$AC$29,24,IF($AA$26>$AC$29,\"NO APLICA\"))","v":{"$error":"#VALUE!"}},{"$f":"IF(AA26>$AC$29,\"NO APLICA\",IF(AA26<=$AC$29,FLOOR(AA26,10000)))","v":{"$error":"#VALUE!"}},{"$f":"IF($AA$26>$AC$29,\"NO APLICA\",IF(AA26<=$AC$29,((((G26*($F$14)*((F26+$F$15))+G26)/F26)))))","v":{"$error":"#VALUE!"}},{"$f":"IF($AA$26>$AC$29,\"NO APLICA\",IF(AA26<=$AC$29,(F26*H26)))","v":{"$error":"#VALUE!"}},null,null,null,null,null,null,null,"VALOR CREDITO         :",null,null,{"$f":"G29","v":{"$error":"#VALUE!"}},null,"VALOR SEGURO          :",null,{"$f":"T26*Y26","v":{"$error":"#VALUE!"}},{"$f":"IF((F2<66),(TASAS!C12),(VLOOKUP(F2,TASAS!B13:C27,2,0)))","v":1.15E-3},24,{"$f":"IF(($I$18>=0),AC26*100/((($F$14*100)*(Z26+$F$15))+100),\"\")","v":{"$error":"#VALUE!"}},{"$f":"IF(($I$18>=0),($I$17+$I$18),\"\")","v":{"$error":"#VALUE!"}},{"$f":"IF(($I$18>=0),(AB26*Z26),\"\")","v":{"$error":"#VALUE!"}},18,{"$f":"$AE$6","v":50000000},{"$f":"$AF$6","v":25000000},18,{"$f":"$AH$6","v":0},{"$f":"$AI$6","v":"144 MESES"},{"$f":"$AJ$6","v":144}]
[null,null,null,null,null,{"$f":"IF($AA$27<=$AC$29,36,IF($AA$27>$AC$29,\"NO APLICA\"))","v":{"$error":"#VALUE!"}},{"$f":"IF(AA27>$AC$29,\"NO APLICA\",IF(AA27<=$AC$29,FLOOR(AA27,10000)))","v":{"$error":"#VALUE!"}},{"$f":"IF($AA$27>$AC$29,\"NO APLICA\",IF(AA27<=$AC$29,((((G27*($F$14)*((F27+$F$15))+G27)/F27)))))","v":{"$error":"#VALUE!"}},{"$f":"IF($AA$27>$AC$29,\"NO APLICA\",IF(AA27<=$AC$29,(F27*H27)))","v":{"$error":"#VALUE!"}},null,null,null,null,null,null,null,"TASA NOMINAL MENSUAL  :",null,null,{"$f":"T18","v":0},null,"TASA EFECTIVA ANUAL   :",null,{"$f":"((1+((T27*12)/12))^12)-1","v":0},null,36,{"$f":"IF(($I$18>=0),AC27*100/((($F$14*100)*(Z27+$F$15))+100),\"\")","v":{"$error":"#VALUE!"}},{"$f":"IF(($I$18>=0),($I$17+$I$18),\"\")","v":{"$error":"#VALUE!"}},{"$f":"IF(($I$18>=0),(AB27*Z27),\"\")","v":{"$error":"#VALUE!"}},19,{"$f":"$AE$6","v":50000000},{"$f":"$AF$6","v":25000000},19,{"$f":"$AH$6","v":0},{"$f":"$AI$6","v":"144 MESES"},{"$f":"$AJ$6","v":144}]
[null,null,null,null,null,{"$f":"IF($AA$28<=$AC$29,48,IF($AA$28>$AC$29,\"NO APLICA\"))","v":{"$error":"#VALUE!"}},{"$f":"IF(AA28>$AC$29,\"NO APLICA\",IF(AA28<=$AC$29,FLOOR(AA28,10000)))","v":{"$error":"#VALUE!"}},{"$f":"IF($AA$28>$AC$29,\"NO APLICA\",IF(AA28<=$AC$29,((((G28*($F$14)*((F28+$F$15))+G28)/F28)))))","v":{"$error":"#VALUE!"}},{"$f":"IF($AA$28>$AC$29,\"NO APLICA\",IF(AA28<=$AC$29,(F28*H28)))","v":{"$error":"#VALUE!"}},null,null,null,null,null,null,null,"PLAZO EN MESES        :",null,null,"DIGITE EDAD",null,"CUOTA NETA            :",null,{"$f":"((((T27)*((1+(T27))^T28))/(((1+(T27))^T28)-1))*(T26+AA21))+(((((T26+AA21)*T27)/30)*T33)/T28)","v":{"$error":"#VALUE!"}},null,48,{"$f":"IF(($I$18>=0),AC28*100/((($F$14*100)*(Z28+$F$15))+100),\"\")","v":{"$error":"#VALUE!"}},{"$f":"IF(($I$18>=0),($I$17+$I$18),\"\")","v":{"$error":"#VALUE!"}},{"$f":"IF(($I$18>=0),(AB28*Z28),\"\")","v":{"$error":"#VALUE!"}},20,50000000,25000000,20,0,"144 MESES",144]
["LIBRE INVERSION - COBRO DE AVAL ANTICIPADO",null,null,0,"N.M.V.",{"$f":"F20","v":"DIGITE EDAD"},{"$f":"S15","v":{"$error":"#VALUE!"}},"  VR CUOTA   ",{"$f":"((((T27)*((1+(T27))^T28))/(((1+(T27))^T28)-1))*(G29+AA21))+(((((G29+AA21)*T27)/30)*T33)/T28)+T31+X26+X29+X30","v":{"$error":"#VALUE!"}},null,{"$f":"IF((S4=0),\" \",S3)","v":{"$error":"#VALUE!"}},null,null,null,null,null,"TASA COMISION RECAUDO :",null,null,0,null,"COMISION POR RECAUDO  :",null,{"$f":"((((((T27)*((1+(T27))^T28))/(((1+(T27))^T28)-1))*(T26+AA21))+(((((T26+AA21)*T27)/30)*T33)/T28)+T31+X26)*100)/(100-(T29*100))-(((((T27)*((1+(T27))^T28))/(((1+(T27))^T28)-1))*(T26+AA21))+(((((T26+AA21)*T27)/30)*T33)/T28)+T31+X26)","v":{"$error":"#VALUE!"}},null,null,null,"MONTO MAXIMO POR CLIENTE",50000000,21,50000000,25000000,21,0,"144 MESES",144]
[null,null,null,{"$f":"((1+((D29*12)/12))^12)-1","v":0}," E. A.",{"$f":"IF(I30>=0,\"USUARIO CON CAPACIDAD DE PAGO\",IF(I30<0,\"INTENTE CON OTRO MONTO Y/O PLAZO\"))","v":{"$error":"#VALUE!"}},null,null,{"$f":"I9-I29","v":{"$error":"#VALUE!"}},null,{"$f":"IF(D29=TASAS!H3,\"Tasa para clientes con puntaje > a 750 y sin procesos\",\" \")","v":" "},null,null,null,null,null,"OTROS GASTOS          :",null,null,0,null,"VALOR OTROS GASTOS    :",null,null,null,null,null,null,null,22,50000000,25000000,22,0,"144 MESES",144]
[null,null,null,0," O. G.","% AVAL","VALOR AVAL ","A GIRAR",null,null,{"$f":"IF(D29=TASAS!H4,\"Tasa para clientes con puntaje entre 650 - 749 y sin procesos\",\" \")","v":" "},null,null,null,null,null,"APORTES SOCIALES      :",null,null,0,null,"FECHA DE INICIO       :",null,{"$f":"(T32+((T28+1)*29))-((T28-1)*29)","v":{"$error":"#VALUE!"}},null,null,null,null,null,23,50000000,25000000,23,0,"144 MESES",144]
[null,null,null,0," D. G.",0.09,{"$f":"G29*F32","v":{"$error":"#VALUE!"}},{"$f":"G29-G32","v":{"$error":"#VALUE!"}},null,null,null,null,null,null,null,null,"FECHA DESEMBOLSO      :",null,null,"2012-01-01",null,"FECHA DE TERMINO      :",null,{"$f":"(T32+((T28+1)*29))-((T28-1)*29)+((T28-1)*30)","v":{"$error":"#VALUE!"}},null,null,null,null,null,24,50000000,25000000,24,0,"144 MESES",144]
[null,null,null,"% Simple",{"$f":"(((I29*F29)-G29)/G29)/F29","v":{"$error":"#VALUE!"}},null,"VR MENSUAL x 1 MM",{"$f":"I29/(G29/1000000)","v":{"$error":"#VALUE!"}},null,null,null,null,null,null,null,null,"DIAS DE GRACIA        :",null,null,0,null,"TOTAL CUOTA MENSUAL   :",null,{"$f":"X28+T31+X29+X26","v":{"$error":"#VALUE!"}},null,null,null,null,null,25,50000000,25000000,25,0,"144 MESES",144]
[null,null,null,null,null,"COMPRA O AMPLIACION 1",null,0,null,"FIDELIZACIÓN","VR CRÉDITO","VR CUOTA ","PLAZO"," VR AVAL","SALDO","A GIRAR",null,null,null,null,null,null,null,null,null,null,null,null,null,26,50000000,25000000,26,0,"144 MESES",144]
["Vr. Crédito",null,null,{"$f":"G29","v":{"$error":"#VALUE!"}},null,"COMPRA O AMPLIACION 2",null,0,"LIBRE INV",null,0,0,0,0,0,{"$f":"K35-N35-O35","v":0},null,null,null,null,null,null,null,null,null,null,null,null,null,27,50000000,25000000,27,0,"144 MESES",144]
["Aval",null,null,{"$f":"G32","v":{"$error":"#VALUE!"}},null,"COMPRA O AMPLIACION 3",null,0,"AMPLIACION","LZ A",0,0,0,0,0,{"$f":"K36-N36-O36","v":0},null,null,null,null,null,null,null,null,null,null,null,null,null,28,50000000,25000000,28,0,"144 MESES",144]
["Compra(s) / Saneamiento(s) / Ampiación(es)",null,null,{"$f":"SUM(H34:H37)","v":0},null,"COMPRA O AMPLIACION 4",null,0,"COMPRA","OPERADOR ?",0,0,0,0,0,{"$f":"K37-N37-O37","v":0},null,null,null,null,null,null,null,null,null,null,null,null,null,29,50000000,25000000,29,0,"144 MESES",144]
["Vr. Desembolso",null,null,{"$f":"D35-D36-D37","v":{"$error":"#VALUE!"}},{"$f":"IF(((D38-H38)>0),\"ERROR\",IF((D38-H38)=0,\" \"))","v":{"$error":"#VALUE!"}},"NETO A GIRAR",null,{"$f":"H32-H34-H35-H36-H37","v":{"$error":"#VALUE!"}},"COMPRA","OPERADOR ?",0,0,0,0,0,{"$f":"K38-N38-O38","v":0},null,null,null,null,null,null,null,null,null,null,null,null,null,30,50000000,25000000,30,0,"144 MESES",144]
["Vr. Cuota",null,null,{"$f":"I29","v":{"$error":"#VALUE!"}},null,{"$f":"IF(((F3-G29)<0),\"¡¡¡ A T E N C I Ó N !!!\",IF((F3-G29)>=0,\" \"))","v":{"$error":"#VALUE!"}},null,null,null,null,null,null,null,null,null,null,null,null,null,null,null,null,null,null,null,null,null,null,null,31,50000000,25000000,31,0,"144 MESES",144]
["Plazo",null,null,{"$f":"F29","v":"DIGITE EDAD"},null,{"$f":"IF(((F3-G29)<0),\"EL MONTO EXCEDE LIMITE PARA ESA EDAD\",IF((F3-G29)>=0,\" \"))","v":{"$error":"#VALUE!"}},null,null,null,null,null,null,null,null,null,null,null,null,null,null,null,null,null,null,null,null,null,null,null,32,50000000,25000000,32,0,"144 MESES",144]
[null,null,null,null,null,null,null,null,null,null,null,null,null,null,null,null,null,null,null,null,null,null,null,null,null,null,null,null,null,37,50000000,25000000,37,0,"144 MESES",144]
["REQUISITOS PARA SOLICITUD DE CREDITO:",null,null,null,null,null,null,null,null,null,null,null,null,null,null,null,null,null,null,null,null,null,null,null,null,null,null,null,null,38,50000000,25000000,38,0,"144 MESES",144]
["1. Desprendible de pago del último mes, el cual puede descargarse aquí",null,null,null,null,null,null,null,null,null,null,null,null,null,null,null,null,null,null,null,null,null,null,null,null,null,null,null,null,39,50000000,25000000,39,0,"144 MESES",144]
["https://www.fomag.gov.co/fomagzp/",null,null,null,null,null,null,null,null,null,null,null,null,null,null,null,null,null,null,null,null,null,null,null,null,null,null,null,null,40,50000000,25000000,40,0,"144 MESES",144]
["2. Copia de la resolución de reconocimiento de la pensión, la cual puede descargarse aquí",null,null,null,null,null,null,null,null,null,null,null,null,null,null,null,null,null,null,null,null,null,null,null,null,null,null,null,null,41,50000000,25000000,41,0,"144 MESES",144]
["https://www.fomag.gov.co/fomagzp/",null,null,null,null,null,null,null,null,null,null,null,null,null,null,null,null,null,null,null,null,null,null,null,null,null,null,null,null,42,50000000,25000000,42,0,"144 MESES",144]
["3. Si el cliente autoriza, se podrá realizar la descarga del desprendible y resolución, firmando el siguiente formato",null,null,null,null,null,null,null,null,null,null,null,null,null,null,null,null,null,null,null,null,null,null,null,null,null,null,null,null,43,50000000,25000000,43,0,"144 MESES",144]
["https://coserfin.co/panelwi/upload/c8d2ea_AUTORIZACION%20ACCESO%20PLATAFORMAS%20CO%20y%20CR.pdf",null,null,null,null,null,null,null,null,null,null,null,null,null,null,null,null,null,null,null,null,null,null,null,null,null,null,null,null,44,50000000,25000000,44,0,"144 MESES",144]
["4. Suministrar usuario y clave de acceso a la web de FOMAG",null,null,null,null,null,null,null,null,null,null,null,null,null,null,null,null,null,null,null,null,null,null,null,null,null,null,null,null,45,50000000,25000000,45,0,"144 MESES",144]
["5. Una (1) fotocopia de la cédula de ciudadanía ampliada al 150% en blanco y negro, con firma y huella",null,null,null,null,null,null,null,null,null,null,null,null,null,null,null,null,null,null,null,null,null,null,null,null,null,null,null,null,46,50000000,25000000,46,0,"144 MESES",144]
["6. Formato de autorización de descuento, exclusivo para FIDUPREVISORA que se descarga aquí",null,null,null,null,null,null,null,null,null,null,null,null,null,null,null,null,null,null,null,null,null,null,null,null,null,null,null,null,47,50000000,25000000,47,0,"144 MESES",144]
["https://coserfin.co/panelwi/upload/760fe2_AUTORIZACION%20DESCUENTO%20FIDUPREVISORA%20CO%20CR%20y%20PA.pdf",null,null,null,null,null,null,null,null,null,null,null,null,null,null,null,null,null,null,null,null,null,null,null,null,null,null,null,null,48,50000000,25000000,48,0,"144 MESES",144]
["7. Para compra de cartera, se requiere la firma del siguiente formato",null,null,null,null,null,null,null,null,null,null,null,null,null,null,null,null,null,null,null,null,null,null,null,null,null,null,null,null,49,50000000,25000000,49,0,"144 MESES",144]
["https://coserfin.co/panelwi/upload/e254a9_COMPRA%20DE%20CARTERA%20GENERAL%20CO%20Y%20CR.pdf",null,null,null,null,null,null,null,null,null,null,null,null,null,null,null,null,null,null,null,null,null,null,null,null,null,null,null,null,50,50000000,25000000,50,0,"144 MESES",144]
["8. Para compras de cartera se requiere un formato de suspensión de descuento(s) por cada una, el cual puede descargarse aquí",null,null,null,null,null,null,null,null,null,null,null,null,null,null,null,null,null,null,null,null,null,null,null,null,null,null,null,null,51,50000000,25000000,51,0,"144 MESES",144]
["https://coserfin.co/panelwi/upload/bf97c8_SUSPENSION%20DESCUENTOS%20FIDUPREVISORA.pdf",null,null,null,null,null,null,null,null,null,null,null,null,null,null,null,null,null,null,null,null,null,null,null,null,null,null,null,null,52,50000000,25000000,52,0,"144 MESES",144]
["9. Si el solicitante es pensionado por perdida psicofisica, se requiere resolución de reconocmiento de la pensión y dictamen médico",null,null,null,null,null,null,null,null,null,null,null,null,null,null,null,null,null,null,null,null,null,null,null,null,null,null,null,null,53,50000000,25000000,53,0,"144 MESES",144]
["10. No requiere codeudor, pero es necesario cobro de aval",null,null,null,null,null,null,null,null,null,null,null,null,null,null,null,null,null,null,null,null,null,null,null,null,null,null,null,null,54,50000000,25000000,54,0,"144 MESES",144]
[null,null,null,null,null,null,null,null,null,null,null,null,null,null,null,null,null,null,null,null,null,null,null,null,null,null,null,null,null,55,50000000,25000000,55,0,"144 MESES",144]
["INCORPORACIÓN DEL DESCUENTO Y TIEMPO DE DESEMBOLSO:",null,null,null,null,null,null,null,null,null,null,null,null,null,null,null,null,null,null,null,null,null,null,null,null,null,null,null,null,56,50000000,25000000,56,0,"144 MESES",144]
["1. Las novedades se envían los dias veinte (20) de cada mes y la respuesta se recibe entre los cinco (5) y ocho (8) días habiles siguientes al envío",null,null,null,null,null,null,null,null,null,null,null,null,null,null,null,null,null,null,null,null,null,null,null,null,null,null,null,null,57,50000000,25000000,57,0,"144 MESES",144]
["2. El descuento opera para el siguiente mes",null,null,null,null,null,null,null,null,null,null,null,null,null,null,null,null,null,null,null,null,null,null,null,null,null,null,null,null,58,50000000,25000000,58,0,"144 MESES",144]
["3. El desembolso se realiza únicamente cuando se confirma la incorporación del descuento, es decir, entre cinco (5) y ocho (8) días hábiles después de enviadas las novedades",null,null,null,null,null,null,null,null,null,null,null,null,null,null,null,null,null,null,null,null,null,null,null,null,null,null,null,null,59,50000000,25000000,59,0,"144 MESES",144]
["4. Cuando se trata de compras de cartera, es necesario que el operador de libranza suspenda el descuento del crédito que se está comprando",null,null,null,null,null,null,null,null,null,null,null,null,null,null,null,null,null,null,null,null,null,null,null,null,null,null,null,null,60,50000000,25000000,60,0,"144 MESES",144]
["    para que permita el ingreso de nuestro descuento",null,null,null,null,null,null,null,null,null,null,null,null,null,null,null,null,null,null,null,null,null,null,null,null,null,null,null,null,61,50000000,25000000,61,0,"144 MESES",144]
["5. Todas las fechas descritas son aproximadas y pueden cambiar cada mes",null,null,null,null,null,null,null,null,null,null,null,null,null,null,null,null,null,null,null,null,null,null,null,null,null,null,null,null,62,50000000,25000000,62,0,"144 MESES",144]
[null,null,null,null,null,null,null,null,null,null,null,null,null,null,null,null,null,null,null,null,null,null,null,null,null,null,null,null,null,63,50000000,25000000,63,0,"144 MESES",144]
["DOCUMENTOS DE IDENTIFICACION VALIDOS PARA TODAS LAS ENTIDADES:",null,null,null,null,null,null,null,null,null,null,null,null,null,null,null,null,null,null,null,null,null,null,null,null,null,null,null,null,64,50000000,25000000,64,0,"144 MESES",144]
["1. Coia de la licencia de conducción",null,null,null,null,null,null,null,null,null,null,null,null,null,null,null,null,null,null,null,null,null,null,null,null,null,null,null,null,65,50000000,25000000,65,0,"144 MESES",144]
["2. Copia de la tarjeta de propeidad de un vehiculo o moto.",null,null,null,null,null,null,null,null,null,null,null,null,null,null,null,null,null,null,null,null,null,null,null,null,null,null,null,null,66,50000000,0,66,0,"144 MESES",144]
["3. Copia del carné de la EPS",null,null,null,null,null,null,null,null,null,null,null,null,null,null,null,null,null,null,null,null,null,null,null,null,null,null,null,null,67,50000000,0,67,0,"144 MESES",144]
["4. Copia de un recibo de pago de servicio público del inmueble donde reside el solicitante, a nombre del mismo",null,null,null,null,null,null,null,null,null,null,null,null,null,null,null,null,null,null,null,null,null,null,null,null,null,null,null,null,68,50000000,0,68,0,"144 MESES",144]
["5. Copia de un extracto de cuenta bancaria, preferiblemente la de nómina o pensión",null,null,null,null,null,null,null,null,null,null,null,null,null,null,null,null,null,null,null,null,null,null,null,null,null,null,null,null,69,50000000,0,69,0,{"$f":"$AI$6","v":"144 MESES"},144]
["6. Copia de un extracto de tarjeta de crédito",null,null,null,null,null,null,null,null,null,null,null,null,null,null,null,null,null,null,null,null,null,null,null,null,null,null,null,null,70,50000000,0,70,0,"144 MESES",144]
["7. Copia de una tarjeta de crédito",null,null,null,null,null,null,null,null,null,null,null,null,null,null,null,null,null,null,null,null,null,null,null,null,null,null,null,null,71,{"$f":"$AE$7","v":20000000},{"$f":"$AF$7","v":20000000},71,0,{"$f":"$AI$6","v":"144 MESES"},144]
["8. Copia de un carné de afiliación a un club, asociación o cooperativa",null,null,null,null,null,null,null,null,null,null,null,null,null,null,null,null,null,null,null,null,null,null,null,null,null,null,null,null,72,{"$f":"$AE$7","v":20000000},{"$f":"$AF$7","v":20000000},72,0,"144 MESES",144]
["9. Copia de una fórmula médica",null,null,null,null,null,null,null,null,null,null,null,null,null,null,null,null,null,null,null,null,null,null,null,null,null,null,null,null,73,{"$f":"$AE$7","v":20000000},{"$f":"$AF$7","v":20000000},73,0,"144 MESES",144]
[null,null,null,null,null,null,null,null,null,null,null,null,null,null,null,null,null,null,null,null,null,null,null,null,null,null,null,null,null,74,{"$f":"$AE$7","v":20000000},{"$f":"$AF$7","v":20000000},74,0,"144 MESES",144]
[null,null,null,null,null,null,null,null,null,null,null,null,null,null,null,null,null,null,null,null,null,null,null,null,null,null,null,null,null,75,{"$f":"$AE$5","v":10000000},{"$f":"$AF$5","v":10000000},75,{"$f":"$AH$5","v":0},{"$f":"$AI$5","v":"60 MESES"},{"$f":"$AJ$5","v":60}]
[null,null,null,null,null,null,null,null,null,null,null,null,null,null,null,null,null,null,null,null,null,null,null,null,null,null,null,null,null,76,{"$f":"$AE$5","v":10000000},{"$f":"$AF$5","v":10000000},76,{"$f":"$AH$5","v":0},{"$f":"$AI$5","v":"60 MESES"},{"$f":"$AJ$5","v":60}]
[null,null,null,null,null,null,null,null,null,null,null,null,null,null,null,null,null,null,null,null,null,null,null,null,null,null,null,null,null,77,{"$f":"$AE$5","v":10000000},{"$f":"$AF$5","v":10000000},77,{"$f":"$AH$5","v":0},{"$f":"$AI$5","v":"60 MESES"},{"$f":"$AJ$5","v":60}]
[null,null,null,null,null,null,null,null,null,null,null,null,null,null,null,null,null,null,null,null,null,null,null,null,null,null,null,null,null,78,{"$f":"$AE$5","v":10000000},{"$f":"$AF$5","v":10000000},78,{"$f":"$AH$5","v":0},{"$f":"$AI$5","v":"60 MESES"},{"$f":"$AJ$5","v":60}]
[null,null,null,null,null,null,null,null,null,null,null,null,null,null,null,null,null,null,null,null,null,null,null,null,null,null,null,null,null,79,{"$f":"$AE$5","v":10000000},{"$f":"$AF$5","v":10000000},79,{"$f":"$AH$5","v":0},{"$f":"$AI$5","v":"60 MESES"},{"$f":"$AJ$5","v":60}]
[null,null,null,null,null,null,null,null,null,null,null,null,null,null,null,null,null,null,null,null,null,null,null,null,null,null,null,null,null,80,"SUPERA EDAD","SUPERA EDAD",80,"SUPERA EDAD","PARA SOLICITAR CREDITO",0]
[null,null,null,null,null,null,null,null,null,null,null,null,null,null,null,null,null,null,null,null,null,null,null,null,null,null,null,null,null,81,"SUPERA EDAD","SUPERA EDAD",81,"SUPERA EDAD","PARA SOLICITAR CREDITO",0]
[null,null,null,null,null,null,null,null,null,null,null,null,null,null,null,null,null,null,null,null,null,null,null,null,null,null,null,null,null,82,"SUPERA EDAD","SUPERA EDAD",82,"SUPERA EDAD","PARA SOLICITAR CREDITO",0]
[null,null,null,null,null,null,null,null,null,null,null,null,null,null,null,null,null,null,null,null,null,null,null,null,null,null,null,null,null,83,"SUPERA EDAD","SUPERA EDAD",83,"SUPERA EDAD","PARA SOLICITAR CREDITO",0]
[null,null,null,null,null,null,null,null,null,null,null,null,null,null,null,null,null,null,null,null,null,null,null,null,null,null,null,null,null,84,"SUPERA EDAD","SUPERA EDAD",84,"SUPERA EDAD","PARA SOLICITAR CREDITO",0]
[null,null,null,null,null,null,null,null,null,null,null,null,null,null,null,null,null,null,null,null,null,null,null,null,null,null,null,null,null,85,"SUPERA EDAD","SUPERA EDAD",85,"SUPERA EDAD","PARA SOLICITAR CREDITO",0]
[null,null,null,null,null,null,null,null,null,null,null,null,null,null,null,null,null,null,null,null,null,null,null,null,null,null,null,null,null,86,"SUPERA EDAD","SUPERA EDAD",86,"SUPERA EDAD","PARA SOLICITAR CREDITO",0]
[null,null,null,null,null,null,null,null,null,null,null,null,null,null,null,null,null,null,null,null,null,null,null,null,null,null,null,null,null,87,"SUPERA EDAD","SUPERA EDAD",87,"SUPERA EDAD","PARA SOLICITAR CREDITO",0]
[null,null,null,null,null,null,null,null,null,null,null,null,null,null,null,null,null,null,null,null,null,null,null,null,null,null,null,null,null,88,"SUPERA EDAD","SUPERA EDAD",88,"SUPERA EDAD","PARA SOLICITAR CREDITO",0]
[null,null,null,null,null,null,null,null,null,null,null,null,null,null,null,null,null,null,null,null,null,null,null,null,null,null,null,null,null,89,"SUPERA EDAD","SUPERA EDAD",89,"SUPERA EDAD","PARA SOLICITAR CREDITO",0]
[null,null,null,null,null,null,null,null,null,null,null,null,null,null,null,null,null,null,null,null,null,null,null,null,null,null,null,null,null,90,"SUPERA EDAD","SUPERA EDAD",90,"SUPERA EDAD","PARA SOLICITAR CREDITO",0]
[null,null,null,null,null,null,null,null,null,null,null,null,null,null,null,null,null,null,null,null,null,null,null,null,null,null,null,null,null,91,"SUPERA EDAD","SUPERA EDAD",91,"SUPERA EDAD","PARA SOLICITAR CREDITO",0]
[null,null,null,null,null,null,null,null,null,null,null,null,null,null,null,null,null,null,null,null,null,null,null,null,null,null,null,null,null,92,"SUPERA EDAD","SUPERA EDAD",92,"SUPERA EDAD","PARA SOLICITAR CREDITO",0]
[null,null,null,null,null,null,null,null,null,null,null,null,null,null,null,null,null,null,null,null,null,null,null,null,null,null,null,null,null,93,"SUPERA EDAD","SUPERA EDAD",93,"SUPERA EDAD","PARA SOLICITAR CREDITO",0]
[null,null,null,null,null,null,null,null,null,null,null,null,null,null,null,null,null,null,null,null,null,null,null,null,null,null,null,null,null,94,"SUPERA EDAD","SUPERA EDAD",94,"SUPERA EDAD","PARA SOLICITAR CREDITO",0]
[null,null,null,null,null,null,null,null,null,null,null,null,null,null,null,null,null,null,null,null,null,null,null,null,null,null,null,null,null,95,"SUPERA EDAD","SUPERA EDAD",95,"SUPERA EDAD","PARA SOLICITAR CREDITO",0]
[null,null,null,null,null,null,null,null,null,null,null,null,null,null,null,null,null,null,null,null,null,null,null,null,null,null,null,null,null,96,"SUPERA EDAD","SUPERA EDAD",96,"SUPERA EDAD","PARA SOLICITAR CREDITO",0]
[null,null,null,null,null,null,null,null,null,null,null,null,null,null,null,null,null,null,null,null,null,null,null,null,null,null,null,null,null,97,"SUPERA EDAD","SUPERA EDAD",97,"SUPERA EDAD","PARA SOLICITAR CREDITO",0]
[null,null,null,null,null,null,null,null,null,null,null,null,null,null,null,null,null,null,null,null,null,null,null,null,null,null,null,null,null,98,"SUPERA EDAD","SUPERA EDAD",98,"SUPERA EDAD","PARA SOLICITAR CREDITO",0]
[null,null,null,null,null,null,null,null,null,null,null,null,null,null,null,null,null,null,null,null,null,null,null,null,null,null,null,null,null,99,"SUPERA EDAD","SUPERA EDAD",99,"SUPERA EDAD","PARA SOLICITAR CREDITO",0]
[null,null,null,null,null,null,null,null,null,null,null,null,null,null,null,null,null,null,null,null,null,null,null,null,null,null,null,null,null,100,"SUPERA EDAD","SUPERA EDAD",100,"SUPERA EDAD","PARA SOLICITAR CREDITO",0]
[null,null,null,null,null,null,null,null,null,null,null,null,null,null,null,null,null,null,null,null,null,null,null,null,null,null,null,null,null,101,"SUPERA EDAD","SUPERA EDAD",101,"SUPERA EDAD","PARA SOLICITAR CREDITO",0]
[null,null,null,null,null,null,null,null,null,null,null,null,null,null,null,null,null,null,null,null,null,null,null,null,null,null,null,null,null,102,"SUPERA EDAD","SUPERA EDAD",102,"SUPERA EDAD","PARA SOLICITAR CREDITO",0]
[null,null,null,null,null,null,null,null,null,null,null,null,null,null,null,null,null,null,null,null,null,null,null,null,null,null,null,null,null,103,"SUPERA EDAD","SUPERA EDAD",103,"SUPERA EDAD","PARA SOLICITAR CREDITO",0]
[null,null,null,null,null,null,null,null,null,null,null,null,null,null,null,null,null,null,null,null,null,null,null,null,null,null,null,null,null,104,"SUPERA EDAD","SUPERA EDAD",104,"SUPERA EDAD","PARA SOLICITAR CREDITO",0]
[null,null,null,null,null,null,null,null,null,null,null,null,null,null,null,null,null,null,null,null,null,null,null,null,null,null,null,null,null,105,"SUPERA EDAD","SUPERA EDAD",105,"SUPERA EDAD","PARA SOLICITAR CREDITO",0]
[null,null,null,null,null,null,null,null,null,null,null,null,null,null,null,null,null,null,null,null,null,null,null,null,null,null,null,null,null,106,"SUPERA EDAD","SUPERA EDAD",106,"SUPERA EDAD","PARA SOLICITAR CREDITO",0]
[null,null,null,null,null,null,null,null,null,null,null,null,null,null,null,null,null,null,null,null,null,null,null,null,null,null,null,null,null,107,"SUPERA EDAD","SUPERA EDAD",107,"SUPERA EDAD","PARA SOLICITAR CREDITO",0]
[null,null,null,null,null,null,null,null,null,null,null,null,null,null,null,null,null,null,null,null,null,null,null,null,null,null,null,null,null,108,"SUPERA EDAD","SUPERA EDAD",108,"SUPERA EDAD","PARA SOLICITAR CREDITO",0]
[null,null,null,null,null,null,null,null,null,null,null,null,null,null,null,null,null,null,null,null,null,null,null,null,null,null,null,null,null,109,"SUPERA EDAD","SUPERA EDAD",109,"SUPERA EDAD","PARA SOLICITAR CREDITO",0]
[null,null,null,null,null,null,null,null,null,null,null,null,null,null,null,null,null,null,null,null,null,null,null,null,null,null,null,null,null,110,"SUPERA EDAD","SUPERA EDAD",110,"SUPERA EDAD","PARA SOLICITAR CREDITO",0]
[null,null,null,null,null,null,null,null,null,null,null,null,null,null,null,null,null,null,null,null,null,null,null,null,null,null,null,null,null,111,"SUPERA EDAD","SUPERA EDAD",111,"SUPERA EDAD","PARA SOLICITAR CREDITO",0]
[null,null,null,null,null,null,null,null,null,null,null,null,null,null,null,null,null,null,null,null,null,null,null,null,null,null,null,null,null,112,"SUPERA EDAD","SUPERA EDAD",112,"SUPERA EDAD","PARA SOLICITAR CREDITO",0]
[null,null,null,null,null,null,null,null,null,null,null,null,null,null,null,null,null,null,null,null,null,null,null,null,null,null,null,null,null,113,"SUPERA EDAD","SUPERA EDAD",113,"SUPERA EDAD","PARA SOLICITAR CREDITO",0]
[null,null,null,null,null,null,null,null,null,null,null,null,null,null,null,null,null,null,null,null,null,null,null,null,null,null,null,null,null,114,"SUPERA EDAD","SUPERA EDAD",114,"SUPERA EDAD","PARA SOLICITAR CREDITO",0]
[null,null,null,null,null,null,null,null,null,null,null,null,null,null,null,null,null,null,null,null,null,null,null,null,null,null,null,null,null,115,"SUPERA EDAD","SUPERA EDAD",115,"SUPERA EDAD","PARA SOLICITAR CREDITO",0]
[null,null,null,null,null,null,null,null,null,null,null,null,null,null,null,null,null,null,null,null,null,null,null,null,null,null,null,null,null,116,"SUPERA EDAD","SUPERA EDAD",116,"SUPERA EDAD","PARA SOLICITAR CREDITO",0]
[null,null,null,null,null,null,null,null,null,null,null,null,null,null,null,null,null,null,null,null,null,null,null,null,null,null,null,null,null,117,"SUPERA EDAD","SUPERA EDAD",117,"SUPERA EDAD","PARA SOLICITAR CREDITO",0]
[null,null,null,null,null,null,null,null,null,null,null,null,null,null,null,null,null,null,null,null,null,null,null,null,null,null,null,null,null,118,"SUPERA EDAD","SUPERA EDAD",118,"SUPERA EDAD","PARA SOLICITAR CREDITO",0]
[null,null,null,null,null,null,null,null,null,null,null,null,null,null,null,null,null,null,null,null,null,null,null,null,null,null,null,null,null,119,"SUPERA EDAD","SUPERA EDAD",119,"SUPERA EDAD","PARA SOLICITAR CREDITO",0]
[null,null,null,null,null,null,null,null,null,null,null,null,null,null,null,null,null,null,null,null,null,null,null,null,null,null,null,null,null,120,"SUPERA EDAD","SUPERA EDAD",120,"SUPERA EDAD","PARA SOLICITAR CREDITO",0]
[null,null,null,null,null,null,null,null,null,null,null,null,null,null,null,null,null,null,null,null,null,null,null,null,null,null,null,null,null,121,"SUPERA EDAD","SUPERA EDAD",121,"SUPERA EDAD","PARA SOLICITAR CREDITO",0]
[null,null,null,null,null,null,null,null,null,null,null,null,null,null,null,null,null,null,null,null,null,null,null,null,null,null,null,null,null,122,"SUPERA EDAD","SUPERA EDAD",122,"SUPERA EDAD","PARA SOLICITAR CREDITO",0]
[null,null,null,null,null,null,null,null,null,null,null,null,null,null,null,null,null,null,null,null,null,null,null,null,null,null,null,null,null,123,"SUPERA EDAD","SUPERA EDAD",123,"SUPERA EDAD","PARA SOLICITAR CREDITO",0]
[null,null,null,null,null,null,null,null,null,null,null,null,null,null,null,null,null,null,null,null,null,null,null,null,null,null,null,null,null,124,"SUPERA EDAD","SUPERA EDAD",124,"SUPERA EDAD","PARA SOLICITAR CREDITO",0]
[null,null,null,null,null,null,null,null,null,null,null,null,null,null,null,null,null,null,null,null,null,null,null,null,null,null,null,null,null,125,"SUPERA EDAD","SUPERA EDAD",125,"SUPERA EDAD","PARA SOLICITAR CREDITO",0]
[null,null,null,null,null,null,null,null,null,null,null,null,null,null,null,null,null,null,null,null,null,null,null,null,null,null,null,null,null,126,"SUPERA EDAD","SUPERA EDAD",126,"SUPERA EDAD","PARA SOLICITAR CREDITO",0]
[null,null,null,null,null,null,null,null,null,null,null,null,null,null,null,null,null,null,null,null,null,null,null,null,null,null,null,null,null,127,"SUPERA EDAD","SUPERA EDAD",127,"SUPERA EDAD","PARA SOLICITAR CREDITO",0]
[null,null,null,null,null,null,null,null,null,null,null,null,null,null,null,null,null,null,null,null,null,null,null,null,null,null,null,null,null,128,"SUPERA EDAD","SUPERA EDAD",128,"SUPERA EDAD","PARA SOLICITAR CREDITO",0]
[null,null,null,null,null,null,null,null,null,null,null,null,null,null,null,null,null,null,null,null,null,null,null,null,null,null,null,null,null,129,"SUPERA EDAD","SUPERA EDAD",129,"SUPERA EDAD","PARA SOLICITAR CREDITO",0]
[null,null,null,null,null,null,null,null,null,null,null,null,null,null,null,null,null,null,null,null,null,null,null,null,null,null,null,null,null,130,"SUPERA EDAD","SUPERA EDAD",130,"SUPERA EDAD","PARA SOLICITAR CREDITO",0]

{"sheet":"FOPEP","index":9,"n_rows":134,"n_cols":36,"rows_kept":134,"cut":false,"hidden":false,"merged":[[9,0,9,4],[16,16,16,18],[16,21,16,22],[17,1,17,2],[17,3,17,4],[17,5,17,7],[17,16,17,18],[17,21,17,22],[11,0,16,3],[18,16,18,18],[18,21,18,22],[19,16,19,18],[19,21,19,22],[22,16,22,18],[22,21,22,22],[23,16,23,18],[23,21,23,22],[24,0,27,4],[25,16,25,18],[25,21,25,22],[26,16,26,18],[26,21,26,22],[27,16,27,18],[20,0,23,4],[20,16,20,18],[20,21,20,22],[21,16,21,18],[21,21,21,22],[27,21,27,22],[32,21,32,22],[28,16,28,18],[28,21,28,22],[29,5,29,7],[29,16,29,18],[29,21,29,22],[30,16,30,18],[30,10,30,15],[30,21,30,22],[31,16,31,18],[31,21,31,22],[28,10,28,15],[29,10,29,15],[32,16,32,18],[38,5,38,7],[38,0,38,2],[0,14,0,15],[39,5,39,7],[34,5,34,6],[36,5,36,6],[33,5,33,6],[9,10,9,15],[10,10,10,15],[8,10,8,15],[34,0,34,2],[35,0,35,2],[36,0,36,2],[37,0,37,2],[39,0,39,2],[2,0,2,4],[0,0,0,4],[1,0,1,4],[31,0,31,2],[35,5,35,6],[37,5,37,6],[3,0,3,4],[4,0,4,4],[5,0,5,4],[6,0,6,4],[18,0,19,4],[28,0,30,2],[6,6,6,8],[7,0,7,4],[8,0,8,4],[8,6,8,7],[10,0,10,4]]}
["FOPEP CO N - PA CO N - CR N",null,null,null,null,"PENSION - SALUD / 2",null,null,null,null,null,null,null,null,{"$f":"TASAS!G15","v":"2025-03"}]
[{"$f":"IF(($F$2=\"\"),\"Digite la edad del cliente\",\"\")","v":"Digite la edad del cliente"},null,null,null,null,null,null,null,null,null,null,null,null,null,null,null,{"$f":"F6+F7-F8","v":0},{"$f":"F9-Q2","v":0}]
[{"$f":"IF(($F$3<50000000),\"Monto máximo por COSERFIN\",\"Monto máximo en dos créditos por COSERFIN y PA COSERFIN\")","v":"Monto máximo en dos créditos por COSERFIN y PA COSERFIN"},null,null,null,null,{"$f":"IF((F2 = \"\"),\"DIGITE EDAD\",VLOOKUP(F2,$AD$8:$AF$134,2,0))","v":"DIGITE EDAD"},{"$f":"IF(($F$2=\"\"),\"\",\"Por CREAVAL\")","v":""},{"$f":"IF((F2 = \"\"),\"DIGITE EDAD\",VLOOKUP(F2,$AD$8:$AF$134,3,0))","v":"DIGITE EDAD"},null,null,null,null,null,null,null,null,null,null,{"$f":"IF(AND(G29<TASAS!H11,F29<TASAS!M2),TASAS!H6,TASAS!H5)","v":{"$error":"#VALUE!"}},null,null,null,null,null,null,null,null,null,null,null,"COSERFIN","CREAVAL"]
[{"$f":"IF(($F$2=\"\"),\"\",\"Plazo máximo para cada crédito\")","v":""},null,null,null,null,{"$f":"IF((F2 = \"\"),\"DEL SOLICITANTE\",VLOOKUP(F2,$AG$8:$AI$134,3,0))","v":"DEL SOLICITANTE"},null,null,null,null,null,null,null,null,null,null,null,null,{"$f":"D29-S3","v":{"$error":"#VALUE!"}},null,null,"TRAIDO DE TASAS",null,{"$f":"IF(F6<=V5,F6*0.04,0)","v":0},null,null,null,null,80,null,0,0,6600000,0,0,0]
["EVALUACION CAPACIDAD DE PAGO",null,null,null,null,"VALOR 1","VALOR 2","VALOR 3","TOTALES",null,null,null,null,null,null,null,null,null,0,null,null,{"$f":"TASAS!G11","v":1423500},null,{"$f":"IF(F6>V5,F6*0.1,0)","v":0},null,null,null,null,"75-79",null,10000000,10000000,30000000,0,"60 MESES",60]
["VALOR PENSION",null,null,null,null,0,null,null,{"$f":"F6","v":0},null,null,null,null,null,null,null,null,null,{"$f":"TASAS!H3","v":1.77E-2},"TASA",null,{"$f":"V5*3","v":4270500},null,{"$f":"IF(F6>V6,F6*0.1,0)","v":0},null,null,null,null,"18-70",null,50000000,25000000,50000000,0,"144 MESES",144]
["VALOR OTROS INGRESOS (PRIMAS, RETROACTIVOS, ADICIONALES, ETC.)",null,null,null,null,0,null,null,null,null,null,null,null,null,null,null,null,null,{"$f":"TASAS!H4","v":1.8200000000000001E-2},"TASA",null,null,null,{"$f":"IF(F6>V6,F6*0.12,0)","v":0},null,null,null,null,"71-74",null,20000000,20000000]
["(-) TOTAL DESCUENTOS INCLUYENDO 12% DE SALUD (FOSYGA O EPS)",null,null,null,null,0,null,null,{"$f":"IF(($R$2>3),\"ERROR EN\",IF($R$2<-3,\"ERROR EN\",F8))","v":0},null,null,null,null,null,null,null,{"$f":"F8-(F6*0.12)","v":0},{"$f":"IF(Q8<0,((Q8*-1)+Q8),Q8)","v":0},{"$f":"TASAS!H5","v":1.8699999999999998E-2},"TASA",null,null,null,{"$f":"X4+X5-X6+X7","v":0},null,null,null,null,null,0,"USUARIO","MENOR DE EDAD",0,"USUARIO","MENOR DE EDAD",0]
["INGRESO NETO RECIBIDO EN EL DESPRENDIBLE DE PAGO",null,null,null,null,0,"DISPONIBLE PARA CREDITO",null,{"$f":"IF(($R$2>3),\"LOS DATOS\",IF($R$2<-3,\"LOS DATOS\",((I6-X9)/2)-(F8-X9)+I10+I11))","v":0},"*",{"$f":"IF((D29=0),\"¡ ¡ ¡ Por favor seleccione la tasa de interés ! ! !\",\" \")","v":"¡ ¡ ¡ Por favor seleccione la tasa de interés ! ! !"},null,null,null,null,null,null,null,{"$f":"TASAS!H6","v":3.4999999999999996E-2},"TASA",null,null,null,{"$f":"CEILING(X8,100)","v":0},null,null,null,null,null,1,"USUARIO","MENOR DE EDAD",1,"USUARIO","MENOR DE EDAD",0]
["(+) DESCUENTOS FINALIZADOS EN EL PRESENTE MES Y EN EL PROXIMO",null,null,null,null,0,0,0,{"$f":"SUM(F10:H10)","v":0},null,{"$f":"IF((S4=0),\" \",\"¡¡¡   A T E N C I O N   !!!\")","v":{"$error":"#VALUE!"}},null,null,null,null,null,null,null,{"$f":"TASAS!H7","v":1.4499999999999999E-2},"TASA",null,null,null,null,null,null,null,null,null,2,"USUARIO","MENOR DE EDAD",2,"USUARIO","MENOR DE EDAD",0]
["(+) CUOTAS DE COMPRAS DE CARTERA",null,null,null,null,0,0,0,{"$f":"SUM(F11:H11)","v":0},null,{"$f":"IF((S4=0),\" \",\"La tasa máxima para ese monto y plazo es del\")","v":{"$error":"#VALUE!"}},null,null,null,null,null,null,null,{"$f":"TASAS!H8","v":1.4999999999999999E-2},"TASA",null,null,null,null,null,null,null,null,null,3,"USUARIO","MENOR DE EDAD",3,"USUARIO","MENOR DE EDAD",0]
["(-) VALOR ESTIMADO CUOTA DE CREDITO CON COOSERFIN",null,null,null,{"$f":"IF(($F$14=\"TASA\"),\" \",\"VR SOLICT\")","v":"VR SOLICT"},{"$f":"IF(F3>G20,FLOOR(G20,100000),F3)","v":"DIGITE EDAD"},0,0,{"$f":"IF($I$18>=0.1,\"VALOR TOTAL\",\"\")","v":"VALOR TOTAL"},null,null,null,null,null,null,null,null,null,{"$f":"TASAS!H9","v":1.55E-2},"TASA",null,null,null,null,null,null,null,null,null,4,"USUARIO","MENOR DE EDAD",4,"USUARIO","MENOR DE EDAD",0]
[null,null,null,null,{"$f":"IF(($F$14=\"TASA\"),\" \",\"PLAZO\")","v":"PLAZO"},{"$f":"F20","v":"DIGITE EDAD"},{"$f":"F13","v":"DIGITE EDAD"},{"$f":"F13","v":"DIGITE EDAD"},{"$f":"IF($I$18>=0.1,\"DE LA\",\"\")","v":"DE LA"},null,null,null,null,null,null,null,null,null,null,null,null,null,null,null,null,null,null,null,null,5,"USUARIO","MENOR DE EDAD",5,"USUARIO","MENOR DE EDAD",0]
[null,null,null,null,"FACTOR",2.3E-2,{"$f":"IF($F$14=\"TASA\",(0),$F$14)","v":2.3E-2},{"$f":"IF($F$14=\"TASA\",(0),$F$14)","v":2.3E-2},{"$f":"IF($I$18>=0.1,\"SOLICITUD\",\"\")","v":"SOLICITUD"},null,null,null,null,null,null,null,null,{"$f":"F3*1","v":{"$error":"#VALUE!"}},{"$f":"(PV(D29,F29,V15))*-1","v":{"$error":"#VALUE!"}},null,null,{"$f":"H20","v":"NO APLICA"},null,null,null,null,null,null,null,6,"USUARIO","MENOR DE EDAD",10,"USUARIO","MENOR DE EDAD",0]
[null,null,null,null,{"$f":"IF(($F$14=\"TASA\"),\" \",\"MESES GRACIA\")","v":"MESES GRACIA"},0,0,0,null,null,null,null,null,null,null,null,null,null,{"$f":"(IF(S14>R14,R14,FLOOR(S14,100000)))","v":{"$error":"#VALUE!"}},{"$f":"(PV(D29,F29,H20))*-1","v":{"$error":"#VALUE!"}},null,{"$f":"((V14*(1-T20))-T22-X17-X21)*0.99","v":{"$error":"#VALUE!"}},null,null,null,null,null,null,null,7,"USUARIO","MENOR DE EDAD",7,"USUARIO","MENOR DE EDAD",0]
[null,null,null,null,{"$f":"IF(($F$14=\"TASA\"),\" \",\"VR LIBRANZA\")","v":"VR LIBRANZA"},{"$f":"IF($I$18>=0,($F$17*F13),IF($I$18<0,\"\"))","v":{"$error":"#VALUE!"}},{"$f":"IF($I$18>=0,($G$17*G13),IF($I$18<0,\"\"))","v":{"$error":"#VALUE!"}},{"$f":"IF($I$18>=0,($H$17*H13),IF($I$18<0,\"\"))","v":{"$error":"#VALUE!"}},{"$f":"IF($I$18>=0,(F12+G12+H12),IF($I$18<0.1,\"\"))","v":{"$error":"#VALUE!"}},null,null,null,null,null,null,null,{"$f":"G20*1","v":{"$error":"#VALUE!"}},null,null,null,null,null,null,null,null,null,null,null,null,8,"USUARIO","MENOR DE EDAD",8,"USUARIO","MENOR DE EDAD",0]
[null,null,null,null,{"$f":"IF(($F$14=\"TASA\"),\" \",\"VR CUOTA\")","v":"VR CUOTA"},{"$f":"IF(($F$2=\"\"),\"RECUERDE\",ROUNDUP((((($F$12*$F$14))*($F$13+$F$15))+$F$12)/$F$13,0))","v":"RECUERDE"},{"$f":"IF(($F$2=\"\"),\"DIGITAR\",ROUNDUP((((($G$12*$G$14))*($G$13+$G$15))+$G$12)/$G$13,0))","v":"DIGITAR"},{"$f":"IF(($F$2=\"\"),\"LA EDAD\",ROUNDUP((((($H$12*$H$14))*($H$13+$H$15))+$H$12)/$H$13,0))","v":"LA EDAD"},{"$f":"SUM(F17:H17)","v":0},null,null,null,null,null,null,null,"VALOR CREDITO         :",null,null,{"$f":"T15","v":{"$error":"#VALUE!"}},null,"VALOR SEGURO          :",null,{"$f":"T17*Y26","v":{"$error":"#VALUE!"}},null,null,null,null,null,9,"USUARIO","MENOR DE EDAD",9,"USUARIO","MENOR DE EDAD",0]
[{"$f":"IF(($F$2=\"\"),\"RECUERDE DIGITAR ARRIBA LA EDAD\",\"MONTO Y PLAZO POSIBLES SEGÚN EDAD\")","v":"RECUERDE DIGITAR ARRIBA LA EDAD"},{"$f":"IF((F2 = \"\"),\"DIGITE\",VLOOKUP(F2,$AD$4:$AE$131,2,0))","v":"DIGITE"},null,{"$f":"IF((F2 = \"\"),\"LA EDAD\",VLOOKUP(F2,$AG$4:$AI$131,3,0))","v":"LA EDAD"},null,{"$f":"IF((I9-I17)>0,\"USUARIO CON CAPACIDAD DE PAGO\",IF(I9-I17<0,\"INTENTE CON OTROS MONTOS Y/O PLAZOS\"))","v":false},{"$f":"IF($L$13>=#REF!,\"USUARIO CON CAPACIDAD DE ENDEUDAMIENTO\",IF($L$13<#REF!,\"CREDITO INVIABLE INTENTE CON OTRO MONTO Y/O PLAZO\"))","v":{"$error":"#REF!"}},{"$f":"IF($L$13>=#REF!,\"USUARIO CON CAPACIDAD DE ENDEUDAMIENTO\",IF($L$13<#REF!,\"CREDITO INVIABLE INTENTE CON OTRO MONTO Y/O PLAZO\"))","v":{"$error":"#REF!"}},{"$f":"IF(((I9-I17)>0),(I9-I17),\"SIN CUPO\")","v":"SIN CUPO"},null,null,null,null,null,null,null,"TASA NOMINAL MENSUAL  :",null,null,{"$f":"D29","v":0},null,"TASA EFECTIVA ANUAL   :",null,{"$f":"((1+((T18*12)/12))^12)-1","v":0},null,null,null,null,null,10,"USUARIO","MENOR DE EDAD",10,"USUARIO","MENOR DE EDAD",0]
[{"$f":"IF($Y$24>0,\"MONTO MAXIMO DE ENDEUDAMIENTO - OPCION 1 CREDITO\",IF($Y$24<=0,\"EL SOLICITANTE NO TIENE POSIBILIDADES DE CREDITO\"))","v":"EL SOLICITANTE NO TIENE POSIBILIDADES DE CREDITO"},null,null,null,null,"PLAZO","MONTO MAX","VALOR CUOTA","VR LIBRANZA",null,null,null,null,null,null,null,"PLAZO EN MESES        :",null,null,{"$f":"F29","v":"DIGITE EDAD"},null,"CUOTA NETA            :",null,{"$f":"((((T18)*((1+(T18))^T19))/(((1+(T18))^T19)-1))*(T17+AA20))+(((((T17+AA20)*T18)/30)*T24)/T19)","v":{"$error":"#VALUE!"}},null,null,null,null,null,11,"USUARIO","MENOR DE EDAD",11,"USUARIO","MENOR DE EDAD",0]
[null,null,null,null,null,{"$f":"IF((F2 = \"\"),\"DIGITE EDAD\",VLOOKUP(F2,$AG$4:$AJ$131,4,0))","v":"DIGITE EDAD"},{"$f":"IF(($Y$24<=0),\"NO APLICA\",$I$20*100/((($F$14*100)*($F$20+$F$15))+100))","v":"NO APLICA"},{"$f":"IF(($Y$24<=0),\"NO APLICA\",($I$9))","v":"NO APLICA"},{"$f":"IF(($Y$24<=0),\"NO APLICA\",($F$20*$H$20))","v":"NO APLICA"},"*",null,null,null,null,null,null,"TASA COMISION RECAUDO :",null,null,0,null,"COMISION POR RECAUDO  :",null,{"$f":"((((((T18)*((1+(T18))^T19))/(((1+(T18))^T19)-1))*(T17+AA20))+(((((T17+AA20)*T18)/30)*T24)/T19)+T22+X17)*100)/(100-(T20*100))-(((((T18)*((1+(T18))^T19))/(((1+(T18))^T19)-1))*(T17+AA20))+(((((T17+AA20)*T18)/30)*T24)/T19)+T22+X17)","v":{"$error":"#VALUE!"}},null,null,{"$f":"T17*T21","v":{"$error":"#VALUE!"}},null,null,12,"USUARIO","MENOR DE EDAD",12,"USUARIO","MENOR DE EDAD",0]
[{"$f":"IF($Y$24>0,\"MONTO MAXIMO DE ENDEUDAMIENTO - OPCION 3 CREDITOS\",IF($Y$24<=0,\"EL SOLICITANTE NO TIENE POSIBILIDADES DE CREDITO\"))","v":"EL SOLICITANTE NO TIENE POSIBILIDADES DE CREDITO"},null,null,null,null,{"$f":"AJ6","v":144},{"$f":"IF(($Y$24<=0),\"NO APLICA\",$I$21*100/((($F$14*100)*($F$21+$F$15))+100))","v":"NO APLICA"},{"$f":"IF(($Y$24<=0),\"NO APLICA\",(($I$9+$I$10+$I$11))*0.425)","v":"NO APLICA"},{"$f":"IF(($Y$24<=0),\"NO APLICA\",($F$21*$H$21))","v":"NO APLICA"},null,null,null,null,null,null,null,"OTROS GASTOS          :",null,null,{"$f":"D31","v":0},null,"VALOR OTROS GASTOS    :",null,{"$f":"X24-AA22","v":{"$error":"#VALUE!"}},null,null,{"$f":"T26*T30","v":{"$error":"#VALUE!"}},null,null,13,"USUARIO","MENOR DE EDAD",13,"USUARIO","MENOR DE EDAD",0]
[null,null,null,null,null,{"$f":"AJ6","v":144},{"$f":"IF(($Y$24<=0),\"NO APLICA\",$I$22*100/((($F$14*100)*($F$22+$F$15))+100))","v":"NO APLICA"},{"$f":"IF(($Y$24<=0),\"NO APLICA\",(($I$9+$I$10+$I$11))*0.425)","v":"NO APLICA"},{"$f":"IF(($Y$24<=0),\"NO APLICA\",($F$22*$H$22))","v":"NO APLICA"},null,null,null,null,null,null,null,"APORTES SOCIALES      :",null,null,0,null,"FECHA DE INICIO       :",null,{"$f":"(T23+((T19+1)*29))-((T19-1)*29)","v":{"$error":"#VALUE!"}},null,null,{"$f":"((((T18)*((1+(T18))^T19))/(((1+(T18))^T19)-1))*T17)+((((T17*T18)/30)*T24)/T19)+T22+X17+X20","v":{"$error":"#VALUE!"}},null,null,14,"USUARIO","MENOR DE EDAD",14,"USUARIO","MENOR DE EDAD",0]
[null,null,null,null,null,12,{"$f":"IF(($Y$24<=0),\"NO APLICA\",$I$23*100/((($F$14*100)*($F$23+$F$15))+100))","v":"NO APLICA"},{"$f":"IF(($Y$24<=0),\"NO APLICA\",(($I$9+$I$10+$I$11))*0.15)","v":"NO APLICA"},{"$f":"IF(($Y$24<=0),\"NO APLICA\",($F$23*$H$23))","v":"NO APLICA"},null,null,null,null,null,null,null,"FECHA DESEMBOLSO      :",null,null,"2012-01-01",null,"FECHA DE TERMINO      :",null,{"$f":"(T23+((T19+1)*29))-((T19-1)*29)+((T19-1)*30)","v":{"$error":"#VALUE!"}},null,null,null,null,null,15,"USUARIO","MENOR DE EDAD",15,"USUARIO","MENOR DE EDAD",0]
[null,null,null,null,null,"TOTALES",{"$f":"SUM(G21:G23)","v":0},{"$f":"SUM(H21:H23)","v":0},{"$f":"SUM(I21:I23)","v":0},null,null,null,null,null,null,null,"DIAS DE GRACIA        :",null,null,{"$f":"D32","v":0},null,"TOTAL CUOTA MENSUAL   :",null,{"$f":"X19+T22+X20+X17","v":{"$error":"#VALUE!"}},{"$f":"$I$9+$I$10+$I$11","v":0},"PLAZO","MONTO MAX","VR MAX CUOTA","VALOR LZ",16,"USUARIO","MENOR DE EDAD",16,"USUARIO","MENOR DE EDAD",0]
[{"$f":"IF(I18>=0,\"OTRAS OPCIONES DE CREDITO DISPONIBLES\",IF(I18<0,\"INTENTE CON OTRO MONTO Y/O PLAZO\"))","v":"OTRAS OPCIONES DE CREDITO DISPONIBLES"},null,null,null,null,{"$f":"IF($AA$25<=$AC$29,12,IF($AA$25>$AC$29,\"NO APLICA\"))","v":{"$error":"#VALUE!"}},{"$f":"IF(AA25>$AC$29,\"NO APLICA\",IF(AA25<=$AC$29,FLOOR(AA25,10000)))","v":{"$error":"#VALUE!"}},{"$f":"IF($AA$25>$AC$29,\"NO APLICA\",IF(AA25<=$AC$29,((((G25*($F$14)*((F25+$F$15))+G25)/F25)))))","v":{"$error":"#VALUE!"}},{"$f":"IF($AA$25>$AC$29,\"NO APLICA\",IF(AA25<=$AC$29,(F25*H25)))","v":{"$error":"#VALUE!"}},null,null,null,null,null,null,null,null,null,null,null,null,null,null,null,"SEGURO",12,{"$f":"IF(($I$18>=0),AC25*100/((($F$14*100)*(Z25+$F$15))+100),\"\")","v":{"$error":"#VALUE!"}},{"$f":"IF(($I$18>=0),($I$17+$I$18),\"\")","v":{"$error":"#VALUE!"}},{"$f":"IF(($I$18>=0),(AB25*Z25),\"\")","v":{"$error":"#VALUE!"}},17,"USUARIO","MENOR DE EDAD",17,"USUARIO","MENOR DE EDAD",0]
[null,null,null,null,null,{"$f":"IF($AA$26<=$AC$29,24,IF($AA$26>$AC$29,\"NO APLICA\"))","v":{"$error":"#VALUE!"}},{"$f":"IF(AA26>$AC$29,\"NO APLICA\",IF(AA26<=$AC$29,FLOOR(AA26,10000)))","v":{"$error":"#VALUE!"}},{"$f":"IF($AA$26>$AC$29,\"NO APLICA\",IF(AA26<=$AC$29,((((G26*($F$14)*((F26+$F$15))+G26)/F26)))))","v":{"$error":"#VALUE!"}},{"$f":"IF($AA$26>$AC$29,\"NO APLICA\",IF(AA26<=$AC$29,(F26*H26)))","v":{"$error":"#VALUE!"}},null,null,null,null,null,null,null,"VALOR CREDITO         :",null,null,{"$f":"G29","v":{"$error":"#VALUE!"}},null,"VALOR SEGURO          :",null,{"$f":"T26*Y26","v":{"$error":"#VALUE!"}},{"$f":"IF((F2<66),(TASAS!C12),(VLOOKUP(F2,TASAS!B13:C27,2,0)))","v":1.15E-3},24,{"$f":"IF(($I$18>=0),AC26*100/((($F$14*100)*(Z26+$F$15))+100),\"\")","v":{"$error":"#VALUE!"}},{"$f":"IF(($I$18>=0),($I$17+$I$18),\"\")","v":{"$error":"#VALUE!"}},{"$f":"IF(($I$18>=0),(AB26*Z26),\"\")","v":{"$error":"#VALUE!"}},18,{"$f":"$AE$6","v":50000000},{"$f":"$AF$6","v":25000000},18,{"$f":"$AH$6","v":0},{"$f":"$AI$6","v":"144 MESES"},{"$f":"$AJ$6","v":144}]
[null,null,null,null,null,{"$f":"IF($AA$27<=$AC$29,36,IF($AA$27>$AC$29,\"NO APLICA\"))","v":{"$error":"#VALUE!"}},{"$f":"IF(AA27>$AC$29,\"NO APLICA\",IF(AA27<=$AC$29,FLOOR(AA27,10000)))","v":{"$error":"#VALUE!"}},{"$f":"IF($AA$27>$AC$29,\"NO APLICA\",IF(AA27<=$AC$29,((((G27*($F$14)*((F27+$F$15))+G27)/F27)))))","v":{"$error":"#VALUE!"}},{"$f":"IF($AA$27>$AC$29,\"NO APLICA\",IF(AA27<=$AC$29,(F27*H27)))","v":{"$error":"#VALUE!"}},null,null,null,null,null,null,null,"TASA NOMINAL MENSUAL  :",null,null,{"$f":"T18","v":0},null,"TASA EFECTIVA ANUAL   :",null,{"$f":"((1+((T27*12)/12))^12)-1","v":0},null,36,{"$f":"IF(($I$18>=0),AC27*100/((($F$14*100)*(Z27+$F$15))+100),\"\")","v":{"$error":"#VALUE!"}},{"$f":"IF(($I$18>=0),($I$17+$I$18),\"\")","v":{"$error":"#VALUE!"}},{"$f":"IF(($I$18>=0),(AB27*Z27),\"\")","v":{"$error":"#VALUE!"}},19,{"$f":"$AE$6","v":50000000},{"$f":"$AF$6","v":25000000},19,{"$f":"$AH$6","v":0},{"$f":"$AI$6","v":"144 MESES"},{"$f":"$AJ$6","v":144}]
[null,null,null,null,null,{"$f":"IF($AA$28<=$AC$29,48,IF($AA$28>$AC$29,\"NO APLICA\"))","v":{"$error":"#VALUE!"}},{"$f":"IF(AA28>$AC$29,\"NO APLICA\",IF(AA28<=$AC$29,FLOOR(AA28,10000)))","v":{"$error":"#VALUE!"}},{"$f":"IF($AA$28>$AC$29,\"NO APLICA\",IF(AA28<=$AC$29,((((G28*($F$14)*((F28+$F$15))+G28)/F28)))))","v":{"$error":"#VALUE!"}},{"$f":"IF($AA$28>$AC$29,\"NO APLICA\",IF(AA28<=$AC$29,(F28*H28)))","v":{"$error":"#VALUE!"}},null,null,null,null,null,null,null,"PLAZO EN MESES        :",null,null,"DIGITE EDAD",null,"CUOTA NETA            :",null,{"$f":"((((T27)*((1+(T27))^T28))/(((1+(T27))^T28)-1))*(T26+AA21))+(((((T26+AA21)*T27)/30)*T33)/T28)","v":{"$error":"#VALUE!"}},null,48,{"$f":"IF(($I$18>=0),AC28*100/((($F$14*100)*(Z28+$F$15))+100),\"\")","v":{"$error":"#VALUE!"}},{"$f":"IF(($I$18>=0),($I$17+$I$18),\"\")","v":{"$error":"#VALUE!"}},{"$f":"IF(($I$18>=0),(AB28*Z28),\"\")","v":{"$error":"#VALUE!"}},20,50000000,25000000,20,0,"144 MESES",144]
["LIBRE INVERSION - COBRO DE AVAL ANTICIPADO",null,null,0,"N.M.V.",{"$f":"F20","v":"DIGITE EDAD"},{"$f":"S15","v":{"$error":"#VALUE!"}},"  VR CUOTA   ",{"$f":"((((T27)*((1+(T27))^T28))/(((1+(T27))^T28)-1))*(G29+AA21))+(((((G29+AA21)*T27)/30)*T33)/T28)+T31+X26+X29+X30","v":{"$error":"#VALUE!"}},null,{"$f":"IF((S4=0),\" \",S3)","v":{"$error":"#VALUE!"}},null,null,null,null,null,"TASA COMISION RECAUDO :",null,null,0,null,"COMISION POR RECAUDO  :",null,{"$f":"((((((T27)*((1+(T27))^T28))/(((1+(T27))^T28)-1))*(T26+AA21))+(((((T26+AA21)*T27)/30)*T33)/T28)+T31+X26)*100)/(100-(T29*100))-(((((T27)*((1+(T27))^T28))/(((1+(T27))^T28)-1))*(T26+AA21))+(((((T26+AA21)*T27)/30)*T33)/T28)+T31+X26)","v":{"$error":"#VALUE!"}},null,null,null,"MONTO MAXIMO POR CLIENTE",50000000,21,50000000,25000000,21,0,"144 MESES",144]
[null,null,null,{"$f":"((1+((D29*12)/12))^12)-1","v":0}," E. A.",{"$f":"IF(I30>=0,\"USUARIO CON CAPACIDAD DE PAGO\",IF(I30<0,\"INTENTE CON OTRO MONTO Y/O PLAZO\"))","v":{"$error":"#VALUE!"}},null,null,{"$f":"I9-I29","v":{"$error":"#VALUE!"}},null,{"$f":"IF(D29=TASAS!H3,\"Tasa para clientes con puntaje > a 750 y sin procesos\",\" \")","v":" "},null,null,null,null,null,"OTROS GASTOS          :",null,null,0,null,"VALOR OTROS GASTOS    :",null,null,null,null,null,null,null,22,50000000,25000000,22,0,"144 MESES",144]
[null,null,null,0," O. G.","% AVAL","VALOR AVAL ","A GIRAR",null,null,{"$f":"IF(D29=TASAS!H4,\"Tasa para clientes con puntaje entre 650 - 749 y sin procesos\",\" \")","v":" "},null,null,null,null,null,"APORTES SOCIALES      :",null,null,0,null,"FECHA DE INICIO       :",null,{"$f":"(T32+((T28+1)*29))-((T28-1)*29)","v":{"$error":"#VALUE!"}},null,null,null,null,null,23,50000000,25000000,23,0,"144 MESES",144]
[null,null,null,0," D. G.",0.09,{"$f":"G29*F32","v":{"$error":"#VALUE!"}},{"$f":"G29-G32","v":{"$error":"#VALUE!"}},null,null,null,null,null,null,null,null,"FECHA DESEMBOLSO      :",null,null,"2012-01-01",null,"FECHA DE TERMINO      :",null,{"$f":"(T32+((T28+1)*29))-((T28-1)*29)+((T28-1)*30)","v":{"$error":"#VALUE!"}},null,null,null,null,null,24,50000000,25000000,24,0,"144 MESES",144]
[null,null,null,"% Simple",{"$f":"(((I29*F29)-G29)/G29)/F29","v":{"$error":"#VALUE!"}},null,"VR MENSUAL x 1 MM",{"$f":"I29/(G29/1000000)","v":{"$error":"#VALUE!"}},null,null,null,null,null,null,null,null,"DIAS DE GRACIA        :",null,null,0,null,"TOTAL CUOTA MENSUAL   :",null,{"$f":"X28+T31+X29+X26","v":{"$error":"#VALUE!"}},null,null,null,null,null,25,50000000,25000000,25,0,"144 MESES",144]
[null,null,null,null,null,"COMPRA O AMPLIACION 1",null,0,null,"FIDELIZACIÓN","VR CRÉDITO","VR CUOTA ","PLAZO"," VR AVAL","SALDO","A GIRAR",null,null,null,null,null,null,null,null,null,null,null,null,null,26,50000000,25000000,26,0,"144 MESES",144]
["Vr. Crédito",null,null,{"$f":"G29","v":{"$error":"#VALUE!"}},null,"COMPRA O AMPLIACION 2",null,0,"LIBRE INV",null,0,0,0,0,0,{"$f":"K35-N35-O35","v":0},null,null,null,null,null,null,null,null,null,null,null,null,null,27,50000000,25000000,27,0,"144 MESES",144]
["Aval",null,null,{"$f":"G32","v":{"$error":"#VALUE!"}},null,"COMPRA O AMPLIACION 3",null,0,"AMPLIACION","LZ A",0,0,0,0,0,{"$f":"K36-N36-O36","v":0},null,null,null,null,null,null,null,null,null,null,null,null,null,28,50000000,25000000,28,0,"144 MESES",144]
["Compra(s) / Saneamiento(s) / Ampiación(es)",null,null,{"$f":"SUM(H34:H37)","v":0},null,"COMPRA O AMPLIACION 4",null,0,"COMPRA","OPERADOR ?",0,0,0,0,0,{"$f":"K37-N37-O37","v":0},null,null,null,null,null,null,null,null,null,null,null,null,null,29,50000000,25000000,29,0,"144 MESES",144]
["Vr. Desembolso",null,null,{"$f":"D35-D36-D37","v":{"$error":"#VALUE!"}},{"$f":"IF(((D38-H38)>0),\"ERROR\",IF((D38-H38)=0,\" \"))","v":{"$error":"#VALUE!"}},"NETO A GIRAR",null,{"$f":"H32-H34-H35-H36-H37","v":{"$error":"#VALUE!"}},"COMPRA","OPERADOR ?",0,0,0,0,0,{"$f":"K38-N38-O38","v":0},null,null,null,null,null,null,null,null,null,null,null,null,null,30,50000000,25000000,30,0,"144 MESES",144]
["Vr. Cuota",null,null,{"$f":"I29","v":{"$error":"#VALUE!"}},null,{"$f":"IF(((F3-G29)<0),\"¡¡¡ A T E N C I Ó N !!!\",IF((F3-G29)>=0,\" \"))","v":{"$error":"#VALUE!"}},null,null,null,null,null,null,null,null,null,null,null,null,null,null,null,null,null,null,null,null,null,null,null,31,50000000,25000000,31,0,"144 MESES",144]
["Plazo",null,null,{"$f":"F29","v":"DIGITE EDAD"},null,{"$f":"IF(((F3-G29)<0),\"EL MONTO EXCEDE LIMITE PARA ESA EDAD\",IF((F3-G29)>=0,\" \"))","v":{"$error":"#VALUE!"}},null,null,null,null,null,null,null,null,null,null,null,null,null,null,null,null,null,null,null,null,null,null,null,32,50000000,25000000,32,0,"144 MESES",144]
[null,null,null,null,null,null,null,null,null,null,null,null,null,null,null,null,null,null,null,null,null,null,null,null,null,null,null,null,null,37,50000000,25000000,37,0,"144 MESES",144]
["REQUISITOS PARA SOLICITUD DE CREDITO:",null,null,null,null,null,null,null,null,null,null,null,null,null,null,null,null,null,null,null,null,null,null,null,null,null,null,null,null,38,50000000,25000000,38,0,"144 MESES",144]
["1. Desprendible de pago del último mes, el cual puede descargarse aquí",null,null,null,null,null,null,null,null,null,null,null,null,null,null,null,null,null,null,null,null,null,null,null,null,null,null,null,null,39,50000000,25000000,39,0,"144 MESES",144]
["https://www.fopep.gov.co/sistema/login/GestLogin/login_pensionado",null,null,null,null,null,null,null,null,null,null,null,null,null,null,null,null,null,null,null,null,null,null,null,null,null,null,null,null,40,50000000,25000000,40,0,"144 MESES",144]
["2. Si el cliente autoriza, se podrá realizar la descarga del desprendible firmando el siguiente formato",null,null,null,null,null,null,null,null,null,null,null,null,null,null,null,null,null,null,null,null,null,null,null,null,null,null,null,null,41,50000000,25000000,41,0,"144 MESES",144]
["https://coserfin.co/panelwi/upload/c8d2ea_AUTORIZACION%20ACCESO%20PLATAFORMAS%20CO%20y%20CR.pdf",null,null,null,null,null,null,null,null,null,null,null,null,null,null,null,null,null,null,null,null,null,null,null,null,null,null,null,null,42,50000000,25000000,42,0,"144 MESES",144]
["3. Una (1) fotocopia de la cédula de ciudadanía ampliada al 150% en blanco y negro, con firma y huella",null,null,null,null,null,null,null,null,null,null,null,null,null,null,null,null,null,null,null,null,null,null,null,null,null,null,null,null,43,50000000,25000000,43,0,"144 MESES",144]
["4. Para compra de cartera, se requiere la firma del siguiente formato",null,null,null,null,null,null,null,null,null,null,null,null,null,null,null,null,null,null,null,null,null,null,null,null,null,null,null,null,44,50000000,25000000,44,0,"144 MESES",144]
["https://coserfin.co/panelwi/upload/e254a9_COMPRA%20DE%20CARTERA%20GENERAL%20CO%20Y%20CR.pdf",null,null,null,null,null,null,null,null,null,null,null,null,null,null,null,null,null,null,null,null,null,null,null,null,null,null,null,null,45,50000000,25000000,45,0,"144 MESES",144]
["5. Para compras de cartera se requiere un formato de suspensión de descuento(s) por cada una, el cual puede descargarse aquí",null,null,null,null,null,null,null,null,null,null,null,null,null,null,null,null,null,null,null,null,null,null,null,null,null,null,null,null,46,50000000,25000000,46,0,"144 MESES",144]
["https://www.coserfin.co/panelwi/upload/48c648_SUSPENSION%20DESCUENTOS%20FOPEP.pdf",null,null,null,null,null,null,null,null,null,null,null,null,null,null,null,null,null,null,null,null,null,null,null,null,null,null,null,null,47,50000000,25000000,47,0,"144 MESES",144]
["6. Si el solicitante es pensionado por perdida psicofisica, se requiere resolución de reconocmiento de la pensión y dictamen médico",null,null,null,null,null,null,null,null,null,null,null,null,null,null,null,null,null,null,null,null,null,null,null,null,null,null,null,null,48,50000000,25000000,48,0,"144 MESES",144]
["7. No requiere codeudor, pero es necesario cobro de aval",null,null,null,null,null,null,null,null,null,null,null,null,null,null,null,null,null,null,null,null,null,null,null,null,null,null,null,null,49,50000000,25000000,49,0,"144 MESES",144]
[null,null,null,null,null,null,null,null,null,null,null,null,null,null,null,null,null,null,null,null,null,null,null,null,null,null,null,null,null,50,50000000,25000000,50,0,"144 MESES",144]
["INCORPORACIÓN DEL DESCUENTO Y TIEMPO DE DESEMBOLSO:",null,null,null,null,null,null,null,null,null,null,null,null,null,null,null,null,null,null,null,null,null,null,null,null,null,null,null,null,51,50000000,25000000,51,0,"144 MESES",144]
["1. Las novedades se envían cualquiera de los dos (2) últimos días de cada semana y la respuesta se recibe tres (3) días habiles después",null,null,null,null,null,null,null,null,null,null,null,null,null,null,null,null,null,null,null,null,null,null,null,null,null,null,null,null,52,50000000,25000000,52,0,"144 MESES",144]
["2. La plataforma esta cerrada únicamente durante la primera semana de cada mes",null,null,null,null,null,null,null,null,null,null,null,null,null,null,null,null,null,null,null,null,null,null,null,null,null,null,null,null,53,50000000,25000000,53,0,"144 MESES",144]
["3. El descuento opera para el siguiente mes, o para el mismo mes si la plataforma alcanza a estar abierta durante los primeros días de ese mes",null,null,null,null,null,null,null,null,null,null,null,null,null,null,null,null,null,null,null,null,null,null,null,null,null,null,null,null,54,50000000,25000000,54,0,"144 MESES",144]
["4. El desembolso se realiza únicamente cuando se confirma la incorporación del descuento, es decir, aproximadamente tres (3) días habiles después de enviada la novedad",null,null,null,null,null,null,null,null,null,null,null,null,null,null,null,null,null,null,null,null,null,null,null,null,null,null,null,null,55,50000000,25000000,55,0,"144 MESES",144]
["5. Cuando se trata de compras de cartera, es necesario que el operador de libranza suspenda el descuento del crédito que se está comprando",null,null,null,null,null,null,null,null,null,null,null,null,null,null,null,null,null,null,null,null,null,null,null,null,null,null,null,null,56,50000000,25000000,56,0,"144 MESES",144]
["     para que permita el ingreso de nuestro descuento",null,null,null,null,null,null,null,null,null,null,null,null,null,null,null,null,null,null,null,null,null,null,null,null,null,null,null,null,57,50000000,25000000,57,0,"144 MESES",144]
["6. Todas las fechas descritas son aproximadas y pueden cambiar cada mes",null,null,null,null,null,null,null,null,null,null,null,null,null,null,null,null,null,null,null,null,null,null,null,null,null,null,null,null,58,50000000,25000000,58,0,"144 MESES",144]
[null,null,null,null,null,null,null,null,null,null,null,null,null,null,null,null,null,null,null,null,null,null,null,null,null,null,null,null,null,59,50000000,25000000,59,0,"144 MESES",144]
["DOCUMENTOS DE IDENTIFICACION VALIDOS PARA TODAS LAS ENTIDADES:",null,null,null,null,null,null,null,null,null,null,null,null,null,null,null,null,null,null,null,null,null,null,null,null,null,null,null,null,60,50000000,25000000,60,0,"144 MESES",144]
["1. Coia de la licencia de conducción",null,null,null,null,null,null,null,null,null,null,null,null,null,null,null,null,null,null,null,null,null,null,null,null,null,null,null,null,61,50000000,25000000,61,0,"144 MESES",144]
["2. Copia de la tarjeta de propeidad de un vehiculo o moto.",null,null,null,null,null,null,null,null,null,null,null,null,null,null,null,null,null,null,null,null,null,null,null,null,null,null,null,null,62,50000000,25000000,62,0,"144 MESES",144]
["3. Copia del carné de la EPS",null,null,null,null,null,null,null,null,null,null,null,null,null,null,null,null,null,null,null,null,null,null,null,null,null,null,null,null,63,50000000,25000000,63,0,"144 MESES",144]
["4. Copia de un recibo de pago de servicio público del inmueble donde reside el solicitante, a nombre del mismo",null,null,null,null,null,null,null,null,null,null,null,null,null,null,null,null,null,null,null,null,null,null,null,null,null,null,null,null,64,50000000,25000000,64,0,"144 MESES",144]
["5. Copia de un extracto de cuenta bancaria, preferiblemente la de nómina o pensión",null,null,null,null,null,null,null,null,null,null,null,null,null,null,null,null,null,null,null,null,null,null,null,null,null,null,null,null,65,50000000,25000000,65,0,"144 MESES",144]
["6. Copia de un extracto de tarjeta de crédito",null,null,null,null,null,null,null,null,null,null,null,null,null,null,null,null,null,null,null,null,null,null,null,null,null,null,null,null,66,50000000,0,66,0,"144 MESES",144]
["7. Copia de una tarjeta de crédito",null,null,null,null,null,null,null,null,null,null,null,null,null,null,null,null,null,null,null,null,null,null,null,null,null,null,null,null,67,50000000,0,67,0,"144 MESES",144]
["8. Copia de un carné de afiliación a un club, asociación o cooperativa",null,null,null,null,null,null,null,null,null,null,null,null,null,null,null,null,null,null,null,null,null,null,null,null,null,null,null,null,68,50000000,0,68,0,"144 MESES",144]
["9. Copia de una fórmula médica",null,null,null,null,null,null,null,null,null,null,null,null,null,null,null,null,null,null,null,null,null,null,null,null,null,null,null,null,69,50000000,0,69,0,{"$f":"$AI$6","v":"144 MESES"},144]
[null,null,null,null,null,null,null,null,null,null,null,null,null,null,null,null,null,null,null,null,null,null,null,null,null,null,null,null,null,70,50000000,0,70,0,"144 MESES",144]
[null,null,null,null,null,null,null,null,null,null,null,null,null,null,null,null,null,null,null,null,null,null,null,null,null,null,null,null,null,71,{"$f":"$AE$7","v":20000000},{"$f":"$AF$7","v":20000000},71,0,{"$f":"$AI$6","v":"144 MESES"},144]
[null,null,null,null,null,null,null,null,null,null,null,null,null,null,null,null,null,null,null,null,null,null,null,null,null,null,null,null,null,72,{"$f":"$AE$7","v":20000000},{"$f":"$AF$7","v":20000000},72,0,"144 MESES",144]
[null,null,null,null,null,null,null,null,null,null,null,null,null,null,null,null,null,null,null,null,null,null,null,null,null,null,null,null,null,73,{"$f":"$AE$7","v":20000000},{"$f":"$AF$7","v":20000000},73,0,"144 MESES",144]
[null,null,null,null,null,null,null,null,null,null,null,null,null,null,null,null,null,null,null,null,null,null,null,null,null,null,null,null,null,74,{"$f":"$AE$7","v":20000000},{"$f":"$AF$7","v":20000000},74,0,"144 MESES",144]
[null,null,null,null,null,null,null,null,null,null,null,null,null,null,null,null,null,null,null,null,null,null,null,null,null,null,null,null,null,75,{"$f":"$AE$5","v":10000000},{"$f":"$AF$5","v":10000000},75,{"$f":"$AH$5","v":0},{"$f":"$AI$5","v":"60 MESES"},{"$f":"$AJ$5","v":60}]
[null,null,null,null,null,null,null,null,null,null,null,null,null,null,null,null,null,null,null,null,null,null,null,null,null,null,null,null,null,76,{"$f":"$AE$5","v":10000000},{"$f":"$AF$5","v":10000000},76,{"$f":"$AH$5","v":0},{"$f":"$AI$5","v":"60 MESES"},{"$f":"$AJ$5","v":60}]
[null,null,null,null,null,null,null,null,null,null,null,null,null,null,null,null,null,null,null,null,null,null,null,null,null,null,null,null,null,77,{"$f":"$AE$5","v":10000000},{"$f":"$AF$5","v":10000000},77,{"$f":"$AH$5","v":0},{"$f":"$AI$5","v":"60 MESES"},{"$f":"$AJ$5","v":60}]
[null,null,null,null,null,null,null,null,null,null,null,null,null,null,null,null,null,null,null,null,null,null,null,null,null,null,null,null,null,78,{"$f":"$AE$5","v":10000000},{"$f":"$AF$5","v":10000000},78,{"$f":"$AH$5","v":0},{"$f":"$AI$5","v":"60 MESES"},{"$f":"$AJ$5","v":60}]
[null,null,null,null,null,null,null,null,null,null,null,null,null,null,null,null,null,null,null,null,null,null,null,null,null,null,null,null,null,79,{"$f":"$AE$5","v":10000000},{"$f":"$AF$5","v":10000000},79,{"$f":"$AH$5","v":0},{"$f":"$AI$5","v":"60 MESES"},{"$f":"$AJ$5","v":60}]
[null,null,null,null,null,null,null,null,null,null,null,null,null,null,null,null,null,null,null,null,null,null,null,null,null,null,null,null,null,80,"SUPERA EDAD","SUPERA EDAD",80,"SUPERA EDAD","PARA SOLICITAR CREDITO",0]
[null,null,null,null,null,null,null,null,null,null,null,null,null,null,null,null,null,null,null,null,null,null,null,null,null,null,null,null,null,81,"SUPERA EDAD","SUPERA EDAD",81,"SUPERA EDAD","PARA SOLICITAR CREDITO",0]
[null,null,null,null,null,null,null,null,null,null,null,null,null,null,null,null,null,null,null,null,null,null,null,null,null,null,null,null,null,82,"SUPERA EDAD","SUPERA EDAD",82,"SUPERA EDAD","PARA SOLICITAR CREDITO",0]
[null,null,null,null,null,null,null,null,null,null,null,null,null,null,null,null,null,null,null,null,null,null,null,null,null,null,null,null,null,83,"SUPERA EDAD","SUPERA EDAD",83,"SUPERA EDAD","PARA SOLICITAR CREDITO",0]
[null,null,null,null,null,null,null,null,null,null,null,null,null,null,null,null,null,null,null,null,null,null,null,null,null,null,null,null,null,84,"SUPERA EDAD","SUPERA EDAD",84,"SUPERA EDAD","PARA SOLICITAR CREDITO",0]
[null,null,null,null,null,null,null,null,null,null,null,null,null,null,null,null,null,null,null,null,null,null,null,null,null,null,null,null,null,85,"SUPERA EDAD","SUPERA EDAD",85,"SUPERA EDAD","PARA SOLICITAR CREDITO",0]
[null,null,null,null,null,null,null,null,null,null,null,null,null,null,null,null,null,null,null,null,null,null,null,null,null,null,null,null,null,86,"SUPERA EDAD","SUPERA EDAD",86,"SUPERA EDAD","PARA SOLICITAR CREDITO",0]
[null,null,null,null,null,null,null,null,null,null,null,null,null,null,null,null,null,null,null,null,null,null,null,null,null,null,null,null,null,87,"SUPERA EDAD","SUPERA EDAD",87,"SUPERA EDAD","PARA SOLICITAR CREDITO",0]
[null,null,null,null,null,null,null,null,null,null,null,null,null,null,null,null,null,null,null,null,null,null,null,null,null,null,null,null,null,88,"SUPERA EDAD","SUPERA EDAD",88,"SUPERA EDAD","PARA SOLICITAR CREDITO",0]
[null,null,null,null,null,null,null,null,null,null,null,null,null,null,null,null,null,null,null,null,null,null,null,null,null,null,null,null,null,89,"SUPERA EDAD","SUPERA EDAD",89,"SUPERA EDAD","PARA SOLICITAR CREDITO",0]
[null,null,null,null,null,null,null,null,null,null,null,null,null,null,null,null,null,null,null,null,null,null,null,null,null,null,null,null,null,90,"SUPERA EDAD","SUPERA EDAD",90,"SUPERA EDAD","PARA SOLICITAR CREDITO",0]
[null,null,null,null,null,null,null,null,null,null,null,null,null,null,null,null,null,null,null,null,null,null,null,null,null,null,null,null,null,91,"SUPERA EDAD","SUPERA EDAD",91,"SUPERA EDAD","PARA SOLICITAR CREDITO",0]
[null,null,null,null,null,null,null,null,null,null,null,null,null,null,null,null,null,null,null,null,null,null,null,null,null,null,null,null,null,92,"SUPERA EDAD","SUPERA EDAD",92,"SUPERA EDAD","PARA SOLICITAR CREDITO",0]
[null,null,null,null,null,null,null,null,null,null,null,null,null,null,null,null,null,null,null,null,null,null,null,null,null,null,null,null,null,93,"SUPERA EDAD","SUPERA EDAD",93,"SUPERA EDAD","PARA SOLICITAR CREDITO",0]
[null,null,null,null,null,null,null,null,null,null,null,null,null,null,null,null,null,null,null,null,null,null,null,null,null,null,null,null,null,94,"SUPERA EDAD","SUPERA EDAD",94,"SUPERA EDAD","PARA SOLICITAR CREDITO",0]
[null,null,null,null,null,null,null,null,null,null,null,null,null,null,null,null,null,null,null,null,null,null,null,null,null,null,null,null,null,95,"SUPERA EDAD","SUPERA EDAD",95,"SUPERA EDAD","PARA SOLICITAR CREDITO",0]
[null,null,null,null,null,null,null,null,null,null,null,null,null,null,null,null,null,null,null,null,null,null,null,null,null,null,null,null,null,96,"SUPERA EDAD","SUPERA EDAD",96,"SUPERA EDAD","PARA SOLICITAR CREDITO",0]
[null,null,null,null,null,null,null,null,null,null,null,null,null,null,null,null,null,null,null,null,null,null,null,null,null,null,null,null,null,97,"SUPERA EDAD","SUPERA EDAD",97,"SUPERA EDAD","PARA SOLICITAR CREDITO",0]
[null,null,null,null,null,null,null,null,null,null,null,null,null,null,null,null,null,null,null,null,null,null,null,null,null,null,null,null,null,98,"SUPERA EDAD","SUPERA EDAD",98,"SUPERA EDAD","PARA SOLICITAR CREDITO",0]
[null,null,null,null,null,null,null,null,null,null,null,null,null,null,null,null,null,null,null,null,null,null,null,null,null,null,null,null,null,99,"SUPERA EDAD","SUPERA EDAD",99,"SUPERA EDAD","PARA SOLICITAR CREDITO",0]
[null,null,null,null,null,null,null,null,null,null,null,null,null,null,null,null,null,null,null,null,null,null,null,null,null,null,null,null,null,100,"SUPERA EDAD","SUPERA EDAD",100,"SUPERA EDAD","PARA SOLICITAR CREDITO",0]
[null,null,null,null,null,null,null,null,null,null,null,null,null,null,null,null,null,null,null,null,null,null,null,null,null,null,null,null,null,101,"SUPERA EDAD","SUPERA EDAD",101,"SUPERA EDAD","PARA SOLICITAR CREDITO",0]
[null,null,null,null,null,null,null,null,null,null,null,null,null,null,null,null,null,null,null,null,null,null,null,null,null,null,null,null,null,102,"SUPERA EDAD","SUPERA EDAD",102,"SUPERA EDAD","PARA SOLICITAR CREDITO",0]
[null,null,null,null,null,null,null,null,null,null,null,null,null,null,null,null,null,null,null,null,null,null,null,null,null,null,null,null,null,103,"SUPERA EDAD","SUPERA EDAD",103,"SUPERA EDAD","PARA SOLICITAR CREDITO",0]
[null,null,null,null,null,null,null,null,null,null,null,null,null,null,null,null,null,null,null,null,null,null,null,null,null,null,null,null,null,104,"SUPERA EDAD","SUPERA EDAD",104,"SUPERA EDAD","PARA SOLICITAR CREDITO",0]
[null,null,null,null,null,null,null,null,null,null,null,null,null,null,null,null,null,null,null,null,null,null,null,null,null,null,null,null,null,105,"SUPERA EDAD","SUPERA EDAD",105,"SUPERA EDAD","PARA SOLICITAR CREDITO",0]
[null,null,null,null,null,null,null,null,null,null,null,null,null,null,null,null,null,null,null,null,null,null,null,null,null,null,null,null,null,106,"SUPERA EDAD","SUPERA EDAD",106,"SUPERA EDAD","PARA SOLICITAR CREDITO",0]
[null,null,null,null,null,null,null,null,null,null,null,null,null,null,null,null,null,null,null,null,null,null,null,null,null,null,null,null,null,107,"SUPERA EDAD","SUPERA EDAD",107,"SUPERA EDAD","PARA SOLICITAR CREDITO",0]
[null,null,null,null,null,null,null,null,null,null,null,null,null,null,null,null,null,null,null,null,null,null,null,null,null,null,null,null,null,108,"SUPERA EDAD","SUPERA EDAD",108,"SUPERA EDAD","PARA SOLICITAR CREDITO",0]
[null,null,null,null,null,null,null,null,null,null,null,null,null,null,null,null,null,null,null,null,null,null,null,null,null,null,null,null,null,109,"SUPERA EDAD","SUPERA EDAD",109,"SUPERA EDAD","PARA SOLICITAR CREDITO",0]
[null,null,null,null,null,null,null,null,null,null,null,null,null,null,null,null,null,null,null,null,null,null,null,null,null,null,null,null,null,110,"SUPERA EDAD","SUPERA EDAD",110,"SUPERA EDAD","PARA SOLICITAR CREDITO",0]
[null,null,null,null,null,null,null,null,null,null,null,null,null,null,null,null,null,null,null,null,null,null,null,null,null,null,null,null,null,111,"SUPERA EDAD","SUPERA EDAD",111,"SUPERA EDAD","PARA SOLICITAR CREDITO",0]
[null,null,null,null,null,null,null,null,null,null,null,null,null,null,null,null,null,null,null,null,null,null,null,null,null,null,null,null,null,112,"SUPERA EDAD","SUPERA EDAD",112,"SUPERA EDAD","PARA SOLICITAR CREDITO",0]
[null,null,null,null,null,null,null,null,null,null,null,null,null,null,null,null,null,null,null,null,null,null,null,null,null,null,null,null,null,113,"SUPERA EDAD","SUPERA EDAD",113,"SUPERA EDAD","PARA SOLICITAR CREDITO",0]
[null,null,null,null,null,null,null,null,null,null,null,null,null,null,null,null,null,null,null,null,null,null,null,null,null,null,null,null,null,114,"SUPERA EDAD","SUPERA EDAD",114,"SUPERA EDAD","PARA SOLICITAR CREDITO",0]
[null,null,null,null,null,null,null,null,null,null,null,null,null,null,null,null,null,null,null,null,null,null,null,null,null,null,null,null,null,115,"SUPERA EDAD","SUPERA EDAD",115,"SUPERA EDAD","PARA SOLICITAR CREDITO",0]
[null,null,null,null,null,null,null,null,null,null,null,null,null,null,null,null,null,null,null,null,null,null,null,null,null,null,null,null,null,116,"SUPERA EDAD","SUPERA EDAD",116,"SUPERA EDAD","PARA SOLICITAR CREDITO",0]
[null,null,null,null,null,null,null,null,null,null,null,null,null,null,null,null,null,null,null,null,null,null,null,null,null,null,null,null,null,117,"SUPERA EDAD","SUPERA EDAD",117,"SUPERA EDAD","PARA SOLICITAR CREDITO",0]
[null,null,null,null,null,null,null,null,null,null,null,null,null,null,null,null,null,null,null,null,null,null,null,null,null,null,null,null,null,118,"SUPERA EDAD","SUPERA EDAD",118,"SUPERA EDAD","PARA SOLICITAR CREDITO",0]
[null,null,null,null,null,null,null,null,null,null,null,null,null,null,null,null,null,null,null,null,null,null,null,null,null,null,null,null,null,119,"SUPERA EDAD","SUPERA EDAD",119,"SUPERA EDAD","PARA SOLICITAR CREDITO",0]
[null,null,null,null,null,null,null,null,null,null,null,null,null,null,null,null,null,null,null,null,null,null,null,null,null,null,null,null,null,120,"SUPERA EDAD","SUPERA EDAD",120,"SUPERA EDAD","PARA SOLICITAR CREDITO",0]
[null,null,null,null,null,null,null,null,null,null,null,null,null,null,null,null,null,null,null,null,null,null,null,null,null,null,null,null,null,121,"SUPERA EDAD","SUPERA EDAD",121,"SUPERA EDAD","PARA SOLICITAR CREDITO",0]
[null,null,null,null,null,null,null,null,null,null,null,null,null,null,null,null,null,null,null,null,null,null,null,null,null,null,null,null,null,122,"SUPERA EDAD","SUPERA EDAD",122,"SUPERA EDAD","PARA SOLICITAR CREDITO",0]
[null,null,null,null,null,null,null,null,null,null,null,null,null,null,null,null,null,null,null,null,null,null,null,null,null,null,null,null,null,123,"SUPERA EDAD","SUPERA EDAD",123,"SUPERA EDAD","PARA SOLICITAR CREDITO",0]
[null,null,null,null,null,null,null,null,null,null,null,null,null,null,null,null,null,null,null,null,null,null,null,null,null,null,null,null,null,124,"SUPERA EDAD","SUPERA EDAD",124,"SUPERA EDAD","PARA SOLICITAR CREDITO",0]
[null,null,null,null,null,null,null,null,null,null,null,null,null,null,null,null,null,null,null,null,null,null,null,null,null,null,null,null,null,125,"SUPERA EDAD","SUPERA EDAD",125,"SUPERA EDAD","PARA SOLICITAR CREDITO",0]
[null,null,null,null,null,null,null,null,null,null,null,null,null,null,null,null,null,null,null,null,null,null,null,null,null,null,null,null,null,126,"SUPERA EDAD","SUPERA EDAD",126,"SUPERA EDAD","PARA SOLICITAR CREDITO",0]
[null,null,null,null,null,null,null,null,null,null,null,null,null,null,null,null,null,null,null,null,null,null,null,null,null,null,null,null,null,127,"SUPERA EDAD","SUPERA EDAD",127,"SUPERA EDAD","PARA SOLICITAR CREDITO",0]
[null,null,null,null,null,null,null,null,null,null,null,null,null,null,null,null,null,null,null,null,null,null,null,null,null,null,null,null,null,128,"SUPERA EDAD","SUPERA EDAD",128,"SUPERA EDAD","PARA SOLICITAR CREDITO",0]
[null,null,null,null,null,null,null,null,null,null,null,null,null,null,null,null,null,null,null,null,null,null,null,null,null,null,null,null,null,129,"SUPERA EDAD","SUPERA EDAD",129,"SUPERA EDAD","PARA SOLICITAR CREDITO",0]
[null,null,null,null,null,null,null,null,null,null,null,null,null,null,null,null,null,null,null,null,null,null,null,null,null,null,null,null,null,130,"SUPERA EDAD","SUPERA EDAD",130,"SUPERA EDAD","PARA SOLICITAR CREDITO",0]

{"sheet":"COLP","index":10,"n_rows":134,"n_cols":36,"rows_kept":134,"cut":false,"hidden":false,"merged":[[8,10,8,15],[9,10,9,15],[10,10,10,15],[28,10,28,15],[29,10,29,15],[16,16,16,18],[30,21,30,22],[18,21,18,22],[19,16,19,18],[19,21,19,22],[22,16,22,18],[22,21,22,22],[20,16,20,18],[20,21,20,22],[21,16,21,18],[21,21,21,22],[16,21,16,22],[31,16,31,18],[31,21,31,22],[32,16,32,18],[32,21,32,22],[28,21,28,22],[30,16,30,18],[28,16,28,18],[17,5,17,7],[17,16,17,18],[17,21,17,22],[29,5,29,7],[29,16,29,18],[29,21,29,22],[23,16,23,18],[23,21,23,22],[25,16,25,18],[25,21,25,22],[26,16,26,18],[26,21,26,22],[27,16,27,18],[27,21,27,22],[18,16,18,18],[20,0,23,4],[24,0,27,4],[17,1,17,2],[17,3,17,4],[0,0,0,4],[1,0,1,4],[2,0,2,4],[3,0,3,4],[4,0,4,4],[39,5,39,7],[33,5,33,6],[34,5,34,6],[35,5,35,6],[37,5,37,6],[0,14,0,15],[30,10,30,15],[31,0,31,2],[36,5,36,6],[38,5,38,7],[5,0,5,4],[6,0,6,4],[6,6,6,8],[7,0,7,4],[8,0,8,4],[8,6,8,7],[10,0,10,4],[9,0,9,4],[11,0,16,3],[18,0,19,4],[28,0,30,2],[39,0,39,2],[34,0,34,2],[35,0,35,2],[36,0,36,2],[37,0,37,2],[38,0,38,2]]}
["COLPENSIONES CO N - PA CO N - CR N",null,null,null,null,"PENSION - SALUD / 2",null,null,null,null,null,null,null,null,{"$f":"TASAS!G15","v":"2025-03"}]
[{"$f":"IF(($F$2=\"\"),\"Digite la edad del cliente\",\"\")","v":"Digite la edad del cliente"},null,null,null,null,null,null,null,null,null,null,null,null,null,null,null,{"$f":"F6+F7-F8","v":0},{"$f":"F9-Q2","v":0}]
[{"$f":"IF(($F$3<50000000),\"Monto máximo por COSERFIN\",\"Monto máximo en dos créditos por COSERFIN y PA COSERFIN\")","v":"Monto máximo en dos créditos por COSERFIN y PA COSERFIN"},null,null,null,null,{"$f":"IF((F2 = \"\"),\"DIGITE EDAD\",VLOOKUP(F2,$AD$8:$AF$134,2,0))","v":"DIGITE EDAD"},{"$f":"IF(($F$2=\"\"),\"\",\"Por CREAVAL\")","v":""},{"$f":"IF((F2 = \"\"),\"DIGITE EDAD\",VLOOKUP(F2,$AD$8:$AF$134,3,0))","v":"DIGITE EDAD"},null,null,null,null,null,null,null,null,null,null,{"$f":"IF(AND(G29<TASAS!H11,F29<TASAS!M2),TASAS!H6,TASAS!H5)","v":{"$error":"#VALUE!"}},null,null,null,null,null,null,null,null,null,null,null,"COSERFIN","CREAVAL"]
[{"$f":"IF(($F$2=\"\"),\"\",\"Plazo máximo para cada crédito\")","v":""},null,null,null,null,{"$f":"IF((F2 = \"\"),\"DEL SOLICITANTE\",VLOOKUP(F2,$AG$8:$AI$134,3,0))","v":"DEL SOLICITANTE"},null,null,null,null,null,null,null,null,null,null,null,null,{"$f":"D29-S3","v":{"$error":"#VALUE!"}},null,null,"TRAIDO DE TASAS",null,{"$f":"IF(F6<=V5,F6*0.04,0)","v":0},null,null,null,null,80,null,0,0,6600000,0,0,0]
["EVALUACION CAPACIDAD DE PAGO",null,null,null,null,"VALOR 1","VALOR 2","VALOR 3","TOTALES",null,null,null,null,null,null,null,null,null,0,null,null,{"$f":"TASAS!G11","v":1423500},null,{"$f":"IF(F6>V5,F6*0.1,0)","v":0},null,null,null,null,"75-79",null,10000000,10000000,30000000,0,"60 MESES",60]
["VALOR PENSION",null,null,null,null,0,null,null,{"$f":"F6","v":0},null,null,null,null,null,null,null,null,null,{"$f":"TASAS!H3","v":1.77E-2},"TASA",null,{"$f":"V5*3","v":4270500},null,{"$f":"IF(F6>V6,F6*0.1,0)","v":0},null,null,null,null,"18-70",null,50000000,25000000,50000000,0,"144 MESES",144]
["VALOR OTROS INGRESOS (PRIMAS, RETROACTIVOS, ADICIONALES, ETC.)",null,null,null,null,0,null,null,null,null,null,null,null,null,null,null,null,null,{"$f":"TASAS!H4","v":1.8200000000000001E-2},"TASA",null,null,null,{"$f":"IF(F6>V6,F6*0.12,0)","v":0},null,null,null,null,"71-74",null,20000000,20000000]
["(-) TOTAL DESCUENTOS INCLUYENDO 12% DE SALUD (FOSYGA O EPS)",null,null,null,null,0,null,null,{"$f":"IF(($R$2>3),\"ERROR EN\",IF($R$2<-3,\"ERROR EN\",F8))","v":0},null,null,null,null,null,null,null,{"$f":"F8-(F6*0.12)","v":0},{"$f":"IF(Q8<0,((Q8*-1)+Q8),Q8)","v":0},{"$f":"TASAS!H5","v":1.8699999999999998E-2},"TASA",null,null,null,{"$f":"X4+X5-X6+X7","v":0},null,null,null,null,null,0,"USUARIO","MENOR DE EDAD",0,"USUARIO","MENOR DE EDAD",0]
["INGRESO NETO RECIBIDO EN EL DESPRENDIBLE DE PAGO",null,null,null,null,0,"DISPONIBLE PARA CREDITO",null,{"$f":"IF(($R$2>3),\"LOS DATOS\",IF($R$2<-3,\"LOS DATOS\",((I6-X9)/2)-(F8-X9)+I10+I11))","v":0},"*",{"$f":"IF((D29=0),\"¡ ¡ ¡ Por favor seleccione la tasa de interés ! ! !\",\" \")","v":"¡ ¡ ¡ Por favor seleccione la tasa de interés ! ! !"},null,null,null,null,null,null,null,{"$f":"TASAS!H6","v":3.4999999999999996E-2},"TASA",null,null,null,{"$f":"CEILING(X8,100)","v":0},null,null,null,null,null,1,"USUARIO","MENOR DE EDAD",1,"USUARIO","MENOR DE EDAD",0]
["(+) DESCUENTOS FINALIZADOS EN EL PRESENTE MES Y EN EL PROXIMO",null,null,null,null,0,0,0,{"$f":"SUM(F10:H10)","v":0},null,{"$f":"IF((S4=0),\" \",\"¡¡¡   A T E N C I O N   !!!\")","v":{"$error":"#VALUE!"}},null,null,null,null,null,null,null,{"$f":"TASAS!H7","v":1.4499999999999999E-2},"TASA",null,null,null,null,null,null,null,null,null,2,"USUARIO","MENOR DE EDAD",2,"USUARIO","MENOR DE EDAD",0]
["(+) CUOTAS DE COMPRAS DE CARTERA",null,null,null,null,0,0,0,{"$f":"SUM(F11:H11)","v":0},null,{"$f":"IF((S4=0),\" \",\"La tasa máxima para ese monto y plazo es del\")","v":{"$error":"#VALUE!"}},null,null,null,null,null,null,null,{"$f":"TASAS!H8","v":1.4999999999999999E-2},"TASA",null,null,null,null,null,null,null,null,null,3,"USUARIO","MENOR DE EDAD",3,"USUARIO","MENOR DE EDAD",0]
["(-) VALOR ESTIMADO CUOTA DE CREDITO CON COOSERFIN",null,null,null,{"$f":"IF(($F$14=\"TASA\"),\" \",\"VR SOLICT\")","v":"VR SOLICT"},{"$f":"IF(F3>G20,FLOOR(G20,100000),F3)","v":"DIGITE EDAD"},0,0,{"$f":"IF($I$18>=0.1,\"VALOR TOTAL\",\"\")","v":"VALOR TOTAL"},null,null,null,null,null,null,null,null,null,{"$f":"TASAS!H9","v":1.55E-2},"TASA",null,null,null,null,null,null,null,null,null,4,"USUARIO","MENOR DE EDAD",4,"USUARIO","MENOR DE EDAD",0]
[null,null,null,null,{"$f":"IF(($F$14=\"TASA\"),\" \",\"PLAZO\")","v":"PLAZO"},{"$f":"F20","v":"DIGITE EDAD"},{"$f":"F13","v":"DIGITE EDAD"},{"$f":"F13","v":"DIGITE EDAD"},{"$f":"IF($I$18>=0.1,\"DE LA\",\"\")","v":"DE LA"},null,null,null,null,null,null,null,null,null,null,null,null,null,null,null,null,null,null,null,null,5,"USUARIO","MENOR DE EDAD",5,"USUARIO","MENOR DE EDAD",0]
[null,null,null,null,"FACTOR",2.3E-2,{"$f":"IF($F$14=\"TASA\",(0),$F$14)","v":2.3E-2},{"$f":"IF($F$14=\"TASA\",(0),$F$14)","v":2.3E-2},{"$f":"IF($I$18>=0.1,\"SOLICITUD\",\"\")","v":"SOLICITUD"},null,null,null,null,null,null,null,null,{"$f":"F3*1","v":{"$error":"#VALUE!"}},{"$f":"(PV(D29,F29,V15))*-1","v":{"$error":"#VALUE!"}},null,null,{"$f":"H20","v":"NO APLICA"},null,null,null,null,null,null,null,6,"USUARIO","MENOR DE EDAD",10,"USUARIO","MENOR DE EDAD",0]
[null,null,null,null,{"$f":"IF(($F$14=\"TASA\"),\" \",\"MESES GRACIA\")","v":"MESES GRACIA"},0,0,0,null,null,null,null,null,null,null,null,null,null,{"$f":"(IF(S14>R14,R14,FLOOR(S14,100000)))","v":{"$error":"#VALUE!"}},{"$f":"(PV(D29,F29,H20))*-1","v":{"$error":"#VALUE!"}},null,{"$f":"((V14*(1-T20))-T22-X17-X21)*0.99","v":{"$error":"#VALUE!"}},null,null,null,null,null,null,null,7,"USUARIO","MENOR DE EDAD",7,"USUARIO","MENOR DE EDAD",0]
[null,null,null,null,{"$f":"IF(($F$14=\"TASA\"),\" \",\"VR LIBRANZA\")","v":"VR LIBRANZA"},{"$f":"IF($I$18>=0,($F$17*F13),IF($I$18<0,\"\"))","v":{"$error":"#VALUE!"}},{"$f":"IF($I$18>=0,($G$17*G13),IF($I$18<0,\"\"))","v":{"$error":"#VALUE!"}},{"$f":"IF($I$18>=0,($H$17*H13),IF($I$18<0,\"\"))","v":{"$error":"#VALUE!"}},{"$f":"IF($I$18>=0,(F12+G12+H12),IF($I$18<0.1,\"\"))","v":{"$error":"#VALUE!"}},null,null,null,null,null,null,null,{"$f":"G20*1","v":{"$error":"#VALUE!"}},null,null,null,null,null,null,null,null,null,null,null,null,8,"USUARIO","MENOR DE EDAD",8,"USUARIO","MENOR DE EDAD",0]
[null,null,null,null,{"$f":"IF(($F$14=\"TASA\"),\" \",\"VR CUOTA\")","v":"VR CUOTA"},{"$f":"IF(($F$2=\"\"),\"RECUERDE\",ROUNDUP((((($F$12*$F$14))*($F$13+$F$15))+$F$12)/$F$13,0))","v":"RECUERDE"},{"$f":"IF(($F$2=\"\"),\"DIGITAR\",ROUNDUP((((($G$12*$G$14))*($G$13+$G$15))+$G$12)/$G$13,0))","v":"DIGITAR"},{"$f":"IF(($F$2=\"\"),\"LA EDAD\",ROUNDUP((((($H$12*$H$14))*($H$13+$H$15))+$H$12)/$H$13,0))","v":"LA EDAD"},{"$f":"SUM(F17:H17)","v":0},null,null,null,null,null,null,null,"VALOR CREDITO         :",null,null,{"$f":"T15","v":{"$error":"#VALUE!"}},null,"VALOR SEGURO          :",null,{"$f":"T17*Y26","v":{"$error":"#VALUE!"}},null,null,null,null,null,9,"USUARIO","MENOR DE EDAD",9,"USUARIO","MENOR DE EDAD",0]
[{"$f":"IF(($F$2=\"\"),\"RECUERDE DIGITAR ARRIBA LA EDAD\",\"MONTO Y PLAZO POSIBLES SEGÚN EDAD\")","v":"RECUERDE DIGITAR ARRIBA LA EDAD"},{"$f":"IF((F2 = \"\"),\"DIGITE\",VLOOKUP(F2,$AD$4:$AE$131,2,0))","v":"DIGITE"},null,{"$f":"IF((F2 = \"\"),\"LA EDAD\",VLOOKUP(F2,$AG$4:$AI$131,3,0))","v":"LA EDAD"},null,{"$f":"IF((I9-I17)>0,\"USUARIO CON CAPACIDAD DE PAGO\",IF(I9-I17<0,\"INTENTE CON OTROS MONTOS Y/O PLAZOS\"))","v":false},{"$f":"IF($L$13>=#REF!,\"USUARIO CON CAPACIDAD DE ENDEUDAMIENTO\",IF($L$13<#REF!,\"CREDITO INVIABLE INTENTE CON OTRO MONTO Y/O PLAZO\"))","v":{"$error":"#REF!"}},{"$f":"IF($L$13>=#REF!,\"USUARIO CON CAPACIDAD DE ENDEUDAMIENTO\",IF($L$13<#REF!,\"CREDITO INVIABLE INTENTE CON OTRO MONTO Y/O PLAZO\"))","v":{"$error":"#REF!"}},{"$f":"IF(((I9-I17)>0),(I9-I17),\"SIN CUPO\")","v":"SIN CUPO"},null,null,null,null,null,null,null,"TASA NOMINAL MENSUAL  :",null,null,{"$f":"D29","v":0},null,"TASA EFECTIVA ANUAL   :",null,{"$f":"((1+((T18*12)/12))^12)-1","v":0},null,null,null,null,null,10,"USUARIO","MENOR DE EDAD",10,"USUARIO","MENOR DE EDAD",0]
[{"$f":"IF($Y$24>0,\"MONTO MAXIMO DE ENDEUDAMIENTO - OPCION 1 CREDITO\",IF($Y$24<=0,\"EL SOLICITANTE NO TIENE POSIBILIDADES DE CREDITO\"))","v":"EL SOLICITANTE NO TIENE POSIBILIDADES DE CREDITO"},null,null,null,null,"PLAZO","MONTO MAX","VALOR CUOTA","VR LIBRANZA",null,null,null,null,null,null,null,"PLAZO EN MESES        :",null,null,{"$f":"F29","v":"DIGITE EDAD"},null,"CUOTA NETA            :",null,{"$f":"((((T18)*((1+(T18))^T19))/(((1+(T18))^T19)-1))*(T17+AA20))+(((((T17+AA20)*T18)/30)*T24)/T19)","v":{"$error":"#VALUE!"}},null,null,null,null,null,11,"USUARIO","MENOR DE EDAD",11,"USUARIO","MENOR DE EDAD",0]
[null,null,null,null,null,{"$f":"IF((F2 = \"\"),\"DIGITE EDAD\",VLOOKUP(F2,$AG$4:$AJ$131,4,0))","v":"DIGITE EDAD"},{"$f":"IF(($Y$24<=0),\"NO APLICA\",$I$20*100/((($F$14*100)*($F$20+$F$15))+100))","v":"NO APLICA"},{"$f":"IF(($Y$24<=0),\"NO APLICA\",($I$9))","v":"NO APLICA"},{"$f":"IF(($Y$24<=0),\"NO APLICA\",($F$20*$H$20))","v":"NO APLICA"},"*",null,null,null,null,null,null,"TASA COMISION RECAUDO :",null,null,0,null,"COMISION POR RECAUDO  :",null,{"$f":"((((((T18)*((1+(T18))^T19))/(((1+(T18))^T19)-1))*(T17+AA20))+(((((T17+AA20)*T18)/30)*T24)/T19)+T22+X17)*100)/(100-(T20*100))-(((((T18)*((1+(T18))^T19))/(((1+(T18))^T19)-1))*(T17+AA20))+(((((T17+AA20)*T18)/30)*T24)/T19)+T22+X17)","v":{"$error":"#VALUE!"}},null,null,{"$f":"T17*T21","v":{"$error":"#VALUE!"}},null,null,12,"USUARIO","MENOR DE EDAD",12,"USUARIO","MENOR DE EDAD",0]
[{"$f":"IF($Y$24>0,\"MONTO MAXIMO DE ENDEUDAMIENTO - OPCION 3 CREDITOS\",IF($Y$24<=0,\"EL SOLICITANTE NO TIENE POSIBILIDADES DE CREDITO\"))","v":"EL SOLICITANTE NO TIENE POSIBILIDADES DE CREDITO"},null,null,null,null,{"$f":"AJ6","v":144},{"$f":"IF(($Y$24<=0),\"NO APLICA\",$I$21*100/((($F$14*100)*($F$21+$F$15))+100))","v":"NO APLICA"},{"$f":"IF(($Y$24<=0),\"NO APLICA\",(($I$9+$I$10+$I$11))*0.425)","v":"NO APLICA"},{"$f":"IF(($Y$24<=0),\"NO APLICA\",($F$21*$H$21))","v":"NO APLICA"},null,null,null,null,null,null,null,"OTROS GASTOS          :",null,null,{"$f":"D31","v":0},null,"VALOR OTROS GASTOS    :",null,{"$f":"X24-AA22","v":{"$error":"#VALUE!"}},null,null,{"$f":"T26*T30","v":{"$error":"#VALUE!"}},null,null,13,"USUARIO","MENOR DE EDAD",13,"USUARIO","MENOR DE EDAD",0]
[null,null,null,null,null,{"$f":"AJ6","v":144},{"$f":"IF(($Y$24<=0),\"NO APLICA\",$I$22*100/((($F$14*100)*($F$22+$F$15))+100))","v":"NO APLICA"},{"$f":"IF(($Y$24<=0),\"NO APLICA\",(($I$9+$I$10+$I$11))*0.425)","v":"NO APLICA"},{"$f":"IF(($Y$24<=0),\"NO APLICA\",($F$22*$H$22))","v":"NO APLICA"},null,null,null,null,null,null,null,"APORTES SOCIALES      :",null,null,0,null,"FECHA DE INICIO       :",null,{"$f":"(T23+((T19+1)*29))-((T19-1)*29)","v":{"$error":"#VALUE!"}},null,null,{"$f":"((((T18)*((1+(T18))^T19))/(((1+(T18))^T19)-1))*T17)+((((T17*T18)/30)*T24)/T19)+T22+X17+X20","v":{"$error":"#VALUE!"}},null,null,14,"USUARIO","MENOR DE EDAD",14,"USUARIO","MENOR DE EDAD",0]
[null,null,null,null,null,12,{"$f":"IF(($Y$24<=0),\"NO APLICA\",$I$23*100/((($F$14*100)*($F$23+$F$15))+100))","v":"NO APLICA"},{"$f":"IF(($Y$24<=0),\"NO APLICA\",(($I$9+$I$10+$I$11))*0.15)","v":"NO APLICA"},{"$f":"IF(($Y$24<=0),\"NO APLICA\",($F$23*$H$23))","v":"NO APLICA"},null,null,null,null,null,null,null,"FECHA DESEMBOLSO      :",null,null,"2012-01-01",null,"FECHA DE TERMINO      :",null,{"$f":"(T23+((T19+1)*29))-((T19-1)*29)+((T19-1)*30)","v":{"$error":"#VALUE!"}},null,null,null,null,null,15,"USUARIO","MENOR DE EDAD",15,"USUARIO","MENOR DE EDAD",0]
[null,null,null,null,null,"TOTALES",{"$f":"SUM(G21:G23)","v":0},{"$f":"SUM(H21:H23)","v":0},{"$f":"SUM(I21:I23)","v":0},null,null,null,null,null,null,null,"DIAS DE GRACIA        :",null,null,{"$f":"D32","v":0},null,"TOTAL CUOTA MENSUAL   :",null,{"$f":"X19+T22+X20+X17","v":{"$error":"#VALUE!"}},{"$f":"$I$9+$I$10+$I$11","v":0},"PLAZO","MONTO MAX","VR MAX CUOTA","VALOR LZ",16,"USUARIO","MENOR DE EDAD",16,"USUARIO","MENOR DE EDAD",0]
[{"$f":"IF(I18>=0,\"OTRAS OPCIONES DE CREDITO DISPONIBLES\",IF(I18<0,\"INTENTE CON OTRO MONTO Y/O PLAZO\"))","v":"OTRAS OPCIONES DE CREDITO DISPONIBLES"},null,null,null,null,{"$f":"IF($AA$25<=$AC$29,12,IF($AA$25>$AC$29,\"NO APLICA\"))","v":{"$error":"#VALUE!"}},{"$f":"IF(AA25>$AC$29,\"NO APLICA\",IF(AA25<=$AC$29,FLOOR(AA25,10000)))","v":{"$error":"#VALUE!"}},{"$f":"IF($AA$25>$AC$29,\"NO APLICA\",IF(AA25<=$AC$29,((((G25*($F$14)*((F25+$F$15))+G25)/F25)))))","v":{"$error":"#VALUE!"}},{"$f":"IF($AA$25>$AC$29,\"NO APLICA\",IF(AA25<=$AC$29,(F25*H25)))","v":{"$error":"#VALUE!"}},null,null,null,null,null,null,null,null,null,null,null,null,null,null,null,"SEGURO",12,{"$f":"IF(($I$18>=0),AC25*100/((($F$14*100)*(Z25+$F$15))+100),\"\")","v":{"$error":"#VALUE!"}},{"$f":"IF(($I$18>=0),($I$17+$I$18),\"\")","v":{"$error":"#VALUE!"}},{"$f":"IF(($I$18>=0),(AB25*Z25),\"\")","v":{"$error":"#VALUE!"}},17,"USUARIO","MENOR DE EDAD",17,"USUARIO","MENOR DE EDAD",0]
[null,null,null,null,null,{"$f":"IF($AA$26<=$AC$29,24,IF($AA$26>$AC$29,\"NO APLICA\"))","v":{"$error":"#VALUE!"}},{"$f":"IF(AA26>$AC$29,\"NO APLICA\",IF(AA26<=$AC$29,FLOOR(AA26,10000)))","v":{"$error":"#VALUE!"}},{"$f":"IF($AA$26>$AC$29,\"NO APLICA\",IF(AA26<=$AC$29,((((G26*($F$14)*((F26+$F$15))+G26)/F26)))))","v":{"$error":"#VALUE!"}},{"$f":"IF($AA$26>$AC$29,\"NO APLICA\",IF(AA26<=$AC$29,(F26*H26)))","v":{"$error":"#VALUE!"}},null,null,null,null,null,null,null,"VALOR CREDITO         :",null,null,{"$f":"G29","v":{"$error":"#VALUE!"}},null,"VALOR SEGURO          :",null,{"$f":"T26*Y26","v":{"$error":"#VALUE!"}},{"$f":"IF((F2<66),(TASAS!C12),(VLOOKUP(F2,TASAS!B13:C27,2,0)))","v":1.15E-3},24,{"$f":"IF(($I$18>=0),AC26*100/((($F$14*100)*(Z26+$F$15))+100),\"\")","v":{"$error":"#VALUE!"}},{"$f":"IF(($I$18>=0),($I$17+$I$18),\"\")","v":{"$error":"#VALUE!"}},{"$f":"IF(($I$18>=0),(AB26*Z26),\"\")","v":{"$error":"#VALUE!"}},18,{"$f":"$AE$6","v":50000000},{"$f":"$AF$6","v":25000000},18,{"$f":"$AH$6","v":0},{"$f":"$AI$6","v":"144 MESES"},{"$f":"$AJ$6","v":144}]
[null,null,null,null,null,{"$f":"IF($AA$27<=$AC$29,36,IF($AA$27>$AC$29,\"NO APLICA\"))","v":{"$error":"#VALUE!"}},{"$f":"IF(AA27>$AC$29,\"NO APLICA\",IF(AA27<=$AC$29,FLOOR(AA27,10000)))","v":{"$error":"#VALUE!"}},{"$f":"IF($AA$27>$AC$29,\"NO APLICA\",IF(AA27<=$AC$29,((((G27*($F$14)*((F27+$F$15))+G27)/F27)))))","v":{"$error":"#VALUE!"}},{"$f":"IF($AA$27>$AC$29,\"NO APLICA\",IF(AA27<=$AC$29,(F27*H27)))","v":{"$error":"#VALUE!"}},null,null,null,null,null,null,null,"TASA NOMINAL MENSUAL  :",null,null,{"$f":"T18","v":0},null,"TASA EFECTIVA ANUAL   :",null,{"$f":"((1+((T27*12)/12))^12)-1","v":0},null,36,{"$f":"IF(($I$18>=0),AC27*100/((($F$14*100)*(Z27+$F$15))+100),\"\")","v":{"$error":"#VALUE!"}},{"$f":"IF(($I$18>=0),($I$17+$I$18),\"\")","v":{"$error":"#VALUE!"}},{"$f":"IF(($I$18>=0),(AB27*Z27),\"\")","v":{"$error":"#VALUE!"}},19,{"$f":"$AE$6","v":50000000},{"$f":"$AF$6","v":25000000},19,{"$f":"$AH$6","v":0},{"$f":"$AI$6","v":"144 MESES"},{"$f":"$AJ$6","v":144}]
[null,null,null,null,null,{"$f":"IF($AA$28<=$AC$29,48,IF($AA$28>$AC$29,\"NO APLICA\"))","v":{"$error":"#VALUE!"}},{"$f":"IF(AA28>$AC$29,\"NO APLICA\",IF(AA28<=$AC$29,FLOOR(AA28,10000)))","v":{"$error":"#VALUE!"}},{"$f":"IF($AA$28>$AC$29,\"NO APLICA\",IF(AA28<=$AC$29,((((G28*($F$14)*((F28+$F$15))+G28)/F28)))))","v":{"$error":"#VALUE!"}},{"$f":"IF($AA$28>$AC$29,\"NO APLICA\",IF(AA28<=$AC$29,(F28*H28)))","v":{"$error":"#VALUE!"}},null,null,null,null,null,null,null,"PLAZO EN MESES        :",null,null,"DIGITE EDAD",null,"CUOTA NETA            :",null,{"$f":"((((T27)*((1+(T27))^T28))/(((1+(T27))^T28)-1))*(T26+AA21))+(((((T26+AA21)*T27)/30)*T33)/T28)","v":{"$error":"#VALUE!"}},null,48,{"$f":"IF(($I$18>=0),AC28*100/((($F$14*100)*(Z28+$F$15))+100),\"\")","v":{"$error":"#VALUE!"}},{"$f":"IF(($I$18>=0),($I$17+$I$18),\"\")","v":{"$error":"#VALUE!"}},{"$f":"IF(($I$18>=0),(AB28*Z28),\"\")","v":{"$error":"#VALUE!"}},20,50000000,25000000,20,0,"144 MESES",144]
["LIBRE INVERSION - COBRO DE AVAL ANTICIPADO",null,null,0,"N.M.V.",{"$f":"F20","v":"DIGITE EDAD"},{"$f":"S15","v":{"$error":"#VALUE!"}},"  VR CUOTA   ",{"$f":"((((T27)*((1+(T27))^T28))/(((1+(T27))^T28)-1))*(G29+AA21))+(((((G29+AA21)*T27)/30)*T33)/T28)+T31+X26+X29+X30","v":{"$error":"#VALUE!"}},null,{"$f":"IF((S4=0),\" \",S3)","v":{"$error":"#VALUE!"}},null,null,null,null,null,"TASA COMISION RECAUDO :",null,null,0,null,"COMISION POR RECAUDO  :",null,{"$f":"((((((T27)*((1+(T27))^T28))/(((1+(T27))^T28)-1))*(T26+AA21))+(((((T26+AA21)*T27)/30)*T33)/T28)+T31+X26)*100)/(100-(T29*100))-(((((T27)*((1+(T27))^T28))/(((1+(T27))^T28)-1))*(T26+AA21))+(((((T26+AA21)*T27)/30)*T33)/T28)+T31+X26)","v":{"$error":"#VALUE!"}},null,null,null,"MONTO MAXIMO POR CLIENTE",50000000,21,50000000,25000000,21,0,"144 MESES",144]
[null,null,null,{"$f":"((1+((D29*12)/12))^12)-1","v":0}," E. A.",{"$f":"IF(I30>=0,\"USUARIO CON CAPACIDAD DE PAGO\",IF(I30<0,\"INTENTE CON OTRO MONTO Y/O PLAZO\"))","v":{"$error":"#VALUE!"}},null,null,{"$f":"I9-I29","v":{"$error":"#VALUE!"}},null,{"$f":"IF(D29=TASAS!H3,\"Tasa para clientes con puntaje > a 750 y sin procesos\",\" \")","v":" "},null,null,null,null,null,"OTROS GASTOS          :",null,null,0,null,"VALOR OTROS GASTOS    :",null,null,null,null,null,null,null,22,50000000,25000000,22,0,"144 MESES",144]
[null,null,null,0," O. G.","% AVAL","VALOR AVAL ","A GIRAR",null,null,{"$f":"IF(D29=TASAS!H4,\"Tasa para clientes con puntaje entre 650 - 749 y sin procesos\",\" \")","v":" "},null,null,null,null,null,"APORTES SOCIALES      :",null,null,0,null,"FECHA DE INICIO       :",null,{"$f":"(T32+((T28+1)*29))-((T28-1)*29)","v":{"$error":"#VALUE!"}},null,null,null,null,null,23,50000000,25000000,23,0,"144 MESES",144]
[null,null,null,0," D. G.",0.09,{"$f":"G29*F32","v":{"$error":"#VALUE!"}},{"$f":"G29-G32","v":{"$error":"#VALUE!"}},null,null,null,null,null,null,null,null,"FECHA DESEMBOLSO      :",null,null,"2012-01-01",null,"FECHA DE TERMINO      :",null,{"$f":"(T32+((T28+1)*29))-((T28-1)*29)+((T28-1)*30)","v":{"$error":"#VALUE!"}},null,null,null,null,null,24,50000000,25000000,24,0,"144 MESES",144]
[null,null,null,"% Simple",{"$f":"(((I29*F29)-G29)/G29)/F29","v":{"$error":"#VALUE!"}},null,"VR MENSUAL x 1 MM",{"$f":"I29/(G29/1000000)","v":{"$error":"#VALUE!"}},null,null,null,null,null,null,null,null,"DIAS DE GRACIA        :",null,null,0,null,"TOTAL CUOTA MENSUAL   :",null,{"$f":"X28+T31+X29+X26","v":{"$error":"#VALUE!"}},null,null,null,null,null,25,50000000,25000000,25,0,"144 MESES",144]
[null,null,null,null,null,"COMPRA O AMPLIACION 1",null,0,null,"FIDELIZACIÓN","VR CRÉDITO","VR CUOTA ","PLAZO"," VR AVAL","SALDO","A GIRAR",null,null,null,null,null,null,null,null,null,null,null,null,null,26,50000000,25000000,26,0,"144 MESES",144]
["Vr. Crédito",null,null,{"$f":"G29","v":{"$error":"#VALUE!"}},null,"COMPRA O AMPLIACION 2",null,0,"LIBRE INV",null,0,0,0,0,0,{"$f":"K35-N35-O35","v":0},null,null,null,null,null,null,null,null,null,null,null,null,null,27,50000000,25000000,27,0,"144 MESES",144]
["Aval",null,null,{"$f":"G32","v":{"$error":"#VALUE!"}},null,"COMPRA O AMPLIACION 3",null,0,"AMPLIACION","LZ A",0,0,0,0,0,{"$f":"K36-N36-O36","v":0},null,null,null,null,null,null,null,null,null,null,null,null,null,28,50000000,25000000,28,0,"144 MESES",144]
["Compra(s) / Saneamiento(s) / Ampiación(es)",null,null,{"$f":"SUM(H34:H37)","v":0},null,"COMPRA O AMPLIACION 4",null,0,"COMPRA","OPERADOR ?",0,0,0,0,0,{"$f":"K37-N37-O37","v":0},null,null,null,null,null,null,null,null,null,null,null,null,null,29,50000000,25000000,29,0,"144 MESES",144]
["Vr. Desembolso",null,null,{"$f":"D35-D36-D37","v":{"$error":"#VALUE!"}},{"$f":"IF(((D38-H38)>0),\"ERROR\",IF((D38-H38)=0,\" \"))","v":{"$error":"#VALUE!"}},"NETO A GIRAR",null,{"$f":"H32-H34-H35-H36-H37","v":{"$error":"#VALUE!"}},"COMPRA","OPERADOR ?",0,0,0,0,0,{"$f":"K38-N38-O38","v":0},null,null,null,null,null,null,null,null,null,null,null,null,null,30,50000000,25000000,30,0,"144 MESES",144]
["Vr. Cuota",null,null,{"$f":"I29","v":{"$error":"#VALUE!"}},null,{"$f":"IF(((F3-G29)<0),\"¡¡¡ A T E N C I Ó N !!!\",IF((F3-G29)>=0,\" \"))","v":{"$error":"#VALUE!"}},null,null,null,null,null,null,null,null,null,null,null,null,null,null,null,null,null,null,null,null,null,null,null,31,50000000,25000000,31,0,"144 MESES",144]
["Plazo",null,null,{"$f":"F29","v":"DIGITE EDAD"},null,{"$f":"IF(((F3-G29)<0),\"EL MONTO EXCEDE LIMITE PARA ESA EDAD\",IF((F3-G29)>=0,\" \"))","v":{"$error":"#VALUE!"}},null,null,null,null,null,null,null,null,null,null,null,null,null,null,null,null,null,null,null,null,null,null,null,32,50000000,25000000,32,0,"144 MESES",144]
[null,null,null,null,null,null,null,null,null,null,null,null,null,null,null,null,null,null,null,null,null,null,null,null,null,null,null,null,null,37,50000000,25000000,37,0,"144 MESES",144]
["REQUISITOS PARA SOLICITUD DE CREDITO:",null,null,null,null,null,null,null,null,null,null,null,null,null,null,null,null,null,null,null,null,null,null,null,null,null,null,null,null,38,50000000,25000000,38,0,"144 MESES",144]
["1. Desprendible de pago del último mes, el cual puede descargarse aquí",null,null,null,null,null,null,null,null,null,null,null,null,null,null,null,null,null,null,null,null,null,null,null,null,null,null,null,null,39,50000000,25000000,39,0,"144 MESES",144]
["https://sede.colpensiones.gov.co/login",null,null,null,null,null,null,null,null,null,null,null,null,null,null,null,null,null,null,null,null,null,null,null,null,null,null,null,null,40,50000000,25000000,40,0,"144 MESES",144]
["2. Si el cliente autoriza, se podrá realizar la descarga del desprendible firmando el siguiente formato",null,null,null,null,null,null,null,null,null,null,null,null,null,null,null,null,null,null,null,null,null,null,null,null,null,null,null,null,41,50000000,25000000,41,0,"144 MESES",144]
["https://coserfin.co/panelwi/upload/c8d2ea_AUTORIZACION%20ACCESO%20PLATAFORMAS%20CO%20y%20CR.pdf",null,null,null,null,null,null,null,null,null,null,null,null,null,null,null,null,null,null,null,null,null,null,null,null,null,null,null,null,42,50000000,25000000,42,0,"144 MESES",144]
["3. Una (1) fotocopia de la cédula de ciudadanía ampliada al 150% en blanco y negro, con firma y huella",null,null,null,null,null,null,null,null,null,null,null,null,null,null,null,null,null,null,null,null,null,null,null,null,null,null,null,null,43,50000000,25000000,43,0,"144 MESES",144]
["4. Para compra de cartera, se requiere la firma del siguiente formato",null,null,null,null,null,null,null,null,null,null,null,null,null,null,null,null,null,null,null,null,null,null,null,null,null,null,null,null,44,50000000,25000000,44,0,"144 MESES",144]
["https://coserfin.co/panelwi/upload/e254a9_COMPRA%20DE%20CARTERA%20GENERAL%20CO%20Y%20CR.pdf",null,null,null,null,null,null,null,null,null,null,null,null,null,null,null,null,null,null,null,null,null,null,null,null,null,null,null,null,45,50000000,25000000,45,0,"144 MESES",144]
["5. Dos (2) formatos de autorización de descuento, exclusivos para COLPENSIONES que se descargan aquí",null,null,null,null,null,null,null,null,null,null,null,null,null,null,null,null,null,null,null,null,null,null,null,null,null,null,null,null,46,50000000,25000000,46,0,"144 MESES",144]
["https://coserfin.co/panelwi/upload/6c18ea_AUTORIZACION%20DESCUENTO%20COLPENSIONES%20CO%20CR%20y%20PA.pdf",null,null,null,null,null,null,null,null,null,null,null,null,null,null,null,null,null,null,null,null,null,null,null,null,null,null,null,null,47,50000000,25000000,47,0,"144 MESES",144]
["6. Si el solicitante es pensionado por perdida psicofisica, se requiere resolución de reconocmiento de la pensión y dictamen médico",null,null,null,null,null,null,null,null,null,null,null,null,null,null,null,null,null,null,null,null,null,null,null,null,null,null,null,null,48,50000000,25000000,48,0,"144 MESES",144]
["7. No requiere codeudor, pero es necesario cobro de aval",null,null,null,null,null,null,null,null,null,null,null,null,null,null,null,null,null,null,null,null,null,null,null,null,null,null,null,null,49,50000000,25000000,49,0,"144 MESES",144]
[null,null,null,null,null,null,null,null,null,null,null,null,null,null,null,null,null,null,null,null,null,null,null,null,null,null,null,null,null,50,50000000,25000000,50,0,"144 MESES",144]
["INCORPORACIÓN DEL DESCUENTO Y TIEMPO DE DESEMBOLSO:",null,null,null,null,null,null,null,null,null,null,null,null,null,null,null,null,null,null,null,null,null,null,null,null,null,null,null,null,51,50000000,25000000,51,0,"144 MESES",144]
["1. Las novedades se envían dos (2) veces por semana y la respuesta se recibe tres (3) días habiles después",null,null,null,null,null,null,null,null,null,null,null,null,null,null,null,null,null,null,null,null,null,null,null,null,null,null,null,null,52,50000000,25000000,52,0,"144 MESES",144]
["2. La plataforma apertura el dia veinte (20) y cierra el dia cinco (5) del siguiente mes",null,null,null,null,null,null,null,null,null,null,null,null,null,null,null,null,null,null,null,null,null,null,null,null,null,null,null,null,53,50000000,25000000,53,0,"144 MESES",144]
["3. El descuento opera para el siguiente mes, o para el mismo si la plataforma alcanza a estar abierta durante los primeros días de ese mes",null,null,null,null,null,null,null,null,null,null,null,null,null,null,null,null,null,null,null,null,null,null,null,null,null,null,null,null,54,50000000,25000000,54,0,"144 MESES",144]
["4. El desembolso se realiza únicamente cuando se confirma la incorporación del descuento, es decir, tres (3) días habiles después de enviada la novedad",null,null,null,null,null,null,null,null,null,null,null,null,null,null,null,null,null,null,null,null,null,null,null,null,null,null,null,null,55,50000000,25000000,55,0,"144 MESES",144]
["5. Cuando se trata de compras de cartera, es necesario que el operador de libranza suspenda el descuento del crédito que se está comprando",null,null,null,null,null,null,null,null,null,null,null,null,null,null,null,null,null,null,null,null,null,null,null,null,null,null,null,null,56,50000000,25000000,56,0,"144 MESES",144]
["    para que permita el ingreso de nuestro descuento",null,null,null,null,null,null,null,null,null,null,null,null,null,null,null,null,null,null,null,null,null,null,null,null,null,null,null,null,57,50000000,25000000,57,0,"144 MESES",144]
["6. Todas las fechas descritas son aproximadas y pueden cambiar cada mes",null,null,null,null,null,null,null,null,null,null,null,null,null,null,null,null,null,null,null,null,null,null,null,null,null,null,null,null,58,50000000,25000000,58,0,"144 MESES",144]
[null,null,null,null,null,null,null,null,null,null,null,null,null,null,null,null,null,null,null,null,null,null,null,null,null,null,null,null,null,59,50000000,25000000,59,0,"144 MESES",144]
["DOCUMENTOS DE IDENTIFICACION VALIDOS PARA TODAS LAS ENTIDADES:",null,null,null,null,null,null,null,null,null,null,null,null,null,null,null,null,null,null,null,null,null,null,null,null,null,null,null,null,60,50000000,25000000,60,0,"144 MESES",144]
["1. Coia de la licencia de conducción",null,null,null,null,null,null,null,null,null,null,null,null,null,null,null,null,null,null,null,null,null,null,null,null,null,null,null,null,61,50000000,25000000,61,0,"144 MESES",144]
["2. Copia de la tarjeta de propeidad de un vehiculo o moto.",null,null,null,null,null,null,null,null,null,null,null,null,null,null,null,null,null,null,null,null,null,null,null,null,null,null,null,null,62,50000000,25000000,62,0,"144 MESES",144]
["3. Copia del carné de la EPS",null,null,null,null,null,null,null,null,null,null,null,null,null,null,null,null,null,null,null,null,null,null,null,null,null,null,null,null,63,50000000,25000000,63,0,"144 MESES",144]
["4. Copia de un recibo de pago de servicio público del inmueble donde reside el solicitante, a nombre del mismo",null,null,null,null,null,null,null,null,null,null,null,null,null,null,null,null,null,null,null,null,null,null,null,null,null,null,null,null,64,50000000,25000000,64,0,"144 MESES",144]
["5. Copia de un extracto de cuenta bancaria, preferiblemente la de nómina o pensión",null,null,null,null,null,null,null,null,null,null,null,null,null,null,null,null,null,null,null,null,null,null,null,null,null,null,null,null,65,50000000,25000000,65,0,"144 MESES",144]
["6. Copia de un extracto de tarjeta de crédito",null,null,null,null,null,null,null,null,null,null,null,null,null,null,null,null,null,null,null,null,null,null,null,null,null,null,null,null,66,50000000,0,66,0,"144 MESES",144]
["7. Copia de una tarjeta de crédito",null,null,null,null,null,null,null,null,null,null,null,null,null,null,null,null,null,null,null,null,null,null,null,null,null,null,null,null,67,50000000,0,67,0,"144 MESES",144]
["8. Copia de un carné de afiliación a un club, asociación o cooperativa",null,null,null,null,null,null,null,null,null,null,null,null,null,null,null,null,null,null,null,null,null,null,null,null,null,null,null,null,68,50000000,0,68,0,"144 MESES",144]
["9. Copia de una fórmula médica",null,null,null,null,null,null,null,null,null,null,null,null,null,null,null,null,null,null,null,null,null,null,null,null,null,null,null,null,69,50000000,0,69,0,{"$f":"$AI$6","v":"144 MESES"},144]
[null,null,null,null,null,null,null,null,null,null,null,null,null,null,null,null,null,null,null,null,null,null,null,null,null,null,null,null,null,70,50000000,0,70,0,"144 MESES",144]
[null,null,null,null,null,null,null,null,null,null,null,null,null,null,null,null,null,null,null,null,null,null,null,null,null,null,null,null,null,71,{"$f":"$AE$7","v":20000000},{"$f":"$AF$7","v":20000000},71,0,"144 MESES",144]
[null,null,null,null,null,null,null,null,null,null,null,null,null,null,null,null,null,null,null,null,null,null,null,null,null,null,null,null,null,72,{"$f":"$AE$7","v":20000000},{"$f":"$AF$7","v":20000000},72,0,"144 MESES",144]
[null,null,null,null,null,null,null,null,null,null,null,null,null,null,null,null,null,null,null,null,null,null,null,null,null,null,null,null,null,73,{"$f":"$AE$7","v":20000000},{"$f":"$AF$7","v":20000000},73,0,"144 MESES",144]
[null,null,null,null,null,null,null,null,null,null,null,null,null,null,null,null,null,null,null,null,null,null,null,null,null,null,null,null,null,74,{"$f":"$AE$7","v":20000000},{"$f":"$AF$7","v":20000000},74,0,"144 MESES",144]
[null,null,null,null,null,null,null,null,null,null,null,null,null,null,null,null,null,null,null,null,null,null,null,null,null,null,null,null,null,75,{"$f":"$AE$5","v":10000000},{"$f":"$AF$5","v":10000000},75,{"$f":"$AH$5","v":0},{"$f":"$AI$5","v":"60 MESES"},{"$f":"$AJ$5","v":60}]
[null,null,null,null,null,null,null,null,null,null,null,null,null,null,null,null,null,null,null,null,null,null,null,null,null,null,null,null,null,76,{"$f":"$AE$5","v":10000000},{"$f":"$AF$5","v":10000000},76,{"$f":"$AH$5","v":0},{"$f":"$AI$5","v":"60 MESES"},{"$f":"$AJ$5","v":60}]
[null,null,null,null,null,null,null,null,null,null,null,null,null,null,null,null,null,null,null,null,null,null,null,null,null,null,null,null,null,77,{"$f":"$AE$5","v":10000000},{"$f":"$AF$5","v":10000000},77,{"$f":"$AH$5","v":0},{"$f":"$AI$5","v":"60 MESES"},{"$f":"$AJ$5","v":60}]
[null,null,null,null,null,null,null,null,null,null,null,null,null,null,null,null,null,null,null,null,null,null,null,null,null,null,null,null,null,78,{"$f":"$AE$5","v":10000000},{"$f":"$AF$5","v":10000000},78,{"$f":"$AH$5","v":0},{"$f":"$AI$5","v":"60 MESES"},{"$f":"$AJ$5","v":60}]
[null,null,null,null,null,null,null,null,null,null,null,null,null,null,null,null,null,null,null,null,null,null,null,null,null,null,null,null,null,79,{"$f":"$AE$5","v":10000000},{"$f":"$AF$5","v":10000000},79,{"$f":"$AH$5","v":0},{"$f":"$AI$5","v":"60 MESES"},{"$f":"$AJ$5","v":60}]
[null,null,null,null,null,null,null,null,null,null,null,null,null,null,null,null,null,null,null,null,null,null,null,null,null,null,null,null,null,80,"SUPERA EDAD","SUPERA EDAD",80,"SUPERA EDAD","PARA SOLICITAR CREDITO",0]
[null,null,null,null,null,null,null,null,null,null,null,null,null,null,null,null,null,null,null,null,null,null,null,null,null,null,null,null,null,81,"SUPERA EDAD","SUPERA EDAD",81,"SUPERA EDAD","PARA SOLICITAR CREDITO",0]
[null,null,null,null,null,null,null,null,null,null,null,null,null,null,null,null,null,null,null,null,null,null,null,null,null,null,null,null,null,82,"SUPERA EDAD","SUPERA EDAD",82,"SUPERA EDAD","PARA SOLICITAR CREDITO",0]
[null,null,null,null,null,null,null,null,null,null,null,null,null,null,null,null,null,null,null,null,null,null,null,null,null,null,null,null,null,83,"SUPERA EDAD","SUPERA EDAD",83,"SUPERA EDAD","PARA SOLICITAR CREDITO",0]
[null,null,null,null,null,null,null,null,null,null,null,null,null,null,null,null,null,null,null,null,null,null,null,null,null,null,null,null,null,84,"SUPERA EDAD","SUPERA EDAD",84,"SUPERA EDAD","PARA SOLICITAR CREDITO",0]
[null,null,null,null,null,null,null,null,null,null,null,null,null,null,null,null,null,null,null,null,null,null,null,null,null,null,null,null,null,85,"SUPERA EDAD","SUPERA EDAD",85,"SUPERA EDAD","PARA SOLICITAR CREDITO",0]
[null,null,null,null,null,null,null,null,null,null,null,null,null,null,null,null,null,null,null,null,null,null,null,null,null,null,null,null,null,86,"SUPERA EDAD","SUPERA EDAD",86,"SUPERA EDAD","PARA SOLICITAR CREDITO",0]
[null,null,null,null,null,null,null,null,null,null,null,null,null,null,null,null,null,null,null,null,null,null,null,null,null,null,null,null,null,87,"SUPERA EDAD","SUPERA EDAD",87,"SUPERA EDAD","PARA SOLICITAR CREDITO",0]
[null,null,null,null,null,null,null,null,null,null,null,null,null,null,null,null,null,null,null,null,null,null,null,null,null,null,null,null,null,88,"SUPERA EDAD","SUPERA EDAD",88,"SUPERA EDAD","PARA SOLICITAR CREDITO",0]
[null,null,null,null,null,null,null,null,null,null,null,null,null,null,null,null,null,null,null,null,null,null,null,null,null,null,null,null,null,89,"SUPERA EDAD","SUPERA EDAD",89,"SUPERA EDAD","PARA SOLICITAR CREDITO",0]
[null,null,null,null,null,null,null,null,null,null,null,null,null,null,null,null,null,null,null,null,null,null,null,null,null,null,null,null,null,90,"SUPERA EDAD","SUPERA EDAD",90,"SUPERA EDAD","PARA SOLICITAR CREDITO",0]
[null,null,null,null,null,null,null,null,null,null,null,null,null,null,null,null,null,null,null,null,null,null,null,null,null,null,null,null,null,91,"SUPERA EDAD","SUPERA EDAD",91,"SUPERA EDAD","PARA SOLICITAR CREDITO",0]
[null,null,null,null,null,null,null,null,null,null,null,null,null,null,null,null,null,null,null,null,null,null,null,null,null,null,null,null,null,92,"SUPERA EDAD","SUPERA EDAD",92,"SUPERA EDAD","PARA SOLICITAR CREDITO",0]
[null,null,null,null,null,null,null,null,null,null,null,null,null,null,null,null,null,null,null,null,null,null,null,null,null,null,null,null,null,93,"SUPERA EDAD","SUPERA EDAD",93,"SUPERA EDAD","PARA SOLICITAR CREDITO",0]
[null,null,null,null,null,null,null,null,null,null,null,null,null,null,null,null,null,null,null,null,null,null,null,null,null,null,null,null,null,94,"SUPERA EDAD","SUPERA EDAD",94,"SUPERA EDAD","PARA SOLICITAR CREDITO",0]
[null,null,null,null,null,null,null,null,null,null,null,null,null,null,null,null,null,null,null,null,null,null,null,null,null,null,null,null,null,95,"SUPERA EDAD","SUPERA EDAD",95,"SUPERA EDAD","PARA SOLICITAR CREDITO",0]
[null,null,null,null,null,null,null,null,null,null,null,null,null,null,null,null,null,null,null,null,null,null,null,null,null,null,null,null,null,96,"SUPERA EDAD","SUPERA EDAD",96,"SUPERA EDAD","PARA SOLICITAR CREDITO",0]
[null,null,null,null,null,null,null,null,null,null,null,null,null,null,null,null,null,null,null,null,null,null,null,null,null,null,null,null,null,97,"SUPERA EDAD","SUPERA EDAD",97,"SUPERA EDAD","PARA SOLICITAR CREDITO",0]
[null,null,null,null,null,null,null,null,null,null,null,null,null,null,null,null,null,null,null,null,null,null,null,null,null,null,null,null,null,98,"SUPERA EDAD","SUPERA EDAD",98,"SUPERA EDAD","PARA SOLICITAR CREDITO",0]
[null,null,null,null,null,null,null,null,null,null,null,null,null,null,null,null,null,null,null,null,null,null,null,null,null,null,null,null,null,99,"SUPERA EDAD","SUPERA EDAD",99,"SUPERA EDAD","PARA SOLICITAR CREDITO",0]
[null,null,null,null,null,null,null,null,null,null,null,null,null,null,null,null,null,null,null,null,null,null,null,null,null,null,null,null,null,100,"SUPERA EDAD","SUPERA EDAD",100,"SUPERA EDAD","PARA SOLICITAR CREDITO",0]
[null,null,null,null,null,null,null,null,null,null,null,null,null,null,null,null,null,null,null,null,null,null,null,null,null,null,null,null,null,101,"SUPERA EDAD","SUPERA EDAD",101,"SUPERA EDAD","PARA SOLICITAR CREDITO",0]
[null,null,null,null,null,null,null,null,null,null,null,null,null,null,null,null,null,null,null,null,null,null,null,null,null,null,null,null,null,102,"SUPERA EDAD","SUPERA EDAD",102,"SUPERA EDAD","PARA SOLICITAR CREDITO",0]
[null,null,null,null,null,null,null,null,null,null,null,null,null,null,null,null,null,null,null,null,null,null,null,null,null,null,null,null,null,103,"SUPERA EDAD","SUPERA EDAD",103,"SUPERA EDAD","PARA SOLICITAR CREDITO",0]
[null,null,null,null,null,null,null,null,null,null,null,null,null,null,null,null,null,null,null,null,null,null,null,null,null,null,null,null,null,104,"SUPERA EDAD","SUPERA EDAD",104,"SUPERA EDAD","PARA SOLICITAR CREDITO",0]
[null,null,null,null,null,null,null,null,null,null,null,null,null,null,null,null,null,null,null,null,null,null,null,null,null,null,null,null,null,105,"SUPERA EDAD","SUPERA EDAD",105,"SUPERA EDAD","PARA SOLICITAR CREDITO",0]
[null,null,null,null,null,null,null,null,null,null,null,null,null,null,null,null,null,null,null,null,null,null,null,null,null,null,null,null,null,106,"SUPERA EDAD","SUPERA EDAD",106,"SUPERA EDAD","PARA SOLICITAR CREDITO",0]
[null,null,null,null,null,null,null,null,null,null,null,null,null,null,null,null,null,null,null,null,null,null,null,null,null,null,null,null,null,107,"SUPERA EDAD","SUPERA EDAD",107,"SUPERA EDAD","PARA SOLICITAR CREDITO",0]
[null,null,null,null,null,null,null,null,null,null,null,null,null,null,null,null,null,null,null,null,null,null,null,null,null,null,null,null,null,108,"SUPERA EDAD","SUPERA EDAD",108,"SUPERA EDAD","PARA SOLICITAR CREDITO",0]
[null,null,null,null,null,null,null,null,null,null,null,null,null,null,null,null,null,null,null,null,null,null,null,null,null,null,null,null,null,109,"SUPERA EDAD","SUPERA EDAD",109,"SUPERA EDAD","PARA SOLICITAR CREDITO",0]
[null,null,null,null,null,null,null,null,null,null,null,null,null,null,null,null,null,null,null,null,null,null,null,null,null,null,null,null,null,110,"SUPERA EDAD","SUPERA EDAD",110,"SUPERA EDAD","PARA SOLICITAR CREDITO",0]
[null,null,null,null,null,null,null,null,null,null,null,null,null,null,null,null,null,null,null,null,null,null,null,null,null,null,null,null,null,111,"SUPERA EDAD","SUPERA EDAD",111,"SUPERA EDAD","PARA SOLICITAR CREDITO",0]
[null,null,null,null,null,null,null,null,null,null,null,null,null,null,null,null,null,null,null,null,null,null,null,null,null,null,null,null,null,112,"SUPERA EDAD","SUPERA EDAD",112,"SUPERA EDAD","PARA SOLICITAR CREDITO",0]
[null,null,null,null,null,null,null,null,null,null,null,null,null,null,null,null,null,null,null,null,null,null,null,null,null,null,null,null,null,113,"SUPERA EDAD","SUPERA EDAD",113,"SUPERA EDAD","PARA SOLICITAR CREDITO",0]
[null,null,null,null,null,null,null,null,null,null,null,null,null,null,null,null,null,null,null,null,null,null,null,null,null,null,null,null,null,114,"SUPERA EDAD","SUPERA EDAD",114,"SUPERA EDAD","PARA SOLICITAR CREDITO",0]
[null,null,null,null,null,null,null,null,null,null,null,null,null,null,null,null,null,null,null,null,null,null,null,null,null,null,null,null,null,115,"SUPERA EDAD","SUPERA EDAD",115,"SUPERA EDAD","PARA SOLICITAR CREDITO",0]
[null,null,null,null,null,null,null,null,null,null,null,null,null,null,null,null,null,null,null,null,null,null,null,null,null,null,null,null,null,116,"SUPERA EDAD","SUPERA EDAD",116,"SUPERA EDAD","PARA SOLICITAR CREDITO",0]
[null,null,null,null,null,null,null,null,null,null,null,null,null,null,null,null,null,null,null,null,null,null,null,null,null,null,null,null,null,117,"SUPERA EDAD","SUPERA EDAD",117,"SUPERA EDAD","PARA SOLICITAR CREDITO",0]
[null,null,null,null,null,null,null,null,null,null,null,null,null,null,null,null,null,null,null,null,null,null,null,null,null,null,null,null,null,118,"SUPERA EDAD","SUPERA EDAD",118,"SUPERA EDAD","PARA SOLICITAR CREDITO",0]
[null,null,null,null,null,null,null,null,null,null,null,null,null,null,null,null,null,null,null,null,null,null,null,null,null,null,null,null,null,119,"SUPERA EDAD","SUPERA EDAD",119,"SUPERA EDAD","PARA SOLICITAR CREDITO",0]
[null,null,null,null,null,null,null,null,null,null,null,null,null,null,null,null,null,null,null,null,null,null,null,null,null,null,null,null,null,120,"SUPERA EDAD","SUPERA EDAD",120,"SUPERA EDAD","PARA SOLICITAR CREDITO",0]
[null,null,null,null,null,null,null,null,null,null,null,null,null,null,null,null,null,null,null,null,null,null,null,null,null,null,null,null,null,121,"SUPERA EDAD","SUPERA EDAD",121,"SUPERA EDAD","PARA SOLICITAR CREDITO",0]
[null,null,null,null,null,null,null,null,null,null,null,null,null,null,null,null,null,null,null,null,null,null,null,null,null,null,null,null,null,122,"SUPERA EDAD","SUPERA EDAD",122,"SUPERA EDAD","PARA SOLICITAR CREDITO",0]
[null,null,null,null,null,null,null,null,null,null,null,null,null,null,null,null,null,null,null,null,null,null,null,null,null,null,null,null,null,123,"SUPERA EDAD","SUPERA EDAD",123,"SUPERA EDAD","PARA SOLICITAR CREDITO",0]
[null,null,null,null,null,null,null,null,null,null,null,null,null,null,null,null,null,null,null,null,null,null,null,null,null,null,null,null,null,124,"SUPERA EDAD","SUPERA EDAD",124,"SUPERA EDAD","PARA SOLICITAR CREDITO",0]
[null,null,null,null,null,null,null,null,null,null,null,null,null,null,null,null,null,null,null,null,null,null,null,null,null,null,null,null,null,125,"SUPERA EDAD","SUPERA EDAD",125,"SUPERA EDAD","PARA SOLICITAR CREDITO",0]
[null,null,null,null,null,null,null,null,null,null,null,null,null,null,null,null,null,null,null,null,null,null,null,null,null,null,null,null,null,126,"SUPERA EDAD","SUPERA EDAD",126,"SUPERA EDAD","PARA SOLICITAR CREDITO",0]
[null,null,null,null,null,null,null,null,null,null,null,null,null,null,null,null,null,null,null,null,null,null,null,null,null,null,null,null,null,127,"SUPERA EDAD","SUPERA EDAD",127,"SUPERA EDAD","PARA SOLICITAR CREDITO",0]
[null,null,null,null,null,null,null,null,null,null,null,null,null,null,null,null,null,null,null,null,null,null,null,null,null,null,null,null,null,128,"SUPERA EDAD","SUPERA EDAD",128,"SUPERA EDAD","PARA SOLICITAR CREDITO",0]
[null,null,null,null,null,null,null,null,null,null,null,null,null,null,null,null,null,null,null,null,null,null,null,null,null,null,null,null,null,129,"SUPERA EDAD","SUPERA EDAD",129,"SUPERA EDAD","PARA SOLICITAR CREDITO",0]
[null,null,null,null,null,null,null,null,null,null,null,null,null,null,null,null,null,null,null,null,null,null,null,null,null,null,null,null,null,130,"SUPERA EDAD","SUPERA EDAD",130,"SUPERA EDAD","PARA SOLICITAR CREDITO",0]

{"sheet":"FDOS PRIV","index":11,"n_rows":134,"n_cols":36,"rows_kept":134,"cut":false,"hidden":false,"merged":[[9,0,9,4],[16,16,16,18],[16,21,16,22],[17,1,17,2],[17,3,17,4],[17,5,17,7],[17,16,17,18],[17,21,17,22],[11,0,16,3],[18,16,18,18],[18,21,18,22],[19,16,19,18],[19,21,19,22],[22,16,22,18],[22,21,22,22],[23,16,23,18],[23,21,23,22],[24,0,27,4],[25,16,25,18],[25,21,25,22],[26,16,26,18],[26,21,26,22],[27,16,27,18],[20,0,23,4],[20,16,20,18],[20,21,20,22],[21,16,21,18],[21,21,21,22],[27,21,27,22],[32,21,32,22],[28,16,28,18],[28,21,28,22],[29,5,29,7],[29,16,29,18],[29,21,29,22],[30,16,30,18],[30,10,30,15],[30,21,30,22],[31,16,31,18],[31,21,31,22],[28,10,28,15],[29,10,29,15],[32,16,32,18],[38,5,38,7],[38,0,38,2],[0,14,0,15],[39,5,39,7],[34,5,34,6],[36,5,36,6],[33,5,33,6],[9,10,9,15],[10,10,10,15],[8,10,8,15],[34,0,34,2],[35,0,35,2],[36,0,36,2],[37,0,37,2],[39,0,39,2],[2,0,2,4],[0,0,0,4],[1,0,1,4],[31,0,31,2],[35,5,35,6],[37,5,37,6],[3,0,3,4],[4,0,4,4],[5,0,5,4],[6,0,6,4],[18,0,19,4],[28,0,30,2],[6,6,6,8],[7,0,7,4],[8,0,8,4],[8,6,8,7],[10,0,10,4]]}
["Fondos Priv. de Pensiones CO 1",null,null,null,null,"PENSION - SALUD / 2",null,null,null,null,null,null,null,null,{"$f":"TASAS!G15","v":"2025-03"}]
[{"$f":"IF(($F$2=\"\"),\"Digite la edad del cliente\",\"\")","v":"Digite la edad del cliente"},null,null,null,null,null,null,null,null,null,null,null,null,null,null,null,{"$f":"F6+F7-F8","v":0},{"$f":"F9-Q2","v":0}]
[{"$f":"IF(($F$3<50000000),\"Monto máximo por COSERFIN\",\"Monto máximo por COSERFIN\")","v":"Monto máximo por COSERFIN"},null,null,null,null,{"$f":"IF((F2 = \"\"),\"DIGITE EDAD\",VLOOKUP(F2,$AD$8:$AF$134,2,0))","v":"DIGITE EDAD"},{"$f":"IF(($F$2=\"\"),\"\",\"Por CREAVAL\")","v":""},{"$f":"IF((F2 = \"\"),\"DIGITE EDAD\",VLOOKUP(F2,$AD$8:$AF$134,3,0))","v":"DIGITE EDAD"},null,null,null,null,null,null,null,null,null,null,{"$f":"IF(AND(G29<TASAS!H11,F29<TASAS!M2),TASAS!H6,TASAS!H5)","v":{"$error":"#VALUE!"}},null,null,null,null,null,null,null,null,null,null,null,"COSERFIN","CREAVAL"]
[{"$f":"IF(($F$2=\"\"),\"\",\"Plazo máximo para el crédito\")","v":""},null,null,null,null,{"$f":"IF((F2 = \"\"),\"DEL SOLICITANTE\",VLOOKUP(F2,$AG$8:$AI$134,3,0))","v":"DEL SOLICITANTE"},null,null,null,null,null,null,null,null,null,null,null,null,{"$f":"D29-S3","v":{"$error":"#VALUE!"}},null,null,"TRAIDO DE TASAS",null,{"$f":"IF(F6<=V5,F6*0.04,0)","v":0},null,null,null,null,80,null,0,0,6600000,0,0,0]
["EVALUACION CAPACIDAD DE PAGO",null,null,null,null,"VALOR 1","VALOR 2","VALOR 3","TOTALES",null,null,null,null,null,null,null,null,null,0,null,null,{"$f":"TASAS!G11","v":1423500},null,{"$f":"IF(F6>V5,F6*0.1,0)","v":0},null,null,null,null,"75-79",null,10000000,"NO HAY CODIGO",30000000,0,"60 MESES",60]
["VALOR PENSION",null,null,null,null,0,null,null,{"$f":"F6","v":0},null,null,null,null,null,null,null,null,null,{"$f":"TASAS!H3","v":1.77E-2},"TASA",null,{"$f":"V5*3","v":4270500},null,{"$f":"IF(F6>V6,F6*0.1,0)","v":0},null,null,null,null,"18-70",null,50000000,"NO HAY CODIGO",50000000,0,"144 MESES",144]
["VALOR OTROS INGRESOS (PRIMAS, RETROACTIVOS, ADICIONALES, ETC.)",null,null,null,null,0,null,null,null,null,null,null,null,null,null,null,null,null,{"$f":"TASAS!H4","v":1.8200000000000001E-2},"TASA",null,null,null,{"$f":"IF(F6>V6,F6*0.12,0)","v":0},null,null,null,null,"71-74",null,20000000,"NO HAY CODIGO"]
["(-) TOTAL DESCUENTOS INCLUYENDO 12% DE SALUD (FOSYGA O EPS)",null,null,null,null,0,null,null,{"$f":"IF(($R$2>3),\"ERROR EN\",IF($R$2<-3,\"ERROR EN\",F8))","v":0},null,null,null,null,null,null,null,{"$f":"F8-(F6*0.12)","v":0},{"$f":"IF(Q8<0,((Q8*-1)+Q8),Q8)","v":0},{"$f":"TASAS!H5","v":1.8699999999999998E-2},"TASA",null,null,null,{"$f":"X4+X5-X6+X7","v":0},null,null,null,null,null,0,"USUARIO","MENOR DE EDAD",0,"USUARIO","MENOR DE EDAD",0]
["INGRESO NETO RECIBIDO EN EL DESPRENDIBLE DE PAGO",null,null,null,null,0,"DISPONIBLE PARA CREDITO",null,{"$f":"IF(($R$2>3),\"LOS DATOS\",IF($R$2<-3,\"LOS DATOS\",((I6-X9)/2)-(F8-X9)+I10+I11))","v":0},"*",{"$f":"IF((D29=0),\"¡ ¡ ¡ Por favor seleccione la tasa de interés ! ! !\",\" \")","v":"¡ ¡ ¡ Por favor seleccione la tasa de interés ! ! !"},null,null,null,null,null,null,null,{"$f":"TASAS!H6","v":3.4999999999999996E-2},"TASA",null,null,null,{"$f":"CEILING(X8,100)","v":0},null,null,null,null,null,1,"USUARIO","MENOR DE EDAD",1,"USUARIO","MENOR DE EDAD",0]
["(+) DESCUENTOS FINALIZADOS EN EL PRESENTE MES Y EN EL PROXIMO",null,null,null,null,0,0,0,{"$f":"SUM(F10:H10)","v":0},null,{"$f":"IF((S4=0),\" \",\"¡¡¡   A T E N C I O N   !!!\")","v":{"$error":"#VALUE!"}},null,null,null,null,null,null,null,{"$f":"TASAS!H7","v":1.4499999999999999E-2},"TASA",null,null,null,null,null,null,null,null,null,2,"USUARIO","MENOR DE EDAD",2,"USUARIO","MENOR DE EDAD",0]
["(+) CUOTAS DE COMPRAS DE CARTERA",null,null,null,null,0,0,0,{"$f":"SUM(F11:H11)","v":0},null,{"$f":"IF((S4=0),\" \",\"La tasa de interés para ese monto y plazo es del\")","v":{"$error":"#VALUE!"}},null,null,null,null,null,null,null,{"$f":"TASAS!H8","v":1.4999999999999999E-2},"TASA",null,null,null,null,null,null,null,null,null,3,"USUARIO","MENOR DE EDAD",3,"USUARIO","MENOR DE EDAD",0]
["(-) VALOR ESTIMADO CUOTA DE CREDITO CON COOSERFIN",null,null,null,{"$f":"IF(($F$14=\"TASA\"),\" \",\"VR SOLICT\")","v":"VR SOLICT"},{"$f":"IF(F3>G20,FLOOR(G20,100000),F3)","v":"DIGITE EDAD"},0,0,{"$f":"IF($I$18>=0.1,\"VALOR TOTAL\",\"\")","v":"VALOR TOTAL"},null,null,null,null,null,null,null,null,null,{"$f":"TASAS!H9","v":1.55E-2},"TASA",null,null,null,null,null,null,null,null,null,4,"USUARIO","MENOR DE EDAD",4,"USUARIO","MENOR DE EDAD",0]
[null,null,null,null,{"$f":"IF(($F$14=\"TASA\"),\" \",\"PLAZO\")","v":"PLAZO"},{"$f":"F20","v":"DIGITE EDAD"},{"$f":"F13","v":"DIGITE EDAD"},{"$f":"F13","v":"DIGITE EDAD"},{"$f":"IF($I$18>=0.1,\"DE LA\",\"\")","v":"DE LA"},null,null,null,null,null,null,null,null,null,null,null,null,null,null,null,null,null,null,null,null,5,"USUARIO","MENOR DE EDAD",5,"USUARIO","MENOR DE EDAD",0]
[null,null,null,null,"FACTOR",2.3E-2,{"$f":"IF($F$14=\"TASA\",(0),$F$14)","v":2.3E-2},{"$f":"IF($F$14=\"TASA\",(0),$F$14)","v":2.3E-2},{"$f":"IF($I$18>=0.1,\"SOLICITUD\",\"\")","v":"SOLICITUD"},null,null,null,null,null,null,null,null,{"$f":"F3*1","v":{"$error":"#VALUE!"}},{"$f":"(PV(D29,F29,V15))*-1","v":{"$error":"#VALUE!"}},null,null,{"$f":"H20","v":"NO APLICA"},null,null,null,null,null,null,null,6,"USUARIO","MENOR DE EDAD",10,"USUARIO","MENOR DE EDAD",0]
[null,null,null,null,{"$f":"IF(($F$14=\"TASA\"),\" \",\"MESES GRACIA\")","v":"MESES GRACIA"},0,0,0,null,null,null,null,null,null,null,null,null,null,{"$f":"(IF(S14>R14,R14,FLOOR(S14,100000)))","v":{"$error":"#VALUE!"}},{"$f":"(PV(D29,F29,H20))*-1","v":{"$error":"#VALUE!"}},null,{"$f":"((V14*(1-T20))-T22-X17-X21)*0.99","v":{"$error":"#VALUE!"}},null,null,null,null,null,null,null,7,"USUARIO","MENOR DE EDAD",7,"USUARIO","MENOR DE EDAD",0]
[null,null,null,null,{"$f":"IF(($F$14=\"TASA\"),\" \",\"VR LIBRANZA\")","v":"VR LIBRANZA"},{"$f":"IF($I$18>=0,($F$17*F13),IF($I$18<0,\"\"))","v":{"$error":"#VALUE!"}},{"$f":"IF($I$18>=0,($G$17*G13),IF($I$18<0,\"\"))","v":{"$error":"#VALUE!"}},{"$f":"IF($I$18>=0,($H$17*H13),IF($I$18<0,\"\"))","v":{"$error":"#VALUE!"}},{"$f":"IF($I$18>=0,(F12+G12+H12),IF($I$18<0.1,\"\"))","v":{"$error":"#VALUE!"}},null,null,null,null,null,null,null,{"$f":"G20*1","v":{"$error":"#VALUE!"}},null,null,null,null,null,null,null,null,null,null,null,null,8,"USUARIO","MENOR DE EDAD",8,"USUARIO","MENOR DE EDAD",0]
[null,null,null,null,{"$f":"IF(($F$14=\"TASA\"),\" \",\"VR CUOTA\")","v":"VR CUOTA"},{"$f":"IF(($F$2=\"\"),\"RECUERDE\",ROUNDUP((((($F$12*$F$14))*($F$13+$F$15))+$F$12)/$F$13,0))","v":"RECUERDE"},{"$f":"IF(($F$2=\"\"),\"DIGITAR\",ROUNDUP((((($G$12*$G$14))*($G$13+$G$15))+$G$12)/$G$13,0))","v":"DIGITAR"},{"$f":"IF(($F$2=\"\"),\"LA EDAD\",ROUNDUP((((($H$12*$H$14))*($H$13+$H$15))+$H$12)/$H$13,0))","v":"LA EDAD"},{"$f":"SUM(F17:H17)","v":0},null,null,null,null,null,null,null,"VALOR CREDITO         :",null,null,{"$f":"T15","v":{"$error":"#VALUE!"}},null,"VALOR SEGURO          :",null,{"$f":"T17*Y26","v":{"$error":"#VALUE!"}},null,null,null,null,null,9,"USUARIO","MENOR DE EDAD",9,"USUARIO","MENOR DE EDAD",0]
[{"$f":"IF(($F$2=\"\"),\"RECUERDE DIGITAR ARRIBA LA EDAD\",\"MONTO Y PLAZO POSIBLES SEGÚN EDAD\")","v":"RECUERDE DIGITAR ARRIBA LA EDAD"},{"$f":"IF((F2 = \"\"),\"DIGITE\",VLOOKUP(F2,$AD$4:$AE$131,2,0))","v":"DIGITE"},null,{"$f":"IF((F2 = \"\"),\"LA EDAD\",VLOOKUP(F2,$AG$4:$AI$131,3,0))","v":"LA EDAD"},null,{"$f":"IF((I9-I17)>0,\"USUARIO CON CAPACIDAD DE PAGO\",IF(I9-I17<0,\"INTENTE CON OTROS MONTOS Y/O PLAZOS\"))","v":false},{"$f":"IF($L$13>=#REF!,\"USUARIO CON CAPACIDAD DE ENDEUDAMIENTO\",IF($L$13<#REF!,\"CREDITO INVIABLE INTENTE CON OTRO MONTO Y/O PLAZO\"))","v":{"$error":"#REF!"}},{"$f":"IF($L$13>=#REF!,\"USUARIO CON CAPACIDAD DE ENDEUDAMIENTO\",IF($L$13<#REF!,\"CREDITO INVIABLE INTENTE CON OTRO MONTO Y/O PLAZO\"))","v":{"$error":"#REF!"}},{"$f":"IF(((I9-I17)>0),(I9-I17),\"SIN CUPO\")","v":"SIN CUPO"},null,null,null,null,null,null,null,"TASA NOMINAL MENSUAL  :",null,null,{"$f":"D29","v":0},null,"TASA EFECTIVA ANUAL   :",null,{"$f":"((1+((T18*12)/12))^12)-1","v":0},null,null,null,null,null,10,"USUARIO","MENOR DE EDAD",10,"USUARIO","MENOR DE EDAD",0]
[{"$f":"IF($Y$24>0,\"MONTO MAXIMO DE ENDEUDAMIENTO - OPCION 1 CREDITO\",IF($Y$24<=0,\"EL SOLICITANTE NO TIENE POSIBILIDADES DE CREDITO\"))","v":"EL SOLICITANTE NO TIENE POSIBILIDADES DE CREDITO"},null,null,null,null,"PLAZO","MONTO MAX","VALOR CUOTA","VR LIBRANZA",null,null,null,null,null,null,null,"PLAZO EN MESES        :",null,null,{"$f":"F29","v":"DIGITE EDAD"},null,"CUOTA NETA            :",null,{"$f":"((((T18)*((1+(T18))^T19))/(((1+(T18))^T19)-1))*(T17+AA20))+(((((T17+AA20)*T18)/30)*T24)/T19)","v":{"$error":"#VALUE!"}},null,null,null,null,null,11,"USUARIO","MENOR DE EDAD",11,"USUARIO","MENOR DE EDAD",0]
[null,null,null,null,null,{"$f":"IF((F2 = \"\"),\"DIGITE EDAD\",VLOOKUP(F2,$AG$4:$AJ$131,4,0))","v":"DIGITE EDAD"},{"$f":"IF(($Y$24<=0),\"NO APLICA\",$I$20*100/((($F$14*100)*($F$20+$F$15))+100))","v":"NO APLICA"},{"$f":"IF(($Y$24<=0),\"NO APLICA\",($I$9))","v":"NO APLICA"},{"$f":"IF(($Y$24<=0),\"NO APLICA\",($F$20*$H$20))","v":"NO APLICA"},"*",null,null,null,null,null,null,"TASA COMISION RECAUDO :",null,null,0,null,"COMISION POR RECAUDO  :",null,{"$f":"((((((T18)*((1+(T18))^T19))/(((1+(T18))^T19)-1))*(T17+AA20))+(((((T17+AA20)*T18)/30)*T24)/T19)+T22+X17)*100)/(100-(T20*100))-(((((T18)*((1+(T18))^T19))/(((1+(T18))^T19)-1))*(T17+AA20))+(((((T17+AA20)*T18)/30)*T24)/T19)+T22+X17)","v":{"$error":"#VALUE!"}},null,null,{"$f":"T17*T21","v":{"$error":"#VALUE!"}},null,null,12,"USUARIO","MENOR DE EDAD",12,"USUARIO","MENOR DE EDAD",0]
[{"$f":"IF($Y$24>0,\"MONTO MAXIMO DE ENDEUDAMIENTO - OPCION 3 CREDITOS\",IF($Y$24<=0,\"EL SOLICITANTE NO TIENE POSIBILIDADES DE CREDITO\"))","v":"EL SOLICITANTE NO TIENE POSIBILIDADES DE CREDITO"},null,null,null,null,{"$f":"AJ6","v":144},{"$f":"IF(($Y$24<=0),\"NO APLICA\",$I$21*100/((($F$14*100)*($F$21+$F$15))+100))","v":"NO APLICA"},{"$f":"IF(($Y$24<=0),\"NO APLICA\",(($I$9+$I$10+$I$11))*0.425)","v":"NO APLICA"},{"$f":"IF(($Y$24<=0),\"NO APLICA\",($F$21*$H$21))","v":"NO APLICA"},null,null,null,null,null,null,null,"OTROS GASTOS          :",null,null,{"$f":"D31","v":0},null,"VALOR OTROS GASTOS    :",null,{"$f":"X24-AA22","v":{"$error":"#VALUE!"}},null,null,{"$f":"T26*T30","v":{"$error":"#VALUE!"}},null,null,13,"USUARIO","MENOR DE EDAD",13,"USUARIO","MENOR DE EDAD",0]
[null,null,null,null,null,{"$f":"AJ6","v":144},{"$f":"IF(($Y$24<=0),\"NO APLICA\",$I$22*100/((($F$14*100)*($F$22+$F$15))+100))","v":"NO APLICA"},{"$f":"IF(($Y$24<=0),\"NO APLICA\",(($I$9+$I$10+$I$11))*0.425)","v":"NO APLICA"},{"$f":"IF(($Y$24<=0),\"NO APLICA\",($F$22*$H$22))","v":"NO APLICA"},null,null,null,null,null,null,null,"APORTES SOCIALES      :",null,null,0,null,"FECHA DE INICIO       :",null,{"$f":"(T23+((T19+1)*29))-((T19-1)*29)","v":{"$error":"#VALUE!"}},null,null,{"$f":"((((T18)*((1+(T18))^T19))/(((1+(T18))^T19)-1))*T17)+((((T17*T18)/30)*T24)/T19)+T22+X17+X20","v":{"$error":"#VALUE!"}},null,null,14,"USUARIO","MENOR DE EDAD",14,"USUARIO","MENOR DE EDAD",0]
[null,null,null,null,null,12,{"$f":"IF(($Y$24<=0),\"NO APLICA\",$I$23*100/((($F$14*100)*($F$23+$F$15))+100))","v":"NO APLICA"},{"$f":"IF(($Y$24<=0),\"NO APLICA\",(($I$9+$I$10+$I$11))*0.15)","v":"NO APLICA"},{"$f":"IF(($Y$24<=0),\"NO APLICA\",($F$23*$H$23))","v":"NO APLICA"},null,null,null,null,null,null,null,"FECHA DESEMBOLSO      :",null,null,"2012-01-01",null,"FECHA DE TERMINO      :",null,{"$f":"(T23+((T19+1)*29))-((T19-1)*29)+((T19-1)*30)","v":{"$error":"#VALUE!"}},null,null,null,null,null,15,"USUARIO","MENOR DE EDAD",15,"USUARIO","MENOR DE EDAD",0]
[null,null,null,null,null,"TOTALES",{"$f":"SUM(G21:G23)","v":0},{"$f":"SUM(H21:H23)","v":0},{"$f":"SUM(I21:I23)","v":0},null,null,null,null,null,null,null,"DIAS DE GRACIA        :",null,null,{"$f":"D32","v":0},null,"TOTAL CUOTA MENSUAL   :",null,{"$f":"X19+T22+X20+X17","v":{"$error":"#VALUE!"}},{"$f":"$I$9+$I$10+$I$11","v":0},"PLAZO","MONTO MAX","VR MAX CUOTA","VALOR LZ",16,"USUARIO","MENOR DE EDAD",16,"USUARIO","MENOR DE EDAD",0]
[{"$f":"IF(I18>=0,\"OTRAS OPCIONES DE CREDITO DISPONIBLES\",IF(I18<0,\"INTENTE CON OTRO MONTO Y/O PLAZO\"))","v":"OTRAS OPCIONES DE CREDITO DISPONIBLES"},null,null,null,null,{"$f":"IF($AA$25<=$AC$29,12,IF($AA$25>$AC$29,\"NO APLICA\"))","v":{"$error":"#VALUE!"}},{"$f":"IF(AA25>$AC$29,\"NO APLICA\",IF(AA25<=$AC$29,FLOOR(AA25,10000)))","v":{"$error":"#VALUE!"}},{"$f":"IF($AA$25>$AC$29,\"NO APLICA\",IF(AA25<=$AC$29,((((G25*($F$14)*((F25+$F$15))+G25)/F25)))))","v":{"$error":"#VALUE!"}},{"$f":"IF($AA$25>$AC$29,\"NO APLICA\",IF(AA25<=$AC$29,(F25*H25)))","v":{"$error":"#VALUE!"}},null,null,null,null,null,null,null,null,null,null,null,null,null,null,null,"SEGURO",12,{"$f":"IF(($I$18>=0),AC25*100/((($F$14*100)*(Z25+$F$15))+100),\"\")","v":{"$error":"#VALUE!"}},{"$f":"IF(($I$18>=0),($I$17+$I$18),\"\")","v":{"$error":"#VALUE!"}},{"$f":"IF(($I$18>=0),(AB25*Z25),\"\")","v":{"$error":"#VALUE!"}},17,"USUARIO","MENOR DE EDAD",17,"USUARIO","MENOR DE EDAD",0]
[null,null,null,null,null,{"$f":"IF($AA$26<=$AC$29,24,IF($AA$26>$AC$29,\"NO APLICA\"))","v":{"$error":"#VALUE!"}},{"$f":"IF(AA26>$AC$29,\"NO APLICA\",IF(AA26<=$AC$29,FLOOR(AA26,10000)))","v":{"$error":"#VALUE!"}},{"$f":"IF($AA$26>$AC$29,\"NO APLICA\",IF(AA26<=$AC$29,((((G26*($F$14)*((F26+$F$15))+G26)/F26)))))","v":{"$error":"#VALUE!"}},{"$f":"IF($AA$26>$AC$29,\"NO APLICA\",IF(AA26<=$AC$29,(F26*H26)))","v":{"$error":"#VALUE!"}},null,null,null,null,null,null,null,"VALOR CREDITO         :",null,null,{"$f":"G29","v":{"$error":"#VALUE!"}},null,"VALOR SEGURO          :",null,{"$f":"T26*Y26","v":{"$error":"#VALUE!"}},{"$f":"IF((F2<66),(TASAS!C12),(VLOOKUP(F2,TASAS!B13:C27,2,0)))","v":1.15E-3},24,{"$f":"IF(($I$18>=0),AC26*100/((($F$14*100)*(Z26+$F$15))+100),\"\")","v":{"$error":"#VALUE!"}},{"$f":"IF(($I$18>=0),($I$17+$I$18),\"\")","v":{"$error":"#VALUE!"}},{"$f":"IF(($I$18>=0),(AB26*Z26),\"\")","v":{"$error":"#VALUE!"}},18,{"$f":"$AE$6","v":50000000},{"$f":"$AF$6","v":"NO HAY CODIGO"},18,{"$f":"$AH$6","v":0},{"$f":"$AI$6","v":"144 MESES"},{"$f":"$AJ$6","v":144}]
[null,null,null,null,null,{"$f":"IF($AA$27<=$AC$29,36,IF($AA$27>$AC$29,\"NO APLICA\"))","v":{"$error":"#VALUE!"}},{"$f":"IF(AA27>$AC$29,\"NO APLICA\",IF(AA27<=$AC$29,FLOOR(AA27,10000)))","v":{"$error":"#VALUE!"}},{"$f":"IF($AA$27>$AC$29,\"NO APLICA\",IF(AA27<=$AC$29,((((G27*($F$14)*((F27+$F$15))+G27)/F27)))))","v":{"$error":"#VALUE!"}},{"$f":"IF($AA$27>$AC$29,\"NO APLICA\",IF(AA27<=$AC$29,(F27*H27)))","v":{"$error":"#VALUE!"}},null,null,null,null,null,null,null,"TASA NOMINAL MENSUAL  :",null,null,{"$f":"T18","v":0},null,"TASA EFECTIVA ANUAL   :",null,{"$f":"((1+((T27*12)/12))^12)-1","v":0},null,36,{"$f":"IF(($I$18>=0),AC27*100/((($F$14*100)*(Z27+$F$15))+100),\"\")","v":{"$error":"#VALUE!"}},{"$f":"IF(($I$18>=0),($I$17+$I$18),\"\")","v":{"$error":"#VALUE!"}},{"$f":"IF(($I$18>=0),(AB27*Z27),\"\")","v":{"$error":"#VALUE!"}},19,{"$f":"$AE$6","v":50000000},{"$f":"$AF$6","v":"NO HAY CODIGO"},19,{"$f":"$AH$6","v":0},{"$f":"$AI$6","v":"144 MESES"},{"$f":"$AJ$6","v":144}]
[null,null,null,null,null,{"$f":"IF($AA$28<=$AC$29,48,IF($AA$28>$AC$29,\"NO APLICA\"))","v":{"$error":"#VALUE!"}},{"$f":"IF(AA28>$AC$29,\"NO APLICA\",IF(AA28<=$AC$29,FLOOR(AA28,10000)))","v":{"$error":"#VALUE!"}},{"$f":"IF($AA$28>$AC$29,\"NO APLICA\",IF(AA28<=$AC$29,((((G28*($F$14)*((F28+$F$15))+G28)/F28)))))","v":{"$error":"#VALUE!"}},{"$f":"IF($AA$28>$AC$29,\"NO APLICA\",IF(AA28<=$AC$29,(F28*H28)))","v":{"$error":"#VALUE!"}},null,null,null,null,null,null,null,"PLAZO EN MESES        :",null,null,"DIGITE EDAD",null,"CUOTA NETA            :",null,{"$f":"((((T27)*((1+(T27))^T28))/(((1+(T27))^T28)-1))*(T26+AA21))+(((((T26+AA21)*T27)/30)*T33)/T28)","v":{"$error":"#VALUE!"}},null,48,{"$f":"IF(($I$18>=0),AC28*100/((($F$14*100)*(Z28+$F$15))+100),\"\")","v":{"$error":"#VALUE!"}},{"$f":"IF(($I$18>=0),($I$17+$I$18),\"\")","v":{"$error":"#VALUE!"}},{"$f":"IF(($I$18>=0),(AB28*Z28),\"\")","v":{"$error":"#VALUE!"}},20,50000000,"NO HAY CODIGO",20,0,"144 MESES",144]
["LIBRE INVERSION - COBRO DE AVAL ANTICIPADO",null,null,0,"N.M.V.",{"$f":"F20","v":"DIGITE EDAD"},{"$f":"S15","v":{"$error":"#VALUE!"}},"  VR CUOTA   ",{"$f":"((((T27)*((1+(T27))^T28))/(((1+(T27))^T28)-1))*(G29+AA21))+(((((G29+AA21)*T27)/30)*T33)/T28)+T31+X26+X29+X30","v":{"$error":"#VALUE!"}},null,{"$f":"IF((S4=0),\" \",S3)","v":{"$error":"#VALUE!"}},null,null,null,null,null,"TASA COMISION RECAUDO :",null,null,0,null,"COMISION POR RECAUDO  :",null,{"$f":"((((((T27)*((1+(T27))^T28))/(((1+(T27))^T28)-1))*(T26+AA21))+(((((T26+AA21)*T27)/30)*T33)/T28)+T31+X26)*100)/(100-(T29*100))-(((((T27)*((1+(T27))^T28))/(((1+(T27))^T28)-1))*(T26+AA21))+(((((T26+AA21)*T27)/30)*T33)/T28)+T31+X26)","v":{"$error":"#VALUE!"}},null,null,null,"MONTO MAXIMO POR CLIENTE",50000000,21,50000000,"NO HAY CODIGO",21,0,"144 MESES",144]
[null,null,null,{"$f":"((1+((D29*12)/12))^12)-1","v":0}," E. A.",{"$f":"IF(I30>=0,\"USUARIO CON CAPACIDAD DE PAGO\",IF(I30<0,\"INTENTE CON OTRO MONTO Y/O PLAZO\"))","v":{"$error":"#VALUE!"}},null,null,{"$f":"I9-I29","v":{"$error":"#VALUE!"}},null,{"$f":"IF(D29=TASAS!H3,\"Tasa para clientes con puntaje > a 750 y sin procesos\",\" \")","v":" "},null,null,null,null,null,"OTROS GASTOS          :",null,null,0,null,"VALOR OTROS GASTOS    :",null,null,null,null,null,null,null,22,50000000,"NO HAY CODIGO",22,0,"144 MESES",144]
[null,null,null,0," O. G.","% AVAL","VALOR AVAL ","A GIRAR",null,null,{"$f":"IF(D29=TASAS!H4,\"Tasa para clientes con puntaje entre 650 - 749 y sin procesos\",\" \")","v":" "},null,null,null,null,null,"APORTES SOCIALES      :",null,null,0,null,"FECHA DE INICIO       :",null,{"$f":"(T32+((T28+1)*29))-((T28-1)*29)","v":{"$error":"#VALUE!"}},null,null,null,null,null,23,50000000,"NO HAY CODIGO",23,0,"144 MESES",144]
[null,null,null,0," D. G.",0.09,{"$f":"G29*F32","v":{"$error":"#VALUE!"}},{"$f":"G29-G32","v":{"$error":"#VALUE!"}},null,null,null,null,null,null,null,null,"FECHA DESEMBOLSO      :",null,null,"2012-01-01",null,"FECHA DE TERMINO      :",null,{"$f":"(T32+((T28+1)*29))-((T28-1)*29)+((T28-1)*30)","v":{"$error":"#VALUE!"}},null,null,null,null,null,24,50000000,"NO HAY CODIGO",24,0,"144 MESES",144]
[null,null,null,"% Simple",{"$f":"(((I29*F29)-G29)/G29)/F29","v":{"$error":"#VALUE!"}},null,"VR MENSUAL x 1 MM",{"$f":"I29/(G29/1000000)","v":{"$error":"#VALUE!"}},null,null,null,null,null,null,null,null,"DIAS DE GRACIA        :",null,null,0,null,"TOTAL CUOTA MENSUAL   :",null,{"$f":"X28+T31+X29+X26","v":{"$error":"#VALUE!"}},null,null,null,null,null,25,50000000,"NO HAY CODIGO",25,0,"144 MESES",144]
[null,null,null,null,null,"COMPRA O AMPLIACION 1",null,0,null,"FIDELIZACIÓN","VR CRÉDITO","VR CUOTA ","PLAZO"," VR AVAL","SALDO","A GIRAR",null,null,null,null,null,null,null,null,null,null,null,null,null,26,50000000,"NO HAY CODIGO",26,0,"144 MESES",144]
["Vr. Crédito",null,null,{"$f":"G29","v":{"$error":"#VALUE!"}},null,"COMPRA O AMPLIACION 2",null,0,"LIBRE INV",null,0,0,0,0,0,{"$f":"K35-N35-O35","v":0},null,null,null,null,null,null,null,null,null,null,null,null,null,27,50000000,"NO HAY CODIGO",27,0,"144 MESES",144]
["Aval",null,null,{"$f":"G32","v":{"$error":"#VALUE!"}},null,"COMPRA O AMPLIACION 3",null,0,"AMPLIACION","LZ A",0,0,0,0,0,{"$f":"K36-N36-O36","v":0},null,null,null,null,null,null,null,null,null,null,null,null,null,28,50000000,"NO HAY CODIGO",28,0,"144 MESES",144]
["Compra(s) / Saneamiento(s) / Ampiación(es)",null,null,{"$f":"SUM(H34:H37)","v":0},null,"COMPRA O AMPLIACION 4",null,0,"COMPRA","OPERADOR ?",0,0,0,0,0,{"$f":"K37-N37-O37","v":0},null,null,null,null,null,null,null,null,null,null,null,null,null,29,50000000,"NO HAY CODIGO",29,0,"144 MESES",144]
["Vr. Desembolso",null,null,{"$f":"D35-D36-D37","v":{"$error":"#VALUE!"}},{"$f":"IF(((D38-H38)>0),\"ERROR\",IF((D38-H38)=0,\" \"))","v":{"$error":"#VALUE!"}},"NETO A GIRAR",null,{"$f":"H32-H34-H35-H36-H37","v":{"$error":"#VALUE!"}},"COMPRA","OPERADOR ?",0,0,0,0,0,{"$f":"K38-N38-O38","v":0},null,null,null,null,null,null,null,null,null,null,null,null,null,30,50000000,"NO HAY CODIGO",30,0,"144 MESES",144]
["Vr. Cuota",null,null,{"$f":"I29","v":{"$error":"#VALUE!"}},null,{"$f":"IF(((F3-G29)<0),\"¡¡¡ A T E N C I Ó N !!!\",IF((F3-G29)>=0,\" \"))","v":{"$error":"#VALUE!"}},null,null,null,null,null,null,null,null,null,null,null,null,null,null,null,null,null,null,null,null,null,null,null,31,50000000,"NO HAY CODIGO",31,0,"144 MESES",144]
["Plazo",null,null,{"$f":"F29","v":"DIGITE EDAD"},null,{"$f":"IF(((F3-G29)<0),\"EL MONTO EXCEDE LIMITE PARA ESA EDAD\",IF((F3-G29)>=0,\" \"))","v":{"$error":"#VALUE!"}},null,null,null,null,null,null,null,null,null,null,null,null,null,null,null,null,null,null,null,null,null,null,null,32,50000000,"NO HAY CODIGO",32,0,"144 MESES",144]
[null,null,null,null,null,null,null,null,null,null,null,null,null,null,null,null,null,null,null,null,null,null,null,null,null,null,null,null,null,37,50000000,"NO HAY CODIGO",37,0,"144 MESES",144]
["REQUISITOS PARA SOLICITUD DE CREDITO:",null,null,null,null,null,null,null,null,null,null,null,null,null,null,null,null,null,null,null,null,null,null,null,null,null,null,null,null,38,50000000,"NO HAY CODIGO",38,0,"144 MESES",144]
["1. Desprendible de pago del último mes",null,null,null,null,null,null,null,null,null,null,null,null,null,null,null,null,null,null,null,null,null,null,null,null,null,null,null,null,39,50000000,"NO HAY CODIGO",39,0,"144 MESES",144]
["2. Una (1) fotocopia de la cédula de ciudadanía ampliada al 150% en blanco y negro, con firma y huella",null,null,null,null,null,null,null,null,null,null,null,null,null,null,null,null,null,null,null,null,null,null,null,null,null,null,null,null,40,50000000,"NO HAY CODIGO",40,0,"144 MESES",144]
["3. Dos (2) formatos de autorización de descuento exclusivos para fondos privados. Se descargan aquí",null,null,null,null,null,null,null,null,null,null,null,null,null,null,null,null,null,null,null,null,null,null,null,null,null,null,null,null,41,50000000,"NO HAY CODIGO",41,0,"144 MESES",144]
["https://coserfin.co/panelwi/upload/2ef270_AUTORIZACION%20DESCUENTO%20FONDOS%20PRIVADOS.pdf",null,null,null,null,null,null,null,null,null,null,null,null,null,null,null,null,null,null,null,null,null,null,null,null,null,null,null,null,42,50000000,"NO HAY CODIGO",42,0,"144 MESES",144]
["4. Dos (2) formatos de autorización de descuento AUTENTICADOS según el fondo. Se descargan aquí",null,null,null,null,null,null,null,null,null,null,null,null,null,null,null,null,null,null,null,null,null,null,null,null,null,null,null,null,43,50000000,"NO HAY CODIGO",43,0,"144 MESES",144]
["Colfondos","https://coserfin.co/panelwi/upload/1395b5_AUTORIZACION%20DESCUENTO%20COLFONDOS.pdf",null,null,null,null,null,null,null,null,null,null,null,null,null,null,null,null,null,null,null,null,null,null,null,null,null,null,null,44,50000000,"NO HAY CODIGO",44,0,"144 MESES",144]
["Protección","https://coserfin.co/panelwi/upload/9f9cad_AUTORIZACION%20DESCUENTO%20PROTECCION.pdf",null,null,null,null,null,null,null,null,null,null,null,null,null,null,null,null,null,null,null,null,null,null,null,null,null,null,null,45,50000000,"NO HAY CODIGO",45,0,"144 MESES",144]
["Porvenir","https://coserfin.co/panelwi/upload/ba9570_AUTORIZACION%20DESCUENTO%20PORVENIR%20ALFA.pdf",null,null,null,null,null,null,null,null,null,null,null,null,null,null,null,null,null,null,null,null,null,null,null,null,null,null,null,46,50000000,"NO HAY CODIGO",46,0,"144 MESES",144]
["Compañía de Seguros Bolivar","https://coserfin.co/panelwi/upload/3490a4_AUTORIZACION%20DESCUENTO%20SEGUROS%20BOLIVAR.pdf",null,null,null,null,null,null,null,null,null,null,null,null,null,null,null,null,null,null,null,null,null,null,null,null,null,null,null,47,50000000,"NO HAY CODIGO",47,0,"144 MESES",144]
["Asulado Seguros de Vida S. A.","https://coserfin.co/panelwi/upload/0ab828_AUTORIZACI%C3%93N%20DESCUENTO%20ASULADO.pdf",null,null,null,null,null,null,null,null,null,null,null,null,null,null,null,null,null,null,null,null,null,null,null,null,null,null,null,48,50000000,"NO HAY CODIGO",48,0,"144 MESES",144]
["5. Todos lso formatos de autorización deben venir autenticados, a excepción de PROTECCION",null,null,null,null,null,null,null,null,null,null,null,null,null,null,null,null,null,null,null,null,null,null,null,null,null,null,null,null,49,50000000,"NO HAY CODIGO",49,0,"144 MESES",144]
["6. Para compra de cartera, se requiere la firma del siguiente formato",null,null,null,null,null,null,null,null,null,null,null,null,null,null,null,null,null,null,null,null,null,null,null,null,null,null,null,null,50,50000000,"NO HAY CODIGO",50,0,"144 MESES",144]
["https://coserfin.co/panelwi/upload/e254a9_COMPRA%20DE%20CARTERA%20GENERAL%20CO%20Y%20CR.pdf",null,null,null,null,null,null,null,null,null,null,null,null,null,null,null,null,null,null,null,null,null,null,null,null,null,null,null,null,51,50000000,"NO HAY CODIGO",51,0,"144 MESES",144]
["7. Si el solicitante es pensionado por perdida psicofisica, se requiere resolución de reconocmiento de la pensión y dictamen médico",null,null,null,null,null,null,null,null,null,null,null,null,null,null,null,null,null,null,null,null,null,null,null,null,null,null,null,null,52,50000000,"NO HAY CODIGO",52,0,"144 MESES",144]
["8. No requiere codeudor, pero es necesario cobro de aval",null,null,null,null,null,null,null,null,null,null,null,null,null,null,null,null,null,null,null,null,null,null,null,null,null,null,null,null,53,50000000,"NO HAY CODIGO",53,0,"144 MESES",144]
[null,null,null,null,null,null,null,null,null,null,null,null,null,null,null,null,null,null,null,null,null,null,null,null,null,null,null,null,null,54,50000000,"NO HAY CODIGO",54,0,"144 MESES",144]
["INCORPORACIÓN DEL DESCUENTO Y TIEMPO DE DESEMBOLSO:",null,null,null,null,null,null,null,null,null,null,null,null,null,null,null,null,null,null,null,null,null,null,null,null,null,null,null,null,55,50000000,"NO HAY CODIGO",55,0,"144 MESES",144]
["1. Las novedades se envían una (1) vez por semana, entre los días cinco (5) y catorce (14) de cada mes y la respuesta se recibe de ocho (8) a quince (15) días habiles después",null,null,null,null,null,null,null,null,null,null,null,null,null,null,null,null,null,null,null,null,null,null,null,null,null,null,null,null,56,50000000,"NO HAY CODIGO",56,0,"144 MESES",144]
["2. El descuento opera para el siguiente mes en PORVENIR",null,null,null,null,null,null,null,null,null,null,null,null,null,null,null,null,null,null,null,null,null,null,null,null,null,null,null,null,57,50000000,"NO HAY CODIGO",57,0,"144 MESES",144]
["3. El descuento opera para el mismo mes en PROTECCIÓN, COLFONDOS, SEGUROS DE VIDA ALFA, PENSIONES DE ANTOQUIA y CONSORCIO PENSIONES DE ANTIOQUIA",null,null,null,null,null,null,null,null,null,null,null,null,null,null,null,null,null,null,null,null,null,null,null,null,null,null,null,null,58,50000000,"NO HAY CODIGO",58,0,"144 MESES",144]
["4. El desembolso se realiza únicamente cuando se confirma la incorporación del descuento, es decir",null,null,null,null,null,null,null,null,null,null,null,null,null,null,null,null,null,null,null,null,null,null,null,null,null,null,null,null,59,50000000,"NO HAY CODIGO",59,0,"144 MESES",144]
["    aproximadamente entre ocho (8) a quince (15) días habiles después de enviada la libranza a visación",null,null,null,null,null,null,null,null,null,null,null,null,null,null,null,null,null,null,null,null,null,null,null,null,null,null,null,null,60,50000000,"NO HAY CODIGO",60,0,"144 MESES",144]
["5. Cuando se trata de compras de cartera, es necesario que el operador de libranza suspenda el descuento del crédito que se está comprando",null,null,null,null,null,null,null,null,null,null,null,null,null,null,null,null,null,null,null,null,null,null,null,null,null,null,null,null,61,50000000,"NO HAY CODIGO",61,0,"144 MESES",144]
["    para que permita el ingreso de nuestro descuento",null,null,null,null,null,null,null,null,null,null,null,null,null,null,null,null,null,null,null,null,null,null,null,null,null,null,null,null,62,50000000,"NO HAY CODIGO",62,0,"144 MESES",144]
["6. Todas las fechas descritas son aproximadas y pueden cambiar cada mes",null,null,null,null,null,null,null,null,null,null,null,null,null,null,null,null,null,null,null,null,null,null,null,null,null,null,null,null,63,50000000,"NO HAY CODIGO",63,0,"144 MESES",144]
[null,null,null,null,null,null,null,null,null,null,null,null,null,null,null,null,null,null,null,null,null,null,null,null,null,null,null,null,null,64,50000000,"NO HAY CODIGO",64,0,"144 MESES",144]
["DOCUMENTOS DE IDENTIFICACION VALIDOS PARA TODAS LAS ENTIDADES:",null,null,null,null,null,null,null,null,null,null,null,null,null,null,null,null,null,null,null,null,null,null,null,null,null,null,null,null,65,50000000,"NO HAY CODIGO",65,0,"144 MESES",144]
["1. Coia de la licencia de conducción",null,null,null,null,null,null,null,null,null,null,null,null,null,null,null,null,null,null,null,null,null,null,null,null,null,null,null,null,66,50000000,"NO HAY CODIGO",66,0,"144 MESES",144]
["2. Copia de la tarjeta de propeidad de un vehiculo o moto.",null,null,null,null,null,null,null,null,null,null,null,null,null,null,null,null,null,null,null,null,null,null,null,null,null,null,null,null,67,50000000,"NO HAY CODIGO",67,0,"144 MESES",144]
["3. Copia del carné de la EPS",null,null,null,null,null,null,null,null,null,null,null,null,null,null,null,null,null,null,null,null,null,null,null,null,null,null,null,null,68,50000000,"NO HAY CODIGO",68,0,"144 MESES",144]
["4. Copia de un recibo de pago de servicio público del inmueble donde reside el solicitante, a nombre del mismo",null,null,null,null,null,null,null,null,null,null,null,null,null,null,null,null,null,null,null,null,null,null,null,null,null,null,null,null,69,50000000,"NO HAY CODIGO",69,0,{"$f":"$AI$6","v":"144 MESES"},144]
["5. Copia de un extracto de cuenta bancaria, preferiblemente la de nómina o pensión",null,null,null,null,null,null,null,null,null,null,null,null,null,null,null,null,null,null,null,null,null,null,null,null,null,null,null,null,70,50000000,"NO HAY CODIGO",70,0,"144 MESES",144]
["6. Copia de un extracto de tarjeta de crédito",null,null,null,null,null,null,null,null,null,null,null,null,null,null,null,null,null,null,null,null,null,null,null,null,null,null,null,null,71,{"$f":"$AE$7","v":20000000},{"$f":"$AF$7","v":"NO HAY CODIGO"},71,0,"144 MESES",144]
["7. Copia de una tarjeta de crédito",null,null,null,null,null,null,null,null,null,null,null,null,null,null,null,null,null,null,null,null,null,null,null,null,null,null,null,null,72,{"$f":"$AE$7","v":20000000},{"$f":"$AF$7","v":"NO HAY CODIGO"},72,0,"144 MESES",144]
["8. Copia de un carné de afiliación a un club, asociación o cooperativa",null,null,null,null,null,null,null,null,null,null,null,null,null,null,null,null,null,null,null,null,null,null,null,null,null,null,null,null,73,{"$f":"$AE$7","v":20000000},{"$f":"$AF$7","v":"NO HAY CODIGO"},73,0,"144 MESES",144]
["9. Copia de una fórmula médica",null,null,null,null,null,null,null,null,null,null,null,null,null,null,null,null,null,null,null,null,null,null,null,null,null,null,null,null,74,{"$f":"$AE$7","v":20000000},{"$f":"$AF$7","v":"NO HAY CODIGO"},74,0,"144 MESES",144]
[null,null,null,null,null,null,null,null,null,null,null,null,null,null,null,null,null,null,null,null,null,null,null,null,null,null,null,null,null,75,{"$f":"$AE$5","v":10000000},{"$f":"$AF$5","v":"NO HAY CODIGO"},75,{"$f":"$AH$5","v":0},{"$f":"$AI$5","v":"60 MESES"},{"$f":"$AJ$5","v":60}]
[null,null,null,null,null,null,null,null,null,null,null,null,null,null,null,null,null,null,null,null,null,null,null,null,null,null,null,null,null,76,{"$f":"$AE$5","v":10000000},{"$f":"$AF$5","v":"NO HAY CODIGO"},76,{"$f":"$AH$5","v":0},{"$f":"$AI$5","v":"60 MESES"},{"$f":"$AJ$5","v":60}]
[null,null,null,null,null,null,null,null,null,null,null,null,null,null,null,null,null,null,null,null,null,null,null,null,null,null,null,null,null,77,{"$f":"$AE$5","v":10000000},{"$f":"$AF$5","v":"NO HAY CODIGO"},77,{"$f":"$AH$5","v":0},{"$f":"$AI$5","v":"60 MESES"},{"$f":"$AJ$5","v":60}]
[null,null,null,null,null,null,null,null,null,null,null,null,null,null,null,null,null,null,null,null,null,null,null,null,null,null,null,null,null,78,{"$f":"$AE$5","v":10000000},{"$f":"$AF$5","v":"NO HAY CODIGO"},78,{"$f":"$AH$5","v":0},{"$f":"$AI$5","v":"60 MESES"},{"$f":"$AJ$5","v":60}]
[null,null,null,null,null,null,null,null,null,null,null,null,null,null,null,null,null,null,null,null,null,null,null,null,null,null,null,null,null,79,{"$f":"$AE$5","v":10000000},{"$f":"$AF$5","v":"NO HAY CODIGO"},79,{"$f":"$AH$5","v":0},{"$f":"$AI$5","v":"60 MESES"},{"$f":"$AJ$5","v":60}]
[null,null,null,null,null,null,null,null,null,null,null,null,null,null,null,null,null,null,null,null,null,null,null,null,null,null,null,null,null,80,"SUPERA EDAD","SUPERA EDAD",80,"SUPERA EDAD","PARA SOLICITAR CREDITO",0]
[null,null,null,null,null,null,null,null,null,null,null,null,null,null,null,null,null,null,null,null,null,null,null,null,null,null,null,null,null,81,"SUPERA EDAD","SUPERA EDAD",81,"SUPERA EDAD","PARA SOLICITAR CREDITO",0]
[null,null,null,null,null,null,null,null,null,null,null,null,null,null,null,null,null,null,null,null,null,null,null,null,null,null,null,null,null,82,"SUPERA EDAD","SUPERA EDAD",82,"SUPERA EDAD","PARA SOLICITAR CREDITO",0]
[null,null,null,null,null,null,null,null,null,null,null,null,null,null,null,null,null,null,null,null,null,null,null,null,null,null,null,null,null,83,"SUPERA EDAD","SUPERA EDAD",83,"SUPERA EDAD","PARA SOLICITAR CREDITO",0]
[null,null,null,null,null,null,null,null,null,null,null,null,null,null,null,null,null,null,null,null,null,null,null,null,null,null,null,null,null,84,"SUPERA EDAD","SUPERA EDAD",84,"SUPERA EDAD","PARA SOLICITAR CREDITO",0]
[null,null,null,null,null,null,null,null,null,null,null,null,null,null,null,null,null,null,null,null,null,null,null,null,null,null,null,null,null,85,"SUPERA EDAD","SUPERA EDAD",85,"SUPERA EDAD","PARA SOLICITAR CREDITO",0]
[null,null,null,null,null,null,null,null,null,null,null,null,null,null,null,null,null,null,null,null,null,null,null,null,null,null,null,null,null,86,"SUPERA EDAD","SUPERA EDAD",86,"SUPERA EDAD","PARA SOLICITAR CREDITO",0]
[null,null,null,null,null,null,null,null,null,null,null,null,null,null,null,null,null,null,null,null,null,null,null,null,null,null,null,null,null,87,"SUPERA EDAD","SUPERA EDAD",87,"SUPERA EDAD","PARA SOLICITAR CREDITO",0]
[null,null,null,null,null,null,null,null,null,null,null,null,null,null,null,null,null,null,null,null,null,null,null,null,null,null,null,null,null,88,"SUPERA EDAD","SUPERA EDAD",88,"SUPERA EDAD","PARA SOLICITAR CREDITO",0]
[null,null,null,null,null,null,null,null,null,null,null,null,null,null,null,null,null,null,null,null,null,null,null,null,null,null,null,null,null,89,"SUPERA EDAD","SUPERA EDAD",89,"SUPERA EDAD","PARA SOLICITAR CREDITO",0]
[null,null,null,null,null,null,null,null,null,null,null,null,null,null,null,null,null,null,null,null,null,null,null,null,null,null,null,null,null,90,"SUPERA EDAD","SUPERA EDAD",90,"SUPERA EDAD","PARA SOLICITAR CREDITO",0]
[null,null,null,null,null,null,null,null,null,null,null,null,null,null,null,null,null,null,null,null,null,null,null,null,null,null,null,null,null,91,"SUPERA EDAD","SUPERA EDAD",91,"SUPERA EDAD","PARA SOLICITAR CREDITO",0]
[null,null,null,null,null,null,null,null,null,null,null,null,null,null,null,null,null,null,null,null,null,null,null,null,null,null,null,null,null,92,"SUPERA EDAD","SUPERA EDAD",92,"SUPERA EDAD","PARA SOLICITAR CREDITO",0]
[null,null,null,null,null,null,null,null,null,null,null,null,null,null,null,null,null,null,null,null,null,null,null,null,null,null,null,null,null,93,"SUPERA EDAD","SUPERA EDAD",93,"SUPERA EDAD","PARA SOLICITAR CREDITO",0]
[null,null,null,null,null,null,null,null,null,null,null,null,null,null,null,null,null,null,null,null,null,null,null,null,null,null,null,null,null,94,"SUPERA EDAD","SUPERA EDAD",94,"SUPERA EDAD","PARA SOLICITAR CREDITO",0]
[null,null,null,null,null,null,null,null,null,null,null,null,null,null,null,null,null,null,null,null,null,null,null,null,null,null,null,null,null,95,"SUPERA EDAD","SUPERA EDAD",95,"SUPERA EDAD","PARA SOLICITAR CREDITO",0]
[null,null,null,null,null,null,null,null,null,null,null,null,null,null,null,null,null,null,null,null,null,null,null,null,null,null,null,null,null,96,"SUPERA EDAD","SUPERA EDAD",96,"SUPERA EDAD","PARA SOLICITAR CREDITO",0]
[null,null,null,null,null,null,null,null,null,null,null,null,null,null,null,null,null,null,null,null,null,null,null,null,null,null,null,null,null,97,"SUPERA EDAD","SUPERA EDAD",97,"SUPERA EDAD","PARA SOLICITAR CREDITO",0]
[null,null,null,null,null,null,null,null,null,null,null,null,null,null,null,null,null,null,null,null,null,null,null,null,null,null,null,null,null,98,"SUPERA EDAD","SUPERA EDAD",98,"SUPERA EDAD","PARA SOLICITAR CREDITO",0]
[null,null,null,null,null,null,null,null,null,null,null,null,null,null,null,null,null,null,null,null,null,null,null,null,null,null,null,null,null,99,"SUPERA EDAD","SUPERA EDAD",99,"SUPERA EDAD","PARA SOLICITAR CREDITO",0]
[null,null,null,null,null,null,null,null,null,null,null,null,null,null,null,null,null,null,null,null,null,null,null,null,null,null,null,null,null,100,"SUPERA EDAD","SUPERA EDAD",100,"SUPERA EDAD","PARA SOLICITAR CREDITO",0]
[null,null,null,null,null,null,null,null,null,null,null,null,null,null,null,null,null,null,null,null,null,null,null,null,null,null,null,null,null,101,"SUPERA EDAD","SUPERA EDAD",101,"SUPERA EDAD","PARA SOLICITAR CREDITO",0]
[null,null,null,null,null,null,null,null,null,null,null,null,null,null,null,null,null,null,null,null,null,null,null,null,null,null,null,null,null,102,"SUPERA EDAD","SUPERA EDAD",102,"SUPERA EDAD","PARA SOLICITAR CREDITO",0]
[null,null,null,null,null,null,null,null,null,null,null,null,null,null,null,null,null,null,null,null,null,null,null,null,null,null,null,null,null,103,"SUPERA EDAD","SUPERA EDAD",103,"SUPERA EDAD","PARA SOLICITAR CREDITO",0]
[null,null,null,null,null,null,null,null,null,null,null,null,null,null,null,null,null,null,null,null,null,null,null,null,null,null,null,null,null,104,"SUPERA EDAD","SUPERA EDAD",104,"SUPERA EDAD","PARA SOLICITAR CREDITO",0]
[null,null,null,null,null,null,null,null,null,null,null,null,null,null,null,null,null,null,null,null,null,null,null,null,null,null,null,null,null,105,"SUPERA EDAD","SUPERA EDAD",105,"SUPERA EDAD","PARA SOLICITAR CREDITO",0]
[null,null,null,null,null,null,null,null,null,null,null,null,null,null,null,null,null,null,null,null,null,null,null,null,null,null,null,null,null,106,"SUPERA EDAD","SUPERA EDAD",106,"SUPERA EDAD","PARA SOLICITAR CREDITO",0]
[null,null,null,null,null,null,null,null,null,null,null,null,null,null,null,null,null,null,null,null,null,null,null,null,null,null,null,null,null,107,"SUPERA EDAD","SUPERA EDAD",107,"SUPERA EDAD","PARA SOLICITAR CREDITO",0]
[null,null,null,null,null,null,null,null,null,null,null,null,null,null,null,null,null,null,null,null,null,null,null,null,null,null,null,null,null,108,"SUPERA EDAD","SUPERA EDAD",108,"SUPERA EDAD","PARA SOLICITAR CREDITO",0]
[null,null,null,null,null,null,null,null,null,null,null,null,null,null,null,null,null,null,null,null,null,null,null,null,null,null,null,null,null,109,"SUPERA EDAD","SUPERA EDAD",109,"SUPERA EDAD","PARA SOLICITAR CREDITO",0]
[null,null,null,null,null,null,null,null,null,null,null,null,null,null,null,null,null,null,null,null,null,null,null,null,null,null,null,null,null,110,"SUPERA EDAD","SUPERA EDAD",110,"SUPERA EDAD","PARA SOLICITAR CREDITO",0]
[null,null,null,null,null,null,null,null,null,null,null,null,null,null,null,null,null,null,null,null,null,null,null,null,null,null,null,null,null,111,"SUPERA EDAD","SUPERA EDAD",111,"SUPERA EDAD","PARA SOLICITAR CREDITO",0]
[null,null,null,null,null,null,null,null,null,null,null,null,null,null,null,null,null,null,null,null,null,null,null,null,null,null,null,null,null,112,"SUPERA EDAD","SUPERA EDAD",112,"SUPERA EDAD","PARA SOLICITAR CREDITO",0]
[null,null,null,null,null,null,null,null,null,null,null,null,null,null,null,null,null,null,null,null,null,null,null,null,null,null,null,null,null,113,"SUPERA EDAD","SUPERA EDAD",113,"SUPERA EDAD","PARA SOLICITAR CREDITO",0]
[null,null,null,null,null,null,null,null,null,null,null,null,null,null,null,null,null,null,null,null,null,null,null,null,null,null,null,null,null,114,"SUPERA EDAD","SUPERA EDAD",114,"SUPERA EDAD","PARA SOLICITAR CREDITO",0]
[null,null,null,null,null,null,null,null,null,null,null,null,null,null,null,null,null,null,null,null,null,null,null,null,null,null,null,null,null,115,"SUPERA EDAD","SUPERA EDAD",115,"SUPERA EDAD","PARA SOLICITAR CREDITO",0]
[null,null,null,null,null,null,null,null,null,null,null,null,null,null,null,null,null,null,null,null,null,null,null,null,null,null,null,null,null,116,"SUPERA EDAD","SUPERA EDAD",116,"SUPERA EDAD","PARA SOLICITAR CREDITO",0]
[null,null,null,null,null,null,null,null,null,null,null,null,null,null,null,null,null,null,null,null,null,null,null,null,null,null,null,null,null,117,"SUPERA EDAD","SUPERA EDAD",117,"SUPERA EDAD","PARA SOLICITAR CREDITO",0]
[null,null,null,null,null,null,null,null,null,null,null,null,null,null,null,null,null,null,null,null,null,null,null,null,null,null,null,null,null,118,"SUPERA EDAD","SUPERA EDAD",118,"SUPERA EDAD","PARA SOLICITAR CREDITO",0]
[null,null,null,null,null,null,null,null,null,null,null,null,null,null,null,null,null,null,null,null,null,null,null,null,null,null,null,null,null,119,"SUPERA EDAD","SUPERA EDAD",119,"SUPERA EDAD","PARA SOLICITAR CREDITO",0]
[null,null,null,null,null,null,null,null,null,null,null,null,null,null,null,null,null,null,null,null,null,null,null,null,null,null,null,null,null,120,"SUPERA EDAD","SUPERA EDAD",120,"SUPERA EDAD","PARA SOLICITAR CREDITO",0]
[null,null,null,null,null,null,null,null,null,null,null,null,null,null,null,null,null,null,null,null,null,null,null,null,null,null,null,null,null,121,"SUPERA EDAD","SUPERA EDAD",121,"SUPERA EDAD","PARA SOLICITAR CREDITO",0]
[null,null,null,null,null,null,null,null,null,null,null,null,null,null,null,null,null,null,null,null,null,null,null,null,null,null,null,null,null,122,"SUPERA EDAD","SUPERA EDAD",122,"SUPERA EDAD","PARA SOLICITAR CREDITO",0]
[null,null,null,null,null,null,null,null,null,null,null,null,null,null,null,null,null,null,null,null,null,null,null,null,null,null,null,null,null,123,"SUPERA EDAD","SUPERA EDAD",123,"SUPERA EDAD","PARA SOLICITAR CREDITO",0]
[null,null,null,null,null,null,null,null,null,null,null,null,null,null,null,null,null,null,null,null,null,null,null,null,null,null,null,null,null,124,"SUPERA EDAD","SUPERA EDAD",124,"SUPERA EDAD","PARA SOLICITAR CREDITO",0]
[null,null,null,null,null,null,null,null,null,null,null,null,null,null,null,null,null,null,null,null,null,null,null,null,null,null,null,null,null,125,"SUPERA EDAD","SUPERA EDAD",125,"SUPERA EDAD","PARA SOLICITAR CREDITO",0]
[null,null,null,null,null,null,null,null,null,null,null,null,null,null,null,null,null,null,null,null,null,null,null,null,null,null,null,null,null,126,"SUPERA EDAD","SUPERA EDAD",126,"SUPERA EDAD","PARA SOLICITAR CREDITO",0]
[null,null,null,null,null,null,null,null,null,null,null,null,null,null,null,null,null,null,null,null,null,null,null,null,null,null,null,null,null,127,"SUPERA EDAD","SUPERA EDAD",127,"SUPERA EDAD","PARA SOLICITAR CREDITO",0]
[null,null,null,null,null,null,null,null,null,null,null,null,null,null,null,null,null,null,null,null,null,null,null,null,null,null,null,null,null,128,"SUPERA EDAD","SUPERA EDAD",128,"SUPERA EDAD","PARA SOLICITAR CREDITO",0]
[null,null,null,null,null,null,null,null,null,null,null,null,null,null,null,null,null,null,null,null,null,null,null,null,null,null,null,null,null,129,"SUPERA EDAD","SUPERA EDAD",129,"SUPERA EDAD","PARA SOLICITAR CREDITO",0]
[null,null,null,null,null,null,null,null,null,null,null,null,null,null,null,null,null,null,null,null,null,null,null,null,null,null,null,null,null,130,"SUPERA EDAD","SUPERA EDAD",130,"SUPERA EDAD","PARA SOLICITAR CREDITO",0]

{"sheet":"CREMIL","index":12,"n_rows":138,"n_cols":33,"rows_kept":138,"cut":false,"hidden":false,"merged":[[23,19,23,20],[25,14,25,16],[23,0,25,0],[20,14,20,16],[20,19,20,20],[25,19,25,20],[23,8,23,13],[24,8,24,13],[23,14,23,16],[31,14,31,16],[31,19,31,20],[32,14,32,16],[32,19,32,20],[24,3,24,5],[27,14,27,16],[27,19,27,20],[28,14,28,16],[28,19,28,20],[30,14,30,16],[30,19,30,20],[29,14,29,16],[29,19,29,20],[26,14,26,16],[26,19,26,20],[28,3,28,4],[19,19,19,20],[21,14,21,16],[21,19,21,20],[22,14,22,16],[22,19,22,20],[19,14,19,16],[16,19,16,20],[17,14,17,16],[17,19,17,20],[18,14,18,16],[18,19,18,20],[16,14,16,16],[17,0,18,2],[19,0,22,2],[29,3,29,4],[0,3,0,5],[11,4,11,5],[8,4,8,5],[0,0,0,2],[1,0,1,2],[2,0,2,2],[3,0,3,2],[4,0,4,2],[5,0,5,2],[7,0,7,2],[8,0,8,2],[9,0,9,2],[10,0,10,2],[6,0,6,2],[16,3,16,5],[16,0,16,2],[11,6,15,6],[14,4,14,5],[15,4,15,5],[11,0,15,2],[12,4,12,5],[13,4,13,5],[0,12,0,13],[8,8,8,13],[31,3,31,4],[33,3,33,5],[34,3,34,5],[30,3,30,4],[32,3,32,4],[9,8,9,13],[10,8,10,13],[25,8,25,13],[6,4,6,6]]}
["CREMIL CO 1 - PA CO 1 - CR 1",null,null,0.5,null,null,null,null,null,null,null,null,{"$f":"TASAS!G15","v":"2025-03"}]
[{"$f":"IF(($D$2=\"\"),\"Digite la edad del cliente\",\"\")","v":"Digite la edad del cliente"},null,null,null,null,null,null,null,null,null,null,null,null,null,{"$f":"D6+D7-D8","v":0},{"$f":"D9-O2","v":0}]
[{"$f":"IF(($D$3<50000000),\"Monto máximo por COSERFIN\",\"Monto máximo en dos créditos por COSERFIN y PA COSERFIN\")","v":"Monto máximo en dos créditos por COSERFIN y PA COSERFIN"},null,null,{"$f":"IF((D2 = \"\"),\"DIGITE EDAD\",VLOOKUP(D2,$AB$8:$AD$138,2,0))","v":"DIGITE EDAD"},{"$f":"IF(($D$2=\"\"),\"\",\"Por CREAVAL\")","v":""},{"$f":"IF((D2 = \"\"),\" \",VLOOKUP(D2,$AB$8:$AD$138,3,0))","v":" "},null,null,null,null,null,null,null,null,null,null,null,null,{"$f":"IF(AND(E24<TASAS!H11,D24<TASAS!M2),TASAS!H6,TASAS!H5)","v":{"$error":"#VALUE!"}},null,null,null,null,null,null,null,null,null,"COSERFIN","CREAVAL"]
[{"$f":"IF(($D$2=\"\"),\"\",\"Plazo máximo para cada crédito\")","v":""},null,null,{"$f":"IF((D2 = \"\"),\"DEL SOLICITANTE\",VLOOKUP(D2,$AE$8:$AF$138,2,0))","v":"DEL SOLICITANTE"},null,null,null,null,null,null,null,null,null,null,null,null,null,null,{"$f":"B24-S3","v":{"$error":"#VALUE!"}},null,null,null,null,null,null,null,80,null,0,0,null,0,0]
["EVALUACION CAPACIDAD DE PAGO",null,null,"VALOR 1","VALOR 2","VALOR 3","TOTALES",null,null,null,null,null,null,null,null,null,null,null,0,null,null,null,null,null,null,null,"75-79",null,10000000,10000000,null,"60 MESES",60]
["VALOR ASIGNACIÓN DE RETIRO",null,null,0,null,null,{"$f":"D6/2","v":0},null,null,null,null,null,null,null,null,null,null,null,{"$f":"TASAS!H3","v":1.77E-2},"TASA",null,null,null,null,null,null,"18-70",null,50000000,25000000,null,"144 MESES",144]
["VALOR OTROS INGRESOS (PRIMAS, RETROACTIVOS, ADICIONALES, ETC.)",null,null,0,null,null,null,null,null,null,null,null,null,null,null,null,null,null,{"$f":"TASAS!H4","v":1.8200000000000001E-2},"TASA",null,null,null,null,null,null,"71-74",null,20000000,20000000]
["(-) TOTAL DESCUENTOS",null,null,0,null,null,{"$f":"IF(($P$2>3),\"ERROR EN\",IF($P$2<-3,\"ERROR EN\",D8))","v":0},null,null,null,null,null,null,null,null,null,null,null,{"$f":"TASAS!H5","v":1.8699999999999998E-2},"TASA",null,null,null,null,null,null,null,0,"USUARIO MENOR DE EDAD","USUARIO MENOR DE EDAD",0,"USUARIO MENOR DE EDAD",0]
["INGRESO NETO RECIBIDO EN EL DESPRENDIBLE DE PAGO",null,null,0,"DISPONIBLE PARA CREDITO",null,{"$f":"IF(($P$2>3),\"LOS DATOS\",IF($P$2<-3,\"LOS DATOS\",G6-G8+G10+G11))","v":0},"*",{"$f":"IF((B24=0),\"¡ ¡ ¡ Por favor seleccione la tasa de interés ! ! !\",\" \")","v":"¡ ¡ ¡ Por favor seleccione la tasa de interés ! ! !"},null,null,null,null,null,null,null,null,null,{"$f":"TASAS!H6","v":3.4999999999999996E-2},"TASA",null,null,null,null,null,null,null,1,"USUARIO MENOR DE EDAD","USUARIO MENOR DE EDAD",1,"USUARIO MENOR DE EDAD",0]
["(+) DESCUENTOS FINALIZADOS EN EL PRESENTE MES Y EN EL PROXIMO",null,null,0,0,0,{"$f":"SUM(D10:F10)","v":0},null,{"$f":"IF((S4=0),\" \",\"¡¡¡   A T E N C I O N   !!!\")","v":{"$error":"#VALUE!"}},null,null,null,null,null,null,null,null,null,{"$f":"TASAS!H7","v":1.4499999999999999E-2},"TASA",null,null,null,null,null,null,null,2,"USUARIO MENOR DE EDAD","USUARIO MENOR DE EDAD",2,"USUARIO MENOR DE EDAD",0]
["(+) CUOTAS DE COMPRAS DE CARTERA",null,null,0,0,0,{"$f":"SUM(D11:F11)","v":0},null,{"$f":"IF((S4=0),\" \",\"La tasa de interés para ese monto y plazo es del\")","v":{"$error":"#VALUE!"}},null,null,null,null,null,null,null,null,null,{"$f":"TASAS!H8","v":1.4999999999999999E-2},"TASA",null,null,null,null,null,null,null,3,"USUARIO MENOR DE EDAD","USUARIO MENOR DE EDAD",3,"USUARIO MENOR DE EDAD",0]
["(-) VALOR ESTIMADO CUOTA DE CREDITO CON COOSERFIN",null,null,{"$f":"IF(D3>E19,FLOOR(E19,100000),D3)","v":"DIGITE EDAD"},{"$f":"IF(($D$14=\"TASA\"),\" \",\"VALOR SOLICITADO\")","v":"VALOR SOLICITADO"},null,{"$f":"IF(($D$2=\"\"),\"RECUERDE DIGITAR ARRIBA LA EDAD\",ROUNDUP(((((D12*D14))*(D13+D15))+D12)/D13,0))","v":"RECUERDE DIGITAR ARRIBA LA EDAD"},null,null,null,null,null,null,null,null,null,null,null,{"$f":"TASAS!H9","v":1.55E-2},"TASA",null,null,null,null,null,null,null,4,"USUARIO MENOR DE EDAD","USUARIO MENOR DE EDAD",4,"USUARIO MENOR DE EDAD",0]
[null,null,null,{"$f":"D19","v":"DIGITE EDAD"},{"$f":"IF(($D$14=\"TASA\"),\" \",\"PLAZO\")","v":"PLAZO"},null,null,null,null,null,null,null,null,null,null,null,null,null,null,null,null,null,null,null,null,null,null,5,"USUARIO MENOR DE EDAD","USUARIO MENOR DE EDAD",5,"USUARIO MENOR DE EDAD",0]
[null,null,null,2.3E-2,"FACTOR",null,null,null,null,null,null,null,null,null,null,null,null,{"$f":"D3*1","v":{"$error":"#VALUE!"}},{"$f":"(PV(B24,D24,T15))*-1","v":{"$error":"#VALUE!"}},{"$f":"F19","v":"NO APLICA"},null,null,null,null,null,null,null,6,"USUARIO MENOR DE EDAD","USUARIO MENOR DE EDAD",10,"USUARIO MENOR DE EDAD",0]
[null,null,null,0,{"$f":"IF(($D$14=\"TASA\"),\" \",\"MES(ES) DE GRACIA\")","v":"MES(ES) DE GRACIA"},null,null,null,null,null,null,null,null,null,null,null,null,{"$f":"(PV(B24,D24,F19))*-1","v":{"$error":"#VALUE!"}},{"$f":"(IF(S14>R14,R14,FLOOR(S14,100000)))","v":{"$error":"#VALUE!"}},{"$f":"((T14*(1-R20))-R22-V17-V21)","v":{"$error":"#VALUE!"}},null,null,null,null,{"$f":"R17*R21","v":{"$error":"#VALUE!"}},null,null,7,"USUARIO MENOR DE EDAD","USUARIO MENOR DE EDAD",7,"USUARIO MENOR DE EDAD",0]
[null,null,null,{"$f":"IF($G$17>=0,(G12*D13),IF($G$17<0,\"\"))","v":{"$error":"#VALUE!"}},{"$f":"IF(($D$14=\"TASA\"),\" \",\"VALOR LIBRANZA\")","v":"VALOR LIBRANZA"},null,null,null,null,null,null,null,null,null,null,null,null,null,null,null,null,null,null,null,{"$f":"R26*R30","v":{"$error":"#VALUE!"}},null,null,8,"USUARIO MENOR DE EDAD","USUARIO MENOR DE EDAD",8,"USUARIO MENOR DE EDAD",0]
["INGRESO ESTIMADO EN EL PRIMER MES DE PAGO DEL CREDITO",null,null,{"$f":"IF((G9-G12)>0,\"USUARIO CON CAPACIDAD DE PAGO\",IF(G9-G12<0,\"INTENTE CON OTRO MONTO Y/O PLAZO\"))","v":{"$error":"#VALUE!"}},{"$f":"IF($J$13>=#REF!,\"USUARIO CON CAPACIDAD DE ENDEUDAMIENTO\",IF($J$13<#REF!,\"CREDITO INVIABLE INTENTE CON OTRO MONTO Y/O PLAZO\"))","v":{"$error":"#REF!"}},{"$f":"IF($J$13>=#REF!,\"USUARIO CON CAPACIDAD DE ENDEUDAMIENTO\",IF($J$13<#REF!,\"CREDITO INVIABLE INTENTE CON OTRO MONTO Y/O PLAZO\"))","v":{"$error":"#REF!"}},{"$f":"IF(((G9-G12)>0),(G9-G12),\"SIN CUPO\")","v":{"$error":"#VALUE!"}},null,null,null,null,null,null,null,"VALOR CREDITO         :",null,null,{"$f":"R15","v":{"$error":"#VALUE!"}},null,"VALOR SEGURO          :",null,{"$f":"R17*W26","v":{"$error":"#VALUE!"}},null,null,{"$f":"((((R18)*((1+(R18))^R19))/(((1+(R18))^R19)-1))*R17)+((((R17*R18)/30)*R24)/R19)+R22+V17+V20","v":{"$error":"#VALUE!"}},null,null,9,"USUARIO MENOR DE EDAD","USUARIO MENOR DE EDAD",9,"USUARIO MENOR DE EDAD",0]
[{"$f":"IF($W$19>0,\"MONTO MAXIMO DE ENDEUDAMIENTO\",IF($W$19<=0,\"EL SOLICITANTE NO TIENE POSIBILIDADES DE CREDITO\"))","v":"EL SOLICITANTE NO TIENE POSIBILIDADES DE CREDITO"},null,null,"PLAZO","MONTO MAX","VALOR CUOTA","VR LIBRANZA",null,null,null,null,null,null,null,"TASA NOMINAL MENSUAL  :",null,null,{"$f":"B24","v":0},null,"TASA EFECTIVA ANUAL   :",null,{"$f":"((1+((R18*12)/12))^12)-1","v":0},null,null,null,null,null,10,"USUARIO MENOR DE EDAD","USUARIO MENOR DE EDAD",10,"USUARIO MENOR DE EDAD",0]
[null,null,null,{"$f":"IF((D2=\"\"),\"DIGITE EDAD\",VLOOKUP(D2,$AE$4:$AG$135,3,0))","v":"DIGITE EDAD"},{"$f":"IF(($W$19<=0),\"NO APLICA\",$G$19*100/((($D$14*100)*($D$19+$D$15))+100))","v":"NO APLICA"},{"$f":"IF(($W$19<=0),\"NO APLICA\",($G$9))","v":"NO APLICA"},{"$f":"IF(($W$19<=0),\"NO APLICA\",($D$19*$F$19))","v":"NO APLICA"},"*",null,null,null,null,null,null,"PLAZO EN MESES        :",null,null,{"$f":"D24","v":"DIGITE EDAD"},null,"CUOTA NETA            :",null,{"$f":"((((R18)*((1+(R18))^R19))/(((1+(R18))^R19)-1))*(R17+Y15))+(((((R17+Y15)*R18)/30)*R24)/R19)","v":{"$error":"#VALUE!"}},{"$f":"$G$9+$G$10+$G$11","v":0},"PLAZO","MONTO MAX","VR MAX CUOTA","VALOR LZ",11,"USUARIO MENOR DE EDAD","USUARIO MENOR DE EDAD",11,"USUARIO MENOR DE EDAD",0]
[{"$f":"IF($G$17>=0,\"OTRAS OPCIONES DE CREDITO DISPONIBLES\",IF($G$17<0,\"INTENTE CON OTRO MONTO Y/O PLAZO\"))","v":{"$error":"#VALUE!"}},null,null,{"$f":"IF($Y$20<=$AA$24,12,IF($Y$20>$AA$24,\"NO APLICA\"))","v":{"$error":"#VALUE!"}},{"$f":"IF(Y20>$AA$24,\"NO APLICA\",IF(Y20<=$AA$24,FLOOR(Y20,10000)))","v":{"$error":"#VALUE!"}},{"$f":"IF($Y$20>$AA$24,\"NO APLICA\",IF(Y20<=$AA$24,((((E20*($D$14)*((D20+$D$15))+E20)/D20)))))","v":{"$error":"#VALUE!"}},{"$f":"IF($Y$20>$AA$24,\"NO APLICA\",IF(Y20<=$AA$24,(D20*F20)))","v":{"$error":"#VALUE!"}},null,null,null,null,null,null,null,"TASA COMISION RECAUDO :",null,null,0,null,"COMISION POR RECAUDO  :",null,{"$f":"((((((R18)*((1+(R18))^R19))/(((1+(R18))^R19)-1))*(R17+Y15))+(((((R17+Y15)*R18)/30)*R24)/R19)+R22+V17)*100)/(100-(R20*100))-(((((R18)*((1+(R18))^R19))/(((1+(R18))^R19)-1))*(R17+Y15))+(((((R17+Y15)*R18)/30)*R24)/R19)+R22+V17)","v":{"$error":"#VALUE!"}},null,12,{"$f":"IF(($G$17>=0),AA20*100/((($D$14*100)*(X20+$D$15))+100),\"\")","v":{"$error":"#VALUE!"}},{"$f":"IF(($G$17>=0),($G$12+$G$17),\"\")","v":{"$error":"#VALUE!"}},{"$f":"IF(($G$17>=0),(Z20*X20),\"\")","v":{"$error":"#VALUE!"}},12,"USUARIO MENOR DE EDAD","USUARIO MENOR DE EDAD",12,"USUARIO MENOR DE EDAD",0]
[null,null,null,{"$f":"IF($Y$21<=$AA$24,24,IF($Y$21>$AA$24,\"NO APLICA\"))","v":{"$error":"#VALUE!"}},{"$f":"IF(Y21>$AA$24,\"NO APLICA\",IF(Y21<=$AA$24,FLOOR(Y21,10000)))","v":{"$error":"#VALUE!"}},{"$f":"IF($Y$21>$AA$24,\"NO APLICA\",IF(Y21<=$AA$24,((((E21*($D$14)*((D21+$D$15))+E21)/D21)))))","v":{"$error":"#VALUE!"}},{"$f":"IF($Y$21>$AA$24,\"NO APLICA\",IF(Y21<=$AA$24,(D21*F21)))","v":{"$error":"#VALUE!"}},null,null,null,null,null,null,null,"OTROS GASTOS          :",null,null,{"$f":"B26","v":0},null,"VALOR OTROS GASTOS    :",null,{"$f":"V24-Y17","v":{"$error":"#VALUE!"}},null,24,{"$f":"IF(($G$17>=0),AA21*100/((($D$14*100)*(X21+$D$15))+100),\"\")","v":{"$error":"#VALUE!"}},{"$f":"IF(($G$17>=0),($G$12+$G$17),\"\")","v":{"$error":"#VALUE!"}},{"$f":"IF(($G$17>=0),(Z21*X21),\"\")","v":{"$error":"#VALUE!"}},13,"USUARIO MENOR DE EDAD","USUARIO MENOR DE EDAD",13,"USUARIO MENOR DE EDAD",0]
[null,null,null,{"$f":"IF($Y$22<=$AA$24,36,IF($Y$22>$AA$24,\"NO APLICA\"))","v":{"$error":"#VALUE!"}},{"$f":"IF(Y22>$AA$24,\"NO APLICA\",IF(Y22<=$AA$24,FLOOR(Y22,10000)))","v":{"$error":"#VALUE!"}},{"$f":"IF($Y$22>$AA$24,\"NO APLICA\",IF(Y22<=$AA$24,((((E22*($D$14)*((D22+$D$15))+E22)/D22)))))","v":{"$error":"#VALUE!"}},{"$f":"IF($Y$22>$AA$24,\"NO APLICA\",IF(Y22<=$AA$24,(D22*F22)))","v":{"$error":"#VALUE!"}},null,null,null,null,null,null,null,"APORTES SOCIALES      :",null,null,0,null,"FECHA DE INICIO       :",null,{"$f":"(R23+((R19+1)*29))-((R19-1)*29)","v":{"$error":"#VALUE!"}},null,36,{"$f":"IF(($G$17>=0),AA22*100/((($D$14*100)*(X22+$D$15))+100),\"\")","v":{"$error":"#VALUE!"}},{"$f":"IF(($G$17>=0),($G$12+$G$17),\"\")","v":{"$error":"#VALUE!"}},{"$f":"IF(($G$17>=0),(Z22*X22),\"\")","v":{"$error":"#VALUE!"}},14,"USUARIO MENOR DE EDAD","USUARIO MENOR DE EDAD",14,"USUARIO MENOR DE EDAD",0]
[null,null,null,{"$f":"IF($Y$23<=$AA$24,48,IF($Y$23>$AA$24,\"NO APLICA\"))","v":{"$error":"#VALUE!"}},{"$f":"IF(Y23>$AA$24,\"NO APLICA\",IF(Y23<=$AA$24,FLOOR(Y23,10000)))","v":{"$error":"#VALUE!"}},{"$f":"IF($Y$23>$AA$24,\"NO APLICA\",IF(Y23<=$AA$24,((((E23*($D$14)*((D23+$D$15))+E23)/D23)))))","v":{"$error":"#VALUE!"}},{"$f":"IF($Y$23>$AA$24,\"NO APLICA\",IF(Y23<=$AA$24,(D23*F23)))","v":{"$error":"#VALUE!"}},null,null,null,null,null,null,null,"FECHA DESEMBOLSO      :",null,null,"2012-01-01",null,"FECHA DE TERMINO      :",null,{"$f":"(R23+((R19+1)*29))-((R19-1)*29)+((R19-1)*30)","v":{"$error":"#VALUE!"}},null,48,{"$f":"IF(($G$17>=0),AA23*100/((($D$14*100)*(X23+$D$15))+100),\"\")","v":{"$error":"#VALUE!"}},{"$f":"IF(($G$17>=0),($G$12+$G$17),\"\")","v":{"$error":"#VALUE!"}},{"$f":"IF(($G$17>=0),(Z23*X23),\"\")","v":{"$error":"#VALUE!"}},15,"USUARIO MENOR DE EDAD","USUARIO MENOR DE EDAD",15,"USUARIO MENOR DE EDAD",0]
["LIBRE INVERSION - COBRO DE AVAL ANTICIPADO",0,"N.M.V.",{"$f":"D19","v":"DIGITE EDAD"},{"$f":"S15","v":{"$error":"#VALUE!"}},"  VR CUOTA   ",{"$f":"((((R27)*((1+(R27))^R28))/(((1+(R27))^R28)-1))*(E24+Y16))+(((((E24+Y16)*R27)/30)*R33)/R28)+R31+V26+V29+V30","v":{"$error":"#VALUE!"}},null,{"$f":"IF((S4=0),\" \",S3)","v":{"$error":"#VALUE!"}},null,null,null,null,null,"DIAS DE GRACIA        :",null,null,{"$f":"B27","v":0},null,"TOTAL CUOTA MENSUAL   :",null,{"$f":"V19+R22+V20+V17","v":{"$error":"#VALUE!"}},null,null,null,"MONTO MAXIMO POR CLIENTE",50000000,16,"USUARIO MENOR DE EDAD","USUARIO MENOR DE EDAD",16,"USUARIO MENOR DE EDAD",0]
[null,{"$f":"((1+((B24*12)/12))^12)-1","v":0}," E. A.",{"$f":"IF(G25>=0,\"USUARIO CON CAPACIDAD DE PAGO\",IF(G25<0,\"INTENTE CON OTRO MONTO Y/O PLAZO\"))","v":{"$error":"#VALUE!"}},null,null,{"$f":"G9-G24","v":{"$error":"#VALUE!"}},null,{"$f":"IF(B24=TASAS!H3,\"Tasa para clientes con puntaje > a 750 y sin procesos\",\" \")","v":" "},null,null,null,null,null,null,null,null,null,null,null,null,null,"SEGURO",null,null,null,null,17,"USUARIO MENOR DE EDAD","USUARIO MENOR DE EDAD",17,"USUARIO MENOR DE EDAD",0]
[null,0," O. G.","% AVAL","VALOR AVAL ","A GIRAR",null,null,{"$f":"IF(B24=TASAS!H4,\"Tasa para clientes con puntaje entre 650 - 749 y sin procesos\",\" \")","v":" "},null,null,null,null,null,"VALOR CREDITO         :",null,null,{"$f":"E24","v":{"$error":"#VALUE!"}},null,"VALOR SEGURO          :",null,{"$f":"R26*W26","v":{"$error":"#VALUE!"}},{"$f":"IF((D2<66),(TASAS!C12),(VLOOKUP(D2,TASAS!B13:C27,2,0)))","v":1.15E-3},null,null,null,null,18,{"$f":"$AC$6","v":50000000},{"$f":"$AD$6","v":25000000},18,{"$f":"$AF$6","v":"144 MESES"},{"$f":"$AG$6","v":144}]
[null,0," D. G.",0.09,{"$f":"E24*D27","v":{"$error":"#VALUE!"}},{"$f":"E24-E27","v":{"$error":"#VALUE!"}},null,null,null,null,null,null,null,null,"TASA NOMINAL MENSUAL  :",null,null,{"$f":"R18","v":0},null,"TASA EFECTIVA ANUAL   :",null,{"$f":"((1+((R27*12)/12))^12)-1","v":0},null,null,null,null,null,19,{"$f":"$AC$6","v":50000000},{"$f":"$AD$6","v":25000000},19,{"$f":"$AF$6","v":"144 MESES"},{"$f":"$AG$6","v":144}]
[null,"% Simple",{"$f":"(((G24*D24)-E24)/E24)/D24","v":{"$error":"#VALUE!"}},null,"VR MENSUAL x 1 MM",{"$f":"G24/(E24/1000000)","v":{"$error":"#VALUE!"}},null,null,null,null,null,null,null,null,"PLAZO EN MESES        :",null,null,"DIGITE EDAD",null,"CUOTA NETA            :",null,{"$f":"((((R27)*((1+(R27))^R28))/(((1+(R27))^R28)-1))*(R26+Y16))+(((((R26+Y16)*R27)/30)*R33)/R28)","v":{"$error":"#VALUE!"}},null,null,null,null,null,20,50000000,25000000,20,"144 MESES",144]
[null,null,null,"COMPRA O AMPLIACION 1",null,0,null,"FIDELIZACIÓN","VR CRÉDITO","VR CUOTA ","PLAZO"," VR AVAL","SALDO","A GIRAR","TASA COMISION RECAUDO :",null,null,0,null,"COMISION POR RECAUDO  :",null,{"$f":"((((((R27)*((1+(R27))^R28))/(((1+(R27))^R28)-1))*(R26+Y16))+(((((R26+Y16)*R27)/30)*R33)/R28)+R31+V26)*100)/(100-(R29*100))-(((((R27)*((1+(R27))^R28))/(((1+(R27))^R28)-1))*(R26+Y16))+(((((R26+Y16)*R27)/30)*R33)/R28)+R31+V26)","v":{"$error":"#VALUE!"}},null,null,null,null,null,21,50000000,25000000,21,"144 MESES",144]
["Vr. Crédito",{"$f":"E24","v":{"$error":"#VALUE!"}},null,"COMPRA O AMPLIACION 2",null,0,"LIBRE INV",null,0,0,0,0,0,{"$f":"I30-L30-M30","v":0},"OTROS GASTOS          :",null,null,0,null,"VALOR OTROS GASTOS    :",null,null,null,null,null,null,null,22,50000000,25000000,22,"144 MESES",144]
["Aval",{"$f":"E27","v":{"$error":"#VALUE!"}},null,"COMPRA O AMPLIACION 3",null,0,"AMPLIACION","LZ A",0,0,0,0,0,{"$f":"I31-L31-M31","v":0},"APORTES SOCIALES      :",null,null,0,null,"FECHA DE INICIO       :",null,{"$f":"(R32+((R28+1)*29))-((R28-1)*29)","v":{"$error":"#VALUE!"}},null,null,null,null,null,23,50000000,25000000,23,"144 MESES",144]
["Compra(s) / Saneamiento(s) / Ampiación(es)",{"$f":"SUM(F29:F32)","v":0},null,"COMPRA O AMPLIACION 4",null,0,"COMPRA","OPERADOR ?",0,0,0,0,0,{"$f":"I32-L32-M32","v":0},"FECHA DESEMBOLSO      :",null,null,"2012-01-01",null,"FECHA DE TERMINO      :",null,{"$f":"(R32+((R28+1)*29))-((R28-1)*29)+((R28-1)*30)","v":{"$error":"#VALUE!"}},null,null,null,null,null,24,50000000,25000000,24,"144 MESES",144]
["Vr. Desembolso",{"$f":"B30-B31-B32","v":{"$error":"#VALUE!"}},{"$f":"IF(((B33-F33)>0),\"ERROR\",IF((B33-F33)=0,\" \"))","v":{"$error":"#VALUE!"}},"NETO A GIRAR",null,{"$f":"F27-F29-F30-F31-F32","v":{"$error":"#VALUE!"}},"COMPRA","OPERADOR ?",0,0,0,0,0,{"$f":"I33-L33-M33","v":0},"DIAS DE GRACIA        :",null,null,0,null,"TOTAL CUOTA MENSUAL   :",null,{"$f":"V28+R31+V29+V26","v":{"$error":"#VALUE!"}},null,null,null,null,null,25,50000000,25000000,25,"144 MESES",144]
["Vr. Cuota",{"$f":"G24","v":{"$error":"#VALUE!"}},null,{"$f":"IF(((D3-E24)<0),\"¡¡¡ A T E N C I Ó N !!!\",IF((D3-E24)>=0,\" \"))","v":{"$error":"#VALUE!"}},null,null,null,null,null,null,null,null,null,null,null,null,null,null,null,null,null,null,null,null,null,null,null,26,50000000,25000000,26,"144 MESES",144]
["Plazo",{"$f":"D24","v":"DIGITE EDAD"},null,{"$f":"IF(((D3-E24)<0),\"EL MONTO EXCEDE LIMITE PARA ESA EDAD\",IF((D3-E24)>=0,\" \"))","v":{"$error":"#VALUE!"}},null,null,null,null,null,null,null,null,null,null,null,null,null,null,null,null,null,null,null,null,null,null,null,27,50000000,25000000,27,"144 MESES",144]
[null,null,null,null,null,null,null,null,null,null,null,null,null,null,null,null,null,null,null,null,null,null,null,null,null,null,null,28,50000000,25000000,28,"144 MESES",144]
["REQUISITOS PARA SOLICITUD DE CREDITO:",null,null,null,null,null,null,null,null,null,null,null,null,null,null,null,null,null,null,null,null,null,null,null,null,null,null,29,50000000,25000000,29,"144 MESES",144]
["1. Autorización de uso de usuarios y claves, el cual se descarga aquí",null,null,null,null,null,null,null,null,null,null,null,null,null,null,null,null,null,null,null,null,null,null,null,null,null,null,30,50000000,25000000,30,"144 MESES",144]
["https://coserfin.co/panelwi/upload/c8d2ea_AUTORIZACION%20ACCESO%20PLATAFORMAS%20CO%20y%20CR.pdf",null,null,null,null,null,null,null,null,null,null,null,null,null,null,null,null,null,null,null,null,null,null,null,null,null,null,31,50000000,25000000,31,"144 MESES",144]
["2. Desprendible de pago del último mes, el cual puede descargarse aquí",null,null,null,null,null,null,null,null,null,null,null,null,null,null,null,null,null,null,null,null,null,null,null,null,null,null,32,50000000,25000000,32,"144 MESES",144]
["https://www.cremil.gov.co/",null,null,null,null,null,null,null,null,null,null,null,null,null,null,null,null,null,null,null,null,null,null,null,null,null,null,33,50000000,25000000,33,"144 MESES",144]
["3. Suministrar usuario y clave para acceso a la plataforma sygnus y la web de CREMIL",null,null,null,null,null,null,null,null,null,null,null,null,null,null,null,null,null,null,null,null,null,null,null,null,null,null,34,50000000,25000000,34,"144 MESES",144]
["4. Una (1) fotocopia de la cédula de ciudadanía ampliada al 150% en blanco y negro, con firma y huella",null,null,null,null,null,null,null,null,null,null,null,null,null,null,null,null,null,null,null,null,null,null,null,null,null,null,35,50000000,25000000,35,"144 MESES",144]
["5. Una (1) fotocopia del carné de retirado o del carné de servicios médicos, ampliada al 150% en blanco y negro",null,null,null,null,null,null,null,null,null,null,null,null,null,null,null,null,null,null,null,null,null,null,null,null,null,null,36,50000000,25000000,36,"144 MESES",144]
["6. Para compra de cartera, se requiere la firma del siguiente formato",null,null,null,null,null,null,null,null,null,null,null,null,null,null,null,null,null,null,null,null,null,null,null,null,null,null,37,50000000,25000000,37,"144 MESES",144]
["https://coserfin.co/panelwi/upload/e254a9_COMPRA%20DE%20CARTERA%20GENERAL%20CO%20Y%20CR.pdf",null,null,null,null,null,null,null,null,null,null,null,null,null,null,null,null,null,null,null,null,null,null,null,null,null,null,38,50000000,25000000,38,"144 MESES",144]
["7. Si el solicitante es pensionado por perdida psicofisica, se requiere resolución de reconocmiento de la asignación de retiro y dictamen médico",null,null,null,null,null,null,null,null,null,null,null,null,null,null,null,null,null,null,null,null,null,null,null,null,null,null,39,50000000,25000000,39,"144 MESES",144]
["8. No requiere codeudor, pero es necesario cobro de aval",null,null,null,null,null,null,null,null,null,null,null,null,null,null,null,null,null,null,null,null,null,null,null,null,null,null,40,50000000,25000000,40,"144 MESES",144]
[null,null,null,null,null,null,null,null,null,null,null,null,null,null,null,null,null,null,null,null,null,null,null,null,null,null,null,41,50000000,25000000,41,"144 MESES",144]
["INCORPORACIÓN DEL DESCUENTO Y TIEMPO DE DESEMBOLSO:",null,null,null,null,null,null,null,null,null,null,null,null,null,null,null,null,null,null,null,null,null,null,null,null,null,null,42,50000000,25000000,42,"144 MESES",144]
["1. La incorporación se realiza mediante la plataforma SYGNUS, la cual inicia operación entre el dia 17 y 20 de cada mes",null,null,null,null,null,null,null,null,null,null,null,null,null,null,null,null,null,null,null,null,null,null,null,null,null,null,43,50000000,25000000,43,"144 MESES",144]
["2. La plataforma SYGNUS permanece abierta durante dos (2) semanas al mes",null,null,null,null,null,null,null,null,null,null,null,null,null,null,null,null,null,null,null,null,null,null,null,null,null,null,44,50000000,25000000,44,"144 MESES",144]
["3. El descuento opera para el siguiente mes, o para el mismo mes si la plataforma alcanza a estar abierta durante los primeros días de ese mes",null,null,null,null,null,null,null,null,null,null,null,null,null,null,null,null,null,null,null,null,null,null,null,null,null,null,45,50000000,25000000,45,"144 MESES",144]
["4. El desembolso se realiza una vez ha sido incorporado el descuento a la plataforma SYGNUS por parte del ANALISTA",null,null,null,null,null,null,null,null,null,null,null,null,null,null,null,null,null,null,null,null,null,null,null,null,null,null,46,50000000,25000000,46,"144 MESES",144]
["5. Cuando se trata de compras de cartera, es necesario que el operador de libranza suspenda el descuento del crédito que se está comprando",null,null,null,null,null,null,null,null,null,null,null,null,null,null,null,null,null,null,null,null,null,null,null,null,null,null,47,50000000,25000000,47,"144 MESES",144]
["    para que permita el ingreso de nuestro descuento",null,null,null,null,null,null,null,null,null,null,null,null,null,null,null,null,null,null,null,null,null,null,null,null,null,null,48,50000000,25000000,48,"144 MESES",144]
["6. Todas las fechas descritas son aproximadas y pueden cambiar cada mes",null,null,null,null,null,null,null,null,null,null,null,null,null,null,null,null,null,null,null,null,null,null,null,null,null,null,49,50000000,25000000,49,"144 MESES",144]
[null,null,null,null,null,null,null,null,null,null,null,null,null,null,null,null,null,null,null,null,null,null,null,null,null,null,null,50,50000000,25000000,50,"144 MESES",144]
["DOCUMENTOS DE IDENTIFICACION VALIDOS PARA TODAS LAS ENTIDADES:",null,null,null,null,null,null,null,null,null,null,null,null,null,null,null,null,null,null,null,null,null,null,null,null,null,null,51,50000000,25000000,51,"144 MESES",144]
["1. Coia de la licencia de conducción",null,null,null,null,null,null,null,null,null,null,null,null,null,null,null,null,null,null,null,null,null,null,null,null,null,null,52,50000000,25000000,52,"144 MESES",144]
["2. Copia de la tarjeta de propeidad de un vehiculo o moto.",null,null,null,null,null,null,null,null,null,null,null,null,null,null,null,null,null,null,null,null,null,null,null,null,null,null,53,50000000,25000000,53,"144 MESES",144]
["3. Copia del carné de la EPS",null,null,null,null,null,null,null,null,null,null,null,null,null,null,null,null,null,null,null,null,null,null,null,null,null,null,54,50000000,25000000,54,"144 MESES",144]
["4. Copia de un recibo de pago de servicio público del inmueble donde reside el solicitante, a nombre del mismo",null,null,null,null,null,null,null,null,null,null,null,null,null,null,null,null,null,null,null,null,null,null,null,null,null,null,55,50000000,25000000,55,"144 MESES",144]
["5. Copia de un extracto de cuenta bancaria, preferiblemente la de nómina o pensión",null,null,null,null,null,null,null,null,null,null,null,null,null,null,null,null,null,null,null,null,null,null,null,null,null,null,56,50000000,25000000,56,"144 MESES",144]
["6. Copia de un extracto de tarjeta de crédito",null,null,null,null,null,null,null,null,null,null,null,null,null,null,null,null,null,null,null,null,null,null,null,null,null,null,57,50000000,25000000,57,"144 MESES",144]
["7. Copia de una tarjeta de crédito",null,null,null,null,null,null,null,null,null,null,null,null,null,null,null,null,null,null,null,null,null,null,null,null,null,null,58,50000000,25000000,58,"144 MESES",144]
["8. Copia de un carné de afiliación a un club, asociación o cooperativa",null,null,null,null,null,null,null,null,null,null,null,null,null,null,null,null,null,null,null,null,null,null,null,null,null,null,59,50000000,25000000,59,"144 MESES",144]
["9. Copia de una fórmula médica",null,null,null,null,null,null,null,null,null,null,null,null,null,null,null,null,null,null,null,null,null,null,null,null,null,null,60,50000000,25000000,60,"144 MESES",144]
[null,null,null,null,null,null,null,null,null,null,null,null,null,null,null,null,null,null,null,null,null,null,null,null,null,null,null,61,50000000,25000000,61,"144 MESES",144]
[null,null,null,null,null,null,null,null,null,null,null,null,null,null,null,null,null,null,null,null,null,null,null,null,null,null,null,62,50000000,25000000,62,"144 MESES",144]
[null,null,null,null,null,null,null,null,null,null,null,null,null,null,null,null,null,null,null,null,null,null,null,null,null,null,null,63,50000000,25000000,63,"144 MESES",144]
[null,null,null,null,null,null,null,null,null,null,null,null,null,null,null,null,null,null,null,null,null,null,null,null,null,null,null,64,50000000,25000000,64,"144 MESES",144]
[null,null,null,null,null,null,null,null,null,null,null,null,null,null,null,null,null,null,null,null,null,null,null,null,null,null,null,65,50000000,25000000,65,"144 MESES",144]
[null,null,null,null,null,null,null,null,null,null,null,null,null,null,null,null,null,null,null,null,null,null,null,null,null,null,null,66,50000000,0,66,"144 MESES",144]
[null,null,null,null,null,null,null,null,null,null,null,null,null,null,null,null,null,null,null,null,null,null,null,null,null,null,null,67,50000000,0,67,"144 MESES",144]
[null,null,null,null,null,null,null,null,null,null,null,null,null,null,null,null,null,null,null,null,null,null,null,null,null,null,null,68,50000000,0,68,"144 MESES",144]
[null,null,null,null,null,null,null,null,null,null,null,null,null,null,null,null,null,null,null,null,null,null,null,null,null,null,null,69,50000000,0,69,"144 MESES",144]
[null,null,null,null,null,null,null,null,null,null,null,null,null,null,null,null,null,null,null,null,null,null,null,null,null,null,null,70,{"$f":"$AC$6","v":50000000},0,70,"144 MESES",144]
[null,null,null,null,null,null,null,null,null,null,null,null,null,null,null,null,null,null,null,null,null,null,null,null,null,null,null,71,{"$f":"$AC$7","v":20000000},{"$f":"$AD$7","v":20000000},71,"144 MESES",144]
[null,null,null,null,null,null,null,null,null,null,null,null,null,null,null,null,null,null,null,null,null,null,null,null,null,null,null,72,{"$f":"$AC$7","v":20000000},{"$f":"$AD$7","v":20000000},72,"144 MESES",144]
[null,null,null,null,null,null,null,null,null,null,null,null,null,null,null,null,null,null,null,null,null,null,null,null,null,null,null,73,{"$f":"$AC$7","v":20000000},{"$f":"$AD$7","v":20000000},73,"144 MESES",144]
[null,null,null,null,null,null,null,null,null,null,null,null,null,null,null,null,null,null,null,null,null,null,null,null,null,null,null,74,{"$f":"$AC$7","v":20000000},{"$f":"$AD$7","v":20000000},74,"144 MESES",144]
[null,null,null,null,null,null,null,null,null,null,null,null,null,null,null,null,null,null,null,null,null,null,null,null,null,null,null,75,{"$f":"$AC$5","v":10000000},{"$f":"$AD$5","v":10000000},75,{"$f":"$AF$5","v":"60 MESES"},{"$f":"$AG$5","v":60}]
[null,null,null,null,null,null,null,null,null,null,null,null,null,null,null,null,null,null,null,null,null,null,null,null,null,null,null,76,{"$f":"$AC$5","v":10000000},{"$f":"$AD$5","v":10000000},76,{"$f":"$AF$5","v":"60 MESES"},{"$f":"$AG$5","v":60}]
[null,null,null,null,null,null,null,null,null,null,null,null,null,null,null,null,null,null,null,null,null,null,null,null,null,null,null,77,{"$f":"$AC$5","v":10000000},{"$f":"$AD$5","v":10000000},77,{"$f":"$AF$5","v":"60 MESES"},{"$f":"$AG$5","v":60}]
[null,null,null,null,null,null,null,null,null,null,null,null,null,null,null,null,null,null,null,null,null,null,null,null,null,null,null,78,{"$f":"$AC$5","v":10000000},{"$f":"$AD$5","v":10000000},78,{"$f":"$AF$5","v":"60 MESES"},{"$f":"$AG$5","v":60}]
[null,null,null,null,null,null,null,null,null,null,null,null,null,null,null,null,null,null,null,null,null,null,null,null,null,null,null,79,{"$f":"$AC$5","v":10000000},{"$f":"$AD$5","v":10000000},79,{"$f":"$AF$5","v":"60 MESES"},{"$f":"$AG$5","v":60}]
[null,null,null,null,null,null,null,null,null,null,null,null,null,null,null,null,null,null,null,null,null,null,null,null,null,null,null,80,"SUPERA EDAD MAXIMA PARA SOLICITUD DE CREDITO","SUPERA EDAD MAXIMA PARA SOLICITUD DE CREDITO",80,{"$f":"$AF$4","v":0},{"$f":"$AG$4","v":0}]
[null,null,null,null,null,null,null,null,null,null,null,null,null,null,null,null,null,null,null,null,null,null,null,null,null,null,null,81,"SUPERA EDAD MAXIMA PARA SOLICITUD DE CREDITO","SUPERA EDAD MAXIMA PARA SOLICITUD DE CREDITO",81,"SUPERA EDAD MAXIMA PARA SOLICITUD DE CREDITO",0]
[null,null,null,null,null,null,null,null,null,null,null,null,null,null,null,null,null,null,null,null,null,null,null,null,null,null,null,82,"SUPERA EDAD MAXIMA PARA SOLICITUD DE CREDITO","SUPERA EDAD MAXIMA PARA SOLICITUD DE CREDITO",82,"SUPERA EDAD MAXIMA PARA SOLICITUD DE CREDITO",0]
[null,null,null,null,null,null,null,null,null,null,null,null,null,null,null,null,null,null,null,null,null,null,null,null,null,null,null,83,"SUPERA EDAD MAXIMA PARA SOLICITUD DE CREDITO","SUPERA EDAD MAXIMA PARA SOLICITUD DE CREDITO",83,"SUPERA EDAD MAXIMA PARA SOLICITUD DE CREDITO",0]
[null,null,null,null,null,null,null,null,null,null,null,null,null,null,null,null,null,null,null,null,null,null,null,null,null,null,null,84,"SUPERA EDAD MAXIMA PARA SOLICITUD DE CREDITO","SUPERA EDAD MAXIMA PARA SOLICITUD DE CREDITO",84,"SUPERA EDAD MAXIMA PARA SOLICITUD DE CREDITO",0]
[null,null,null,null,null,null,null,null,null,null,null,null,null,null,null,null,null,null,null,null,null,null,null,null,null,null,null,85,"SUPERA EDAD MAXIMA PARA SOLICITUD DE CREDITO","SUPERA EDAD MAXIMA PARA SOLICITUD DE CREDITO",85,"SUPERA EDAD MAXIMA PARA SOLICITUD DE CREDITO",0]
[null,null,null,null,null,null,null,null,null,null,null,null,null,null,null,null,null,null,null,null,null,null,null,null,null,null,null,86,"SUPERA EDAD MAXIMA PARA SOLICITUD DE CREDITO","SUPERA EDAD MAXIMA PARA SOLICITUD DE CREDITO",86,"SUPERA EDAD MAXIMA PARA SOLICITUD DE CREDITO",0]
[null,null,null,null,null,null,null,null,null,null,null,null,null,null,null,null,null,null,null,null,null,null,null,null,null,null,null,87,"SUPERA EDAD MAXIMA PARA SOLICITUD DE CREDITO","SUPERA EDAD MAXIMA PARA SOLICITUD DE CREDITO",87,"SUPERA EDAD MAXIMA PARA SOLICITUD DE CREDITO",0]
[null,null,null,null,null,null,null,null,null,null,null,null,null,null,null,null,null,null,null,null,null,null,null,null,null,null,null,88,"SUPERA EDAD MAXIMA PARA SOLICITUD DE CREDITO","SUPERA EDAD MAXIMA PARA SOLICITUD DE CREDITO",88,"SUPERA EDAD MAXIMA PARA SOLICITUD DE CREDITO",0]
[null,null,null,null,null,null,null,null,null,null,null,null,null,null,null,null,null,null,null,null,null,null,null,null,null,null,null,89,"SUPERA EDAD MAXIMA PARA SOLICITUD DE CREDITO","SUPERA EDAD MAXIMA PARA SOLICITUD DE CREDITO",89,"SUPERA EDAD MAXIMA PARA SOLICITUD DE CREDITO",0]
[null,null,null,null,null,null,null,null,null,null,null,null,null,null,null,null,null,null,null,null,null,null,null,null,null,null,null,90,"SUPERA EDAD MAXIMA PARA SOLICITUD DE CREDITO","SUPERA EDAD MAXIMA PARA SOLICITUD DE CREDITO",90,"SUPERA EDAD MAXIMA PARA SOLICITUD DE CREDITO",0]
[null,null,null,null,null,null,null,null,null,null,null,null,null,null,null,null,null,null,null,null,null,null,null,null,null,null,null,91,"SUPERA EDAD MAXIMA PARA SOLICITUD DE CREDITO","SUPERA EDAD MAXIMA PARA SOLICITUD DE CREDITO",91,"SUPERA EDAD MAXIMA PARA SOLICITUD DE CREDITO",0]
[null,null,null,null,null,null,null,null,null,null,null,null,null,null,null,null,null,null,null,null,null,null,null,null,null,null,null,92,"SUPERA EDAD MAXIMA PARA SOLICITUD DE CREDITO","SUPERA EDAD MAXIMA PARA SOLICITUD DE CREDITO",92,"SUPERA EDAD MAXIMA PARA SOLICITUD DE CREDITO",0]
[null,null,null,null,null,null,null,null,null,null,null,null,null,null,null,null,null,null,null,null,null,null,null,null,null,null,null,93,"SUPERA EDAD MAXIMA PARA SOLICITUD DE CREDITO","SUPERA EDAD MAXIMA PARA SOLICITUD DE CREDITO",93,"SUPERA EDAD MAXIMA PARA SOLICITUD DE CREDITO",0]
[null,null,null,null,null,null,null,null,null,null,null,null,null,null,null,null,null,null,null,null,null,null,null,null,null,null,null,94,"SUPERA EDAD MAXIMA PARA SOLICITUD DE CREDITO","SUPERA EDAD MAXIMA PARA SOLICITUD DE CREDITO",94,"SUPERA EDAD MAXIMA PARA SOLICITUD DE CREDITO",0]
[null,null,null,null,null,null,null,null,null,null,null,null,null,null,null,null,null,null,null,null,null,null,null,null,null,null,null,95,"SUPERA EDAD MAXIMA PARA SOLICITUD DE CREDITO","SUPERA EDAD MAXIMA PARA SOLICITUD DE CREDITO",95,"SUPERA EDAD MAXIMA PARA SOLICITUD DE CREDITO",0]
[null,null,null,null,null,null,null,null,null,null,null,null,null,null,null,null,null,null,null,null,null,null,null,null,null,null,null,96,"SUPERA EDAD MAXIMA PARA SOLICITUD DE CREDITO","SUPERA EDAD MAXIMA PARA SOLICITUD DE CREDITO",96,"SUPERA EDAD MAXIMA PARA SOLICITUD DE CREDITO",0]
[null,null,null,null,null,null,null,null,null,null,null,null,null,null,null,null,null,null,null,null,null,null,null,null,null,null,null,97,"SUPERA EDAD MAXIMA PARA SOLICITUD DE CREDITO","SUPERA EDAD MAXIMA PARA SOLICITUD DE CREDITO",97,"SUPERA EDAD MAXIMA PARA SOLICITUD DE CREDITO",0]
[null,null,null,null,null,null,null,null,null,null,null,null,null,null,null,null,null,null,null,null,null,null,null,null,null,null,null,98,"SUPERA EDAD MAXIMA PARA SOLICITUD DE CREDITO","SUPERA EDAD MAXIMA PARA SOLICITUD DE CREDITO",98,"SUPERA EDAD MAXIMA PARA SOLICITUD DE CREDITO",0]
[null,null,null,null,null,null,null,null,null,null,null,null,null,null,null,null,null,null,null,null,null,null,null,null,null,null,null,99,"SUPERA EDAD MAXIMA PARA SOLICITUD DE CREDITO","SUPERA EDAD MAXIMA PARA SOLICITUD DE CREDITO",99,"SUPERA EDAD MAXIMA PARA SOLICITUD DE CREDITO",0]
[null,null,null,null,null,null,null,null,null,null,null,null,null,null,null,null,null,null,null,null,null,null,null,null,null,null,null,100,"SUPERA EDAD MAXIMA PARA SOLICITUD DE CREDITO","SUPERA EDAD MAXIMA PARA SOLICITUD DE CREDITO",100,"SUPERA EDAD MAXIMA PARA SOLICITUD DE CREDITO",0]
[null,null,null,null,null,null,null,null,null,null,null,null,null,null,null,null,null,null,null,null,null,null,null,null,null,null,null,101,"SUPERA EDAD MAXIMA PARA SOLICITUD DE CREDITO","SUPERA EDAD MAXIMA PARA SOLICITUD DE CREDITO",101,"SUPERA EDAD MAXIMA PARA SOLICITUD DE CREDITO",0]
[null,null,null,null,null,null,null,null,null,null,null,null,null,null,null,null,null,null,null,null,null,null,null,null,null,null,null,102,"SUPERA EDAD MAXIMA PARA SOLICITUD DE CREDITO","SUPERA EDAD MAXIMA PARA SOLICITUD DE CREDITO",102,"SUPERA EDAD MAXIMA PARA SOLICITUD DE CREDITO",0]
[null,null,null,null,null,null,null,null,null,null,null,null,null,null,null,null,null,null,null,null,null,null,null,null,null,null,null,103,"SUPERA EDAD MAXIMA PARA SOLICITUD DE CREDITO","SUPERA EDAD MAXIMA PARA SOLICITUD DE CREDITO",103,"SUPERA EDAD MAXIMA PARA SOLICITUD DE CREDITO",0]
[null,null,null,null,null,null,null,null,null,null,null,null,null,null,null,null,null,null,null,null,null,null,null,null,null,null,null,104,"SUPERA EDAD MAXIMA PARA SOLICITUD DE CREDITO","SUPERA EDAD MAXIMA PARA SOLICITUD DE CREDITO",104,"SUPERA EDAD MAXIMA PARA SOLICITUD DE CREDITO",0]
[null,null,null,null,null,null,null,null,null,null,null,null,null,null,null,null,null,null,null,null,null,null,null,null,null,null,null,105,"SUPERA EDAD MAXIMA PARA SOLICITUD DE CREDITO","SUPERA EDAD MAXIMA PARA SOLICITUD DE CREDITO",105,"SUPERA EDAD MAXIMA PARA SOLICITUD DE CREDITO",0]
[null,null,null,null,null,null,null,null,null,null,null,null,null,null,null,null,null,null,null,null,null,null,null,null,null,null,null,106,"SUPERA EDAD MAXIMA PARA SOLICITUD DE CREDITO","SUPERA EDAD MAXIMA PARA SOLICITUD DE CREDITO",106,"SUPERA EDAD MAXIMA PARA SOLICITUD DE CREDITO",0]
[null,null,null,null,null,null,null,null,null,null,null,null,null,null,null,null,null,null,null,null,null,null,null,null,null,null,null,107,"SUPERA EDAD MAXIMA PARA SOLICITUD DE CREDITO","SUPERA EDAD MAXIMA PARA SOLICITUD DE CREDITO",107,"SUPERA EDAD MAXIMA PARA SOLICITUD DE CREDITO",0]
[null,null,null,null,null,null,null,null,null,null,null,null,null,null,null,null,null,null,null,null,null,null,null,null,null,null,null,108,"SUPERA EDAD MAXIMA PARA SOLICITUD DE CREDITO","SUPERA EDAD MAXIMA PARA SOLICITUD DE CREDITO",108,"SUPERA EDAD MAXIMA PARA SOLICITUD DE CREDITO",0]
[null,null,null,null,null,null,null,null,null,null,null,null,null,null,null,null,null,null,null,null,null,null,null,null,null,null,null,109,"SUPERA EDAD MAXIMA PARA SOLICITUD DE CREDITO","SUPERA EDAD MAXIMA PARA SOLICITUD DE CREDITO",109,"SUPERA EDAD MAXIMA PARA SOLICITUD DE CREDITO",0]
[null,null,null,null,null,null,null,null,null,null,null,null,null,null,null,null,null,null,null,null,null,null,null,null,null,null,null,110,"SUPERA EDAD MAXIMA PARA SOLICITUD DE CREDITO","SUPERA EDAD MAXIMA PARA SOLICITUD DE CREDITO",110,"SUPERA EDAD MAXIMA PARA SOLICITUD DE CREDITO",0]
[null,null,null,null,null,null,null,null,null,null,null,null,null,null,null,null,null,null,null,null,null,null,null,null,null,null,null,111,"SUPERA EDAD MAXIMA PARA SOLICITUD DE CREDITO","SUPERA EDAD MAXIMA PARA SOLICITUD DE CREDITO",111,"SUPERA EDAD MAXIMA PARA SOLICITUD DE CREDITO",0]
[null,null,null,null,null,null,null,null,null,null,null,null,null,null,null,null,null,null,null,null,null,null,null,null,null,null,null,112,"SUPERA EDAD MAXIMA PARA SOLICITUD DE CREDITO","SUPERA EDAD MAXIMA PARA SOLICITUD DE CREDITO",112,"SUPERA EDAD MAXIMA PARA SOLICITUD DE CREDITO",0]
[null,null,null,null,null,null,null,null,null,null,null,null,null,null,null,null,null,null,null,null,null,null,null,null,null,null,null,113,"SUPERA EDAD MAXIMA PARA SOLICITUD DE CREDITO","SUPERA EDAD MAXIMA PARA SOLICITUD DE CREDITO",113,"SUPERA EDAD MAXIMA PARA SOLICITUD DE CREDITO",0]
[null,null,null,null,null,null,null,null,null,null,null,null,null,null,null,null,null,null,null,null,null,null,null,null,null,null,null,114,"SUPERA EDAD MAXIMA PARA SOLICITUD DE CREDITO","SUPERA EDAD MAXIMA PARA SOLICITUD DE CREDITO",114,"SUPERA EDAD MAXIMA PARA SOLICITUD DE CREDITO",0]
[null,null,null,null,null,null,null,null,null,null,null,null,null,null,null,null,null,null,null,null,null,null,null,null,null,null,null,115,"SUPERA EDAD MAXIMA PARA SOLICITUD DE CREDITO","SUPERA EDAD MAXIMA PARA SOLICITUD DE CREDITO",115,"SUPERA EDAD MAXIMA PARA SOLICITUD DE CREDITO",0]
[null,null,null,null,null,null,null,null,null,null,null,null,null,null,null,null,null,null,null,null,null,null,null,null,null,null,null,116,"SUPERA EDAD MAXIMA PARA SOLICITUD DE CREDITO","SUPERA EDAD MAXIMA PARA SOLICITUD DE CREDITO",116,"SUPERA EDAD MAXIMA PARA SOLICITUD DE CREDITO",0]
[null,null,null,null,null,null,null,null,null,null,null,null,null,null,null,null,null,null,null,null,null,null,null,null,null,null,null,117,"SUPERA EDAD MAXIMA PARA SOLICITUD DE CREDITO","SUPERA EDAD MAXIMA PARA SOLICITUD DE CREDITO",117,"SUPERA EDAD MAXIMA PARA SOLICITUD DE CREDITO",0]
[null,null,null,null,null,null,null,null,null,null,null,null,null,null,null,null,null,null,null,null,null,null,null,null,null,null,null,118,"SUPERA EDAD MAXIMA PARA SOLICITUD DE CREDITO","SUPERA EDAD MAXIMA PARA SOLICITUD DE CREDITO",118,"SUPERA EDAD MAXIMA PARA SOLICITUD DE CREDITO",0]
[null,null,null,null,null,null,null,null,null,null,null,null,null,null,null,null,null,null,null,null,null,null,null,null,null,null,null,119,"SUPERA EDAD MAXIMA PARA SOLICITUD DE CREDITO","SUPERA EDAD MAXIMA PARA SOLICITUD DE CREDITO",119,"SUPERA EDAD MAXIMA PARA SOLICITUD DE CREDITO",0]
[null,null,null,null,null,null,null,null,null,null,null,null,null,null,null,null,null,null,null,null,null,null,null,null,null,null,null,120,"SUPERA EDAD MAXIMA PARA SOLICITUD DE CREDITO","SUPERA EDAD MAXIMA PARA SOLICITUD DE CREDITO",120,"SUPERA EDAD MAXIMA PARA SOLICITUD DE CREDITO",0]
[null,null,null,null,null,null,null,null,null,null,null,null,null,null,null,null,null,null,null,null,null,null,null,null,null,null,null,121,"SUPERA EDAD MAXIMA PARA SOLICITUD DE CREDITO","SUPERA EDAD MAXIMA PARA SOLICITUD DE CREDITO",121,"SUPERA EDAD MAXIMA PARA SOLICITUD DE CREDITO",0]
[null,null,null,null,null,null,null,null,null,null,null,null,null,null,null,null,null,null,null,null,null,null,null,null,null,null,null,122,"SUPERA EDAD MAXIMA PARA SOLICITUD DE CREDITO","SUPERA EDAD MAXIMA PARA SOLICITUD DE CREDITO",122,"SUPERA EDAD MAXIMA PARA SOLICITUD DE CREDITO",0]
[null,null,null,null,null,null,null,null,null,null,null,null,null,null,null,null,null,null,null,null,null,null,null,null,null,null,null,123,"SUPERA EDAD MAXIMA PARA SOLICITUD DE CREDITO","SUPERA EDAD MAXIMA PARA SOLICITUD DE CREDITO",123,"SUPERA EDAD MAXIMA PARA SOLICITUD DE CREDITO",0]
[null,null,null,null,null,null,null,null,null,null,null,null,null,null,null,null,null,null,null,null,null,null,null,null,null,null,null,124,"SUPERA EDAD MAXIMA PARA SOLICITUD DE CREDITO","SUPERA EDAD MAXIMA PARA SOLICITUD DE CREDITO",124,"SUPERA EDAD MAXIMA PARA SOLICITUD DE CREDITO",0]
[null,null,null,null,null,null,null,null,null,null,null,null,null,null,null,null,null,null,null,null,null,null,null,null,null,null,null,125,"SUPERA EDAD MAXIMA PARA SOLICITUD DE CREDITO","SUPERA EDAD MAXIMA PARA SOLICITUD DE CREDITO",125,"SUPERA EDAD MAXIMA PARA SOLICITUD DE CREDITO",0]
[null,null,null,null,null,null,null,null,null,null,null,null,null,null,null,null,null,null,null,null,null,null,null,null,null,null,null,126,"SUPERA EDAD MAXIMA PARA SOLICITUD DE CREDITO","SUPERA EDAD MAXIMA PARA SOLICITUD DE CREDITO",126,"SUPERA EDAD MAXIMA PARA SOLICITUD DE CREDITO",0]
[null,null,null,null,null,null,null,null,null,null,null,null,null,null,null,null,null,null,null,null,null,null,null,null,null,null,null,127,"SUPERA EDAD MAXIMA PARA SOLICITUD DE CREDITO","SUPERA EDAD MAXIMA PARA SOLICITUD DE CREDITO",127,"SUPERA EDAD MAXIMA PARA SOLICITUD DE CREDITO",0]
[null,null,null,null,null,null,null,null,null,null,null,null,null,null,null,null,null,null,null,null,null,null,null,null,null,null,null,128,"SUPERA EDAD MAXIMA PARA SOLICITUD DE CREDITO","SUPERA EDAD MAXIMA PARA SOLICITUD DE CREDITO",128,"SUPERA EDAD MAXIMA PARA SOLICITUD DE CREDITO",0]
[null,null,null,null,null,null,null,null,null,null,null,null,null,null,null,null,null,null,null,null,null,null,null,null,null,null,null,129,"SUPERA EDAD MAXIMA PARA SOLICITUD DE CREDITO","SUPERA EDAD MAXIMA PARA SOLICITUD DE CREDITO",129,"SUPERA EDAD MAXIMA PARA SOLICITUD DE CREDITO",0]
[null,null,null,null,null,null,null,null,null,null,null,null,null,null,null,null,null,null,null,null,null,null,null,null,null,null,null,130,"SUPERA EDAD MAXIMA PARA SOLICITUD DE CREDITO","SUPERA EDAD MAXIMA PARA SOLICITUD DE CREDITO",130,"SUPERA EDAD MAXIMA PARA SOLICITUD DE CREDITO",0]

{"sheet":"NOVEDADES","index":13,"n_rows":43,"n_cols":10,"rows_kept":43,"cut":false,"hidden":false,"merged":[[30,1,30,2],[30,4,30,5],[30,6,30,7],[25,1,25,2],[25,4,25,5],[25,6,25,7],[29,4,29,5],[29,6,29,7],[33,1,33,2],[33,4,33,5],[33,6,33,7],[26,1,26,2],[26,4,26,5],[26,6,26,7],[27,1,27,2],[27,4,27,5],[27,6,27,7],[28,1,28,2],[28,4,28,5],[28,6,28,7],[29,1,29,2],[31,4,31,5],[31,1,31,2],[31,6,31,7],[23,1,23,2],[23,4,23,5],[23,6,23,7],[24,1,24,2],[24,4,24,5],[24,6,24,7],[21,1,21,2],[21,4,21,5],[21,6,21,7],[22,1,22,2],[22,4,22,5],[22,6,22,7],[42,2,42,3],[43,2,43,3],[44,2,44,3],[37,1,37,5],[42,4,42,5],[43,4,43,5],[44,4,44,5],[38,2,38,3],[39,2,39,3],[40,2,40,3],[41,2,41,3],[38,4,38,5],[39,4,39,5],[40,4,40,5],[41,4,41,5],[20,4,20,5],[20,6,20,7],[17,6,17,7],[18,6,18,7],[19,6,19,7],[10,6,10,7],[14,6,14,7],[14,4,14,5],[14,1,14,2],[12,1,12,2],[12,4,12,5],[12,6,12,7],[13,1,13,2],[13,4,13,5],[13,6,13,7],[34,1,34,2],[34,4,34,5],[34,6,34,7],[15,1,15,2],[15,4,15,5],[15,6,15,7],[16,1,16,2],[16,4,16,5],[16,6,16,7],[17,4,17,5],[18,4,18,5],[19,4,19,5],[17,1,17,2],[18,1,18,2],[19,1,19,2],[20,1,20,2],[1,1,1,7],[11,1,11,2],[11,4,11,5],[11,6,11,7],[8,1,8,2],[8,4,8,5],[8,6,8,7],[9,1,9,2],[9,4,9,5],[9,6,9,7],[7,6,7,7],[7,4,7,5],[7,1,7,2],[10,1,10,2],[6,1,6,9],[10,4,10,5]]}
[]
[null,"NOVEDADES DESDE NOVIEMBRE DE 2019"]
[]
[]
[null,"* La edad máxima para solicitud de crédito es de 79 años"]
[]
[null,"SEGURO DE VIDA"]
[null,"Vigente Desde",null,"Edad","Valor por millón",null,"Operador",null,"Cobertura","Aseguradora"]
[null,"2016-04-01",null,"Todas",850,null,"COSERFIN",null,null,"La Equidad"]
[null,"2018-04-01",null,"Todas",900,null,"COSERFIN",null,null,"Solidaria"]
[null,"2018-07-01",null,"Todas",600,null,"COSERFIN",null,null,"Mapfre"]
[null,"2019-02-01",null,"18 - 69",900,null,"COSERFIN",null,null,"Mapfre"]
[null,"2019-02-01",null,"70 - 80",3500,null,"COSERFIN",null,null,"Mapfre"]
[null,"2019-11-01",null,"18 - 74",700,null,"COSERFIN",null,null,"Mapfre"]
[null,"2019-11-01",null,"75 - 80",2500,null,"COSERFIN",null,null,"Mapfre"]
[null,"2020-11-01",null,"Todas",700,null,"COSERFIN",null,null,"Solidaria"]
[null,"2021-10-01",null,"18 - 70",900,null,"COSERFIN y P A",null,50000000,"Mundial"]
[null,"2021-10-01",null,"71 - 74",900,null,"COSERFIN y P A",null,40000000,"Mundial"]
[null,"2021-10-01",null,"75 - 79",900,null,"COSERFIN y P A",null,10000000,"Mundial"]
[null,"2021-10-01",null,80,900,null,"COSERFIN y P A",null,4000000,"Mundial"]
[null,"2022-10-01",null,"18 - 70",900,null,"CREAVAL",null,3000000,"Mundial"]
[null,"2021-10-01",null,"18 - 70",1150,null,"COSERFIN y P A",null,50000000,"Mundial"]
[null,"2021-10-01",null,"71 - 74",1150,null,"COSERFIN y P A",null,40000000,"Mundial"]
[null,"2021-10-01",null,"75 - 79",1150,null,"COSERFIN y P A",null,10000000,"Mundial"]
[null,"2021-10-01",null,80,1150,null,"COSERFIN y P A",null,4000000,"Mundial"]
[null,"2022-10-01",null,"18 - 70",1150,null,"CREAVAL",null,3000000,"Mundial"]
[null,"2024-06-01",null,"18 - 70",1150,null,"COSERFIN y P A",null,50000000,"Mundial"]
[null,"2024-06-01",null,"71 - 74",1150,null,"COSERFIN y P A",null,40000000,"Mundial"]
[null,"2024-06-01",null,"75 - 79",1150,null,"COSERFIN y P A",null,10000000,"Mundial"]
[null,"2024-06-01",null,"18 - 70",1150,null,"CREAVAL",null,20000000,"Mundial"]
[null,"2024-06-01",null,"71 - 74",1150,null,"CREAVAL",null,10000000,"Mundial"]
[null,"2024-06-01",null,"75 - 79",1150,null,"CREAVAL",null,5000000,"Mundial"]
[]
[]
[]
[]
[]
[null,"AVAL"]
[null,"Vigente Desde","Plazos",null,"Porcentaje con IVA"]
[null,"2017-01-01","1 - 12 Meses",null,0.03]
[null,"2017-01-01","13 -24 Meses",null,0.06]
[null,"2017-01-01","24 Meses en adelante",null,0.09]
[null,"2424-10-01","1 - 180 Meses",null,0.09]

{"sheet":"CONSOLIDADO","index":14,"n_rows":74,"n_cols":52,"rows_kept":74,"cut":false,"hidden":false,"merged":[[1,1,1,7],[1,9,1,15],[13,41,13,43],[13,49,13,51],[0,1,0,15]]}
[]
[null,"SIMULACIONES - LIBRE INVERSIÓN",null,null,null,null,null,null,null,"SIMULACIONES - MIPYME"]
[null,"Valor ","Plazo en ","Valor Cuota","Valor Cuota","Valor Cuota","Aval con IVA","Valor",null,"Valor ","Plazo en ","Valor Cuota","Valor Cuota","Valor Cuota","Aval con IVA","Valor"]
[null,"Crédito","Meses","Tasa Preferencial","Tasa Intermedia","Tasa Plena",0.09,"Desembolso",null,"Crédito","Meses","Tasa Preferencial","Tasa Intermedia","Tasa Plena",0.09,"Desembolso"]
[null,{"$f":"$AN$22","v":1000000},{"$f":"$AN$5","v":12},{"$f":"PMT(AR16,C5,-B5)+((B5/1000000)*$AQ$27)","v":94378.997229371365},{"$f":"PMT(AR17,C5,-B5)+((B5/1000000)*$AQ$27)","v":94667.392877254693},{"$f":"PMT(AR18,C5,-B5)+((B5/1000000)*$AQ$27)","v":94956.269545780553},{"$f":"B5*$AQ$23","v":30000},{"$f":"B5-G5","v":970000},null,{"$f":"$AN$22","v":1000000},{"$f":"$AN$5","v":12},{"$f":"PMT(AZ16,K5,-J5)+((J5/1000000)*$AQ$27)","v":95361.504085787499},{"$f":"PMT(AZ17,K5,-J5)+((J5/1000000)*$AQ$27)","v":95390.485415935909},{"$f":"PMT(AZ18,K5,-J5)+((J5/1000000)*$AQ$27)","v":95419.471544294065},{"$f":"J5*$AQ$23","v":30000},{"$f":"J5-O5","v":970000},null,null,null,null,null,null,null,null,null,null,null,null,null,null,null,null,null,null,null,null,null,null,null,12]
[null,1000000,{"$f":"$AN$6","v":18},{"$f":"PMT($AR$16,C6,-B6)+((B6/1000000)*$AQ$27)","v":66510.836502045233},{"$f":"PMT($AR$17,C6,-B6)+((B6/1000000)*$AQ$27)","v":66801.12127522433},{"$f":"PMT($AR$18,C6,-B6)+((B6/1000000)*$AQ$27)","v":67092.126159150575},{"$f":"B6*$AQ$24","v":60000},940000,null,1000000,{"$f":"$AN$6","v":18},{"$f":"PMT($AZ$16,K6,-J6)+((J6/1000000)*$AQ$27)","v":67500.740977242342},{"$f":"PMT($AZ$17,K6,-J6)+((J6/1000000)*$AQ$27)","v":67529.981617887752},{"$f":"PMT($AZ$18,K6,-J6)+((J6/1000000)*$AQ$27)","v":67559.229435789326},{"$f":"J6*$AQ$24","v":60000},940000,null,null,null,null,null,null,null,null,null,null,null,null,null,null,null,null,null,null,null,null,null,null,null,18]
[null,1000000,{"$f":"$AN$7","v":24},52653.60996094341,52949.175930930607,53245.695520423717,{"$f":"B7*$AQ$24","v":60000},940000,null,1000000,{"$f":"$AN$7","v":24},53662.421818315626,53692.259254163917,53722.106183740172,{"$f":"J7*$AQ$24","v":60000},940000,null,null,null,null,null,null,null,null,null,null,null,null,null,null,null,null,null,null,null,null,null,null,null,24]
[null,1000000,{"$f":"$AN$8","v":30},44400.283457462792,44702.432527497695,45005.761917686868,{"$f":"B8*$AQ$25","v":90000},910000,null,1000000,{"$f":"$AN$8","v":30},45432.400735985604,45462.963051059523,45493.537099543159,{"$f":"J8*$AQ$25","v":90000},910000,null,null,null,null,null,null,null,null,null,null,null,null,null,null,null,null,null,null,null,null,null,null,null,30]
[null,1000000,{"$f":"$AN$9","v":36},38948.404807655577,39257.730028179838,39568.454098726485,90000,910000,null,1000000,{"$f":"$AN$9","v":36},40005.809758937132,40037.153730890168,40068.511583830084,90000,910000,null,null,null,null,null,null,null,null,null,null,null,null,null,null,null,null,null,null,null,null,null,null,null,36]
[null,1000000,{"$f":"$AN$10","v":48},32244.927738096645,32569.278810716638,32895.436104320455,90000,910000,null,1000000,{"$f":"$AN$10","v":48},33355.074229706384,33388.039701984206,33421.023017124433,90000,910000,null,null,null,null,null,null,null,null,null,null,null,null,null,null,null,null,null,null,null,null,null,null,null,48]
[null,1000000,{"$f":"$AN$11","v":60},28338.540778507377,28678.018196513778,29019.662144671838,90000,910000,null,1000000,{"$f":"$AN$11","v":60},29501.574402148453,29536.156933639013,29570.760745574749,90000,910000,null,null,null,null,null,null,null,null,null,null,null,null,null,null,null,null,null,null,null,null,null,null,null,60]
[null,{"$f":"$AN$23","v":2000000},{"$f":"$AN$5","v":12},188757.99445874273,189334.78575450939,189912.53909156111,{"$f":"B12*$AQ$23","v":60000},1940000,null,{"$f":"$AN$23","v":2000000},{"$f":"$AN$5","v":12},{"$f":"PMT(AZ16,K12,-J12)+((J12/1000000)*$AQ$27)","v":190723.008171575},{"$f":"PMT(AZ17,K12,-J12)+((J12/1000000)*$AQ$27)","v":190780.97083187182},{"$f":"PMT(AZ18,K12,-J12)+((J12/1000000)*$AQ$27)","v":190838.94308858813},{"$f":"J12*$AQ$23","v":60000},1940000]
[null,2000000,{"$f":"$AN$6","v":18},133021.67300409047,133602.24255044866,134184.25231830115,{"$f":"B13*$AQ$24","v":120000},1880000,null,2000000,{"$f":"$AN$6","v":18},{"$f":"PMT($AZ$16,K13,-J13)+((J13/1000000)*$AQ$27)","v":135001.48195448468},{"$f":"PMT($AZ$17,K13,-J13)+((J13/1000000)*$AQ$27)","v":135059.9632357755},{"$f":"PMT($AZ$18,K13,-J13)+((J13/1000000)*$AQ$27)","v":135118.45887157865},{"$f":"J13*$AQ$24","v":120000},1880000]
[null,2000000,{"$f":"$AN$7","v":24},105307.21992188682,105898.35186186121,106491.39104084743,{"$f":"B14*$AQ$24","v":120000},1880000,null,2000000,{"$f":"$AN$7","v":24},{"$f":"PMT($AZ$16,K14,-J14)+((J14/1000000)*$AQ$27)","v":107324.84363663125},107384.51850832783,107444.21236748034,{"$f":"J14*$AQ$24","v":120000},1880000,null,null,null,null,null,null,null,null,null,null,null,null,null,null,null,null,null,null,null,null,null,null,null,null,null,"LIBRE INVERSION",null,null,null,null,null,null,null,"MIPYME"]
[null,2000000,{"$f":"$AN$8","v":30},88800.566914925585,89404.865054995389,90011.523835373737,180000,1820000,null,2000000,{"$f":"$AN$8","v":30},90864.801471971208,90925.926102119047,90987.074199086317,180000,1820000,null,null,null,null,null,null,null,null,null,null,null,null,null,null,null,null,null,null,null,null,null,null,null,null,null,null,"NOMINAL","N.M.V.",null,null,null,null,null,null,"NOMINAL","N.M.V."]
[null,2000000,{"$f":"$AN$9","v":36},77896.809615311155,78515.460056359676,79136.908197452969,180000,1820000,null,2000000,{"$f":"$AN$9","v":36},80011.619517874264,80074.307461780336,80137.023167660169,180000,1820000,null,null,null,null,null,null,null,null,null,null,null,null,null,null,null,null,null,null,null,null,null,null,null,null,null,"PREF",{"$f":"TASAS!G3","v":0.21240000000000001},{"$f":"AQ16/12","v":1.77E-2},null,null,null,null,null,"PREF",0.23280000000000001,{"$f":"AY16/12","v":1.9400000000000001E-2}]
[null,2000000,{"$f":"$AN$10","v":48},64489.85547619329,65138.557621433276,65790.872208640911,180000,1820000,null,2000000,{"$f":"$AN$10","v":48},66710.148459412769,66776.079403968411,66842.046034248866,180000,1820000,null,null,null,null,null,null,null,null,null,null,null,null,null,null,null,null,null,null,null,null,null,null,null,null,null,"INT",{"$f":"TASAS!G4","v":0.21840000000000001},{"$f":"AQ17/12","v":1.8200000000000001E-2},null,null,null,null,null,"INT",0.2334,{"$f":"AY17/12","v":1.9449999999999999E-2}]
[null,2000000,{"$f":"$AN$11","v":60},56677.081557014753,57356.036393027556,58039.324289343676,180000,1820000,null,2000000,{"$f":"$AN$11","v":60},59003.148804296907,59072.313867278026,59141.521491149499,180000,1820000,null,null,null,null,null,null,null,null,null,null,null,null,null,null,null,null,null,null,null,null,null,null,null,null,null,"PLENA",{"$f":"TASAS!G5","v":0.22439999999999999},{"$f":"AQ18/12","v":1.8699999999999998E-2},null,null,null,null,null,"PLENA",0.23400000000000001,{"$f":"AY18/12","v":1.95E-2}]
[null,{"$f":"$AN$24","v":3000000},{"$f":"$AN$5","v":12},283136.99168811407,284002.17863176408,284868.80863734166,{"$f":"B19*$AQ$23","v":90000},2910000,null,{"$f":"$AN$24","v":3000000},{"$f":"$AN$5","v":12},{"$f":"PMT(AZ16,K19,-J19)+((J19/1000000)*$AQ$27)","v":286084.51225736254},{"$f":"PMT(AZ17,K19,-J19)+((J19/1000000)*$AQ$27)","v":286171.45624780771},{"$f":"PMT(AZ18,K19,-J19)+((J19/1000000)*$AQ$27)","v":286258.41463288217},{"$f":"J19*$AQ$23","v":90000},2910000]
[null,3000000,{"$f":"$AN$6","v":18},199532.50950613568,200403.363825673,201276.37847745174,{"$f":"B20*$AQ$24","v":180000},2820000,null,3000000,{"$f":"$AN$6","v":18},{"$f":"PMT($AZ$16,K20,-J20)+((J20/1000000)*$AQ$27)","v":202502.22293172701},{"$f":"PMT($AZ$17,K20,-J20)+((J20/1000000)*$AQ$27)","v":202589.94485366327},{"$f":"PMT($AZ$18,K20,-J20)+((J20/1000000)*$AQ$27)","v":202677.68830736793},{"$f":"J20*$AQ$24","v":180000},2820000]
[null,3000000,{"$f":"$AN$7","v":24},157960.82988283021,158847.52779279181,159737.08656127116,{"$f":"B21*$AQ$24","v":180000},2820000,null,3000000,{"$f":"$AN$7","v":24},160987.2654549469,161076.77776249178,161166.31855122049,{"$f":"J21*$AQ$24","v":180000},2820000]
[null,3000000,{"$f":"$AN$8","v":30},133200.85037238838,134107.29758249311,135017.2857530606,270000,2730000,null,3000000,{"$f":"$AN$8","v":30},136297.20220795681,136388.88915317861,136480.61129862946,270000,2730000,null,null,null,null,null,null,null,null,null,null,null,null,null,null,null,null,null,null,null,null,null,null,null,1000000]
[null,3000000,{"$f":"$AN$9","v":36},116845.21442296673,117773.19008453951,118705.36229617946,270000,2730000,null,3000000,{"$f":"$AN$9","v":36},120017.4292768114,120111.4611926705,120205.53475149025,270000,2730000,null,null,null,null,null,null,null,null,null,null,null,null,null,null,null,null,null,null,null,null,null,null,null,2000000,null,null,0.03]
[null,3000000,{"$f":"$AN$10","v":48},96734.783214289928,97707.836432149896,98686.308312961351,270000,2730000,null,3000000,{"$f":"$AN$10","v":48},100065.22268911912,100164.11910595263,100263.06905137331,270000,2730000,null,null,null,null,null,null,null,null,null,null,null,null,null,null,null,null,null,null,null,null,null,null,null,3000000,null,null,0.06]
[null,3000000,{"$f":"$AN$11","v":60},85015.62233552213,86034.054589541338,87058.986434015518,270000,2730000,null,3000000,{"$f":"$AN$11","v":60},88504.723206445356,88608.470800917057,88712.282236724248,270000,2730000,null,null,null,null,null,null,null,null,null,null,null,null,null,null,null,null,null,null,null,null,null,null,null,4000000,null,"Aval",0.09]
[null,{"$f":"$AN$25","v":4000000},{"$f":"$AN$5","v":12},377515.98891748546,378669.57150901877,379825.07818312221,{"$f":"B26*$AQ$23","v":120000},3880000,null,{"$f":"$AN$25","v":4000000},{"$f":"$AN$5","v":12},{"$f":"PMT(AZ16,K26,-J26)+((J26/1000000)*$AQ$27)","v":381446.01634315},{"$f":"PMT(AZ17,K26,-J26)+((J26/1000000)*$AQ$27)","v":381561.94166374364},{"$f":"PMT(AZ18,K26,-J26)+((J26/1000000)*$AQ$27)","v":381677.88617717626},{"$f":"J26*$AQ$23","v":120000},3880000,null,null,null,null,null,null,null,null,null,null,null,null,null,null,null,null,null,null,null,null,null,null,null,5000000]
[null,4000000,{"$f":"$AN$6","v":18},266043.34600818093,267204.48510089732,268368.5046366023,{"$f":"B27*$AQ$24","v":240000},{"$f":"B27-G27","v":3760000},null,4000000,{"$f":"$AN$6","v":18},{"$f":"PMT($AZ$16,K27,-J27)+((J27/1000000)*$AQ$27)","v":270002.96390896937},{"$f":"PMT($AZ$17,K27,-J27)+((J27/1000000)*$AQ$27)","v":270119.92647155101},{"$f":"PMT($AZ$18,K27,-J27)+((J27/1000000)*$AQ$27)","v":270236.9177431573},{"$f":"J27*$AQ$24","v":240000},3760000,null,null,null,null,null,null,null,null,null,null,null,null,null,null,null,null,null,null,null,null,null,null,null,10000000,null,"Seguro de vida",1150]
[null,4000000,{"$f":"$AN$7","v":24},210614.43984377364,211796.70372372243,212982.78208169487,{"$f":"B28*$AQ$24","v":240000},3760000,null,4000000,{"$f":"$AN$7","v":24},214649.68727326251,214769.03701665567,214888.42473496069,{"$f":"J28*$AQ$24","v":240000},3760000,null,null,null,null,null,null,null,null,null,null,null,null,null,null,null,null,null,null,null,null,null,null,null,15000000]
[null,4000000,{"$f":"$AN$8","v":30},177601.13382985117,178809.73010999078,180023.04767074747,360000,3640000,null,4000000,{"$f":"$AN$8","v":30},181729.60294394242,181851.85220423809,181974.14839817263,360000,3640000,null,null,null,null,null,null,null,null,null,null,null,null,null,null,null,null,null,null,null,null,null,null,null,20000000]
[null,4000000,{"$f":"$AN$9","v":36},155793.61923062231,157030.92011271935,158273.81639490594,360000,3640000,null,4000000,{"$f":"$AN$9","v":36},160023.23903574853,160148.61492356067,160274.04633532034,360000,3640000,null,null,null,null,null,null,null,null,null,null,null,null,null,null,null,null,null,null,null,null,null,null,null,25000000]
[null,4000000,{"$f":"$AN$10","v":48},128979.71095238658,130277.11524286655,131581.74441728182,360000,3640000,null,4000000,{"$f":"$AN$10","v":48},133420.29691882554,133552.15880793682,133684.09206849773,360000,3640000,null,null,null,null,null,null,null,null,null,null,null,null,null,null,null,null,null,null,null,null,null,null,null,30000000]
[null,4000000,{"$f":"$AN$11","v":60},113354.16311402951,114712.07278605511,116078.64857868735,360000,3640000,null,4000000,{"$f":"$AN$11","v":60},118006.29760859381,118144.62773455605,118283.042982299,360000,3640000]
[null,{"$f":"$AN$26","v":5000000},{"$f":"$AN$5","v":12},471894.9861468568,473336.96438627352,474781.34772890277,{"$f":"B33*$AQ$23","v":150000},4850000,null,{"$f":"$AN$26","v":5000000},{"$f":"$AN$5","v":12},{"$f":"PMT(AZ16,K33,-J33)+((J33/1000000)*$AQ$27)","v":476807.52042893751},{"$f":"PMT(AZ17,K33,-J33)+((J33/1000000)*$AQ$27)","v":476952.42707967956},{"$f":"PMT(AZ18,K33,-J33)+((J33/1000000)*$AQ$27)","v":477097.3577214703},{"$f":"J33*$AQ$23","v":150000},4850000]
[null,5000000,{"$f":"$AN$6","v":18},332554.18251022615,334005.60637612169,335460.63079575286,{"$f":"B34*$AQ$24","v":300000},4700000,null,5000000,{"$f":"$AN$6","v":18},{"$f":"PMT($AZ$16,K34,-J34)+((J34/1000000)*$AQ$27)","v":337503.70488621172},{"$f":"PMT($AZ$17,K34,-J34)+((J34/1000000)*$AQ$27)","v":337649.90808943869},{"$f":"PMT($AZ$18,K34,-J34)+((J34/1000000)*$AQ$27)","v":337796.14717894659},{"$f":"J34*$AQ$24","v":300000},4700000]
[null,5000000,{"$f":"$AN$7","v":24},263268.04980471701,264745.87965465302,266228.47760211863,{"$f":"B35*$AQ$24","v":300000},4700000,null,5000000,{"$f":"$AN$7","v":24},268312.10909157817,268461.29627081961,268610.53091870085,{"$f":"J35*$AQ$24","v":300000},4700000]
[null,5000000,{"$f":"$AN$8","v":30},222001.41728731396,223512.16263748845,225028.80958843435,450000,{"$f":"B36-G36","v":4550000},null,5000000,{"$f":"$AN$8","v":30},227162.00367992805,227314.81525529767,227467.68549771578,450000,{"$f":"J36-O36","v":4550000}]
[null,5000000,{"$f":"$AN$9","v":36},194742.02403827789,196288.6501408992,197842.27049363244,{"$f":"B37*$AQ$25","v":450000},{"$f":"B37-G37","v":4550000},null,5000000,{"$f":"$AN$9","v":36},200029.04879468566,200185.76865445083,200342.55791915039,{"$f":"J37*$AQ$25","v":450000},{"$f":"J37-O37","v":4550000}]
[null,5000000,{"$f":"$AN$10","v":48},161224.63869048323,{"$f":"PMT($AR$17,C38,-B38)+((B38/1000000)*$AQ$27)","v":162846.39405358318},{"$f":"PMT($AR$18,C38,-B38)+((B38/1000000)*$AQ$27)","v":164477.18052160225},450000,{"$f":"B38-G38","v":4550000},null,5000000,{"$f":"$AN$10","v":48},166775.37114853188,166940.19850992103,167105.11508562218,450000,{"$f":"J38-O38","v":4550000}]
[null,5000000,{"$f":"$AN$11","v":60},141692.70389253687,143390.09098256889,145098.3107233592,450000,4550000,null,5000000,{"$f":"$AN$11","v":60},147507.87201074226,147680.78466819509,147853.80372787375,450000,4550000]
[null,{"$f":"$AN$27","v":10000000},{"$f":"$AN$5","v":12},943789.9722937136,946673.92877254705,949562.69545780553,{"$f":"B40*$AQ$23","v":300000},9700000,null,{"$f":"$AN$27","v":10000000},{"$f":"$AN$5","v":12},{"$f":"PMT($AZ$16,K40,-J40)+((J40/1000000)*$AQ$27)","v":953615.04085787502},{"$f":"PMT($AZ$17,K40,-J40)+((J40/1000000)*$AQ$27)","v":953904.85415935912},{"$f":"PMT($AZ$18,K40,-J40)+((J40/1000000)*$AQ$27)","v":954194.71544294059},{"$f":"J40*$AQ$23","v":300000},9700000]
[null,10000000,{"$f":"$AN$6","v":18},665108.3650204523,668011.21275224339,670921.26159150572,{"$f":"B41*$AQ$24","v":600000},9400000,null,10000000,{"$f":"$AN$6","v":18},{"$f":"PMT($AZ$16,K41,-J41)+((J41/1000000)*$AQ$27)","v":675007.40977242345},{"$f":"PMT($AZ$17,K41,-J41)+((J41/1000000)*$AQ$27)","v":675299.81617887737},{"$f":"PMT($AZ$18,K41,-J41)+((J41/1000000)*$AQ$27)","v":675592.29435789317},{"$f":"J41*$AQ$24","v":600000},9400000]
[null,10000000,{"$f":"$AN$7","v":24},526536.09960943402,529491.75930930604,532456.95520423725,{"$f":"B42*$AQ$24","v":600000},9400000,null,10000000,{"$f":"$AN$7","v":24},536624.21818315634,536922.59254163923,537221.06183740171,{"$f":"J42*$AQ$24","v":600000},9400000]
[null,10000000,{"$f":"$AN$8","v":30},444002.83457462792,447024.3252749769,450057.6191768687,900000,9100000,null,10000000,{"$f":"$AN$8","v":30},454324.0073598561,454629.63051059534,454935.37099543156,900000,9100000]
[null,10000000,{"$f":"$AN$9","v":36},389484.04807655577,392577.30028179841,395684.54098726489,900000,9100000,null,10000000,{"$f":"$AN$9","v":36},400058.09758937132,400371.53730890166,400685.11583830079,900000,9100000]
[null,10000000,{"$f":"$AN$10","v":48},322449.27738096646,325692.78810716636,328954.3610432045,900000,9100000,null,10000000,{"$f":"$AN$10","v":48},333550.74229706376,333880.39701984206,334210.23017124436,900000,9100000]
[null,10000000,{"$f":"$AN$11","v":60},283385.40778507374,286780.18196513777,290196.6214467184,900000,9100000,null,10000000,{"$f":"$AN$11","v":60},295015.74402148451,295361.56933639018,295707.60745574749,900000,9100000]
[null,{"$f":"$AN$28","v":15000000},{"$f":"$AN$5","v":12},1415684.9584405704,1420010.8931588205,1424344.0431867084,{"$f":"B47*$AQ$23","v":450000},14550000,null,{"$f":"$AN$28","v":15000000},{"$f":"$AN$5","v":12},{"$f":"PMT($AZ$16,K47,-J47)+((J47/1000000)*$AQ$27)","v":1430422.5612868126},{"$f":"PMT($AZ$17,K47,-J47)+((J47/1000000)*$AQ$27)","v":1430857.2812390388},{"$f":"PMT($AZ$18,K47,-J47)+((J47/1000000)*$AQ$27)","v":1431292.0731644109},{"$f":"J47*$AQ$23","v":450000},14550000]
[null,15000000,{"$f":"$AN$6","v":18},{"$f":"PMT($AR$16,C48,-B48)+((B48/1000000)*$AQ$27)","v":997662.54753067857},1002016.819128365,1006381.8923872586,{"$f":"B48*$AQ$24","v":900000},14100000,null,15000000,{"$f":"$AN$6","v":18},{"$f":"PMT($AZ$16,K48,-J48)+((J48/1000000)*$AQ$27)","v":1012511.1146586351},{"$f":"PMT($AZ$17,K48,-J48)+((J48/1000000)*$AQ$27)","v":1012949.7242683163},{"$f":"PMT($AZ$18,K48,-J48)+((J48/1000000)*$AQ$27)","v":1013388.4415368398},{"$f":"J48*$AQ$24","v":900000},14100000]
[null,15000000,{"$f":"$AN$7","v":24},789804.14941415109,794237.63896395906,798685.43280635576,{"$f":"B49*$AQ$24","v":900000},14100000,null,15000000,{"$f":"$AN$7","v":24},804936.3272747345,805383.88881245872,805831.59275610256,{"$f":"J49*$AQ$24","v":900000},14100000]
[null,15000000,{"$f":"$AN$8","v":30},666004.25186194188,670536.48791246547,675086.42876530299,1350000,13650000,null,15000000,{"$f":"$AN$8","v":30},681486.01103978418,681944.44576589298,682403.05649314739,1350000,13650000]
[null,15000000,{"$f":"$AN$9","v":36},584226.07211483363,588865.95042269758,593526.81148089736,1350000,13650000,null,15000000,{"$f":"$AN$9","v":36},600087.14638405701,600557.30596335244,601027.67375745124,1350000,13650000]
[null,15000000,{"$f":"$AN$10","v":48},483673.91607144964,488539.18216074957,493431.54156480671,1350000,13650000,null,15000000,{"$f":"$AN$10","v":48},500326.11344559566,500820.59552976309,501315.34525686654,1350000,13650000]
[null,15000000,{"$f":"$AN$11","v":60},425078.11167761066,430170.27294770663,435294.93217007758,1350000,13650000,null,15000000,{"$f":"$AN$11","v":60},442523.61603222677,443042.35400458524,443561.41118362127,1350000,13650000]
[null,{"$f":"$AN$29","v":20000000},{"$f":"$AN$5","v":12},1887579.9445874272,1893347.8575450941,1899125.3909156111,{"$f":"B54*$AQ$23","v":600000},19400000,null,{"$f":"$AN$29","v":20000000},{"$f":"$AN$5","v":12},{"$f":"PMT($AZ$16,K54,-J54)+((J54/1000000)*$AQ$27)","v":1907230.08171575},{"$f":"PMT($AZ$17,K54,-J54)+((J54/1000000)*$AQ$27)","v":1907809.7083187182},{"$f":"PMT($AZ$18,K54,-J54)+((J54/1000000)*$AQ$27)","v":1908389.4308858812},{"$f":"J54*$AQ$23","v":600000},19400000]
[null,20000000,{"$f":"$AN$6","v":18},1330216.7300409046,1336022.4255044868,1341842.5231830114,{"$f":"B55*$AQ$24","v":1200000},18800000,null,20000000,{"$f":"$AN$6","v":18},{"$f":"PMT($AZ$16,K55,-J55)+((J55/1000000)*$AQ$27)","v":1350014.8195448469},{"$f":"PMT($AZ$17,K55,-J55)+((J55/1000000)*$AQ$27)","v":1350599.6323577547},{"$f":"PMT($AZ$18,K55,-J55)+((J55/1000000)*$AQ$27)","v":1351184.5887157863},{"$f":"J55*$AQ$24","v":1200000},18800000]
[null,20000000,{"$f":"$AN$7","v":24},1053072.199218868,1058983.5186186121,1064913.9104084745,{"$f":"B56*$AQ$24","v":1200000},18800000,null,20000000,{"$f":"$AN$7","v":24},1073248.4363663127,1073845.1850832785,1074442.1236748034,{"$f":"J56*$AQ$24","v":1200000},18800000]
[null,20000000,{"$f":"$AN$8","v":30},888005.66914925585,894048.6505499538,900115.2383537374,1800000,18200000,null,20000000,{"$f":"$AN$8","v":30},908648.0147197122,909259.26102119067,909870.74199086311,1800000,18200000]
[null,20000000,{"$f":"$AN$9","v":36},778968.09615311155,785154.60056359682,791369.08197452978,1800000,18200000,null,20000000,{"$f":"$AN$9","v":36},800116.19517874264,800743.07461780333,801370.23167660157,1800000,18200000]
[null,20000000,{"$f":"$AN$10","v":48},644898.55476193293,651385.57621433272,657908.72208640899,1800000,18200000,null,20000000,{"$f":"$AN$10","v":48},667101.48459412751,667760.79403968411,668420.46034248872,1800000,18200000]
[null,20000000,{"$f":"$AN$11","v":60},566770.81557014748,573560.36393027555,580393.24289343681,1800000,18200000,null,20000000,{"$f":"$AN$11","v":60},590031.48804296902,590723.13867278036,591415.21491149499,1800000,18200000]
[null,{"$f":"$AN$30","v":25000000},{"$f":"$AN$5","v":12},2359474.9307342842,2366684.8219313677,2373906.7386445138,{"$f":"B61*$AQ$23","v":750000},24250000,null,{"$f":"$AN$30","v":25000000},{"$f":"$AN$5","v":12},{"$f":"PMT($AZ$16,K61,-J61)+((J61/1000000)*$AQ$27)","v":2384037.6021446874},{"$f":"PMT($AZ$17,K61,-J61)+((J61/1000000)*$AQ$27)","v":2384762.1353983982},{"$f":"PMT($AZ$18,K61,-J61)+((J61/1000000)*$AQ$27)","v":2385486.7886073515},{"$f":"J61*$AQ$23","v":750000},24250000]
[null,25000000,{"$f":"$AN$6","v":18},1662770.9125511311,1670028.0318806083,1677303.1539787643,{"$f":"B62*$AQ$24","v":1500000},23500000,null,25000000,{"$f":"$AN$6","v":18},{"$f":"PMT($AZ$16,K62,-J62)+((J62/1000000)*$AQ$27)","v":1687518.5244310584},{"$f":"PMT($AZ$17,K62,-J62)+((J62/1000000)*$AQ$27)","v":1688249.5404471939},{"$f":"PMT($AZ$18,K62,-J62)+((J62/1000000)*$AQ$27)","v":1688980.7358947331},{"$f":"J62*$AQ$24","v":1500000},23500000]
[null,25000000,{"$f":"$AN$7","v":24},1316340.2490235851,1323729.3982732652,1331142.3880105931,{"$f":"B63*$AQ$24","v":1500000},23500000,null,25000000,{"$f":"$AN$7","v":24},1341560.5454578907,1342306.4813540981,1343052.654593504,{"$f":"J63*$AQ$24","v":1500000},23500000]
[null,25000000,{"$f":"$AN$8","v":30},1110007.0864365697,1117560.8131874425,1125144.0479421716,2250000,22750000,null,25000000,{"$f":"$AN$8","v":30},1135810.0183996402,1136574.0762764884,1137338.4274885789,2250000,22750000]
[null,25000000,{"$f":"$AN$9","v":36},973710.12019138935,981443.25070449605,989211.35246816208,2250000,22750000,null,25000000,{"$f":"$AN$9","v":36},1000145.2439734284,1000928.8432722542,1001712.789595752,2250000,22750000]
[null,25000000,{"$f":"$AN$10","v":48},806123.1934524161,814231.97026791587,822385.90260801127,2250000,22750000,null,25000000,{"$f":"$AN$10","v":48},833876.85574265942,834700.9925496052,835525.5754281109,2250000,22750000]
[null,25000000,{"$f":"$AN$11","v":60},708463.5194626844,716950.45491284446,725491.55361679604,2250000,22750000,null,25000000,{"$f":"$AN$11","v":60},737539.36005371134,738403.92334097542,739269.01863936882,2250000,22750000]
[null,{"$f":"$AN$31","v":30000000},{"$f":"$AN$5","v":12},2831369.9168811408,2840021.7863176409,2848688.0863734167,{"$f":"B68*$AQ$23","v":900000},29100000,null,{"$f":"$AN$31","v":30000000},{"$f":"$AN$5","v":12},{"$f":"PMT($AZ$16,K68,-J68)+((J68/1000000)*$AQ$27)","v":2860845.1225736253},{"$f":"PMT($AZ$17,K68,-J68)+((J68/1000000)*$AQ$27)","v":2861714.5624780776},{"$f":"PMT($AZ$18,K68,-J68)+((J68/1000000)*$AQ$27)","v":2862584.1463288218},{"$f":"J68*$AQ$23","v":900000},29100000]
[null,30000000,{"$f":"$AN$6","v":18},1995325.0950613571,2004033.63825673,2012763.7847745172,{"$f":"B69*$AQ$24","v":1800000},28200000,null,30000000,{"$f":"$AN$6","v":18},{"$f":"PMT($AZ$16,K69,-J69)+((J69/1000000)*$AQ$27)","v":2025022.2293172702},{"$f":"PMT($AZ$17,K69,-J69)+((J69/1000000)*$AQ$27)","v":2025899.4485366326},{"$f":"PMT($AZ$18,K69,-J69)+((J69/1000000)*$AQ$27)","v":2026776.8830736796},{"$f":"J69*$AQ$24","v":1800000},28200000]
[null,30000000,{"$f":"$AN$7","v":24},1579608.2988283022,1588475.2779279181,1597370.8656127115,{"$f":"B70*$AQ$24","v":1800000},28200000,null,30000000,{"$f":"$AN$7","v":24},1609872.654549469,1610767.7776249174,1611663.1855122051,{"$f":"J70*$AQ$24","v":1800000},28200000]
[null,30000000,{"$f":"$AN$8","v":30},{"$f":"PMT($AR$16,C71,-B71)+((B71/1000000)*$AQ$27)","v":1332008.5037238838},1341072.9758249309,1350172.857530606,{"$f":"B71*$AQ$25","v":2700000},27300000,null,30000000,{"$f":"$AN$8","v":30},1362972.0220795684,1363888.891531786,1364806.1129862948,{"$f":"J71*$AQ$25","v":2700000},27300000]
[null,30000000,{"$f":"$AN$9","v":36},{"$f":"PMT($AR$16,C72,-B72)+((B72/1000000)*$AQ$27)","v":1168452.1442296673},1177731.9008453952,1187053.6229617947,2700000,27300000,null,30000000,{"$f":"$AN$9","v":36},1200174.292768114,1201114.6119267049,1202055.3475149025,2700000,27300000]
[null,30000000,{"$f":"$AN$10","v":48},{"$f":"PMT($AR$16,C73,-B73)+((B73/1000000)*$AQ$27)","v":967347.83214289928},977078.36432149913,986863.08312961343,2700000,27300000,null,30000000,{"$f":"$AN$10","v":48},1000652.2268911913,1001641.1910595262,1002630.6905137331,2700000,27300000]
[null,30000000,{"$f":"$AN$11","v":60},{"$f":"PMT($AR$16,C74,-B74)+((B74/1000000)*$AQ$27)","v":850156.22335522133},860340.54589541326,870589.86434015515,2700000,{"$f":"B74-G74","v":27300000},null,30000000,{"$f":"$AN$11","v":60},885047.23206445354,886084.70800917048,887122.82236724254,2700000,{"$f":"J74-O74","v":27300000}]

{"sheet":"CASUR","index":15,"n_rows":138,"n_cols":33,"rows_kept":138,"cut":false,"hidden":false,"merged":[[29,19,29,20],[28,19,28,20],[28,3,28,4],[29,3,29,4],[23,14,23,16],[25,14,25,16],[26,14,26,16],[27,14,27,16],[29,14,29,16],[28,14,28,16],[27,19,27,20],[23,19,23,20],[25,8,25,13],[26,19,26,20],[32,14,32,16],[32,19,32,20],[30,19,30,20],[31,14,31,16],[31,19,31,20],[30,14,30,16],[32,3,32,4],[0,0,0,2],[1,0,1,2],[2,0,2,2],[3,0,3,2],[4,0,4,2],[30,3,30,4],[23,0,25,0],[24,3,24,5],[5,0,5,2],[7,0,7,2],[8,0,8,2],[9,0,9,2],[10,0,10,2],[6,0,6,2],[11,0,15,2],[9,8,9,13],[10,8,10,13],[23,8,23,13],[24,8,24,13],[17,14,17,16],[18,14,18,16],[20,14,20,16],[21,14,21,16],[21,19,21,20],[16,0,16,2],[17,0,18,2],[19,0,22,2],[16,14,16,16],[19,14,19,16],[22,14,22,16],[22,19,22,20],[16,19,16,20],[17,19,17,20],[18,19,18,20],[19,19,19,20],[0,12,0,13],[8,8,8,13],[20,19,20,20],[34,3,34,5],[6,4,6,6],[16,3,16,5],[8,4,8,5],[11,4,11,5],[11,6,15,6],[12,4,12,5],[13,4,13,5],[14,4,14,5],[15,4,15,5],[31,3,31,4],[33,3,33,5],[25,19,25,20]]}
["CASUR CO 2 - PA CO 1 - CR 1 (",null,null,"PENSION -",null,0.05,") / 2",null,null,null,null,null,{"$f":"TASAS!G15","v":"2025-03"}]
[{"$f":"IF(($D$2=\"\"),\"Digite la edad del cliente\",\"\")","v":"Digite la edad del cliente"},null,null,null,null,null,null,null,null,null,null,null,null,null,{"$f":"D6+D7-D8","v":0},{"$f":"D9-O2","v":0}]
[{"$f":"IF(($D$3<50000000),\"Monto máximo por COSERFIN (2 códigos)\",\"Monto máximo por COSERFIN (2 códigos)\")","v":"Monto máximo por COSERFIN (2 códigos)"},null,null,{"$f":"IF((D2 = \"\"),\"DIGITE EDAD\",VLOOKUP(D2,$AB$8:$AD$138,2,0))","v":"DIGITE EDAD"},{"$f":"IF(($D$2=\"\"),\"\",\"Por CREAVAL\")","v":""},{"$f":"IF((D2 = \"\"),\"DIGITE EDAD\",VLOOKUP(D2,$AB$8:$AD$138,3,0))","v":"DIGITE EDAD"},null,null,null,null,null,null,null,null,null,null,null,null,{"$f":"IF(AND(E24<TASAS!H11,D24<TASAS!M2),TASAS!H6,TASAS!H5)","v":{"$error":"#VALUE!"}},null,null,null,null,null,null,null,null,null,"COSERFIN","CREAVAL"]
[{"$f":"IF(($D$2=\"\"),\"\",\"Plazo máximo para cada crédito\")","v":""},null,null,{"$f":"IF((D2 = \"\"),\"DEL SOLICITANTE\",VLOOKUP(D2,$AE$8:$AF$138,2,0))","v":"DEL SOLICITANTE"},null,null,null,null,null,null,null,null,null,null,null,null,null,null,{"$f":"B24-S3","v":{"$error":"#VALUE!"}},null,null,null,null,null,null,null,80,null,0,0,null,0,0]
["EVALUACION CAPACIDAD DE PAGO",null,null,"VALOR 1","VALOR 2","VALOR 3","TOTALES",null,null,null,null,null,null,null,4,null,null,null,0,null,null,null,null,null,null,null,"75-79",null,10000000,10000000,null,"60 MESES",60]
["VALOR ASIGNACIÓN DE RETIRO",null,null,0,null,null,{"$f":"D6","v":0},null,null,null,null,null,null,null,1,null,null,null,{"$f":"TASAS!H3","v":1.77E-2},"TASA",null,null,null,null,null,null,"18-70",null,50000000,25000000,null,"144 MESES",144]
["VALOR OTROS INGRESOS (PRIMAS, RETROACTIVOS, ADICIONALES, ETC.)",null,null,0,null,null,null,null,null,null,null,null,null,null,null,null,null,null,{"$f":"TASAS!H4","v":1.8200000000000001E-2},"TASA",null,null,null,null,null,null,"71-74",null,20000000,20000000]
["(-) TOTAL DESCUENTOS",null,null,0,null,null,{"$f":"IF(($P$2>3),\"ERROR EN\",IF($P$2<-3,\"ERROR EN\",D8))","v":0},null,null,null,null,null,null,null,{"$f":"D8-(D6*0.05)","v":0},{"$f":"IF(O8<0,((O8*-1)+O8),O8)","v":0},null,null,{"$f":"TASAS!H5","v":1.8699999999999998E-2},"TASA",null,null,null,null,null,null,null,0,"USUARIO MENOR DE EDAD","USUARIO MENOR DE EDAD",0,"USUARIO MENOR DE EDAD",0]
["INGRESO NETO RECIBIDO EN EL DESPRENDIBLE DE PAGO",null,null,0,"DISPONIBLE PARA CREDITO",null,{"$f":"IF(($P$2>3),\"LOS DATOS\",IF($P$2<-3,\"LOS DATOS\",(((G6-(G6*F1))/2)-P8)+G10+G11)-10000)","v":-10000},"*",{"$f":"IF((B24=0),\"¡ ¡ ¡ Por favor seleccione la tasa de interés ! ! !\",\" \")","v":"¡ ¡ ¡ Por favor seleccione la tasa de interés ! ! !"},null,null,null,null,null,null,null,null,null,{"$f":"TASAS!H6","v":3.4999999999999996E-2},"TASA",null,null,null,null,null,null,null,1,"USUARIO MENOR DE EDAD","USUARIO MENOR DE EDAD",1,"USUARIO MENOR DE EDAD",0]
["(+) DESCUENTOS FINALIZADOS EN EL PRESENTE MES Y EN EL PROXIMO",null,null,null,0,0,{"$f":"SUM(D10:F10)","v":0},null,{"$f":"IF((S4=0),\" \",\"¡¡¡   A T E N C I O N   !!!\")","v":{"$error":"#VALUE!"}},null,null,null,null,null,null,null,null,null,{"$f":"TASAS!H7","v":1.4499999999999999E-2},"TASA",null,null,null,null,null,null,null,2,"USUARIO MENOR DE EDAD","USUARIO MENOR DE EDAD",2,"USUARIO MENOR DE EDAD",0]
["(+) CUOTAS DE COMPRAS DE CARTERA",null,null,0,0,0,{"$f":"SUM(D11:F11)","v":0},null,{"$f":"IF((S4=0),\" \",\"La tasa máxima para ese monto y plazo es del\")","v":{"$error":"#VALUE!"}},null,null,null,null,null,null,null,null,null,{"$f":"TASAS!H8","v":1.4999999999999999E-2},"TASA",null,null,null,null,null,null,null,3,"USUARIO MENOR DE EDAD","USUARIO MENOR DE EDAD",3,"USUARIO MENOR DE EDAD",0]
["(-) VALOR ESTIMADO CUOTA DE CREDITO CON COOSERFIN",null,null,{"$f":"IF(D3>E19,FLOOR(E19,100000),D3)","v":"DIGITE EDAD"},{"$f":"IF(($D$14=\"TASA\"),\" \",\"VALOR SOLICITADO\")","v":"VALOR SOLICITADO"},null,{"$f":"IF(($D$2=\"\"),\"RECUERDE DIGITAR ARRIBA LA EDAD\",ROUNDUP(((((D12*D14))*(D13+D15))+D12)/D13,0))","v":"RECUERDE DIGITAR ARRIBA LA EDAD"},null,null,null,null,null,null,null,null,null,null,null,{"$f":"TASAS!H9","v":1.55E-2},"TASA",null,null,null,null,null,null,null,4,"USUARIO MENOR DE EDAD","USUARIO MENOR DE EDAD",4,"USUARIO MENOR DE EDAD",0]
[null,null,null,{"$f":"D19","v":"DIGITE EDAD"},{"$f":"IF(($D$14=\"TASA\"),\" \",\"PLAZO\")","v":"PLAZO"},null,null,null,null,null,null,null,null,null,null,null,null,null,null,null,null,null,null,null,null,null,null,5,"USUARIO MENOR DE EDAD","USUARIO MENOR DE EDAD",5,"USUARIO MENOR DE EDAD",0]
[null,null,null,2.3E-2,"FACTOR",null,null,null,null,null,null,null,null,null,null,null,null,{"$f":"D3*1","v":{"$error":"#VALUE!"}},{"$f":"(PV(B24,D24,T15))*-1","v":{"$error":"#VALUE!"}},{"$f":"F19","v":"NO APLICA"},null,null,null,null,null,null,null,6,"USUARIO MENOR DE EDAD","USUARIO MENOR DE EDAD",6,"USUARIO MENOR DE EDAD",0]
[null,null,null,0,{"$f":"IF(($D$14=\"TASA\"),\" \",\"MES(ES) DE GRACIA\")","v":"MES(ES) DE GRACIA"},null,null,null,null,null,null,null,null,null,null,null,null,{"$f":"(PV(B24,D24,F19))*-1","v":{"$error":"#VALUE!"}},{"$f":"(IF(S14>R14,R14,FLOOR(S14,100000)))","v":{"$error":"#VALUE!"}},{"$f":"((T14*(1-R20))-R22-V17-V21)","v":{"$error":"#VALUE!"}},null,null,null,null,{"$f":"R17*R21","v":{"$error":"#VALUE!"}},null,null,7,"USUARIO MENOR DE EDAD","USUARIO MENOR DE EDAD",10,"USUARIO MENOR DE EDAD",0]
[null,null,null,{"$f":"IF($G$17>=0,(G12*D13),IF($G$17<0,\"\"))","v":{"$error":"#VALUE!"}},{"$f":"IF(($D$14=\"TASA\"),\" \",\"VALOR LIBRANZA\")","v":"VALOR LIBRANZA"},null,null,null,null,null,null,null,null,null,null,null,null,null,null,null,null,null,null,null,{"$f":"R26*R30","v":{"$error":"#VALUE!"}},null,null,8,"USUARIO MENOR DE EDAD","USUARIO MENOR DE EDAD",8,"USUARIO MENOR DE EDAD",0]
["INGRESO ESTIMADO EN EL PRIMER MES DE PAGO DEL CREDITO",null,null,{"$f":"IF((G9-G12)>0,\"USUARIO CON CAPACIDAD DE PAGO\",IF(G9-G12<0,\"INTENTE CON OTRO MONTO Y/O PLAZO\"))","v":{"$error":"#VALUE!"}},{"$f":"IF($J$13>=#REF!,\"USUARIO CON CAPACIDAD DE ENDEUDAMIENTO\",IF($J$13<#REF!,\"CREDITO INVIABLE INTENTE CON OTRO MONTO Y/O PLAZO\"))","v":{"$error":"#REF!"}},{"$f":"IF($J$13>=#REF!,\"USUARIO CON CAPACIDAD DE ENDEUDAMIENTO\",IF($J$13<#REF!,\"CREDITO INVIABLE INTENTE CON OTRO MONTO Y/O PLAZO\"))","v":{"$error":"#REF!"}},{"$f":"IF(((G9-G12)>0),(G9-G12),\"SIN CUPO\")","v":{"$error":"#VALUE!"}},null,null,null,null,null,null,null,"VALOR CREDITO         :",null,null,{"$f":"R15","v":{"$error":"#VALUE!"}},null,"VALOR SEGURO          :",null,{"$f":"R17*W26","v":{"$error":"#VALUE!"}},null,null,{"$f":"((((R18)*((1+(R18))^R19))/(((1+(R18))^R19)-1))*R17)+((((R17*R18)/30)*R24)/R19)+R22+V17+V20","v":{"$error":"#VALUE!"}},null,null,9,"USUARIO MENOR DE EDAD","USUARIO MENOR DE EDAD",9,"USUARIO MENOR DE EDAD",0]
[{"$f":"IF($W$19>0,\"MONTO MAXIMO DE ENDEUDAMIENTO\",IF($W$19<=0,\"EL SOLICITANTE NO TIENE POSIBILIDADES DE CREDITO\"))","v":"EL SOLICITANTE NO TIENE POSIBILIDADES DE CREDITO"},null,null,"PLAZO","MONTO MAX","VALOR CUOTA","VR LIBRANZA",null,null,null,null,null,null,null,"TASA NOMINAL MENSUAL  :",null,null,{"$f":"B24","v":0},null,"TASA EFECTIVA ANUAL   :",null,{"$f":"((1+((R18*12)/12))^12)-1","v":0},null,null,null,null,null,10,"USUARIO MENOR DE EDAD","USUARIO MENOR DE EDAD",10,"USUARIO MENOR DE EDAD",0]
[null,null,null,{"$f":"IF((D2=\"\"),\"DIGITE EDAD\",VLOOKUP(D2,$AE$4:$AG$135,3,0))","v":"DIGITE EDAD"},{"$f":"IF(($W$19<=0),\"NO APLICA\",$G$19*100/((($D$14*100)*($D$19+$D$15))+100))","v":"NO APLICA"},{"$f":"IF(($W$19<=0),\"NO APLICA\",($G$9))","v":"NO APLICA"},{"$f":"IF(($W$19<=0),\"NO APLICA\",($D$19*$F$19))","v":"NO APLICA"},"*",null,null,null,null,null,null,"PLAZO EN MESES        :",null,null,{"$f":"D24","v":"DIGITE EDAD"},null,"CUOTA NETA            :",null,{"$f":"((((R18)*((1+(R18))^R19))/(((1+(R18))^R19)-1))*(R17+Y15))+(((((R17+Y15)*R18)/30)*R24)/R19)","v":{"$error":"#VALUE!"}},{"$f":"$G$9+$G$10+$G$11","v":-10000},"PLAZO","MONTO MAX","VR MAX CUOTA","VALOR LZ",11,"USUARIO MENOR DE EDAD","USUARIO MENOR DE EDAD",11,"USUARIO MENOR DE EDAD",0]
[{"$f":"IF(G17>=0,\"OTRAS OPCIONES DE CREDITO DISPONIBLES\",IF(G17<0,\"INTENTE CON OTRO MONTO Y/O PLAZO\"))","v":{"$error":"#VALUE!"}},null,null,{"$f":"IF($Y$20<=$AA$24,12,IF($Y$20>$AA$24,\"NO APLICA\"))","v":{"$error":"#VALUE!"}},{"$f":"IF(Y20>$AA$24,\"NO APLICA\",IF(Y20<=$AA$24,FLOOR(Y20,10000)))","v":{"$error":"#VALUE!"}},{"$f":"IF($Y$20>$AA$24,\"NO APLICA\",IF(Y20<=$AA$24,((((E20*($D$14)*((D20+$D$15))+E20)/D20)))))","v":{"$error":"#VALUE!"}},{"$f":"IF($Y$20>$AA$24,\"NO APLICA\",IF(Y20<=$AA$24,(D20*F20)))","v":{"$error":"#VALUE!"}},null,null,null,null,null,null,null,"TASA COMISION RECAUDO :",null,null,0,null,"COMISION POR RECAUDO  :",null,{"$f":"((((((R18)*((1+(R18))^R19))/(((1+(R18))^R19)-1))*(R17+Y15))+(((((R17+Y15)*R18)/30)*R24)/R19)+R22+V17)*100)/(100-(R20*100))-(((((R18)*((1+(R18))^R19))/(((1+(R18))^R19)-1))*(R17+Y15))+(((((R17+Y15)*R18)/30)*R24)/R19)+R22+V17)","v":{"$error":"#VALUE!"}},null,12,{"$f":"IF(($G$17>=0),AA20*100/((($D$14*100)*(X20+$D$15))+100),\"\")","v":{"$error":"#VALUE!"}},{"$f":"IF(($G$17>=0),($G$12+$G$17),\"\")","v":{"$error":"#VALUE!"}},{"$f":"IF(($G$17>=0),(Z20*X20),\"\")","v":{"$error":"#VALUE!"}},12,"USUARIO MENOR DE EDAD","USUARIO MENOR DE EDAD",12,"USUARIO MENOR DE EDAD",0]
[null,null,null,{"$f":"IF($Y$21<=$AA$24,24,IF($Y$21>$AA$24,\"NO APLICA\"))","v":{"$error":"#VALUE!"}},{"$f":"IF(Y21>$AA$24,\"NO APLICA\",IF(Y21<=$AA$24,FLOOR(Y21,10000)))","v":{"$error":"#VALUE!"}},{"$f":"IF($Y$21>$AA$24,\"NO APLICA\",IF(Y21<=$AA$24,((((E21*($D$14)*((D21+$D$15))+E21)/D21)))))","v":{"$error":"#VALUE!"}},{"$f":"IF($Y$21>$AA$24,\"NO APLICA\",IF(Y21<=$AA$24,(D21*F21)))","v":{"$error":"#VALUE!"}},null,null,null,null,null,null,null,"OTROS GASTOS          :",null,null,{"$f":"B26","v":0},null,"VALOR OTROS GASTOS    :",null,{"$f":"V24-Y17","v":{"$error":"#VALUE!"}},null,24,{"$f":"IF(($G$17>=0),AA21*100/((($D$14*100)*(X21+$D$15))+100),\"\")","v":{"$error":"#VALUE!"}},{"$f":"IF(($G$17>=0),($G$12+$G$17),\"\")","v":{"$error":"#VALUE!"}},{"$f":"IF(($G$17>=0),(Z21*X21),\"\")","v":{"$error":"#VALUE!"}},13,"USUARIO MENOR DE EDAD","USUARIO MENOR DE EDAD",13,"USUARIO MENOR DE EDAD",0]
[null,null,null,{"$f":"IF($Y$22<=$AA$24,36,IF($Y$22>$AA$24,\"NO APLICA\"))","v":{"$error":"#VALUE!"}},{"$f":"IF(Y22>$AA$24,\"NO APLICA\",IF(Y22<=$AA$24,FLOOR(Y22,10000)))","v":{"$error":"#VALUE!"}},{"$f":"IF($Y$22>$AA$24,\"NO APLICA\",IF(Y22<=$AA$24,((((E22*($D$14)*((D22+$D$15))+E22)/D22)))))","v":{"$error":"#VALUE!"}},{"$f":"IF($Y$22>$AA$24,\"NO APLICA\",IF(Y22<=$AA$24,(D22*F22)))","v":{"$error":"#VALUE!"}},null,null,null,null,null,null,null,"APORTES SOCIALES      :",null,null,0,null,"FECHA DE INICIO       :",null,{"$f":"(R23+((R19+1)*29))-((R19-1)*29)","v":{"$error":"#VALUE!"}},null,36,{"$f":"IF(($G$17>=0),AA22*100/((($D$14*100)*(X22+$D$15))+100),\"\")","v":{"$error":"#VALUE!"}},{"$f":"IF(($G$17>=0),($G$12+$G$17),\"\")","v":{"$error":"#VALUE!"}},{"$f":"IF(($G$17>=0),(Z22*X22),\"\")","v":{"$error":"#VALUE!"}},14,"USUARIO MENOR DE EDAD","USUARIO MENOR DE EDAD",14,"USUARIO MENOR DE EDAD",0]
[null,null,null,{"$f":"IF($Y$23<=$AA$24,48,IF($Y$23>$AA$24,\"NO APLICA\"))","v":{"$error":"#VALUE!"}},{"$f":"IF(Y23>$AA$24,\"NO APLICA\",IF(Y23<=$AA$24,FLOOR(Y23,10000)))","v":{"$error":"#VALUE!"}},{"$f":"IF($Y$23>$AA$24,\"NO APLICA\",IF(Y23<=$AA$24,((((E23*($D$14)*((D23+$D$15))+E23)/D23)))))","v":{"$error":"#VALUE!"}},{"$f":"IF($Y$23>$AA$24,\"NO APLICA\",IF(Y23<=$AA$24,(D23*F23)))","v":{"$error":"#VALUE!"}},null,null,null,null,null,null,null,"FECHA DESEMBOLSO      :",null,null,"2012-01-01",null,"FECHA DE TERMINO      :",null,{"$f":"(R23+((R19+1)*29))-((R19-1)*29)+((R19-1)*30)","v":{"$error":"#VALUE!"}},null,48,{"$f":"IF(($G$17>=0),AA23*100/((($D$14*100)*(X23+$D$15))+100),\"\")","v":{"$error":"#VALUE!"}},{"$f":"IF(($G$17>=0),($G$12+$G$17),\"\")","v":{"$error":"#VALUE!"}},{"$f":"IF(($G$17>=0),(Z23*X23),\"\")","v":{"$error":"#VALUE!"}},15,"USUARIO MENOR DE EDAD","USUARIO MENOR DE EDAD",15,"USUARIO MENOR DE EDAD",0]
["LIBRE INVERSION - COBRO DE AVAL ANTICIPADO",0,"N.M.V.",{"$f":"D19","v":"DIGITE EDAD"},{"$f":"S15","v":{"$error":"#VALUE!"}},"  VR CUOTA   ",{"$f":"((((R27)*((1+(R27))^R28))/(((1+(R27))^R28)-1))*(E24+Y16))+(((((E24+Y16)*R27)/30)*R33)/R28)+R31+V26+V29+V30","v":{"$error":"#VALUE!"}},null,{"$f":"IF((S4=0),\" \",S3)","v":{"$error":"#VALUE!"}},null,null,null,null,null,"DIAS DE GRACIA        :",null,null,{"$f":"B27","v":0},null,"TOTAL CUOTA MENSUAL   :",null,{"$f":"V19+R22+V20+V17","v":{"$error":"#VALUE!"}},null,null,null,"MONTO MAXIMO POR CLIENTE",50000000,16,"USUARIO MENOR DE EDAD","USUARIO MENOR DE EDAD",16,"USUARIO MENOR DE EDAD",0]
[null,{"$f":"((1+((B24*12)/12))^12)-1","v":0}," E. A.",{"$f":"IF(G25>=0,\"USUARIO CON CAPACIDAD DE PAGO\",IF(G25<0,\"INTENTE CON OTRO MONTO Y/O PLAZO\"))","v":{"$error":"#VALUE!"}},null,null,{"$f":"G9-G24+20000","v":{"$error":"#VALUE!"}},null,{"$f":"IF(B24=TASAS!H3,\"Tasa para clientes con puntaje > a 750 y sin procesos\",\" \")","v":" "},null,null,null,null,null,null,null,null,null,null,null,null,null,"SEGURO",null,null,null,null,17,"USUARIO MENOR DE EDAD","USUARIO MENOR DE EDAD",17,"USUARIO MENOR DE EDAD",0]
[null,0," O. G.","% AVAL","VALOR AVAL ","A GIRAR",null,null,{"$f":"IF(B24=TASAS!H4,\"Tasa para clientes con puntaje entre 650 - 749 y sin procesos\",\" \")","v":" "},null,null,null,null,null,"VALOR CREDITO         :",null,null,{"$f":"E24","v":{"$error":"#VALUE!"}},null,"VALOR SEGURO          :",null,{"$f":"R26*W26","v":{"$error":"#VALUE!"}},{"$f":"IF((D2<66),(TASAS!C12),(VLOOKUP(D2,TASAS!B13:C27,2,0)))","v":1.15E-3},null,null,null,null,18,{"$f":"$AC$6","v":50000000},{"$f":"$AD$6","v":25000000},18,{"$f":"$AF$6","v":"144 MESES"},{"$f":"$AG$6","v":144}]
[null,0," D. G.",0.09,{"$f":"E24*D27","v":{"$error":"#VALUE!"}},{"$f":"E24-E27","v":{"$error":"#VALUE!"}},null,null,null,null,null,null,null,null,"TASA NOMINAL MENSUAL  :",null,null,{"$f":"R18","v":0},null,"TASA EFECTIVA ANUAL   :",null,{"$f":"((1+((R27*12)/12))^12)-1","v":0},null,null,null,null,null,19,{"$f":"$AC$6","v":50000000},{"$f":"$AD$6","v":25000000},19,{"$f":"$AF$6","v":"144 MESES"},{"$f":"$AG$6","v":144}]
[null,"% Simple",{"$f":"(((G24*D24)-E24)/E24)/D24","v":{"$error":"#VALUE!"}},null,"VR MENSUAL x 1 MM",{"$f":"G24/(E24/1000000)","v":{"$error":"#VALUE!"}},null,null,null,null,null,null,null,null,"PLAZO EN MESES        :",null,null,"DIGITE EDAD",null,"CUOTA NETA            :",null,{"$f":"((((R27)*((1+(R27))^R28))/(((1+(R27))^R28)-1))*(R26+Y16))+(((((R26+Y16)*R27)/30)*R33)/R28)","v":{"$error":"#VALUE!"}},null,null,null,null,null,20,50000000,25000000,20,"144 MESES",144]
[null,null,null,"COMPRA O AMPLIACION 1",null,0,null,"FIDELIZACIÓN","VR CRÉDITO","VR CUOTA ","PLAZO"," VR AVAL","SALDO","A GIRAR","TASA COMISION RECAUDO :",null,null,0,null,"COMISION POR RECAUDO  :",null,{"$f":"((((((R27)*((1+(R27))^R28))/(((1+(R27))^R28)-1))*(R26+Y16))+(((((R26+Y16)*R27)/30)*R33)/R28)+R31+V26)*100)/(100-(R29*100))-(((((R27)*((1+(R27))^R28))/(((1+(R27))^R28)-1))*(R26+Y16))+(((((R26+Y16)*R27)/30)*R33)/R28)+R31+V26)","v":{"$error":"#VALUE!"}},null,null,null,null,null,21,50000000,25000000,21,"144 MESES",144]
["Vr. Crédito",{"$f":"E24","v":{"$error":"#VALUE!"}},null,"COMPRA O AMPLIACION 2",null,0,"LIBRE INV",null,0,0,0,0,0,{"$f":"I30-L30-M30","v":0},"OTROS GASTOS          :",null,null,0,null,"VALOR OTROS GASTOS    :",null,null,null,null,null,null,null,22,50000000,25000000,22,"144 MESES",144]
["Aval",{"$f":"E27","v":{"$error":"#VALUE!"}},null,"COMPRA O AMPLIACION 3",null,0,"AMPLIACION","LZ A",0,0,0,0,0,{"$f":"I31-L31-M31","v":0},"APORTES SOCIALES      :",null,null,0,null,"FECHA DE INICIO       :",null,{"$f":"(R32+((R28+1)*29))-((R28-1)*29)","v":{"$error":"#VALUE!"}},null,null,null,null,null,23,50000000,25000000,23,"144 MESES",144]
["Compra(s) / Saneamiento(s) / Ampiación(es)",{"$f":"SUM(F29:F32)","v":0},null,"COMPRA O AMPLIACION 4",null,0,"COMPRA","OPERADOR ?",0,0,0,0,0,{"$f":"I32-L32-M32","v":0},"FECHA DESEMBOLSO      :",null,null,"2012-01-01",null,"FECHA DE TERMINO      :",null,{"$f":"(R32+((R28+1)*29))-((R28-1)*29)+((R28-1)*30)","v":{"$error":"#VALUE!"}},null,null,null,null,null,24,50000000,25000000,24,"144 MESES",144]
["Vr. Desembolso",{"$f":"B30-B31-B32","v":{"$error":"#VALUE!"}},{"$f":"IF(((B33-F33)>0),\"ERROR\",IF((B33-F33)=0,\" \"))","v":{"$error":"#VALUE!"}},"NETO A GIRAR",null,{"$f":"F27-F29-F30-F31-F32","v":{"$error":"#VALUE!"}},"COMPRA","OPERADOR ?",0,0,0,0,0,{"$f":"I33-L33-M33","v":0},"DIAS DE GRACIA        :",null,null,0,null,"TOTAL CUOTA MENSUAL   :",null,{"$f":"V28+R31+V29+V26","v":{"$error":"#VALUE!"}},null,null,null,null,null,25,50000000,25000000,25,"144 MESES",144]
["Vr. Cuota",{"$f":"G24","v":{"$error":"#VALUE!"}},null,{"$f":"IF(((D3-E24)<0),\"¡¡¡ A T E N C I Ó N !!!\",IF((D3-E24)>=0,\" \"))","v":{"$error":"#VALUE!"}},null,null,null,null,null,null,null,null,null,null,null,null,null,null,null,null,null,null,null,null,null,null,null,26,50000000,25000000,26,"144 MESES",144]
["Plazo",{"$f":"D24","v":"DIGITE EDAD"},null,{"$f":"IF(((D3-E24)<0),\"EL MONTO EXCEDE LIMITE PARA ESA EDAD\",IF((D3-E24)>=0,\" \"))","v":{"$error":"#VALUE!"}},null,null,null,null,null,null,null,null,null,null,null,null,null,null,null,null,null,null,null,null,null,null,null,27,50000000,25000000,27,"144 MESES",144]
[null,null,null,null,null,null,null,null,null,null,null,null,null,null,null,null,null,null,null,null,null,null,null,null,null,null,null,28,50000000,25000000,28,"144 MESES",144]
["REQUISITOS PARA SOLICITUD DE CREDITO:",null,null,null,null,null,null,null,null,null,null,null,null,null,null,null,null,null,null,null,null,null,null,null,null,null,null,29,50000000,25000000,29,"144 MESES",144]
["1. Contar con la información personal actualizada en la plataforma DIBANKA",null,null,null,null,null,null,null,null,null,null,null,null,null,null,null,null,null,null,null,null,null,null,null,null,null,null,30,50000000,25000000,30,"144 MESES",144]
["2. Desprendible de pago del último mes, el cual puede descargarse aquí",null,null,null,null,null,null,null,null,null,null,null,null,null,null,null,null,null,null,null,null,null,null,null,null,null,null,31,50000000,25000000,31,"144 MESES",144]
["https://www.casur.gov.co/desprendibles-y-certificados",null,null,null,null,null,null,null,null,null,null,null,null,null,null,null,null,null,null,null,null,null,null,null,null,null,null,32,50000000,25000000,32,"144 MESES",144]
["3. Autorización de uso de usuarios y claves, el cual se descarga aquí",null,null,null,null,null,null,null,null,null,null,null,null,null,null,null,null,null,null,null,null,null,null,null,null,null,null,33,50000000,25000000,33,"144 MESES",144]
["https://coserfin.co/panelwi/upload/c8d2ea_AUTORIZACION%20ACCESO%20PLATAFORMAS%20CO%20y%20CR.pdf",null,null,null,null,null,null,null,null,null,null,null,null,null,null,null,null,null,null,null,null,null,null,null,null,null,null,34,50000000,25000000,34,"144 MESES",144]
["4. Suministrar la clave de acceso al correo institucional",null,null,null,null,null,null,null,null,null,null,null,null,null,null,null,null,null,null,null,null,null,null,null,null,null,null,35,50000000,25000000,35,"144 MESES",144]
["5. Una (1) fotocopia de la cédula de ciudadanía ampliada al 150% en blanco y negro, con firma y huella",null,null,null,null,null,null,null,null,null,null,null,null,null,null,null,null,null,null,null,null,null,null,null,null,null,null,36,50000000,25000000,36,"144 MESES",144]
["6. Una (1) fotocopia del carné de retirado o del carné de servicios médicos, ampliada al 150% en blanco y negro",null,null,null,null,null,null,null,null,null,null,null,null,null,null,null,null,null,null,null,null,null,null,null,null,null,null,37,50000000,25000000,37,"144 MESES",144]
["7. Para compra de cartera, se requiere la firma del siguiente formato",null,null,null,null,null,null,null,null,null,null,null,null,null,null,null,null,null,null,null,null,null,null,null,null,null,null,38,50000000,25000000,38,"144 MESES",144]
["https://coserfin.co/panelwi/upload/e254a9_COMPRA%20DE%20CARTERA%20GENERAL%20CO%20Y%20CR.pdf",null,null,null,null,null,null,null,null,null,null,null,null,null,null,null,null,null,null,null,null,null,null,null,null,null,null,39,50000000,25000000,39,"144 MESES",144]
["8. Si el solicitante es pensionado por perdida psicofisica, se requiere resolución de reconocmiento de la asignación de retiro y dictamen médico",null,null,null,null,null,null,null,null,null,null,null,null,null,null,null,null,null,null,null,null,null,null,null,null,null,null,40,50000000,25000000,40,"144 MESES",144]
["9. No requiere codeudor, pero es necesario cobro de aval",null,null,null,null,null,null,null,null,null,null,null,null,null,null,null,null,null,null,null,null,null,null,null,null,null,null,41,50000000,25000000,41,"144 MESES",144]
[null,null,null,null,null,null,null,null,null,null,null,null,null,null,null,null,null,null,null,null,null,null,null,null,null,null,null,42,50000000,25000000,42,"144 MESES",144]
["INCORPORACIÓN DEL DESCUENTO Y TIEMPO DE DESEMBOLSO:",null,null,null,null,null,null,null,null,null,null,null,null,null,null,null,null,null,null,null,null,null,null,null,null,null,null,43,50000000,25000000,43,"144 MESES",144]
["1. La incorporación se realiza mediante la plataforma DIBANKA, la cual inicia operación entre el dia 17 y 20 de cada mes y cierra operación el día 5",null,null,null,null,null,null,null,null,null,null,null,null,null,null,null,null,null,null,null,null,null,null,null,null,null,null,44,50000000,25000000,44,"144 MESES",144]
["2. La plataforma DIBANKA permanece abierta durante dos (2) semanas al mes",null,null,null,null,null,null,null,null,null,null,null,null,null,null,null,null,null,null,null,null,null,null,null,null,null,null,45,50000000,25000000,45,"144 MESES",144]
["3. El descuento opera para el siguiente mes, o para el mismo si la plataforma alcanza a estar abierta durante los primeros días de ese mes",null,null,null,null,null,null,null,null,null,null,null,null,null,null,null,null,null,null,null,null,null,null,null,null,null,null,46,50000000,25000000,46,"144 MESES",144]
["4. El desembolso se realiza una vez ha sido incorporado el descuento a la plataforma DIBANKA por parte del ANALISTA",null,null,null,null,null,null,null,null,null,null,null,null,null,null,null,null,null,null,null,null,null,null,null,null,null,null,47,50000000,25000000,47,"144 MESES",144]
["5. Cuando se trata de compras de cartera, es necesario que el operador de libranza suspenda el descuento del crédito que se está comprando",null,null,null,null,null,null,null,null,null,null,null,null,null,null,null,null,null,null,null,null,null,null,null,null,null,null,48,50000000,25000000,48,"144 MESES",144]
["    para que permita el ingreso de nuestro descuento",null,null,null,null,null,null,null,null,null,null,null,null,null,null,null,null,null,null,null,null,null,null,null,null,null,null,49,50000000,25000000,49,"144 MESES",144]
["6. Todas las fechas descritas son aproximadas y pueden cambiar cada mes",null,null,null,null,null,null,null,null,null,null,null,null,null,null,null,null,null,null,null,null,null,null,null,null,null,null,50,50000000,25000000,50,"144 MESES",144]
[null,null,null,null,null,null,null,null,null,null,null,null,null,null,null,null,null,null,null,null,null,null,null,null,null,null,null,51,50000000,25000000,51,"144 MESES",144]
["DOCUMENTOS DE IDENTIFICACION VALIDOS PARA TODAS LAS ENTIDADES:",null,null,null,null,null,null,null,null,null,null,null,null,null,null,null,null,null,null,null,null,null,null,null,null,null,null,52,50000000,25000000,52,"144 MESES",144]
["1. Coia de la licencia de conducción",null,null,null,null,null,null,null,null,null,null,null,null,null,null,null,null,null,null,null,null,null,null,null,null,null,null,53,50000000,25000000,53,"144 MESES",144]
["2. Copia de la tarjeta de propeidad de un vehiculo o moto.",null,null,null,null,null,null,null,null,null,null,null,null,null,null,null,null,null,null,null,null,null,null,null,null,null,null,54,50000000,25000000,54,"144 MESES",144]
["3. Copia del carné de la EPS",null,null,null,null,null,null,null,null,null,null,null,null,null,null,null,null,null,null,null,null,null,null,null,null,null,null,55,50000000,25000000,55,"144 MESES",144]
["4. Copia de un recibo de pago de servicio público del inmueble donde reside el solicitante, a nombre del mismo",null,null,null,null,null,null,null,null,null,null,null,null,null,null,null,null,null,null,null,null,null,null,null,null,null,null,56,50000000,25000000,56,"144 MESES",144]
["5. Copia de un extracto de cuenta bancaria, preferiblemente la de nómina o pensión",null,null,null,null,null,null,null,null,null,null,null,null,null,null,null,null,null,null,null,null,null,null,null,null,null,null,57,50000000,25000000,57,"144 MESES",144]
["6. Copia de un extracto de tarjeta de crédito",null,null,null,null,null,null,null,null,null,null,null,null,null,null,null,null,null,null,null,null,null,null,null,null,null,null,58,50000000,25000000,58,"144 MESES",144]
["7. Copia de una tarjeta de crédito",null,null,null,null,null,null,null,null,null,null,null,null,null,null,null,null,null,null,null,null,null,null,null,null,null,null,59,50000000,25000000,59,"144 MESES",144]
["8. Copia de un carné de afiliación a un club, asociación o cooperativa",null,null,null,null,null,null,null,null,null,null,null,null,null,null,null,null,null,null,null,null,null,null,null,null,null,null,60,50000000,25000000,60,"144 MESES",144]
["9. Copia de una fórmula médica",null,null,null,null,null,null,null,null,null,null,null,null,null,null,null,null,null,null,null,null,null,null,null,null,null,null,61,50000000,25000000,61,"144 MESES",144]
[null,null,null,null,null,null,null,null,null,null,null,null,null,null,null,null,null,null,null,null,null,null,null,null,null,null,null,62,50000000,25000000,62,"144 MESES",144]
[null,null,null,null,null,null,null,null,null,null,null,null,null,null,null,null,null,null,null,null,null,null,null,null,null,null,null,63,50000000,25000000,63,"144 MESES",144]
[null,null,null,null,null,null,null,null,null,null,null,null,null,null,null,null,null,null,null,null,null,null,null,null,null,null,null,64,50000000,25000000,64,"144 MESES",144]
[null,null,null,null,null,null,null,null,null,null,null,null,null,null,null,null,null,null,null,null,null,null,null,null,null,null,null,65,50000000,25000000,65,"144 MESES",144]
[null,null,null,null,null,null,null,null,null,null,null,null,null,null,null,null,null,null,null,null,null,null,null,null,null,null,null,66,50000000,0,66,"144 MESES",144]
[null,null,null,null,null,null,null,null,null,null,null,null,null,null,null,null,null,null,null,null,null,null,null,null,null,null,null,67,50000000,0,67,"144 MESES",144]
[null,null,null,null,null,null,null,null,null,null,null,null,null,null,null,null,null,null,null,null,null,null,null,null,null,null,null,68,50000000,0,68,"144 MESES",144]
[null,null,null,null,null,null,null,null,null,null,null,null,null,null,null,null,null,null,null,null,null,null,null,null,null,null,null,69,50000000,0,69,"144 MESES",144]
[null,null,null,null,null,null,null,null,null,null,null,null,null,null,null,null,null,null,null,null,null,null,null,null,null,null,null,70,50000000,0,70,"144 MESES",144]
[null,null,null,null,null,null,null,null,null,null,null,null,null,null,null,null,null,null,null,null,null,null,null,null,null,null,null,71,{"$f":"$AC$7","v":20000000},{"$f":"$AD$7","v":20000000},71,"144 MESES",144]
[null,null,null,null,null,null,null,null,null,null,null,null,null,null,null,null,null,null,null,null,null,null,null,null,null,null,null,72,{"$f":"$AC$7","v":20000000},{"$f":"$AD$7","v":20000000},72,"144 MESES",144]
[null,null,null,null,null,null,null,null,null,null,null,null,null,null,null,null,null,null,null,null,null,null,null,null,null,null,null,73,{"$f":"$AC$7","v":20000000},{"$f":"$AD$7","v":20000000},73,"144 MESES",144]
[null,null,null,null,null,null,null,null,null,null,null,null,null,null,null,null,null,null,null,null,null,null,null,null,null,null,null,74,{"$f":"$AC$7","v":20000000},{"$f":"$AD$7","v":20000000},74,"144 MESES",144]
[null,null,null,null,null,null,null,null,null,null,null,null,null,null,null,null,null,null,null,null,null,null,null,null,null,null,null,75,{"$f":"$AC$5","v":10000000},{"$f":"$AD$5","v":10000000},75,{"$f":"$AF$5","v":"60 MESES"},{"$f":"$AG$5","v":60}]
[null,null,null,null,null,null,null,null,null,null,null,null,null,null,null,null,null,null,null,null,null,null,null,null,null,null,null,76,{"$f":"$AC$5","v":10000000},{"$f":"$AD$5","v":10000000},76,{"$f":"$AF$5","v":"60 MESES"},{"$f":"$AG$5","v":60}]
[null,null,null,null,null,null,null,null,null,null,null,null,null,null,null,null,null,null,null,null,null,null,null,null,null,null,null,77,{"$f":"$AC$5","v":10000000},{"$f":"$AD$5","v":10000000},77,{"$f":"$AF$5","v":"60 MESES"},{"$f":"$AG$5","v":60}]
[null,null,null,null,null,null,null,null,null,null,null,null,null,null,null,null,null,null,null,null,null,null,null,null,null,null,null,78,{"$f":"$AC$5","v":10000000},{"$f":"$AD$5","v":10000000},78,{"$f":"$AF$5","v":"60 MESES"},{"$f":"$AG$5","v":60}]
[null,null,null,null,null,null,null,null,null,null,null,null,null,null,null,null,null,null,null,null,null,null,null,null,null,null,null,79,{"$f":"$AC$5","v":10000000},{"$f":"$AD$5","v":10000000},79,{"$f":"$AF$5","v":"60 MESES"},{"$f":"$AG$5","v":60}]
[null,null,null,null,null,null,null,null,null,null,null,null,null,null,null,null,null,null,null,null,null,null,null,null,null,null,null,80,"SUPERA EDAD MAXIMA PARA SOLICITUD DE CREDITO","SUPERA EDAD MAXIMA PARA SOLICITUD DE CREDITO",80,"SUPERA EDAD MAXIMA PARA SOLICITUD DE CREDITO",0]
[null,null,null,null,null,null,null,null,null,null,null,null,null,null,null,null,null,null,null,null,null,null,null,null,null,null,null,81,"SUPERA EDAD MAXIMA PARA SOLICITUD DE CREDITO","SUPERA EDAD MAXIMA PARA SOLICITUD DE CREDITO",81,"SUPERA EDAD MAXIMA PARA SOLICITUD DE CREDITO",0]
[null,null,null,null,null,null,null,null,null,null,null,null,null,null,null,null,null,null,null,null,null,null,null,null,null,null,null,82,"SUPERA EDAD MAXIMA PARA SOLICITUD DE CREDITO","SUPERA EDAD MAXIMA PARA SOLICITUD DE CREDITO",82,"SUPERA EDAD MAXIMA PARA SOLICITUD DE CREDITO",0]
[null,null,null,null,null,null,null,null,null,null,null,null,null,null,null,null,null,null,null,null,null,null,null,null,null,null,null,83,"SUPERA EDAD MAXIMA PARA SOLICITUD DE CREDITO","SUPERA EDAD MAXIMA PARA SOLICITUD DE CREDITO",83,"SUPERA EDAD MAXIMA PARA SOLICITUD DE CREDITO",0]
[null,null,null,null,null,null,null,null,null,null,null,null,null,null,null,null,null,null,null,null,null,null,null,null,null,null,null,84,"SUPERA EDAD MAXIMA PARA SOLICITUD DE CREDITO","SUPERA EDAD MAXIMA PARA SOLICITUD DE CREDITO",84,"SUPERA EDAD MAXIMA PARA SOLICITUD DE CREDITO",0]
[null,null,null,null,null,null,null,null,null,null,null,null,null,null,null,null,null,null,null,null,null,null,null,null,null,null,null,85,"SUPERA EDAD MAXIMA PARA SOLICITUD DE CREDITO","SUPERA EDAD MAXIMA PARA SOLICITUD DE CREDITO",85,"SUPERA EDAD MAXIMA PARA SOLICITUD DE CREDITO",0]
[null,null,null,null,null,null,null,null,null,null,null,null,null,null,null,null,null,null,null,null,null,null,null,null,null,null,null,86,"SUPERA EDAD MAXIMA PARA SOLICITUD DE CREDITO","SUPERA EDAD MAXIMA PARA SOLICITUD DE CREDITO",86,"SUPERA EDAD MAXIMA PARA SOLICITUD DE CREDITO",0]
[null,null,null,null,null,null,null,null,null,null,null,null,null,null,null,null,null,null,null,null,null,null,null,null,null,null,null,87,"SUPERA EDAD MAXIMA PARA SOLICITUD DE CREDITO","SUPERA EDAD MAXIMA PARA SOLICITUD DE CREDITO",87,"SUPERA EDAD MAXIMA PARA SOLICITUD DE CREDITO",0]
[null,null,null,null,null,null,null,null,null,null,null,null,null,null,null,null,null,null,null,null,null,null,null,null,null,null,null,88,"SUPERA EDAD MAXIMA PARA SOLICITUD DE CREDITO","SUPERA EDAD MAXIMA PARA SOLICITUD DE CREDITO",88,"SUPERA EDAD MAXIMA PARA SOLICITUD DE CREDITO",0]
[null,null,null,null,null,null,null,null,null,null,null,null,null,null,null,null,null,null,null,null,null,null,null,null,null,null,null,89,"SUPERA EDAD MAXIMA PARA SOLICITUD DE CREDITO","SUPERA EDAD MAXIMA PARA SOLICITUD DE CREDITO",89,"SUPERA EDAD MAXIMA PARA SOLICITUD DE CREDITO",0]
[null,null,null,null,null,null,null,null,null,null,null,null,null,null,null,null,null,null,null,null,null,null,null,null,null,null,null,90,"SUPERA EDAD MAXIMA PARA SOLICITUD DE CREDITO","SUPERA EDAD MAXIMA PARA SOLICITUD DE CREDITO",90,"SUPERA EDAD MAXIMA PARA SOLICITUD DE CREDITO",0]
[null,null,null,null,null,null,null,null,null,null,null,null,null,null,null,null,null,null,null,null,null,null,null,null,null,null,null,91,"SUPERA EDAD MAXIMA PARA SOLICITUD DE CREDITO","SUPERA EDAD MAXIMA PARA SOLICITUD DE CREDITO",91,"SUPERA EDAD MAXIMA PARA SOLICITUD DE CREDITO",0]
[null,null,null,null,null,null,null,null,null,null,null,null,null,null,null,null,null,null,null,null,null,null,null,null,null,null,null,92,"SUPERA EDAD MAXIMA PARA SOLICITUD DE CREDITO","SUPERA EDAD MAXIMA PARA SOLICITUD DE CREDITO",92,"SUPERA EDAD MAXIMA PARA SOLICITUD DE CREDITO",0]
[null,null,null,null,null,null,null,null,null,null,null,null,null,null,null,null,null,null,null,null,null,null,null,null,null,null,null,93,"SUPERA EDAD MAXIMA PARA SOLICITUD DE CREDITO","SUPERA EDAD MAXIMA PARA SOLICITUD DE CREDITO",93,"SUPERA EDAD MAXIMA PARA SOLICITUD DE CREDITO",0]
[null,null,null,null,null,null,null,null,null,null,null,null,null,null,null,null,null,null,null,null,null,null,null,null,null,null,null,94,"SUPERA EDAD MAXIMA PARA SOLICITUD DE CREDITO","SUPERA EDAD MAXIMA PARA SOLICITUD DE CREDITO",94,"SUPERA EDAD MAXIMA PARA SOLICITUD DE CREDITO",0]
[null,null,null,null,null,null,null,null,null,null,null,null,null,null,null,null,null,null,null,null,null,null,null,null,null,null,null,95,"SUPERA EDAD MAXIMA PARA SOLICITUD DE CREDITO","SUPERA EDAD MAXIMA PARA SOLICITUD DE CREDITO",95,"SUPERA EDAD MAXIMA PARA SOLICITUD DE CREDITO",0]
[null,null,null,null,null,null,null,null,null,null,null,null,null,null,null,null,null,null,null,null,null,null,null,null,null,null,null,96,"SUPERA EDAD MAXIMA PARA SOLICITUD DE CREDITO","SUPERA EDAD MAXIMA PARA SOLICITUD DE CREDITO",96,"SUPERA EDAD MAXIMA PARA SOLICITUD DE CREDITO",0]
[null,null,null,null,null,null,null,null,null,null,null,null,null,null,null,null,null,null,null,null,null,null,null,null,null,null,null,97,"SUPERA EDAD MAXIMA PARA SOLICITUD DE CREDITO","SUPERA EDAD MAXIMA PARA SOLICITUD DE CREDITO",97,"SUPERA EDAD MAXIMA PARA SOLICITUD DE CREDITO",0]
[null,null,null,null,null,null,null,null,null,null,null,null,null,null,null,null,null,null,null,null,null,null,null,null,null,null,null,98,"SUPERA EDAD MAXIMA PARA SOLICITUD DE CREDITO","SUPERA EDAD MAXIMA PARA SOLICITUD DE CREDITO",98,"SUPERA EDAD MAXIMA PARA SOLICITUD DE CREDITO",0]
[null,null,null,null,null,null,null,null,null,null,null,null,null,null,null,null,null,null,null,null,null,null,null,null,null,null,null,99,"SUPERA EDAD MAXIMA PARA SOLICITUD DE CREDITO","SUPERA EDAD MAXIMA PARA SOLICITUD DE CREDITO",99,"SUPERA EDAD MAXIMA PARA SOLICITUD DE CREDITO",0]
[null,null,null,null,null,null,null,null,null,null,null,null,null,null,null,null,null,null,null,null,null,null,null,null,null,null,null,100,"SUPERA EDAD MAXIMA PARA SOLICITUD DE CREDITO","SUPERA EDAD MAXIMA PARA SOLICITUD DE CREDITO",100,"SUPERA EDAD MAXIMA PARA SOLICITUD DE CREDITO",0]
[null,null,null,null,null,null,null,null,null,null,null,null,null,null,null,null,null,null,null,null,null,null,null,null,null,null,null,101,"SUPERA EDAD MAXIMA PARA SOLICITUD DE CREDITO","SUPERA EDAD MAXIMA PARA SOLICITUD DE CREDITO",101,"SUPERA EDAD MAXIMA PARA SOLICITUD DE CREDITO",0]
[null,null,null,null,null,null,null,null,null,null,null,null,null,null,null,null,null,null,null,null,null,null,null,null,null,null,null,102,"SUPERA EDAD MAXIMA PARA SOLICITUD DE CREDITO","SUPERA EDAD MAXIMA PARA SOLICITUD DE CREDITO",102,"SUPERA EDAD MAXIMA PARA SOLICITUD DE CREDITO",0]
[null,null,null,null,null,null,null,null,null,null,null,null,null,null,null,null,null,null,null,null,null,null,null,null,null,null,null,103,"SUPERA EDAD MAXIMA PARA SOLICITUD DE CREDITO","SUPERA EDAD MAXIMA PARA SOLICITUD DE CREDITO",103,"SUPERA EDAD MAXIMA PARA SOLICITUD DE CREDITO",0]
[null,null,null,null,null,null,null,null,null,null,null,null,null,null,null,null,null,null,null,null,null,null,null,null,null,null,null,104,"SUPERA EDAD MAXIMA PARA SOLICITUD DE CREDITO","SUPERA EDAD MAXIMA PARA SOLICITUD DE CREDITO",104,"SUPERA EDAD MAXIMA PARA SOLICITUD DE CREDITO",0]
[null,null,null,null,null,null,null,null,null,null,null,null,null,null,null,null,null,null,null,null,null,null,null,null,null,null,null,105,"SUPERA EDAD MAXIMA PARA SOLICITUD DE CREDITO","SUPERA EDAD MAXIMA PARA SOLICITUD DE CREDITO",105,"SUPERA EDAD MAXIMA PARA SOLICITUD DE CREDITO",0]
[null,null,null,null,null,null,null,null,null,null,null,null,null,null,null,null,null,null,null,null,null,null,null,null,null,null,null,106,"SUPERA EDAD MAXIMA PARA SOLICITUD DE CREDITO","SUPERA EDAD MAXIMA PARA SOLICITUD DE CREDITO",106,"SUPERA EDAD MAXIMA PARA SOLICITUD DE CREDITO",0]
[null,null,null,null,null,null,null,null,null,null,null,null,null,null,null,null,null,null,null,null,null,null,null,null,null,null,null,107,"SUPERA EDAD MAXIMA PARA SOLICITUD DE CREDITO","SUPERA EDAD MAXIMA PARA SOLICITUD DE CREDITO",107,"SUPERA EDAD MAXIMA PARA SOLICITUD DE CREDITO",0]
[null,null,null,null,null,null,null,null,null,null,null,null,null,null,null,null,null,null,null,null,null,null,null,null,null,null,null,108,"SUPERA EDAD MAXIMA PARA SOLICITUD DE CREDITO","SUPERA EDAD MAXIMA PARA SOLICITUD DE CREDITO",108,"SUPERA EDAD MAXIMA PARA SOLICITUD DE CREDITO",0]
[null,null,null,null,null,null,null,null,null,null,null,null,null,null,null,null,null,null,null,null,null,null,null,null,null,null,null,109,"SUPERA EDAD MAXIMA PARA SOLICITUD DE CREDITO","SUPERA EDAD MAXIMA PARA SOLICITUD DE CREDITO",109,"SUPERA EDAD MAXIMA PARA SOLICITUD DE CREDITO",0]
[null,null,null,null,null,null,null,null,null,null,null,null,null,null,null,null,null,null,null,null,null,null,null,null,null,null,null,110,"SUPERA EDAD MAXIMA PARA SOLICITUD DE CREDITO","SUPERA EDAD MAXIMA PARA SOLICITUD DE CREDITO",110,"SUPERA EDAD MAXIMA PARA SOLICITUD DE CREDITO",0]
[null,null,null,null,null,null,null,null,null,null,null,null,null,null,null,null,null,null,null,null,null,null,null,null,null,null,null,111,"SUPERA EDAD MAXIMA PARA SOLICITUD DE CREDITO","SUPERA EDAD MAXIMA PARA SOLICITUD DE CREDITO",111,"SUPERA EDAD MAXIMA PARA SOLICITUD DE CREDITO",0]
[null,null,null,null,null,null,null,null,null,null,null,null,null,null,null,null,null,null,null,null,null,null,null,null,null,null,null,112,"SUPERA EDAD MAXIMA PARA SOLICITUD DE CREDITO","SUPERA EDAD MAXIMA PARA SOLICITUD DE CREDITO",112,"SUPERA EDAD MAXIMA PARA SOLICITUD DE CREDITO",0]
[null,null,null,null,null,null,null,null,null,null,null,null,null,null,null,null,null,null,null,null,null,null,null,null,null,null,null,113,"SUPERA EDAD MAXIMA PARA SOLICITUD DE CREDITO","SUPERA EDAD MAXIMA PARA SOLICITUD DE CREDITO",113,"SUPERA EDAD MAXIMA PARA SOLICITUD DE CREDITO",0]
[null,null,null,null,null,null,null,null,null,null,null,null,null,null,null,null,null,null,null,null,null,null,null,null,null,null,null,114,"SUPERA EDAD MAXIMA PARA SOLICITUD DE CREDITO","SUPERA EDAD MAXIMA PARA SOLICITUD DE CREDITO",114,"SUPERA EDAD MAXIMA PARA SOLICITUD DE CREDITO",0]
[null,null,null,null,null,null,null,null,null,null,null,null,null,null,null,null,null,null,null,null,null,null,null,null,null,null,null,115,"SUPERA EDAD MAXIMA PARA SOLICITUD DE CREDITO","SUPERA EDAD MAXIMA PARA SOLICITUD DE CREDITO",115,"SUPERA EDAD MAXIMA PARA SOLICITUD DE CREDITO",0]
[null,null,null,null,null,null,null,null,null,null,null,null,null,null,null,null,null,null,null,null,null,null,null,null,null,null,null,116,"SUPERA EDAD MAXIMA PARA SOLICITUD DE CREDITO","SUPERA EDAD MAXIMA PARA SOLICITUD DE CREDITO",116,"SUPERA EDAD MAXIMA PARA SOLICITUD DE CREDITO",0]
[null,null,null,null,null,null,null,null,null,null,null,null,null,null,null,null,null,null,null,null,null,null,null,null,null,null,null,117,"SUPERA EDAD MAXIMA PARA SOLICITUD DE CREDITO","SUPERA EDAD MAXIMA PARA SOLICITUD DE CREDITO",117,"SUPERA EDAD MAXIMA PARA SOLICITUD DE CREDITO",0]
[null,null,null,null,null,null,null,null,null,null,null,null,null,null,null,null,null,null,null,null,null,null,null,null,null,null,null,118,"SUPERA EDAD MAXIMA PARA SOLICITUD DE CREDITO","SUPERA EDAD MAXIMA PARA SOLICITUD DE CREDITO",118,"SUPERA EDAD MAXIMA PARA SOLICITUD DE CREDITO",0]
[null,null,null,null,null,null,null,null,null,null,null,null,null,null,null,null,null,null,null,null,null,null,null,null,null,null,null,119,"SUPERA EDAD MAXIMA PARA SOLICITUD DE CREDITO","SUPERA EDAD MAXIMA PARA SOLICITUD DE CREDITO",119,"SUPERA EDAD MAXIMA PARA SOLICITUD DE CREDITO",0]
[null,null,null,null,null,null,null,null,null,null,null,null,null,null,null,null,null,null,null,null,null,null,null,null,null,null,null,120,"SUPERA EDAD MAXIMA PARA SOLICITUD DE CREDITO","SUPERA EDAD MAXIMA PARA SOLICITUD DE CREDITO",120,"SUPERA EDAD MAXIMA PARA SOLICITUD DE CREDITO",0]
[null,null,null,null,null,null,null,null,null,null,null,null,null,null,null,null,null,null,null,null,null,null,null,null,null,null,null,121,"SUPERA EDAD MAXIMA PARA SOLICITUD DE CREDITO","SUPERA EDAD MAXIMA PARA SOLICITUD DE CREDITO",121,"SUPERA EDAD MAXIMA PARA SOLICITUD DE CREDITO",0]
[null,null,null,null,null,null,null,null,null,null,null,null,null,null,null,null,null,null,null,null,null,null,null,null,null,null,null,122,"SUPERA EDAD MAXIMA PARA SOLICITUD DE CREDITO","SUPERA EDAD MAXIMA PARA SOLICITUD DE CREDITO",122,"SUPERA EDAD MAXIMA PARA SOLICITUD DE CREDITO",0]
[null,null,null,null,null,null,null,null,null,null,null,null,null,null,null,null,null,null,null,null,null,null,null,null,null,null,null,123,"SUPERA EDAD MAXIMA PARA SOLICITUD DE CREDITO","SUPERA EDAD MAXIMA PARA SOLICITUD DE CREDITO",123,"SUPERA EDAD MAXIMA PARA SOLICITUD DE CREDITO",0]
[null,null,null,null,null,null,null,null,null,null,null,null,null,null,null,null,null,null,null,null,null,null,null,null,null,null,null,124,"SUPERA EDAD MAXIMA PARA SOLICITUD DE CREDITO","SUPERA EDAD MAXIMA PARA SOLICITUD DE CREDITO",124,"SUPERA EDAD MAXIMA PARA SOLICITUD DE CREDITO",0]
[null,null,null,null,null,null,null,null,null,null,null,null,null,null,null,null,null,null,null,null,null,null,null,null,null,null,null,125,"SUPERA EDAD MAXIMA PARA SOLICITUD DE CREDITO","SUPERA EDAD MAXIMA PARA SOLICITUD DE CREDITO",125,"SUPERA EDAD MAXIMA PARA SOLICITUD DE CREDITO",0]
[null,null,null,null,null,null,null,null,null,null,null,null,null,null,null,null,null,null,null,null,null,null,null,null,null,null,null,126,"SUPERA EDAD MAXIMA PARA SOLICITUD DE CREDITO","SUPERA EDAD MAXIMA PARA SOLICITUD DE CREDITO",126,"SUPERA EDAD MAXIMA PARA SOLICITUD DE CREDITO",0]
[null,null,null,null,null,null,null,null,null,null,null,null,null,null,null,null,null,null,null,null,null,null,null,null,null,null,null,127,"SUPERA EDAD MAXIMA PARA SOLICITUD DE CREDITO","SUPERA EDAD MAXIMA PARA SOLICITUD DE CREDITO",127,"SUPERA EDAD MAXIMA PARA SOLICITUD DE CREDITO",0]
[null,null,null,null,null,null,null,null,null,null,null,null,null,null,null,null,null,null,null,null,null,null,null,null,null,null,null,128,"SUPERA EDAD MAXIMA PARA SOLICITUD DE CREDITO","SUPERA EDAD MAXIMA PARA SOLICITUD DE CREDITO",128,"SUPERA EDAD MAXIMA PARA SOLICITUD DE CREDITO",0]
[null,null,null,null,null,null,null,null,null,null,null,null,null,null,null,null,null,null,null,null,null,null,null,null,null,null,null,129,"SUPERA EDAD MAXIMA PARA SOLICITUD DE CREDITO","SUPERA EDAD MAXIMA PARA SOLICITUD DE CREDITO",129,"SUPERA EDAD MAXIMA PARA SOLICITUD DE CREDITO",0]
[null,null,null,null,null,null,null,null,null,null,null,null,null,null,null,null,null,null,null,null,null,null,null,null,null,null,null,130,"SUPERA EDAD MAXIMA PARA SOLICITUD DE CREDITO","SUPERA EDAD MAXIMA PARA SOLICITUD DE CREDITO",130,"SUPERA EDAD MAXIMA PARA SOLICITUD DE CREDITO",0]

{"sheet":"CAGEN","index":16,"n_rows":138,"n_cols":33,"rows_kept":138,"cut":false,"hidden":false,"merged":[[33,3,33,5],[32,14,32,16],[32,19,32,20],[27,14,27,16],[27,19,27,20],[28,14,28,16],[28,19,28,20],[30,14,30,16],[30,19,30,20],[29,14,29,16],[29,19,29,20],[28,3,28,4],[29,3,29,4],[30,3,30,4],[25,8,25,13],[21,19,21,20],[22,14,22,16],[22,19,22,20],[23,14,23,16],[25,14,25,16],[25,19,25,20],[26,14,26,16],[26,19,26,20],[31,14,31,16],[31,19,31,20],[23,19,23,20],[20,19,20,20],[16,19,16,20],[16,0,16,2],[16,3,16,5],[11,6,15,6],[12,4,12,5],[13,4,13,5],[14,4,14,5],[15,4,15,5],[11,0,15,2],[11,4,11,5],[17,19,17,20],[18,14,18,16],[18,19,18,20],[19,14,19,16],[19,19,19,20],[10,0,10,2],[16,14,16,16],[9,8,9,13],[10,8,10,13],[34,3,34,5],[31,3,31,4],[19,0,22,2],[9,0,9,2],[17,0,18,2],[17,14,17,16],[21,14,21,16],[20,14,20,16],[24,3,24,5],[23,8,23,13],[24,8,24,13],[32,3,32,4],[0,12,0,13],[4,0,4,2],[5,0,5,2],[7,0,7,2],[8,0,8,2],[8,4,8,5],[6,0,6,2],[6,4,6,6],[0,0,0,2],[0,3,0,5],[1,0,1,2],[2,0,2,2],[3,0,3,2],[2,8,2,13],[8,8,8,13]]}
["CAGEN / TEGEN CO 1 - CR 1 ",null,null,0.48,null,null,null,null,null,null,null,null,{"$f":"TASAS!G15","v":"2025-03"}]
[{"$f":"IF(($D$2=\"\"),\"Digite la edad del cliente\",\"\")","v":"Digite la edad del cliente"},null,null,null,null,null,null,null,null,null,null,null,null,null,{"$f":"D6+D7-D8","v":0},{"$f":"D9-O2","v":0}]
[{"$f":"IF(($D$3<50000000),\"Monto máximo por COSERFIN\",\"Monto máximo por COSERFIN\")","v":"Monto máximo por COSERFIN"},null,null,{"$f":"IF((D2 = \"\"),\"DIGITE EDAD\",VLOOKUP(D2,$AB$8:$AD$138,2,0))","v":"DIGITE EDAD"},{"$f":"IF(($D$2=\"\"),\"\",\"Por CREAVAL\")","v":""},{"$f":"IF((D2 = \"\"),\"DIGITE EDAD\",VLOOKUP(D2,$AB$8:$AD$138,3,0))","v":"DIGITE EDAD"},null,null,"NO SE TRAMITAN COMPRAS DE CARTERA",null,null,null,null,null,null,null,null,null,{"$f":"IF(AND(E24<TASAS!H11,D24<TASAS!M2),TASAS!H6,TASAS!H5)","v":{"$error":"#VALUE!"}},null,null,null,null,null,null,null,null,null,"COSERFIN","CREAVAL"]
[{"$f":"IF(($D$2=\"\"),\"\",\"Plazo máximo para cada crédito\")","v":""},null,null,{"$f":"IF((D2=\"\"),\"DEL SOLICITANTE\",VLOOKUP(D2,$AE$8:$AF$138,2,0))","v":"DEL SOLICITANTE"},null,null,null,null,null,null,null,null,null,null,null,null,null,null,{"$f":"B24-S3","v":{"$error":"#VALUE!"}},null,null,null,null,null,null,null,80,null,0,0,null,0,0]
["EVALUACION CAPACIDAD DE PAGO",null,null,"VALOR 1","VALOR 2","VALOR 3","TOTALES",null,null,null,null,null,null,null,null,null,null,null,0,null,null,null,null,null,null,null,"75-79",null,10000000,10000000,null,"60 MESES",60]
["VALOR PENSION",null,null,0,null,null,{"$f":"D6*D1","v":0},null,null,null,null,null,null,null,null,null,null,null,{"$f":"TASAS!H3","v":1.77E-2},"TASA",null,null,null,null,null,null,"18-70",null,50000000,25000000,null,"144 MESES",144]
["VALOR OTROS INGRESOS (PRIMAS, RETROACTIVOS, ADICIONALES, ETC.)",null,null,0,null,null,null,null,null,null,null,null,null,null,null,null,null,null,{"$f":"TASAS!H4","v":1.8200000000000001E-2},"TASA",null,null,null,null,null,null,"71-74",null,20000000,20000000]
["(-) TOTAL DESCUENTOS",null,null,0,null,null,{"$f":"IF(($P$2>3),\"ERROR EN\",IF($P$2<-3,\"ERROR EN\",D8))","v":0},null,null,null,null,null,null,null,null,null,null,null,{"$f":"TASAS!H5","v":1.8699999999999998E-2},"TASA",null,null,null,null,null,null,null,0,"USUARIO MENOR DE EDAD","USUARIO MENOR DE EDAD",0,"USUARIO MENOR DE EDAD",0]
["INGRESO NETO RECIBIDO EN EL DESPRENDIBLE DE PAGO (SI NO HAY PRIMAS)",null,null,0,"DISPONIBLE PARA CREDITO",null,{"$f":"IF(($P$2>3),\"LOS DATOS\",IF($P$2<-3,\"LOS DATOS\",G6-G8+G10+G11))","v":0},"*",{"$f":"IF((B24=0),\"¡ ¡ ¡ Por favor seleccione la tasa de interés ! ! !\",\" \")","v":"¡ ¡ ¡ Por favor seleccione la tasa de interés ! ! !"},null,null,null,null,null,null,null,null,null,{"$f":"TASAS!H6","v":3.4999999999999996E-2},"TASA",null,null,null,null,null,null,null,1,"USUARIO MENOR DE EDAD","USUARIO MENOR DE EDAD",1,"USUARIO MENOR DE EDAD",0]
["(+) DESCUENTOS FINALIZADOS EN EL PRESENTE MES Y EN EL PROXIMO",null,null,0,0,0,{"$f":"SUM(D10:F10)","v":0},null,{"$f":"IF((S4=0),\" \",\"¡¡¡   A T E N C I O N   !!!\")","v":{"$error":"#VALUE!"}},null,null,null,null,null,null,null,null,null,{"$f":"TASAS!H7","v":1.4499999999999999E-2},"TASA",null,null,null,null,null,null,null,2,"USUARIO MENOR DE EDAD","USUARIO MENOR DE EDAD",2,"USUARIO MENOR DE EDAD",0]
["(+) CUOTAS DE COMPRAS DE CARTERA",null,null,0,0,0,{"$f":"SUM(D11:F11)","v":0},null,{"$f":"IF((S4=0),\" \",\"La tasa máxima para ese monto y plazo es del\")","v":{"$error":"#VALUE!"}},null,null,null,null,null,null,null,null,null,{"$f":"TASAS!H8","v":1.4999999999999999E-2},"TASA",null,null,null,null,null,null,null,3,"USUARIO MENOR DE EDAD","USUARIO MENOR DE EDAD",3,"USUARIO MENOR DE EDAD",0]
["(-) VALOR ESTIMADO CUOTA DE CREDITO CON COOSERFIN",null,null,{"$f":"IF(D3>E19,FLOOR(E19,100000),D3)","v":"DIGITE EDAD"},{"$f":"IF(($D$14=\"TASA\"),\" \",\"VALOR SOLICITADO\")","v":"VALOR SOLICITADO"},null,{"$f":"IF(($D$2=\"\"),\"RECUERDE DIGITAR ARRIBA LA EDAD\",ROUNDUP(((((D12*D14))*(D13+D15))+D12)/D13,0))","v":"RECUERDE DIGITAR ARRIBA LA EDAD"},null,null,null,null,null,null,null,null,null,null,null,{"$f":"TASAS!H9","v":1.55E-2},"TASA",null,null,null,null,null,null,null,4,"USUARIO MENOR DE EDAD","USUARIO MENOR DE EDAD",4,"USUARIO MENOR DE EDAD",0]
[null,null,null,{"$f":"D19","v":"DIGITE EDAD"},{"$f":"IF(($D$14=\"TASA\"),\" \",\"PLAZO\")","v":"PLAZO"},null,null,null,null,null,null,null,null,null,null,null,null,null,null,null,null,null,null,null,null,null,null,5,"USUARIO MENOR DE EDAD","USUARIO MENOR DE EDAD",5,"USUARIO MENOR DE EDAD",0]
[null,null,null,2.3E-2,"FACTOR",null,null,null,null,null,null,null,null,null,null,null,null,{"$f":"D3*1","v":{"$error":"#VALUE!"}},{"$f":"(PV(B24,D24,T15))*-1","v":{"$error":"#VALUE!"}},{"$f":"F19","v":"NO APLICA"},null,null,null,null,null,null,null,6,"USUARIO MENOR DE EDAD","USUARIO MENOR DE EDAD",10,"USUARIO MENOR DE EDAD",0]
[null,null,null,0,{"$f":"IF(($D$14=\"TASA\"),\" \",\"MES(ES) DE GRACIA\")","v":"MES(ES) DE GRACIA"},null,null,null,null,null,null,null,null,null,null,null,null,{"$f":"(PV(B24,D24,F19))*-1","v":{"$error":"#VALUE!"}},{"$f":"(IF(S14>R14,R14,FLOOR(S14,100000)))","v":{"$error":"#VALUE!"}},{"$f":"((T14*(1-R20))-R22-V17-V21)*0.99","v":{"$error":"#VALUE!"}},null,null,null,null,{"$f":"R17*R21","v":{"$error":"#VALUE!"}},null,null,7,"USUARIO MENOR DE EDAD","USUARIO MENOR DE EDAD",7,"USUARIO MENOR DE EDAD",0]
[null,null,null,{"$f":"IF($G$17>=0,(G12*D13),IF($G$17<0,\"\"))","v":{"$error":"#VALUE!"}},{"$f":"IF(($D$14=\"TASA\"),\" \",\"VALOR LIBRANZA\")","v":"VALOR LIBRANZA"},null,null,null,null,null,null,null,null,null,null,null,null,null,null,null,null,null,null,null,{"$f":"R26*R30","v":{"$error":"#VALUE!"}},null,null,8,"USUARIO MENOR DE EDAD","USUARIO MENOR DE EDAD",8,"USUARIO MENOR DE EDAD",0]
["INGRESO ESTIMADO EN EL PRIMER MES DE PAGO DEL CREDITO",null,null,{"$f":"IF((G9-G12)>0,\"USUARIO CON CAPACIDAD DE PAGO\",IF(G9-G12<0,\"INTENTE CON OTRO MONTO Y/O PLAZO\"))","v":{"$error":"#VALUE!"}},{"$f":"IF($J$13>=#REF!,\"USUARIO CON CAPACIDAD DE ENDEUDAMIENTO\",IF($J$13<#REF!,\"CREDITO INVIABLE INTENTE CON OTRO MONTO Y/O PLAZO\"))","v":{"$error":"#REF!"}},{"$f":"IF($J$13>=#REF!,\"USUARIO CON CAPACIDAD DE ENDEUDAMIENTO\",IF($J$13<#REF!,\"CREDITO INVIABLE INTENTE CON OTRO MONTO Y/O PLAZO\"))","v":{"$error":"#REF!"}},{"$f":"IF(((G9-G12)>0),(G9-G12),\"SIN CUPO\")","v":{"$error":"#VALUE!"}},null,null,null,null,null,null,null,"VALOR CREDITO         :",null,null,{"$f":"R15","v":{"$error":"#VALUE!"}},null,"VALOR SEGURO          :",null,{"$f":"R17*W26","v":{"$error":"#VALUE!"}},null,null,{"$f":"((((R18)*((1+(R18))^R19))/(((1+(R18))^R19)-1))*R17)+((((R17*R18)/30)*R24)/R19)+R22+V17+V20","v":{"$error":"#VALUE!"}},null,null,9,"USUARIO MENOR DE EDAD","USUARIO MENOR DE EDAD",9,"USUARIO MENOR DE EDAD",0]
[{"$f":"IF($W$19>0,\"MONTO MAXIMO DE ENDEUDAMIENTO\",IF($W$19<=0,\"EL SOLICITANTE NO TIENE POSIBILIDADES DE CREDITO\"))","v":"EL SOLICITANTE NO TIENE POSIBILIDADES DE CREDITO"},null,null,"PLAZO","MONTO MAX","VALOR CUOTA","VR LIBRANZA",null,null,null,null,null,null,null,"TASA NOMINAL MENSUAL  :",null,null,{"$f":"B24","v":0},null,"TASA EFECTIVA ANUAL   :",null,{"$f":"((1+((R18*12)/12))^12)-1","v":0},null,null,null,null,null,10,"USUARIO MENOR DE EDAD","USUARIO MENOR DE EDAD",10,"USUARIO MENOR DE EDAD",0]
[null,null,null,{"$f":"IF((D2=\"\"),\"DIGITE EDAD\",VLOOKUP(D2,$AE$4:$AG$135,3,0))","v":"DIGITE EDAD"},{"$f":"IF(($W$19<=0),\"NO APLICA\",$G$19*100/((($D$14*100)*($D$19+$D$15))+100))","v":"NO APLICA"},{"$f":"IF(($W$19<=0),\"NO APLICA\",($G$9))","v":"NO APLICA"},{"$f":"IF(($W$19<=0),\"NO APLICA\",($D$19*$F$19))","v":"NO APLICA"},"*",null,null,null,null,null,null,"PLAZO EN MESES        :",null,null,{"$f":"D24","v":"DIGITE EDAD"},null,"CUOTA NETA            :",null,{"$f":"((((R18)*((1+(R18))^R19))/(((1+(R18))^R19)-1))*(R17+Y15))+(((((R17+Y15)*R18)/30)*R24)/R19)","v":{"$error":"#VALUE!"}},{"$f":"$G$9+$G$10+$G$11","v":0},"PLAZO","MONTO MAX","VR MAX CUOTA","VALOR LZ",11,"USUARIO MENOR DE EDAD","USUARIO MENOR DE EDAD",11,"USUARIO MENOR DE EDAD",0]
[{"$f":"IF($G$17>=0,\"OTRAS OPCIONES DE CREDITO DISPONIBLES\",IF($G$17<0,\"INTENTE CON OTRO MONTO Y/O PLAZO\"))","v":{"$error":"#VALUE!"}},null,null,{"$f":"IF($Y$20<=$AA$24,12,IF($Y$20>$AA$24,\"NO APLICA\"))","v":{"$error":"#VALUE!"}},{"$f":"IF(Y20>$AA$24,\"NO APLICA\",IF(Y20<=$AA$24,FLOOR(Y20,10000)))","v":{"$error":"#VALUE!"}},{"$f":"IF($Y$20>$AA$24,\"NO APLICA\",IF(Y20<=$AA$24,((((E20*($D$14)*((D20+$D$15))+E20)/D20)))))","v":{"$error":"#VALUE!"}},{"$f":"IF($Y$20>$AA$24,\"NO APLICA\",IF(Y20<=$AA$24,(D20*F20)))","v":{"$error":"#VALUE!"}},null,null,null,null,null,null,null,"TASA COMISION RECAUDO :",null,null,0,null,"COMISION POR RECAUDO  :",null,{"$f":"((((((R18)*((1+(R18))^R19))/(((1+(R18))^R19)-1))*(R17+Y15))+(((((R17+Y15)*R18)/30)*R24)/R19)+R22+V17)*100)/(100-(R20*100))-(((((R18)*((1+(R18))^R19))/(((1+(R18))^R19)-1))*(R17+Y15))+(((((R17+Y15)*R18)/30)*R24)/R19)+R22+V17)","v":{"$error":"#VALUE!"}},null,12,{"$f":"IF(($G$17>=0),AA20*100/((($D$14*100)*(X20+$D$15))+100),\"\")","v":{"$error":"#VALUE!"}},{"$f":"IF(($G$17>=0),($G$12+$G$17),\"\")","v":{"$error":"#VALUE!"}},{"$f":"IF(($G$17>=0),(Z20*X20),\"\")","v":{"$error":"#VALUE!"}},12,"USUARIO MENOR DE EDAD","USUARIO MENOR DE EDAD",12,"USUARIO MENOR DE EDAD",0]
[null,null,null,{"$f":"IF($Y$21<=$AA$24,24,IF($Y$21>$AA$24,\"NO APLICA\"))","v":{"$error":"#VALUE!"}},{"$f":"IF(Y21>$AA$24,\"NO APLICA\",IF(Y21<=$AA$24,FLOOR(Y21,10000)))","v":{"$error":"#VALUE!"}},{"$f":"IF($Y$21>$AA$24,\"NO APLICA\",IF(Y21<=$AA$24,((((E21*($D$14)*((D21+$D$15))+E21)/D21)))))","v":{"$error":"#VALUE!"}},{"$f":"IF($Y$21>$AA$24,\"NO APLICA\",IF(Y21<=$AA$24,(D21*F21)))","v":{"$error":"#VALUE!"}},null,null,null,null,null,null,null,"OTROS GASTOS          :",null,null,{"$f":"B26","v":0},null,"VALOR OTROS GASTOS    :",null,{"$f":"V24-Y17","v":{"$error":"#VALUE!"}},null,24,{"$f":"IF(($G$17>=0),AA21*100/((($D$14*100)*(X21+$D$15))+100),\"\")","v":{"$error":"#VALUE!"}},{"$f":"IF(($G$17>=0),($G$12+$G$17),\"\")","v":{"$error":"#VALUE!"}},{"$f":"IF(($G$17>=0),(Z21*X21),\"\")","v":{"$error":"#VALUE!"}},13,"USUARIO MENOR DE EDAD","USUARIO MENOR DE EDAD",13,"USUARIO MENOR DE EDAD",0]
[null,null,null,{"$f":"IF($Y$22<=$AA$24,36,IF($Y$22>$AA$24,\"NO APLICA\"))","v":{"$error":"#VALUE!"}},{"$f":"IF(Y22>$AA$24,\"NO APLICA\",IF(Y22<=$AA$24,FLOOR(Y22,10000)))","v":{"$error":"#VALUE!"}},{"$f":"IF($Y$22>$AA$24,\"NO APLICA\",IF(Y22<=$AA$24,((((E22*($D$14)*((D22+$D$15))+E22)/D22)))))","v":{"$error":"#VALUE!"}},{"$f":"IF($Y$22>$AA$24,\"NO APLICA\",IF(Y22<=$AA$24,(D22*F22)))","v":{"$error":"#VALUE!"}},null,null,null,null,null,null,null,"APORTES SOCIALES      :",null,null,0,null,"FECHA DE INICIO       :",null,{"$f":"(R23+((R19+1)*29))-((R19-1)*29)","v":{"$error":"#VALUE!"}},null,36,{"$f":"IF(($G$17>=0),AA22*100/((($D$14*100)*(X22+$D$15))+100),\"\")","v":{"$error":"#VALUE!"}},{"$f":"IF(($G$17>=0),($G$12+$G$17),\"\")","v":{"$error":"#VALUE!"}},{"$f":"IF(($G$17>=0),(Z22*X22),\"\")","v":{"$error":"#VALUE!"}},14,"USUARIO MENOR DE EDAD","USUARIO MENOR DE EDAD",14,"USUARIO MENOR DE EDAD",0]
[null,null,null,{"$f":"IF($Y$23<=$AA$24,48,IF($Y$23>$AA$24,\"NO APLICA\"))","v":{"$error":"#VALUE!"}},{"$f":"IF(Y23>$AA$24,\"NO APLICA\",IF(Y23<=$AA$24,FLOOR(Y23,10000)))","v":{"$error":"#VALUE!"}},{"$f":"IF($Y$23>$AA$24,\"NO APLICA\",IF(Y23<=$AA$24,((((E23*($D$14)*((D23+$D$15))+E23)/D23)))))","v":{"$error":"#VALUE!"}},{"$f":"IF($Y$23>$AA$24,\"NO APLICA\",IF(Y23<=$AA$24,(D23*F23)))","v":{"$error":"#VALUE!"}},null,null,null,null,null,null,null,"FECHA DESEMBOLSO      :",null,null,"2012-01-01",null,"FECHA DE TERMINO      :",null,{"$f":"(R23+((R19+1)*29))-((R19-1)*29)+((R19-1)*30)","v":{"$error":"#VALUE!"}},null,48,{"$f":"IF(($G$17>=0),AA23*100/((($D$14*100)*(X23+$D$15))+100),\"\")","v":{"$error":"#VALUE!"}},{"$f":"IF(($G$17>=0),($G$12+$G$17),\"\")","v":{"$error":"#VALUE!"}},{"$f":"IF(($G$17>=0),(Z23*X23),\"\")","v":{"$error":"#VALUE!"}},15,"USUARIO MENOR DE EDAD","USUARIO MENOR DE EDAD",15,"USUARIO MENOR DE EDAD",0]
["LIBRE INVERSION - COBRO DE AVAL ANTICIPADO",0,"N.M.V.",{"$f":"D19","v":"DIGITE EDAD"},{"$f":"S15","v":{"$error":"#VALUE!"}},"  VR CUOTA   ",{"$f":"((((R27)*((1+(R27))^R28))/(((1+(R27))^R28)-1))*(E24+Y16))+(((((E24+Y16)*R27)/30)*R33)/R28)+R31+V26+V29+V30","v":{"$error":"#VALUE!"}},null,{"$f":"IF((S4=0),\" \",S3)","v":{"$error":"#VALUE!"}},null,null,null,null,null,"DIAS DE GRACIA        :",null,null,{"$f":"B27","v":0},null,"TOTAL CUOTA MENSUAL   :",null,{"$f":"V19+R22+V20+V17","v":{"$error":"#VALUE!"}},null,null,null,"MONTO MAXIMO POR CLIENTE",50000000,16,"USUARIO MENOR DE EDAD","USUARIO MENOR DE EDAD",16,"USUARIO MENOR DE EDAD",0]
[null,{"$f":"((1+((B24*12)/12))^12)-1","v":0}," E. A.",{"$f":"IF(G25>=0,\"USUARIO CON CAPACIDAD DE PAGO\",IF(G25<0,\"INTENTE CON OTRO MONTO Y/O PLAZO\"))","v":{"$error":"#VALUE!"}},null,null,{"$f":"G9-G24","v":{"$error":"#VALUE!"}},null,{"$f":"IF(B24=TASAS!H3,\"Tasa para clientes con puntaje > a 750 y sin procesos\",\" \")","v":" "},null,null,null,null,null,null,null,null,null,null,null,null,null,"SEGURO",null,null,null,null,17,"USUARIO MENOR DE EDAD","USUARIO MENOR DE EDAD",17,"USUARIO MENOR DE EDAD",0]
[null,0," O. G.","% AVAL","VALOR AVAL ","A GIRAR",null,null,{"$f":"IF(B24=TASAS!H4,\"Tasa para clientes con puntaje entre 650 - 749 y sin procesos\",\" \")","v":" "},null,null,null,null,null,"VALOR CREDITO         :",null,null,{"$f":"E24","v":{"$error":"#VALUE!"}},null,"VALOR SEGURO          :",null,{"$f":"R26*W26","v":{"$error":"#VALUE!"}},{"$f":"IF((D2<66),(TASAS!C12),(VLOOKUP(D2,TASAS!B13:C27,2,0)))","v":1.15E-3},null,null,null,null,18,{"$f":"$AC$6","v":50000000},{"$f":"$AD$6","v":25000000},18,{"$f":"$AF$6","v":"144 MESES"},{"$f":"$AG$6","v":144}]
[null,0," D. G.",0.09,{"$f":"E24*D27","v":{"$error":"#VALUE!"}},{"$f":"E24-E27","v":{"$error":"#VALUE!"}},null,null,null,null,null,null,null,null,"TASA NOMINAL MENSUAL  :",null,null,{"$f":"R18","v":0},null,"TASA EFECTIVA ANUAL   :",null,{"$f":"((1+((R27*12)/12))^12)-1","v":0},null,null,null,null,null,19,{"$f":"$AC$6","v":50000000},{"$f":"$AD$6","v":25000000},19,{"$f":"$AF$6","v":"144 MESES"},{"$f":"$AG$6","v":144}]
[null,"% Simple",{"$f":"(((G24*D24)-E24)/E24)/D24","v":{"$error":"#VALUE!"}},null,"VR MENSUAL x 1 MM",{"$f":"G24/(E24/1000000)","v":{"$error":"#VALUE!"}},null,null,null,null,null,null,null,null,"PLAZO EN MESES        :",null,null,"DIGITE EDAD",null,"CUOTA NETA            :",null,{"$f":"((((R27)*((1+(R27))^R28))/(((1+(R27))^R28)-1))*(R26+Y16))+(((((R26+Y16)*R27)/30)*R33)/R28)","v":{"$error":"#VALUE!"}},null,null,null,null,null,20,50000000,25000000,20,"144 MESES",144]
[null,null,null,"COMPRA O AMPLIACION 1",null,0,null,"FIDELIZACIÓN","VR CRÉDITO","VR CUOTA ","PLAZO"," VR AVAL","SALDO","A GIRAR","TASA COMISION RECAUDO :",null,null,0,null,"COMISION POR RECAUDO  :",null,{"$f":"((((((R27)*((1+(R27))^R28))/(((1+(R27))^R28)-1))*(R26+Y16))+(((((R26+Y16)*R27)/30)*R33)/R28)+R31+V26)*100)/(100-(R29*100))-(((((R27)*((1+(R27))^R28))/(((1+(R27))^R28)-1))*(R26+Y16))+(((((R26+Y16)*R27)/30)*R33)/R28)+R31+V26)","v":{"$error":"#VALUE!"}},null,null,null,null,null,21,50000000,25000000,21,"144 MESES",144]
["Vr. Crédito",{"$f":"E24","v":{"$error":"#VALUE!"}},null,"COMPRA O AMPLIACION 2",null,0,"LIBRE INV",null,0,0,0,0,0,{"$f":"I30-L30-M30","v":0},"OTROS GASTOS          :",null,null,0,null,"VALOR OTROS GASTOS    :",null,null,null,null,null,null,null,22,50000000,25000000,22,"144 MESES",144]
["Aval",{"$f":"E27","v":{"$error":"#VALUE!"}},null,"COMPRA O AMPLIACION 3",null,0,"AMPLIACION","LZ A",0,0,0,0,0,{"$f":"I31-L31-M31","v":0},"APORTES SOCIALES      :",null,null,0,null,"FECHA DE INICIO       :",null,{"$f":"(R32+((R28+1)*29))-((R28-1)*29)","v":{"$error":"#VALUE!"}},null,null,null,null,null,23,50000000,25000000,23,"144 MESES",144]
["Compra(s) / Saneamiento(s) / Ampiación(es)",{"$f":"SUM(F29:F32)","v":0},null,"COMPRA O AMPLIACION 4",null,0,null,null,null,null,null,null,null,null,"FECHA DESEMBOLSO      :",null,null,"2012-01-01",null,"FECHA DE TERMINO      :",null,{"$f":"(R32+((R28+1)*29))-((R28-1)*29)+((R28-1)*30)","v":{"$error":"#VALUE!"}},null,null,null,null,null,24,50000000,25000000,24,"144 MESES",144]
["Vr. Desembolso",{"$f":"B30-B31-B32","v":{"$error":"#VALUE!"}},{"$f":"IF(((B33-F33)>0),\"ERROR\",IF((B33-F33)=0,\" \"))","v":{"$error":"#VALUE!"}},"NETO A GIRAR",null,{"$f":"F27-F29-F30-F31-F32","v":{"$error":"#VALUE!"}},null,null,null,null,null,null,null,null,"DIAS DE GRACIA        :",null,null,0,null,"TOTAL CUOTA MENSUAL   :",null,{"$f":"V28+R31+V29+V26","v":{"$error":"#VALUE!"}},null,null,null,null,null,25,50000000,25000000,25,"144 MESES",144]
["Vr. Cuota",{"$f":"G24","v":{"$error":"#VALUE!"}},null,{"$f":"IF(((D3-E24)<0),\"¡¡¡ A T E N C I Ó N !!!\",IF((D3-E24)>=0,\" \"))","v":{"$error":"#VALUE!"}},null,null,null,null,null,null,null,null,null,null,null,null,null,null,null,null,null,null,null,null,null,null,null,26,50000000,25000000,26,"144 MESES",144]
["Plazo",{"$f":"D24","v":"DIGITE EDAD"},null,{"$f":"IF(((D3-E24)<0),\"EL MONTO EXCEDE LIMITE PARA ESA EDAD\",IF((D3-E24)>=0,\" \"))","v":{"$error":"#VALUE!"}},null,null,null,null,null,null,null,null,null,null,null,null,null,null,null,null,null,null,null,null,null,null,null,27,50000000,25000000,27,"144 MESES",144]
[null,null,null,null,null,null,null,null,null,null,null,null,null,null,null,null,null,null,null,null,null,null,null,null,null,null,null,28,50000000,25000000,28,"144 MESES",144]
["REQUISITOS PARA SOLICITUD DE CREDITO:",null,null,null,null,null,null,null,null,null,null,null,null,null,null,null,null,null,null,null,null,null,null,null,null,null,null,29,50000000,25000000,29,"144 MESES",144]
["1. Desprendible de pago del último mes descargado desde el PSP, el cual puede obtenerse aquí",null,null,null,null,null,null,null,null,null,null,null,null,null,null,null,null,null,null,null,null,null,null,null,null,null,null,30,50000000,25000000,30,"144 MESES",144]
["https://srvpsp.policia.gov.co:8443/Login.aspx",null,null,null,null,null,null,null,null,null,null,null,null,null,null,null,null,null,null,null,null,null,null,null,null,null,null,31,50000000,25000000,31,"144 MESES",144]
["2. Una (1) fotocopia de la cédula de ciudadanía ampliada al 150% en blanco y negro, con firma y huella",null,null,null,null,null,null,null,null,null,null,null,null,null,null,null,null,null,null,null,null,null,null,null,null,null,null,32,50000000,25000000,32,"144 MESES",144]
["3. Una (1) fotocopia del carné de pensionado(a) o del carné de servicios médicos, ampliada al 150% en blanco y negro",null,null,null,null,null,null,null,null,null,null,null,null,null,null,null,null,null,null,null,null,null,null,null,null,null,null,33,50000000,25000000,33,"144 MESES",144]
["4. Si el solicitante es pensionado por perdida psicofisica, se requiere resolución de reconocmiento de la pensión y dictamen médico",null,null,null,null,null,null,null,null,null,null,null,null,null,null,null,null,null,null,null,null,null,null,null,null,null,null,34,50000000,25000000,34,"144 MESES",144]
["5. No requiere codeudor, pero es necesario cobro de aval",null,null,null,null,null,null,null,null,null,null,null,null,null,null,null,null,null,null,null,null,null,null,null,null,null,null,35,50000000,25000000,35,"144 MESES",144]
[null,null,null,null,null,null,null,null,null,null,null,null,null,null,null,null,null,null,null,null,null,null,null,null,null,null,null,36,50000000,25000000,36,"144 MESES",144]
["NO SE TRAMITAN COMPRAS DE CARTERA",null,null,null,null,null,null,null,null,null,null,null,null,null,null,null,null,null,null,null,null,null,null,null,null,null,null,37,50000000,25000000,37,"144 MESES",144]
[null,null,null,null,null,null,null,null,null,null,null,null,null,null,null,null,null,null,null,null,null,null,null,null,null,null,null,38,50000000,25000000,38,"144 MESES",144]
["INCORPORACIÓN DEL DESCUENTO Y TIEMPO DE DESEMBOLSO:",null,null,null,null,null,null,null,null,null,null,null,null,null,null,null,null,null,null,null,null,null,null,null,null,null,null,39,50000000,25000000,39,"144 MESES",144]
["1. Las novedades se envían los dias veinte (20) de cada mes y la confirmación de la incorporación se realiza contra el desprendible de",null,null,null,null,null,null,null,null,null,null,null,null,null,null,null,null,null,null,null,null,null,null,null,null,null,null,40,50000000,25000000,40,"144 MESES",144]
["    pago y/o listados de descuento del mes de inicio pactado ",null,null,null,null,null,null,null,null,null,null,null,null,null,null,null,null,null,null,null,null,null,null,null,null,null,null,41,50000000,25000000,41,"144 MESES",144]
["2. El descuento opera para el siguiente mes",null,null,null,null,null,null,null,null,null,null,null,null,null,null,null,null,null,null,null,null,null,null,null,null,null,null,42,50000000,25000000,42,"144 MESES",144]
["3. El desembolso se realiza únicamente cuando se confirma la incorporación del descuento, es decir, a finales del mes de inicio del descuento",null,null,null,null,null,null,null,null,null,null,null,null,null,null,null,null,null,null,null,null,null,null,null,null,null,null,43,50000000,25000000,43,"144 MESES",144]
["4. Todas las fechas descritas son aproximadas y pueden cambiar cada mes",null,null,null,null,null,null,null,null,null,null,null,null,null,null,null,null,null,null,null,null,null,null,null,null,null,null,44,50000000,25000000,44,"144 MESES",144]
[null,null,null,null,null,null,null,null,null,null,null,null,null,null,null,null,null,null,null,null,null,null,null,null,null,null,null,45,50000000,25000000,45,"144 MESES",144]
["DOCUMENTOS DE IDENTIFICACION VALIDOS PARA TODAS LAS ENTIDADES:",null,null,null,null,null,null,null,null,null,null,null,null,null,null,null,null,null,null,null,null,null,null,null,null,null,null,46,50000000,25000000,46,"144 MESES",144]
["1. Coia de la licencia de conducción",null,null,null,null,null,null,null,null,null,null,null,null,null,null,null,null,null,null,null,null,null,null,null,null,null,null,47,50000000,25000000,47,"144 MESES",144]
["2. Copia de la tarjeta de propeidad de un vehiculo o moto.",null,null,null,null,null,null,null,null,null,null,null,null,null,null,null,null,null,null,null,null,null,null,null,null,null,null,48,50000000,25000000,48,"144 MESES",144]
["3. Copia del carné de la EPS",null,null,null,null,null,null,null,null,null,null,null,null,null,null,null,null,null,null,null,null,null,null,null,null,null,null,49,50000000,25000000,49,"144 MESES",144]
["4. Copia de un recibo de pago de servicio público del inmueble donde reside el solicitante, a nombre del mismo",null,null,null,null,null,null,null,null,null,null,null,null,null,null,null,null,null,null,null,null,null,null,null,null,null,null,50,50000000,25000000,50,"144 MESES",144]
["5. Copia de un extracto de cuenta bancaria, preferiblemente la de nómina o pensión",null,null,null,null,null,null,null,null,null,null,null,null,null,null,null,null,null,null,null,null,null,null,null,null,null,null,51,50000000,25000000,51,"144 MESES",144]
["6. Copia de un extracto de tarjeta de crédito",null,null,null,null,null,null,null,null,null,null,null,null,null,null,null,null,null,null,null,null,null,null,null,null,null,null,52,50000000,25000000,52,"144 MESES",144]
["7. Copia de una tarjeta de crédito",null,null,null,null,null,null,null,null,null,null,null,null,null,null,null,null,null,null,null,null,null,null,null,null,null,null,53,50000000,25000000,53,"144 MESES",144]
["8. Copia de un carné de afiliación a un club, asociación o cooperativa",null,null,null,null,null,null,null,null,null,null,null,null,null,null,null,null,null,null,null,null,null,null,null,null,null,null,54,50000000,25000000,54,"144 MESES",144]
["9. Copia de una fórmula médica",null,null,null,null,null,null,null,null,null,null,null,null,null,null,null,null,null,null,null,null,null,null,null,null,null,null,55,50000000,25000000,55,"144 MESES",144]
[null,null,null,null,null,null,null,null,null,null,null,null,null,null,null,null,null,null,null,null,null,null,null,null,null,null,null,56,50000000,25000000,56,"144 MESES",144]
[null,null,null,null,null,null,null,null,null,null,null,null,null,null,null,null,null,null,null,null,null,null,null,null,null,null,null,57,50000000,25000000,57,"144 MESES",144]
[null,null,null,null,null,null,null,null,null,null,null,null,null,null,null,null,null,null,null,null,null,null,null,null,null,null,null,58,50000000,25000000,58,"144 MESES",144]
[null,null,null,null,null,null,null,null,null,null,null,null,null,null,null,null,null,null,null,null,null,null,null,null,null,null,null,59,50000000,25000000,59,"144 MESES",144]
[null,null,null,null,null,null,null,null,null,null,null,null,null,null,null,null,null,null,null,null,null,null,null,null,null,null,null,60,50000000,25000000,60,"144 MESES",144]
[null,null,null,null,null,null,null,null,null,null,null,null,null,null,null,null,null,null,null,null,null,null,null,null,null,null,null,61,50000000,25000000,61,"144 MESES",144]
[null,null,null,null,null,null,null,null,null,null,null,null,null,null,null,null,null,null,null,null,null,null,null,null,null,null,null,62,50000000,25000000,62,"144 MESES",144]
[null,null,null,null,null,null,null,null,null,null,null,null,null,null,null,null,null,null,null,null,null,null,null,null,null,null,null,63,50000000,25000000,63,"144 MESES",144]
[null,null,null,null,null,null,null,null,null,null,null,null,null,null,null,null,null,null,null,null,null,null,null,null,null,null,null,64,50000000,25000000,64,"144 MESES",144]
[null,null,null,null,null,null,null,null,null,null,null,null,null,null,null,null,null,null,null,null,null,null,null,null,null,null,null,65,50000000,25000000,65,"144 MESES",144]
[null,null,null,null,null,null,null,null,null,null,null,null,null,null,null,null,null,null,null,null,null,null,null,null,null,null,null,66,50000000,0,66,"144 MESES",144]
[null,null,null,null,null,null,null,null,null,null,null,null,null,null,null,null,null,null,null,null,null,null,null,null,null,null,null,67,50000000,0,67,"144 MESES",144]
[null,null,null,null,null,null,null,null,null,null,null,null,null,null,null,null,null,null,null,null,null,null,null,null,null,null,null,68,50000000,0,68,"144 MESES",144]
[null,null,null,null,null,null,null,null,null,null,null,null,null,null,null,null,null,null,null,null,null,null,null,null,null,null,null,69,50000000,0,69,{"$f":"$AF$6","v":"144 MESES"},144]
[null,null,null,null,null,null,null,null,null,null,null,null,null,null,null,null,null,null,null,null,null,null,null,null,null,null,null,70,50000000,0,70,"144 MESES",144]
[null,null,null,null,null,null,null,null,null,null,null,null,null,null,null,null,null,null,null,null,null,null,null,null,null,null,null,71,{"$f":"$AC$7","v":20000000},{"$f":"$AD$7","v":20000000},71,"144 MESES",144]
[null,null,null,null,null,null,null,null,null,null,null,null,null,null,null,null,null,null,null,null,null,null,null,null,null,null,null,72,{"$f":"$AC$7","v":20000000},{"$f":"$AD$7","v":20000000},72,"144 MESES",144]
[null,null,null,null,null,null,null,null,null,null,null,null,null,null,null,null,null,null,null,null,null,null,null,null,null,null,null,73,{"$f":"$AC$7","v":20000000},{"$f":"$AD$7","v":20000000},73,"144 MESES",144]
[null,null,null,null,null,null,null,null,null,null,null,null,null,null,null,null,null,null,null,null,null,null,null,null,null,null,null,74,{"$f":"$AC$7","v":20000000},{"$f":"$AD$7","v":20000000},74,"144 MESES",144]
[null,null,null,null,null,null,null,null,null,null,null,null,null,null,null,null,null,null,null,null,null,null,null,null,null,null,null,75,{"$f":"$AC$5","v":10000000},{"$f":"$AD$5","v":10000000},75,{"$f":"$AF$5","v":"60 MESES"},{"$f":"$AG$5","v":60}]
[null,null,null,null,null,null,null,null,null,null,null,null,null,null,null,null,null,null,null,null,null,null,null,null,null,null,null,76,{"$f":"$AC$5","v":10000000},{"$f":"$AD$5","v":10000000},76,{"$f":"$AF$5","v":"60 MESES"},{"$f":"$AG$5","v":60}]
[null,null,null,null,null,null,null,null,null,null,null,null,null,null,null,null,null,null,null,null,null,null,null,null,null,null,null,77,{"$f":"$AC$5","v":10000000},{"$f":"$AD$5","v":10000000},77,{"$f":"$AF$5","v":"60 MESES"},{"$f":"$AG$5","v":60}]
[null,null,null,null,null,null,null,null,null,null,null,null,null,null,null,null,null,null,null,null,null,null,null,null,null,null,null,78,{"$f":"$AC$5","v":10000000},{"$f":"$AD$5","v":10000000},78,{"$f":"$AF$5","v":"60 MESES"},{"$f":"$AG$5","v":60}]
[null,null,null,null,null,null,null,null,null,null,null,null,null,null,null,null,null,null,null,null,null,null,null,null,null,null,null,79,{"$f":"$AC$5","v":10000000},{"$f":"$AD$5","v":10000000},79,{"$f":"$AF$5","v":"60 MESES"},{"$f":"$AG$5","v":60}]
[null,null,null,null,null,null,null,null,null,null,null,null,null,null,null,null,null,null,null,null,null,null,null,null,null,null,null,80,"SUPERA EDAD MAXIMA PARA SOLICITUD DE CREDITO","SUPERA EDAD MAXIMA PARA SOLICITUD DE CREDITO",80,"SUPERA EDAD MAXIMA PARA SOLICITUD DE CREDITO",0]
[null,null,null,null,null,null,null,null,null,null,null,null,null,null,null,null,null,null,null,null,null,null,null,null,null,null,null,81,"SUPERA EDAD MAXIMA PARA SOLICITUD DE CREDITO","SUPERA EDAD MAXIMA PARA SOLICITUD DE CREDITO",81,"SUPERA EDAD MAXIMA PARA SOLICITUD DE CREDITO",0]
[null,null,null,null,null,null,null,null,null,null,null,null,null,null,null,null,null,null,null,null,null,null,null,null,null,null,null,82,"SUPERA EDAD MAXIMA PARA SOLICITUD DE CREDITO","SUPERA EDAD MAXIMA PARA SOLICITUD DE CREDITO",82,"SUPERA EDAD MAXIMA PARA SOLICITUD DE CREDITO",0]
[null,null,null,null,null,null,null,null,null,null,null,null,null,null,null,null,null,null,null,null,null,null,null,null,null,null,null,83,"SUPERA EDAD MAXIMA PARA SOLICITUD DE CREDITO","SUPERA EDAD MAXIMA PARA SOLICITUD DE CREDITO",83,"SUPERA EDAD MAXIMA PARA SOLICITUD DE CREDITO",0]
[null,null,null,null,null,null,null,null,null,null,null,null,null,null,null,null,null,null,null,null,null,null,null,null,null,null,null,84,"SUPERA EDAD MAXIMA PARA SOLICITUD DE CREDITO","SUPERA EDAD MAXIMA PARA SOLICITUD DE CREDITO",84,"SUPERA EDAD MAXIMA PARA SOLICITUD DE CREDITO",0]
[null,null,null,null,null,null,null,null,null,null,null,null,null,null,null,null,null,null,null,null,null,null,null,null,null,null,null,85,"SUPERA EDAD MAXIMA PARA SOLICITUD DE CREDITO","SUPERA EDAD MAXIMA PARA SOLICITUD DE CREDITO",85,"SUPERA EDAD MAXIMA PARA SOLICITUD DE CREDITO",0]
[null,null,null,null,null,null,null,null,null,null,null,null,null,null,null,null,null,null,null,null,null,null,null,null,null,null,null,86,"SUPERA EDAD MAXIMA PARA SOLICITUD DE CREDITO","SUPERA EDAD MAXIMA PARA SOLICITUD DE CREDITO",86,"SUPERA EDAD MAXIMA PARA SOLICITUD DE CREDITO",0]
[null,null,null,null,null,null,null,null,null,null,null,null,null,null,null,null,null,null,null,null,null,null,null,null,null,null,null,87,"SUPERA EDAD MAXIMA PARA SOLICITUD DE CREDITO","SUPERA EDAD MAXIMA PARA SOLICITUD DE CREDITO",87,"SUPERA EDAD MAXIMA PARA SOLICITUD DE CREDITO",0]
[null,null,null,null,null,null,null,null,null,null,null,null,null,null,null,null,null,null,null,null,null,null,null,null,null,null,null,88,"SUPERA EDAD MAXIMA PARA SOLICITUD DE CREDITO","SUPERA EDAD MAXIMA PARA SOLICITUD DE CREDITO",88,"SUPERA EDAD MAXIMA PARA SOLICITUD DE CREDITO",0]
[null,null,null,null,null,null,null,null,null,null,null,null,null,null,null,null,null,null,null,null,null,null,null,null,null,null,null,89,"SUPERA EDAD MAXIMA PARA SOLICITUD DE CREDITO","SUPERA EDAD MAXIMA PARA SOLICITUD DE CREDITO",89,"SUPERA EDAD MAXIMA PARA SOLICITUD DE CREDITO",0]
[null,null,null,null,null,null,null,null,null,null,null,null,null,null,null,null,null,null,null,null,null,null,null,null,null,null,null,90,"SUPERA EDAD MAXIMA PARA SOLICITUD DE CREDITO","SUPERA EDAD MAXIMA PARA SOLICITUD DE CREDITO",90,"SUPERA EDAD MAXIMA PARA SOLICITUD DE CREDITO",0]
[null,null,null,null,null,null,null,null,null,null,null,null,null,null,null,null,null,null,null,null,null,null,null,null,null,null,null,91,"SUPERA EDAD MAXIMA PARA SOLICITUD DE CREDITO","SUPERA EDAD MAXIMA PARA SOLICITUD DE CREDITO",91,"SUPERA EDAD MAXIMA PARA SOLICITUD DE CREDITO",0]
[null,null,null,null,null,null,null,null,null,null,null,null,null,null,null,null,null,null,null,null,null,null,null,null,null,null,null,92,"SUPERA EDAD MAXIMA PARA SOLICITUD DE CREDITO","SUPERA EDAD MAXIMA PARA SOLICITUD DE CREDITO",92,"SUPERA EDAD MAXIMA PARA SOLICITUD DE CREDITO",0]
[null,null,null,null,null,null,null,null,null,null,null,null,null,null,null,null,null,null,null,null,null,null,null,null,null,null,null,93,"SUPERA EDAD MAXIMA PARA SOLICITUD DE CREDITO","SUPERA EDAD MAXIMA PARA SOLICITUD DE CREDITO",93,"SUPERA EDAD MAXIMA PARA SOLICITUD DE CREDITO",0]
[null,null,null,null,null,null,null,null,null,null,null,null,null,null,null,null,null,null,null,null,null,null,null,null,null,null,null,94,"SUPERA EDAD MAXIMA PARA SOLICITUD DE CREDITO","SUPERA EDAD MAXIMA PARA SOLICITUD DE CREDITO",94,"SUPERA EDAD MAXIMA PARA SOLICITUD DE CREDITO",0]
[null,null,null,null,null,null,null,null,null,null,null,null,null,null,null,null,null,null,null,null,null,null,null,null,null,null,null,95,"SUPERA EDAD MAXIMA PARA SOLICITUD DE CREDITO","SUPERA EDAD MAXIMA PARA SOLICITUD DE CREDITO",95,"SUPERA EDAD MAXIMA PARA SOLICITUD DE CREDITO",0]
[null,null,null,null,null,null,null,null,null,null,null,null,null,null,null,null,null,null,null,null,null,null,null,null,null,null,null,96,"SUPERA EDAD MAXIMA PARA SOLICITUD DE CREDITO","SUPERA EDAD MAXIMA PARA SOLICITUD DE CREDITO",96,"SUPERA EDAD MAXIMA PARA SOLICITUD DE CREDITO",0]
[null,null,null,null,null,null,null,null,null,null,null,null,null,null,null,null,null,null,null,null,null,null,null,null,null,null,null,97,"SUPERA EDAD MAXIMA PARA SOLICITUD DE CREDITO","SUPERA EDAD MAXIMA PARA SOLICITUD DE CREDITO",97,"SUPERA EDAD MAXIMA PARA SOLICITUD DE CREDITO",0]
[null,null,null,null,null,null,null,null,null,null,null,null,null,null,null,null,null,null,null,null,null,null,null,null,null,null,null,98,"SUPERA EDAD MAXIMA PARA SOLICITUD DE CREDITO","SUPERA EDAD MAXIMA PARA SOLICITUD DE CREDITO",98,"SUPERA EDAD MAXIMA PARA SOLICITUD DE CREDITO",0]
[null,null,null,null,null,null,null,null,null,null,null,null,null,null,null,null,null,null,null,null,null,null,null,null,null,null,null,99,"SUPERA EDAD MAXIMA PARA SOLICITUD DE CREDITO","SUPERA EDAD MAXIMA PARA SOLICITUD DE CREDITO",99,"SUPERA EDAD MAXIMA PARA SOLICITUD DE CREDITO",0]
[null,null,null,null,null,null,null,null,null,null,null,null,null,null,null,null,null,null,null,null,null,null,null,null,null,null,null,100,"SUPERA EDAD MAXIMA PARA SOLICITUD DE CREDITO","SUPERA EDAD MAXIMA PARA SOLICITUD DE CREDITO",100,"SUPERA EDAD MAXIMA PARA SOLICITUD DE CREDITO",0]
[null,null,null,null,null,null,null,null,null,null,null,null,null,null,null,null,null,null,null,null,null,null,null,null,null,null,null,101,"SUPERA EDAD MAXIMA PARA SOLICITUD DE CREDITO","SUPERA EDAD MAXIMA PARA SOLICITUD DE CREDITO",101,"SUPERA EDAD MAXIMA PARA SOLICITUD DE CREDITO",0]
[null,null,null,null,null,null,null,null,null,null,null,null,null,null,null,null,null,null,null,null,null,null,null,null,null,null,null,102,"SUPERA EDAD MAXIMA PARA SOLICITUD DE CREDITO","SUPERA EDAD MAXIMA PARA SOLICITUD DE CREDITO",102,"SUPERA EDAD MAXIMA PARA SOLICITUD DE CREDITO",0]
[null,null,null,null,null,null,null,null,null,null,null,null,null,null,null,null,null,null,null,null,null,null,null,null,null,null,null,103,"SUPERA EDAD MAXIMA PARA SOLICITUD DE CREDITO","SUPERA EDAD MAXIMA PARA SOLICITUD DE CREDITO",103,"SUPERA EDAD MAXIMA PARA SOLICITUD DE CREDITO",0]
[null,null,null,null,null,null,null,null,null,null,null,null,null,null,null,null,null,null,null,null,null,null,null,null,null,null,null,104,"SUPERA EDAD MAXIMA PARA SOLICITUD DE CREDITO","SUPERA EDAD MAXIMA PARA SOLICITUD DE CREDITO",104,"SUPERA EDAD MAXIMA PARA SOLICITUD DE CREDITO",0]
[null,null,null,null,null,null,null,null,null,null,null,null,null,null,null,null,null,null,null,null,null,null,null,null,null,null,null,105,"SUPERA EDAD MAXIMA PARA SOLICITUD DE CREDITO","SUPERA EDAD MAXIMA PARA SOLICITUD DE CREDITO",105,"SUPERA EDAD MAXIMA PARA SOLICITUD DE CREDITO",0]
[null,null,null,null,null,null,null,null,null,null,null,null,null,null,null,null,null,null,null,null,null,null,null,null,null,null,null,106,"SUPERA EDAD MAXIMA PARA SOLICITUD DE CREDITO","SUPERA EDAD MAXIMA PARA SOLICITUD DE CREDITO",106,"SUPERA EDAD MAXIMA PARA SOLICITUD DE CREDITO",0]
[null,null,null,null,null,null,null,null,null,null,null,null,null,null,null,null,null,null,null,null,null,null,null,null,null,null,null,107,"SUPERA EDAD MAXIMA PARA SOLICITUD DE CREDITO","SUPERA EDAD MAXIMA PARA SOLICITUD DE CREDITO",107,"SUPERA EDAD MAXIMA PARA SOLICITUD DE CREDITO",0]
[null,null,null,null,null,null,null,null,null,null,null,null,null,null,null,null,null,null,null,null,null,null,null,null,null,null,null,108,"SUPERA EDAD MAXIMA PARA SOLICITUD DE CREDITO","SUPERA EDAD MAXIMA PARA SOLICITUD DE CREDITO",108,"SUPERA EDAD MAXIMA PARA SOLICITUD DE CREDITO",0]
[null,null,null,null,null,null,null,null,null,null,null,null,null,null,null,null,null,null,null,null,null,null,null,null,null,null,null,109,"SUPERA EDAD MAXIMA PARA SOLICITUD DE CREDITO","SUPERA EDAD MAXIMA PARA SOLICITUD DE CREDITO",109,"SUPERA EDAD MAXIMA PARA SOLICITUD DE CREDITO",0]
[null,null,null,null,null,null,null,null,null,null,null,null,null,null,null,null,null,null,null,null,null,null,null,null,null,null,null,110,"SUPERA EDAD MAXIMA PARA SOLICITUD DE CREDITO","SUPERA EDAD MAXIMA PARA SOLICITUD DE CREDITO",110,"SUPERA EDAD MAXIMA PARA SOLICITUD DE CREDITO",0]
[null,null,null,null,null,null,null,null,null,null,null,null,null,null,null,null,null,null,null,null,null,null,null,null,null,null,null,111,"SUPERA EDAD MAXIMA PARA SOLICITUD DE CREDITO","SUPERA EDAD MAXIMA PARA SOLICITUD DE CREDITO",111,"SUPERA EDAD MAXIMA PARA SOLICITUD DE CREDITO",0]
[null,null,null,null,null,null,null,null,null,null,null,null,null,null,null,null,null,null,null,null,null,null,null,null,null,null,null,112,"SUPERA EDAD MAXIMA PARA SOLICITUD DE CREDITO","SUPERA EDAD MAXIMA PARA SOLICITUD DE CREDITO",112,"SUPERA EDAD MAXIMA PARA SOLICITUD DE CREDITO",0]
[null,null,null,null,null,null,null,null,null,null,null,null,null,null,null,null,null,null,null,null,null,null,null,null,null,null,null,113,"SUPERA EDAD MAXIMA PARA SOLICITUD DE CREDITO","SUPERA EDAD MAXIMA PARA SOLICITUD DE CREDITO",113,"SUPERA EDAD MAXIMA PARA SOLICITUD DE CREDITO",0]
[null,null,null,null,null,null,null,null,null,null,null,null,null,null,null,null,null,null,null,null,null,null,null,null,null,null,null,114,"SUPERA EDAD MAXIMA PARA SOLICITUD DE CREDITO","SUPERA EDAD MAXIMA PARA SOLICITUD DE CREDITO",114,"SUPERA EDAD MAXIMA PARA SOLICITUD DE CREDITO",0]
[null,null,null,null,null,null,null,null,null,null,null,null,null,null,null,null,null,null,null,null,null,null,null,null,null,null,null,115,"SUPERA EDAD MAXIMA PARA SOLICITUD DE CREDITO","SUPERA EDAD MAXIMA PARA SOLICITUD DE CREDITO",115,"SUPERA EDAD MAXIMA PARA SOLICITUD DE CREDITO",0]
[null,null,null,null,null,null,null,null,null,null,null,null,null,null,null,null,null,null,null,null,null,null,null,null,null,null,null,116,"SUPERA EDAD MAXIMA PARA SOLICITUD DE CREDITO","SUPERA EDAD MAXIMA PARA SOLICITUD DE CREDITO",116,"SUPERA EDAD MAXIMA PARA SOLICITUD DE CREDITO",0]
[null,null,null,null,null,null,null,null,null,null,null,null,null,null,null,null,null,null,null,null,null,null,null,null,null,null,null,117,"SUPERA EDAD MAXIMA PARA SOLICITUD DE CREDITO","SUPERA EDAD MAXIMA PARA SOLICITUD DE CREDITO",117,"SUPERA EDAD MAXIMA PARA SOLICITUD DE CREDITO",0]
[null,null,null,null,null,null,null,null,null,null,null,null,null,null,null,null,null,null,null,null,null,null,null,null,null,null,null,118,"SUPERA EDAD MAXIMA PARA SOLICITUD DE CREDITO","SUPERA EDAD MAXIMA PARA SOLICITUD DE CREDITO",118,"SUPERA EDAD MAXIMA PARA SOLICITUD DE CREDITO",0]
[null,null,null,null,null,null,null,null,null,null,null,null,null,null,null,null,null,null,null,null,null,null,null,null,null,null,null,119,"SUPERA EDAD MAXIMA PARA SOLICITUD DE CREDITO","SUPERA EDAD MAXIMA PARA SOLICITUD DE CREDITO",119,"SUPERA EDAD MAXIMA PARA SOLICITUD DE CREDITO",0]
[null,null,null,null,null,null,null,null,null,null,null,null,null,null,null,null,null,null,null,null,null,null,null,null,null,null,null,120,"SUPERA EDAD MAXIMA PARA SOLICITUD DE CREDITO","SUPERA EDAD MAXIMA PARA SOLICITUD DE CREDITO",120,"SUPERA EDAD MAXIMA PARA SOLICITUD DE CREDITO",0]
[null,null,null,null,null,null,null,null,null,null,null,null,null,null,null,null,null,null,null,null,null,null,null,null,null,null,null,121,"SUPERA EDAD MAXIMA PARA SOLICITUD DE CREDITO","SUPERA EDAD MAXIMA PARA SOLICITUD DE CREDITO",121,"SUPERA EDAD MAXIMA PARA SOLICITUD DE CREDITO",0]
[null,null,null,null,null,null,null,null,null,null,null,null,null,null,null,null,null,null,null,null,null,null,null,null,null,null,null,122,"SUPERA EDAD MAXIMA PARA SOLICITUD DE CREDITO","SUPERA EDAD MAXIMA PARA SOLICITUD DE CREDITO",122,"SUPERA EDAD MAXIMA PARA SOLICITUD DE CREDITO",0]
[null,null,null,null,null,null,null,null,null,null,null,null,null,null,null,null,null,null,null,null,null,null,null,null,null,null,null,123,"SUPERA EDAD MAXIMA PARA SOLICITUD DE CREDITO","SUPERA EDAD MAXIMA PARA SOLICITUD DE CREDITO",123,"SUPERA EDAD MAXIMA PARA SOLICITUD DE CREDITO",0]
[null,null,null,null,null,null,null,null,null,null,null,null,null,null,null,null,null,null,null,null,null,null,null,null,null,null,null,124,"SUPERA EDAD MAXIMA PARA SOLICITUD DE CREDITO","SUPERA EDAD MAXIMA PARA SOLICITUD DE CREDITO",124,"SUPERA EDAD MAXIMA PARA SOLICITUD DE CREDITO",0]
[null,null,null,null,null,null,null,null,null,null,null,null,null,null,null,null,null,null,null,null,null,null,null,null,null,null,null,125,"SUPERA EDAD MAXIMA PARA SOLICITUD DE CREDITO","SUPERA EDAD MAXIMA PARA SOLICITUD DE CREDITO",125,"SUPERA EDAD MAXIMA PARA SOLICITUD DE CREDITO",0]
[null,null,null,null,null,null,null,null,null,null,null,null,null,null,null,null,null,null,null,null,null,null,null,null,null,null,null,126,"SUPERA EDAD MAXIMA PARA SOLICITUD DE CREDITO","SUPERA EDAD MAXIMA PARA SOLICITUD DE CREDITO",126,"SUPERA EDAD MAXIMA PARA SOLICITUD DE CREDITO",0]
[null,null,null,null,null,null,null,null,null,null,null,null,null,null,null,null,null,null,null,null,null,null,null,null,null,null,null,127,"SUPERA EDAD MAXIMA PARA SOLICITUD DE CREDITO","SUPERA EDAD MAXIMA PARA SOLICITUD DE CREDITO",127,"SUPERA EDAD MAXIMA PARA SOLICITUD DE CREDITO",0]
[null,null,null,null,null,null,null,null,null,null,null,null,null,null,null,null,null,null,null,null,null,null,null,null,null,null,null,128,"SUPERA EDAD MAXIMA PARA SOLICITUD DE CREDITO","SUPERA EDAD MAXIMA PARA SOLICITUD DE CREDITO",128,"SUPERA EDAD MAXIMA PARA SOLICITUD DE CREDITO",0]
[null,null,null,null,null,null,null,null,null,null,null,null,null,null,null,null,null,null,null,null,null,null,null,null,null,null,null,129,"SUPERA EDAD MAXIMA PARA SOLICITUD DE CREDITO","SUPERA EDAD MAXIMA PARA SOLICITUD DE CREDITO",129,"SUPERA EDAD MAXIMA PARA SOLICITUD DE CREDITO",0]
[null,null,null,null,null,null,null,null,null,null,null,null,null,null,null,null,null,null,null,null,null,null,null,null,null,null,null,130,"SUPERA EDAD MAXIMA PARA SOLICITUD DE CREDITO","SUPERA EDAD MAXIMA PARA SOLICITUD DE CREDITO",130,"SUPERA EDAD MAXIMA PARA SOLICITUD DE CREDITO",0]

{"sheet":"SEG ALFA","index":17,"n_rows":134,"n_cols":36,"rows_kept":134,"cut":false,"hidden":false,"merged":[[31,0,31,2],[24,0,27,4],[29,5,29,7],[39,5,39,7],[36,5,36,6],[33,5,33,6],[34,5,34,6],[34,0,34,2],[35,0,35,2],[36,0,36,2],[37,0,37,2],[38,0,38,2],[39,0,39,2],[5,0,5,4],[6,0,6,4],[6,6,6,8],[7,0,7,4],[8,0,8,4],[8,6,8,7],[10,0,10,4],[9,0,9,4],[11,0,16,3],[18,0,19,4],[28,0,30,2],[20,0,23,4],[0,0,0,4],[1,0,1,4],[2,0,2,4],[3,0,3,4],[4,0,4,4],[16,21,16,22],[17,1,17,2],[17,3,17,4],[17,5,17,7],[17,16,17,18],[17,21,17,22],[16,16,16,18],[18,21,18,22],[19,16,19,18],[19,21,19,22],[22,16,22,18],[22,21,22,22],[20,16,20,18],[20,21,20,22],[21,16,21,18],[21,21,21,22],[18,16,18,18],[23,21,23,22],[30,21,30,22],[25,16,25,18],[25,21,25,22],[26,16,26,18],[26,21,26,22],[27,16,27,18],[27,21,27,22],[23,16,23,18],[31,21,31,22],[32,16,32,18],[32,21,32,22],[28,16,28,18],[28,21,28,22],[29,16,29,18],[29,21,29,22],[31,16,31,18],[30,16,30,18],[0,14,0,15],[8,10,8,15],[35,5,35,6],[37,5,37,6],[38,5,38,7],[9,10,9,15],[10,10,10,15],[28,10,28,15],[29,10,29,15],[30,10,30,15]]}
["Seguros de Vida Alfa CO 1  - PA 1",null,null,null,null,"( PENSION - 2% ) - SALUD / 2",null,null,null,null,null,null,null,null,{"$f":"TASAS!G15","v":"2025-03"}]
[{"$f":"IF(($F$2=\"\"),\"Digite la edad del cliente\",\"\")","v":"Digite la edad del cliente"},null,null,null,null,null,null,null,null,null,null,null,null,null,null,null,{"$f":"F6+F7-F8","v":0},{"$f":"F9-Q2","v":0}]
[{"$f":"IF(($F$3<50000000),\"Monto máximo por COSERFIN\",\"Monto máximo por COSERFIN\")","v":"Monto máximo por COSERFIN"},null,null,null,null,{"$f":"IF((F2 = \"\"),\"DIGITE EDAD\",VLOOKUP(F2,$AD$8:$AF$134,2,0))","v":"DIGITE EDAD"},{"$f":"IF(($F$2=\"\"),\"\",\"Por CREAVAL\")","v":""},{"$f":"IF((F2 = \"\"),\"DIGITE EDAD\",VLOOKUP(F2,$AD$8:$AF$134,3,0))","v":"DIGITE EDAD"},null,null,null,null,null,null,null,null,null,null,{"$f":"IF(AND(G29<TASAS!H11,F29<TASAS!M2),TASAS!H6,TASAS!H5)","v":{"$error":"#VALUE!"}},null,null,null,null,null,null,null,null,null,null,null,"COSERFIN","CREAVAL"]
[{"$f":"IF(($F$2=\"\"),\"\",\"Plazo máximo para el crédito\")","v":""},null,null,null,null,{"$f":"IF((F2 = \"\"),\"DEL SOLICITANTE\",VLOOKUP(F2,$AG$8:$AI$134,3,0))","v":"DEL SOLICITANTE"},null,null,null,null,null,null,null,null,null,null,null,null,{"$f":"D29-S3","v":{"$error":"#VALUE!"}},null,null,"TRAIDO DE TASAS",null,{"$f":"IF(F6<=V5,F6*0.04,0)","v":0},null,null,null,null,80,null,0,0,null,0,0,0]
["EVALUACION CAPACIDAD DE PAGO",null,null,null,null,"VALOR 1","VALOR 2","VALOR 3","TOTALES",null,null,null,null,null,null,null,null,null,0,null,null,{"$f":"TASAS!G11","v":1423500},null,{"$f":"IF(F6>V5,F6*0.1,0)","v":0},null,null,null,null,"75-79",null,10000000,"NO HAY CODIGO",null,0,"60 MESES",60]
["VALOR PENSION",null,null,null,null,0,null,null,{"$f":"F6*0.98","v":0},null,null,null,null,null,null,null,null,null,{"$f":"TASAS!H3","v":1.77E-2},"TASA",null,{"$f":"V5*3","v":4270500},null,{"$f":"IF(F6>V6,F6*0.1,0)","v":0},null,null,null,null,"18-70",null,50000000,"NO HAY CODIGO",null,0,"144 MESES",144]
["VALOR OTROS INGRESOS (PRIMAS, RETROACTIVOS, ADICIONALES, ETC.)",null,null,null,null,0,null,null,null,null,null,null,null,null,null,null,null,null,{"$f":"TASAS!H4","v":1.8200000000000001E-2},"TASA",null,null,null,{"$f":"IF(F6>V6,F6*0.12,0)","v":0},null,null,null,null,"71-74",null,20000000,"NO HAY CODIGO"]
["(-) TOTAL DESCUENTOS INCLUYENDO 12% DE SALUD (FOSYGA O EPS)",null,null,null,null,0,null,null,{"$f":"IF(($R$2>3),\"ERROR EN\",IF($R$2<-3,\"ERROR EN\",F8))","v":0},null,null,null,null,null,null,null,{"$f":"F8-(F6*0.12)","v":0},{"$f":"IF(Q8<0,((Q8*-1)+Q8),Q8)","v":0},{"$f":"TASAS!H5","v":1.8699999999999998E-2},"TASA",null,null,null,{"$f":"X4+X5-X6+X7","v":0},null,null,null,null,null,0,"USUARIO","MENOR DE EDAD",0,"USUARIO","MENOR DE EDAD",0]
["INGRESO NETO RECIBIDO EN EL DESPRENDIBLE DE PAGO",null,null,null,null,0,"DISPONIBLE PARA CREDITO",null,{"$f":"IF(($R$2>3),\"LOS DATOS\",IF($R$2<-3,\"LOS DATOS\",((I6-X9)/2)-(F8-X9)+I10+I11))","v":0},"*",{"$f":"IF((D29=0),\"¡ ¡ ¡ Por favor seleccione la tasa de interés ! ! !\",\" \")","v":"¡ ¡ ¡ Por favor seleccione la tasa de interés ! ! !"},null,null,null,null,null,null,null,{"$f":"TASAS!H6","v":3.4999999999999996E-2},"TASA",null,null,null,{"$f":"CEILING(X8,100)","v":0},null,null,null,null,null,1,"USUARIO","MENOR DE EDAD",1,"USUARIO","MENOR DE EDAD",0]
["(+) DESCUENTOS FINALIZADOS EN EL PRESENTE MES Y EN EL PROXIMO",null,null,null,null,0,0,0,{"$f":"SUM(F10:H10)","v":0},null,{"$f":"IF((S4=0),\" \",\"¡¡¡   A T E N C I O N   !!!\")","v":{"$error":"#VALUE!"}},null,null,null,null,null,null,null,{"$f":"TASAS!H7","v":1.4499999999999999E-2},"TASA",null,null,null,null,null,null,null,null,null,2,"USUARIO","MENOR DE EDAD",2,"USUARIO","MENOR DE EDAD",0]
["(+) CUOTAS DE COMPRAS DE CARTERA",null,null,null,null,0,0,0,{"$f":"SUM(F11:H11)","v":0},null,{"$f":"IF((S4=0),\" \",\"La tasa máxima para ese monto y plazo es del\")","v":{"$error":"#VALUE!"}},null,null,null,null,null,null,null,{"$f":"TASAS!H8","v":1.4999999999999999E-2},"TASA",null,null,null,null,null,null,null,null,null,3,"USUARIO","MENOR DE EDAD",3,"USUARIO","MENOR DE EDAD",0]
["(-) VALOR ESTIMADO CUOTA DE CREDITO CON COOSERFIN",null,null,null,{"$f":"IF(($F$14=\"TASA\"),\" \",\"VR SOLICT\")","v":"VR SOLICT"},{"$f":"IF(F3>G20,FLOOR(G20,100000),F3)","v":"DIGITE EDAD"},0,0,{"$f":"IF($I$18>=0.1,\"VALOR TOTAL\",\"\")","v":"VALOR TOTAL"},null,null,null,null,null,null,null,null,null,{"$f":"TASAS!H9","v":1.55E-2},"TASA",null,null,null,null,null,null,null,null,null,4,"USUARIO","MENOR DE EDAD",4,"USUARIO","MENOR DE EDAD",0]
[null,null,null,null,{"$f":"IF(($F$14=\"TASA\"),\" \",\"PLAZO\")","v":"PLAZO"},{"$f":"F20","v":"DIGITE EDAD"},{"$f":"F13","v":"DIGITE EDAD"},{"$f":"F13","v":"DIGITE EDAD"},{"$f":"IF($I$18>=0.1,\"DE LA\",\"\")","v":"DE LA"},null,null,null,null,null,null,null,null,null,null,null,null,null,null,null,null,null,null,null,null,5,"USUARIO","MENOR DE EDAD",5,"USUARIO","MENOR DE EDAD",0]
[null,null,null,null,"FACTOR",2.3E-2,{"$f":"IF($F$14=\"TASA\",(0),$F$14)","v":2.3E-2},{"$f":"IF($F$14=\"TASA\",(0),$F$14)","v":2.3E-2},{"$f":"IF($I$18>=0.1,\"SOLICITUD\",\"\")","v":"SOLICITUD"},null,null,null,null,null,null,null,null,{"$f":"F3*1","v":{"$error":"#VALUE!"}},{"$f":"(PV(D29,F29,V15))*-1","v":{"$error":"#VALUE!"}},null,null,{"$f":"H20","v":"NO APLICA"},null,null,null,null,null,null,null,6,"USUARIO","MENOR DE EDAD",10,"USUARIO","MENOR DE EDAD",0]
[null,null,null,null,{"$f":"IF(($F$14=\"TASA\"),\" \",\"MESES GRACIA\")","v":"MESES GRACIA"},0,0,0,null,null,null,null,null,null,null,null,null,null,{"$f":"(IF(S14>R14,R14,FLOOR(S14,100000)))","v":{"$error":"#VALUE!"}},{"$f":"(PV(D29,F29,H20))*-1","v":{"$error":"#VALUE!"}},null,{"$f":"((V14*(1-T20))-T22-X17-X21)*0.99","v":{"$error":"#VALUE!"}},null,null,null,null,null,null,null,7,"USUARIO","MENOR DE EDAD",7,"USUARIO","MENOR DE EDAD",0]
[null,null,null,null,{"$f":"IF(($F$14=\"TASA\"),\" \",\"VR LIBRANZA\")","v":"VR LIBRANZA"},{"$f":"IF($I$18>=0,($F$17*F13),IF($I$18<0,\"\"))","v":{"$error":"#VALUE!"}},{"$f":"IF($I$18>=0,($G$17*G13),IF($I$18<0,\"\"))","v":{"$error":"#VALUE!"}},{"$f":"IF($I$18>=0,($H$17*H13),IF($I$18<0,\"\"))","v":{"$error":"#VALUE!"}},{"$f":"IF($I$18>=0,(F12+G12+H12),IF($I$18<0.1,\"\"))","v":{"$error":"#VALUE!"}},null,null,null,null,null,null,null,{"$f":"G20*1","v":{"$error":"#VALUE!"}},null,null,null,null,null,null,null,null,null,null,null,null,8,"USUARIO","MENOR DE EDAD",8,"USUARIO","MENOR DE EDAD",0]
[null,null,null,null,{"$f":"IF(($F$14=\"TASA\"),\" \",\"VR CUOTA\")","v":"VR CUOTA"},{"$f":"IF(($F$2=\"\"),\"RECUERDE\",ROUNDUP((((($F$12*$F$14))*($F$13+$F$15))+$F$12)/$F$13,0))","v":"RECUERDE"},{"$f":"IF(($F$2=\"\"),\"DIGITAR\",ROUNDUP((((($G$12*$G$14))*($G$13+$G$15))+$G$12)/$G$13,0))","v":"DIGITAR"},{"$f":"IF(($F$2=\"\"),\"LA EDAD\",ROUNDUP((((($H$12*$H$14))*($H$13+$H$15))+$H$12)/$H$13,0))","v":"LA EDAD"},{"$f":"SUM(F17:H17)","v":0},null,null,null,null,null,null,null,"VALOR CREDITO         :",null,null,{"$f":"T15","v":{"$error":"#VALUE!"}},null,"VALOR SEGURO          :",null,{"$f":"T17*Y26","v":{"$error":"#VALUE!"}},null,null,null,null,null,9,"USUARIO","MENOR DE EDAD",9,"USUARIO","MENOR DE EDAD",0]
[{"$f":"IF(($F$2=\"\"),\"RECUERDE DIGITAR ARRIBA LA EDAD\",\"MONTO Y PLAZO POSIBLES SEGÚN EDAD\")","v":"RECUERDE DIGITAR ARRIBA LA EDAD"},{"$f":"IF((F2 = \"\"),\"DIGITE\",VLOOKUP(F2,$AD$4:$AE$131,2,0))","v":"DIGITE"},null,{"$f":"IF((F2 = \"\"),\"LA EDAD\",VLOOKUP(F2,$AG$4:$AI$131,3,0))","v":"LA EDAD"},null,{"$f":"IF((I9-I17)>0,\"USUARIO CON CAPACIDAD DE PAGO\",IF(I9-I17<0,\"INTENTE CON OTROS MONTOS Y/O PLAZOS\"))","v":false},{"$f":"IF($L$13>=#REF!,\"USUARIO CON CAPACIDAD DE ENDEUDAMIENTO\",IF($L$13<#REF!,\"CREDITO INVIABLE INTENTE CON OTRO MONTO Y/O PLAZO\"))","v":{"$error":"#REF!"}},{"$f":"IF($L$13>=#REF!,\"USUARIO CON CAPACIDAD DE ENDEUDAMIENTO\",IF($L$13<#REF!,\"CREDITO INVIABLE INTENTE CON OTRO MONTO Y/O PLAZO\"))","v":{"$error":"#REF!"}},{"$f":"IF(((I9-I17)>0),(I9-I17),\"SIN CUPO\")","v":"SIN CUPO"},null,null,null,null,null,null,null,"TASA NOMINAL MENSUAL  :",null,null,{"$f":"D29","v":0},null,"TASA EFECTIVA ANUAL   :",null,{"$f":"((1+((T18*12)/12))^12)-1","v":0},null,null,null,null,null,10,"USUARIO","MENOR DE EDAD",10,"USUARIO","MENOR DE EDAD",0]
[{"$f":"IF($Y$24>0,\"MONTO MAXIMO DE ENDEUDAMIENTO - OPCION 1 CREDITO\",IF($Y$24<=0,\"EL SOLICITANTE NO TIENE POSIBILIDADES DE CREDITO\"))","v":"EL SOLICITANTE NO TIENE POSIBILIDADES DE CREDITO"},null,null,null,null,"PLAZO","MONTO MAX","VALOR CUOTA","VR LIBRANZA",null,null,null,null,null,null,null,"PLAZO EN MESES        :",null,null,{"$f":"F29","v":"DIGITE EDAD"},null,"CUOTA NETA            :",null,{"$f":"((((T18)*((1+(T18))^T19))/(((1+(T18))^T19)-1))*(T17+AA20))+(((((T17+AA20)*T18)/30)*T24)/T19)","v":{"$error":"#VALUE!"}},null,null,null,null,null,11,"USUARIO","MENOR DE EDAD",11,"USUARIO","MENOR DE EDAD",0]
[null,null,null,null,null,{"$f":"IF((F2 = \"\"),\"DIGITE EDAD\",VLOOKUP(F2,$AG$4:$AJ$131,4,0))","v":"DIGITE EDAD"},{"$f":"IF(($Y$24<=0),\"NO APLICA\",$I$20*100/((($F$14*100)*($F$20+$F$15))+100))","v":"NO APLICA"},{"$f":"IF(($Y$24<=0),\"NO APLICA\",($I$9))","v":"NO APLICA"},{"$f":"IF(($Y$24<=0),\"NO APLICA\",($F$20*$H$20))","v":"NO APLICA"},"*",null,null,null,null,null,null,"TASA COMISION RECAUDO :",null,null,0,null,"COMISION POR RECAUDO  :",null,{"$f":"((((((T18)*((1+(T18))^T19))/(((1+(T18))^T19)-1))*(T17+AA20))+(((((T17+AA20)*T18)/30)*T24)/T19)+T22+X17)*100)/(100-(T20*100))-(((((T18)*((1+(T18))^T19))/(((1+(T18))^T19)-1))*(T17+AA20))+(((((T17+AA20)*T18)/30)*T24)/T19)+T22+X17)","v":{"$error":"#VALUE!"}},null,null,{"$f":"T17*T21","v":{"$error":"#VALUE!"}},null,null,12,"USUARIO","MENOR DE EDAD",12,"USUARIO","MENOR DE EDAD",0]
[{"$f":"IF($Y$24>0,\"MONTO MAXIMO DE ENDEUDAMIENTO - OPCION 3 CREDITOS\",IF($Y$24<=0,\"EL SOLICITANTE NO TIENE POSIBILIDADES DE CREDITO\"))","v":"EL SOLICITANTE NO TIENE POSIBILIDADES DE CREDITO"},null,null,null,null,{"$f":"AJ6","v":144},{"$f":"IF(($Y$24<=0),\"NO APLICA\",$I$21*100/((($F$14*100)*($F$21+$F$15))+100))","v":"NO APLICA"},{"$f":"IF(($Y$24<=0),\"NO APLICA\",(($I$9+$I$10+$I$11))*0.425)","v":"NO APLICA"},{"$f":"IF(($Y$24<=0),\"NO APLICA\",($F$21*$H$21))","v":"NO APLICA"},null,null,null,null,null,null,null,"OTROS GASTOS          :",null,null,{"$f":"D31","v":0},null,"VALOR OTROS GASTOS    :",null,{"$f":"X24-AA22","v":{"$error":"#VALUE!"}},null,null,{"$f":"T26*T30","v":{"$error":"#VALUE!"}},null,null,13,"USUARIO","MENOR DE EDAD",13,"USUARIO","MENOR DE EDAD",0]
[null,null,null,null,null,{"$f":"AJ6","v":144},{"$f":"IF(($Y$24<=0),\"NO APLICA\",$I$22*100/((($F$14*100)*($F$22+$F$15))+100))","v":"NO APLICA"},{"$f":"IF(($Y$24<=0),\"NO APLICA\",(($I$9+$I$10+$I$11))*0.425)","v":"NO APLICA"},{"$f":"IF(($Y$24<=0),\"NO APLICA\",($F$22*$H$22))","v":"NO APLICA"},null,null,null,null,null,null,null,"APORTES SOCIALES      :",null,null,0,null,"FECHA DE INICIO       :",null,{"$f":"(T23+((T19+1)*29))-((T19-1)*29)","v":{"$error":"#VALUE!"}},null,null,{"$f":"((((T18)*((1+(T18))^T19))/(((1+(T18))^T19)-1))*T17)+((((T17*T18)/30)*T24)/T19)+T22+X17+X20","v":{"$error":"#VALUE!"}},null,null,14,"USUARIO","MENOR DE EDAD",14,"USUARIO","MENOR DE EDAD",0]
[null,null,null,null,null,12,{"$f":"IF(($Y$24<=0),\"NO APLICA\",$I$23*100/((($F$14*100)*($F$23+$F$15))+100))","v":"NO APLICA"},{"$f":"IF(($Y$24<=0),\"NO APLICA\",(($I$9+$I$10+$I$11))*0.15)","v":"NO APLICA"},{"$f":"IF(($Y$24<=0),\"NO APLICA\",($F$23*$H$23))","v":"NO APLICA"},null,null,null,null,null,null,null,"FECHA DESEMBOLSO      :",null,null,"2012-01-01",null,"FECHA DE TERMINO      :",null,{"$f":"(T23+((T19+1)*29))-((T19-1)*29)+((T19-1)*30)","v":{"$error":"#VALUE!"}},null,null,null,null,null,15,"USUARIO","MENOR DE EDAD",15,"USUARIO","MENOR DE EDAD",0]
[null,null,null,null,null,"TOTALES",{"$f":"SUM(G21:G23)","v":0},{"$f":"SUM(H21:H23)","v":0},{"$f":"SUM(I21:I23)","v":0},null,null,null,null,null,null,null,"DIAS DE GRACIA        :",null,null,{"$f":"D32","v":0},null,"TOTAL CUOTA MENSUAL   :",null,{"$f":"X19+T22+X20+X17","v":{"$error":"#VALUE!"}},{"$f":"$I$9+$I$10+$I$11","v":0},"PLAZO","MONTO MAX","VR MAX CUOTA","VALOR LZ",16,"USUARIO","MENOR DE EDAD",16,"USUARIO","MENOR DE EDAD",0]
[{"$f":"IF(I18>=0,\"OTRAS OPCIONES DE CREDITO DISPONIBLES\",IF(I18<0,\"INTENTE CON OTRO MONTO Y/O PLAZO\"))","v":"OTRAS OPCIONES DE CREDITO DISPONIBLES"},null,null,null,null,{"$f":"IF($AA$25<=$AC$29,12,IF($AA$25>$AC$29,\"NO APLICA\"))","v":{"$error":"#VALUE!"}},{"$f":"IF(AA25>$AC$29,\"NO APLICA\",IF(AA25<=$AC$29,FLOOR(AA25,10000)))","v":{"$error":"#VALUE!"}},{"$f":"IF($AA$25>$AC$29,\"NO APLICA\",IF(AA25<=$AC$29,((((G25*($F$14)*((F25+$F$15))+G25)/F25)))))","v":{"$error":"#VALUE!"}},{"$f":"IF($AA$25>$AC$29,\"NO APLICA\",IF(AA25<=$AC$29,(F25*H25)))","v":{"$error":"#VALUE!"}},null,null,null,null,null,null,null,null,null,null,null,null,null,null,null,"SEGURO",12,{"$f":"IF(($I$18>=0),AC25*100/((($F$14*100)*(Z25+$F$15))+100),\"\")","v":{"$error":"#VALUE!"}},{"$f":"IF(($I$18>=0),($I$17+$I$18),\"\")","v":{"$error":"#VALUE!"}},{"$f":"IF(($I$18>=0),(AB25*Z25),\"\")","v":{"$error":"#VALUE!"}},17,"USUARIO","MENOR DE EDAD",17,"USUARIO","MENOR DE EDAD",0]
[null,null,null,null,null,{"$f":"IF($AA$26<=$AC$29,24,IF($AA$26>$AC$29,\"NO APLICA\"))","v":{"$error":"#VALUE!"}},{"$f":"IF(AA26>$AC$29,\"NO APLICA\",IF(AA26<=$AC$29,FLOOR(AA26,10000)))","v":{"$error":"#VALUE!"}},{"$f":"IF($AA$26>$AC$29,\"NO APLICA\",IF(AA26<=$AC$29,((((G26*($F$14)*((F26+$F$15))+G26)/F26)))))","v":{"$error":"#VALUE!"}},{"$f":"IF($AA$26>$AC$29,\"NO APLICA\",IF(AA26<=$AC$29,(F26*H26)))","v":{"$error":"#VALUE!"}},null,null,null,null,null,null,null,"VALOR CREDITO         :",null,null,{"$f":"G29","v":{"$error":"#VALUE!"}},null,"VALOR SEGURO          :",null,{"$f":"T26*Y26","v":{"$error":"#VALUE!"}},{"$f":"IF((F2<66),(TASAS!C12),(VLOOKUP(F2,TASAS!B13:C27,2,0)))","v":1.15E-3},24,{"$f":"IF(($I$18>=0),AC26*100/((($F$14*100)*(Z26+$F$15))+100),\"\")","v":{"$error":"#VALUE!"}},{"$f":"IF(($I$18>=0),($I$17+$I$18),\"\")","v":{"$error":"#VALUE!"}},{"$f":"IF(($I$18>=0),(AB26*Z26),\"\")","v":{"$error":"#VALUE!"}},18,{"$f":"$AE$6","v":50000000},{"$f":"$AF$6","v":"NO HAY CODIGO"},18,{"$f":"$AH$6","v":0},{"$f":"$AI$6","v":"144 MESES"},{"$f":"$AJ$6","v":144}]
[null,null,null,null,null,{"$f":"IF($AA$27<=$AC$29,36,IF($AA$27>$AC$29,\"NO APLICA\"))","v":{"$error":"#VALUE!"}},{"$f":"IF(AA27>$AC$29,\"NO APLICA\",IF(AA27<=$AC$29,FLOOR(AA27,10000)))","v":{"$error":"#VALUE!"}},{"$f":"IF($AA$27>$AC$29,\"NO APLICA\",IF(AA27<=$AC$29,((((G27*($F$14)*((F27+$F$15))+G27)/F27)))))","v":{"$error":"#VALUE!"}},{"$f":"IF($AA$27>$AC$29,\"NO APLICA\",IF(AA27<=$AC$29,(F27*H27)))","v":{"$error":"#VALUE!"}},null,null,null,null,null,null,null,"TASA NOMINAL MENSUAL  :",null,null,{"$f":"T18","v":0},null,"TASA EFECTIVA ANUAL   :",null,{"$f":"((1+((T27*12)/12))^12)-1","v":0},null,36,{"$f":"IF(($I$18>=0),AC27*100/((($F$14*100)*(Z27+$F$15))+100),\"\")","v":{"$error":"#VALUE!"}},{"$f":"IF(($I$18>=0),($I$17+$I$18),\"\")","v":{"$error":"#VALUE!"}},{"$f":"IF(($I$18>=0),(AB27*Z27),\"\")","v":{"$error":"#VALUE!"}},19,{"$f":"$AE$6","v":50000000},{"$f":"$AF$6","v":"NO HAY CODIGO"},19,{"$f":"$AH$6","v":0},{"$f":"$AI$6","v":"144 MESES"},{"$f":"$AJ$6","v":144}]
[null,null,null,null,null,{"$f":"IF($AA$28<=$AC$29,48,IF($AA$28>$AC$29,\"NO APLICA\"))","v":{"$error":"#VALUE!"}},{"$f":"IF(AA28>$AC$29,\"NO APLICA\",IF(AA28<=$AC$29,FLOOR(AA28,10000)))","v":{"$error":"#VALUE!"}},{"$f":"IF($AA$28>$AC$29,\"NO APLICA\",IF(AA28<=$AC$29,((((G28*($F$14)*((F28+$F$15))+G28)/F28)))))","v":{"$error":"#VALUE!"}},{"$f":"IF($AA$28>$AC$29,\"NO APLICA\",IF(AA28<=$AC$29,(F28*H28)))","v":{"$error":"#VALUE!"}},null,null,null,null,null,null,null,"PLAZO EN MESES        :",null,null,"DIGITE EDAD",null,"CUOTA NETA            :",null,{"$f":"((((T27)*((1+(T27))^T28))/(((1+(T27))^T28)-1))*(T26+AA21))+(((((T26+AA21)*T27)/30)*T33)/T28)","v":{"$error":"#VALUE!"}},null,48,{"$f":"IF(($I$18>=0),AC28*100/((($F$14*100)*(Z28+$F$15))+100),\"\")","v":{"$error":"#VALUE!"}},{"$f":"IF(($I$18>=0),($I$17+$I$18),\"\")","v":{"$error":"#VALUE!"}},{"$f":"IF(($I$18>=0),(AB28*Z28),\"\")","v":{"$error":"#VALUE!"}},20,50000000,"NO HAY CODIGO",20,0,"144 MESES",144]
["LIBRE INVERSION - COBRO DE AVAL ANTICIPADO",null,null,0,"N.M.V.",{"$f":"F20","v":"DIGITE EDAD"},{"$f":"S15","v":{"$error":"#VALUE!"}},"  VR CUOTA   ",{"$f":"((((T27)*((1+(T27))^T28))/(((1+(T27))^T28)-1))*(G29+AA21))+(((((G29+AA21)*T27)/30)*T33)/T28)+T31+X26+X29+X30","v":{"$error":"#VALUE!"}},null,{"$f":"IF((S4=0),\" \",S3)","v":{"$error":"#VALUE!"}},null,null,null,null,null,"TASA COMISION RECAUDO :",null,null,0,null,"COMISION POR RECAUDO  :",null,{"$f":"((((((T27)*((1+(T27))^T28))/(((1+(T27))^T28)-1))*(T26+AA21))+(((((T26+AA21)*T27)/30)*T33)/T28)+T31+X26)*100)/(100-(T29*100))-(((((T27)*((1+(T27))^T28))/(((1+(T27))^T28)-1))*(T26+AA21))+(((((T26+AA21)*T27)/30)*T33)/T28)+T31+X26)","v":{"$error":"#VALUE!"}},null,null,null,"MONTO MAXIMO POR CLIENTE",50000000,21,50000000,"NO HAY CODIGO",21,0,"144 MESES",144]
[null,null,null,{"$f":"((1+((D29*12)/12))^12)-1","v":0}," E. A.",{"$f":"IF(I30>=0,\"USUARIO CON CAPACIDAD DE PAGO\",IF(I30<0,\"INTENTE CON OTRO MONTO Y/O PLAZO\"))","v":{"$error":"#VALUE!"}},null,null,{"$f":"I9-I29","v":{"$error":"#VALUE!"}},null,{"$f":"IF(D29=TASAS!H3,\"Tasa para clientes con puntaje > a 750 y sin procesos\",\" \")","v":" "},null,null,null,null,null,"OTROS GASTOS          :",null,null,0,null,"VALOR OTROS GASTOS    :",null,null,null,null,null,null,null,22,50000000,"NO HAY CODIGO",22,0,"144 MESES",144]
[null,null,null,0," O. G.","% AVAL","VALOR AVAL ","A GIRAR",null,null,{"$f":"IF(D29=TASAS!H4,\"Tasa para clientes con puntaje entre 650 - 749 y sin procesos\",\" \")","v":" "},null,null,null,null,null,"APORTES SOCIALES      :",null,null,0,null,"FECHA DE INICIO       :",null,{"$f":"(T32+((T28+1)*29))-((T28-1)*29)","v":{"$error":"#VALUE!"}},null,null,null,null,null,23,50000000,"NO HAY CODIGO",23,0,"144 MESES",144]
[null,null,null,0," D. G.",0.09,{"$f":"G29*F32","v":{"$error":"#VALUE!"}},{"$f":"G29-G32","v":{"$error":"#VALUE!"}},null,null,null,null,null,null,null,null,"FECHA DESEMBOLSO      :",null,null,"2012-01-01",null,"FECHA DE TERMINO      :",null,{"$f":"(T32+((T28+1)*29))-((T28-1)*29)+((T28-1)*30)","v":{"$error":"#VALUE!"}},null,null,null,null,null,24,50000000,"NO HAY CODIGO",24,0,"144 MESES",144]
[null,null,null,"% Simple",{"$f":"(((I29*F29)-G29)/G29)/F29","v":{"$error":"#VALUE!"}},null,"VR MENSUAL x 1 MM",{"$f":"I29/(G29/1000000)","v":{"$error":"#VALUE!"}},null,null,null,null,null,null,null,null,"DIAS DE GRACIA        :",null,null,0,null,"TOTAL CUOTA MENSUAL   :",null,{"$f":"X28+T31+X29+X26","v":{"$error":"#VALUE!"}},null,null,null,null,null,25,50000000,"NO HAY CODIGO",25,0,"144 MESES",144]
[null,null,null,null,null,"COMPRA O AMPLIACION 1",null,0,null,"FIDELIZACIÓN","VR CRÉDITO","VR CUOTA ","PLAZO"," VR AVAL","SALDO","A GIRAR",null,null,null,null,null,null,null,null,null,null,null,null,null,26,50000000,"NO HAY CODIGO",26,0,"144 MESES",144]
["Vr. Crédito",null,null,{"$f":"G29","v":{"$error":"#VALUE!"}},null,"COMPRA O AMPLIACION 2",null,0,"LIBRE INV",null,0,0,0,0,0,{"$f":"K35-N35-O35","v":0},null,null,null,null,null,null,null,null,null,null,null,null,null,27,50000000,"NO HAY CODIGO",27,0,"144 MESES",144]
["Aval",null,null,{"$f":"G32","v":{"$error":"#VALUE!"}},null,"COMPRA O AMPLIACION 3",null,0,"AMPLIACION","LZ A",0,0,0,0,0,{"$f":"K36-N36-O36","v":0},null,null,null,null,null,null,null,null,null,null,null,null,null,28,50000000,"NO HAY CODIGO",28,0,"144 MESES",144]
["Compra(s) / Saneamiento(s) / Ampiación(es)",null,null,{"$f":"SUM(H34:H37)","v":0},null,"COMPRA O AMPLIACION 4",null,0,"COMPRA","OPERADOR ?",0,0,0,0,0,{"$f":"K37-N37-O37","v":0},null,null,null,null,null,null,null,null,null,null,null,null,null,29,50000000,"NO HAY CODIGO",29,0,"144 MESES",144]
["Vr. Desembolso",null,null,{"$f":"D35-D36-D37","v":{"$error":"#VALUE!"}},{"$f":"IF(((D38-H38)>0),\"ERROR\",IF((D38-H38)=0,\" \"))","v":{"$error":"#VALUE!"}},"NETO A GIRAR",null,{"$f":"H32-H34-H35-H36-H37","v":{"$error":"#VALUE!"}},"COMPRA","OPERADOR ?",0,0,0,0,0,{"$f":"K38-N38-O38","v":0},null,null,null,null,null,null,null,null,null,null,null,null,null,30,50000000,"NO HAY CODIGO",30,0,"144 MESES",144]
["Vr. Cuota",null,null,{"$f":"I29","v":{"$error":"#VALUE!"}},null,{"$f":"IF(((F3-G29)<0),\"¡¡¡ A T E N C I Ó N !!!\",IF((F3-G29)>=0,\" \"))","v":{"$error":"#VALUE!"}},null,null,null,null,null,null,null,null,null,null,null,null,null,null,null,null,null,null,null,null,null,null,null,31,50000000,"NO HAY CODIGO",31,0,"144 MESES",144]
["Plazo",null,null,{"$f":"F29","v":"DIGITE EDAD"},null,{"$f":"IF(((F3-G29)<0),\"EL MONTO EXCEDE LIMITE PARA ESA EDAD\",IF((F3-G29)>=0,\" \"))","v":{"$error":"#VALUE!"}},null,null,null,null,null,null,null,null,null,null,null,null,null,null,null,null,null,null,null,null,null,null,null,32,50000000,"NO HAY CODIGO",32,0,"144 MESES",144]
[null,null,null,null,null,null,null,null,null,null,null,null,null,null,null,null,null,null,null,null,null,null,null,null,null,null,null,null,null,37,50000000,"NO HAY CODIGO",37,0,"144 MESES",144]
["REQUISITOS PARA SOLICITUD DE CREDITO:",null,null,null,null,null,null,null,null,null,null,null,null,null,null,null,null,null,null,null,null,null,null,null,null,null,null,null,null,38,50000000,"NO HAY CODIGO",38,0,"144 MESES",144]
["1. Desprendible de pago del último mes",null,null,null,null,null,null,null,null,null,null,null,null,null,null,null,null,null,null,null,null,null,null,null,null,null,null,null,null,39,50000000,"NO HAY CODIGO",39,0,"144 MESES",144]
["2. Una (1) fotocopia de la cédula de ciudadanía ampliada al 150% en blanco y negro, con firma y huella",null,null,null,null,null,null,null,null,null,null,null,null,null,null,null,null,null,null,null,null,null,null,null,null,null,null,null,null,40,50000000,"NO HAY CODIGO",40,0,"144 MESES",144]
["3. Dos (2) formatos de autorización de descuento exclusivos para fondos privados. Se descargan aquí",null,null,null,null,null,null,null,null,null,null,null,null,null,null,null,null,null,null,null,null,null,null,null,null,null,null,null,null,41,50000000,"NO HAY CODIGO",41,0,"144 MESES",144]
["https://coserfin.co/panelwi/upload/2ef270_AUTORIZACION%20DESCUENTO%20FONDOS%20PRIVADOS.pdf",null,null,null,null,null,null,null,null,null,null,null,null,null,null,null,null,null,null,null,null,null,null,null,null,null,null,null,null,42,50000000,"NO HAY CODIGO",42,0,"144 MESES",144]
["4. Dos (2) formatos de autorización de descuento AUTENTICADOS. Se descargan aquí:",null,null,null,null,null,null,null,null,null,null,null,null,null,null,null,null,null,null,null,null,null,null,null,null,null,null,null,null,43,50000000,"NO HAY CODIGO",43,0,"144 MESES",144]
["https://coserfin.co/panelwi/upload/49b51d_AUTORIZACION%20DESCUENTO%20SEGUROS%20ALFA%20PORVENIR%20CO%20Y%20P%20A.pdf",null,null,null,null,null,null,null,null,null,null,null,null,null,null,null,null,null,null,null,null,null,null,null,null,null,null,null,null,44,50000000,"NO HAY CODIGO",44,0,"144 MESES",144]
["5. Para compra de cartera, se requiere la firma del siguiente formato",null,null,null,null,null,null,null,null,null,null,null,null,null,null,null,null,null,null,null,null,null,null,null,null,null,null,null,null,45,50000000,"NO HAY CODIGO",45,0,"144 MESES",144]
["https://coserfin.co/panelwi/upload/e254a9_COMPRA%20DE%20CARTERA%20GENERAL%20CO%20Y%20CR.pdf",null,null,null,null,null,null,null,null,null,null,null,null,null,null,null,null,null,null,null,null,null,null,null,null,null,null,null,null,46,50000000,"NO HAY CODIGO",46,0,"144 MESES",144]
["6. Si el solicitante es pensionado por perdida psicofisica, se requiere resolución de reconocmiento de la pensión y dictamen médico",null,null,null,null,null,null,null,null,null,null,null,null,null,null,null,null,null,null,null,null,null,null,null,null,null,null,null,null,47,50000000,"NO HAY CODIGO",47,0,"144 MESES",144]
["7. No requiere codeudor, pero es necesario cobro de aval",null,null,null,null,null,null,null,null,null,null,null,null,null,null,null,null,null,null,null,null,null,null,null,null,null,null,null,null,48,50000000,"NO HAY CODIGO",48,0,"144 MESES",144]
[null,null,null,null,null,null,null,null,null,null,null,null,null,null,null,null,null,null,null,null,null,null,null,null,null,null,null,null,null,49,50000000,"NO HAY CODIGO",49,0,"144 MESES",144]
["INCORPORACIÓN DEL DESCUENTO Y TIEMPO DE DESEMBOLSO:",null,null,null,null,null,null,null,null,null,null,null,null,null,null,null,null,null,null,null,null,null,null,null,null,null,null,null,null,50,50000000,"NO HAY CODIGO",50,0,"144 MESES",144]
["1. Las novedades se envían una (1) vez por semana, entre los días cinco (5) y catorce (14) de cada mes y",null,null,null,null,null,null,null,null,null,null,null,null,null,null,null,null,null,null,null,null,null,null,null,null,null,null,null,null,51,50000000,"NO HAY CODIGO",51,0,"144 MESES",144]
["     la respuesta se recibe de ocho (8) a quince (15) días habiles después",null,null,null,null,null,null,null,null,null,null,null,null,null,null,null,null,null,null,null,null,null,null,null,null,null,null,null,null,52,50000000,"NO HAY CODIGO",52,0,"144 MESES",144]
["2. El descuento opera para el mismo mes SEGUROS DE VIDA ALFA",null,null,null,null,null,null,null,null,null,null,null,null,null,null,null,null,null,null,null,null,null,null,null,null,null,null,null,null,53,50000000,"NO HAY CODIGO",53,0,"144 MESES",144]
["3. El desembolso se realiza únicamente cuando se confirma la incorporación del descuento, es decir",null,null,null,null,null,null,null,null,null,null,null,null,null,null,null,null,null,null,null,null,null,null,null,null,null,null,null,null,54,50000000,"NO HAY CODIGO",54,0,"144 MESES",144]
["    aproximadamente entre ocho (8) a quince (15) días habiles después de enviada la libranza a visación",null,null,null,null,null,null,null,null,null,null,null,null,null,null,null,null,null,null,null,null,null,null,null,null,null,null,null,null,55,50000000,"NO HAY CODIGO",55,0,"144 MESES",144]
["4. Cuando se trata de compras de cartera, es necesario que el operador de libranza suspenda el descuento del crédito que se está comprando",null,null,null,null,null,null,null,null,null,null,null,null,null,null,null,null,null,null,null,null,null,null,null,null,null,null,null,null,56,50000000,"NO HAY CODIGO",56,0,"144 MESES",144]
["    para que permita el ingreso de nuestro descuento",null,null,null,null,null,null,null,null,null,null,null,null,null,null,null,null,null,null,null,null,null,null,null,null,null,null,null,null,57,50000000,"NO HAY CODIGO",57,0,"144 MESES",144]
["5. Todas las fechas descritas son aproximadas y pueden cambiar cada mes",null,null,null,null,null,null,null,null,null,null,null,null,null,null,null,null,null,null,null,null,null,null,null,null,null,null,null,null,58,50000000,"NO HAY CODIGO",58,0,"144 MESES",144]
[null,null,null,null,null,null,null,null,null,null,null,null,null,null,null,null,null,null,null,null,null,null,null,null,null,null,null,null,null,59,50000000,"NO HAY CODIGO",59,0,"144 MESES",144]
["DOCUMENTOS DE IDENTIFICACION VALIDOS PARA TODAS LAS ENTIDADES:",null,null,null,null,null,null,null,null,null,null,null,null,null,null,null,null,null,null,null,null,null,null,null,null,null,null,null,null,60,50000000,"NO HAY CODIGO",60,0,"144 MESES",144]
["1. Coia de la licencia de conducción",null,null,null,null,null,null,null,null,null,null,null,null,null,null,null,null,null,null,null,null,null,null,null,null,null,null,null,null,61,50000000,"NO HAY CODIGO",61,0,"144 MESES",144]
["2. Copia de la tarjeta de propeidad de un vehiculo o moto.",null,null,null,null,null,null,null,null,null,null,null,null,null,null,null,null,null,null,null,null,null,null,null,null,null,null,null,null,62,50000000,"NO HAY CODIGO",62,0,"144 MESES",144]
["3. Copia del carné de la EPS",null,null,null,null,null,null,null,null,null,null,null,null,null,null,null,null,null,null,null,null,null,null,null,null,null,null,null,null,63,50000000,"NO HAY CODIGO",63,0,"144 MESES",144]
["4. Copia de un recibo de pago de servicio público del inmueble donde reside el solicitante, a nombre del mismo",null,null,null,null,null,null,null,null,null,null,null,null,null,null,null,null,null,null,null,null,null,null,null,null,null,null,null,null,64,50000000,"NO HAY CODIGO",64,0,"144 MESES",144]
["5. Copia de un extracto de cuenta bancaria, preferiblemente la de nómina o pensión",null,null,null,null,null,null,null,null,null,null,null,null,null,null,null,null,null,null,null,null,null,null,null,null,null,null,null,null,65,50000000,"NO HAY CODIGO",65,0,"144 MESES",144]
["6. Copia de un extracto de tarjeta de crédito",null,null,null,null,null,null,null,null,null,null,null,null,null,null,null,null,null,null,null,null,null,null,null,null,null,null,null,null,66,50000000,"NO HAY CODIGO",66,0,"144 MESES",144]
["7. Copia de una tarjeta de crédito",null,null,null,null,null,null,null,null,null,null,null,null,null,null,null,null,null,null,null,null,null,null,null,null,null,null,null,null,67,50000000,"NO HAY CODIGO",67,0,"144 MESES",144]
["8. Copia de un carné de afiliación a un club, asociación o cooperativa",null,null,null,null,null,null,null,null,null,null,null,null,null,null,null,null,null,null,null,null,null,null,null,null,null,null,null,null,68,50000000,"NO HAY CODIGO",68,0,"144 MESES",144]
["9. Copia de una fórmula médica",null,null,null,null,null,null,null,null,null,null,null,null,null,null,null,null,null,null,null,null,null,null,null,null,null,null,null,null,69,50000000,"NO HAY CODIGO",69,0,{"$f":"$AI$6","v":"144 MESES"},144]
[null,null,null,null,null,null,null,null,null,null,null,null,null,null,null,null,null,null,null,null,null,null,null,null,null,null,null,null,null,70,50000000,"NO HAY CODIGO",70,0,"144 MESES",144]
[null,null,null,null,null,null,null,null,null,null,null,null,null,null,null,null,null,null,null,null,null,null,null,null,null,null,null,null,null,71,{"$f":"$AE$7","v":20000000},{"$f":"$AF$7","v":"NO HAY CODIGO"},71,0,"144 MESES",144]
[null,null,null,null,null,null,null,null,null,null,null,null,null,null,null,null,null,null,null,null,null,null,null,null,null,null,null,null,null,72,{"$f":"$AE$7","v":20000000},{"$f":"$AF$7","v":"NO HAY CODIGO"},72,0,"144 MESES",144]
[null,null,null,null,null,null,null,null,null,null,null,null,null,null,null,null,null,null,null,null,null,null,null,null,null,null,null,null,null,73,{"$f":"$AE$7","v":20000000},{"$f":"$AF$7","v":"NO HAY CODIGO"},73,0,"144 MESES",144]
[null,null,null,null,null,null,null,null,null,null,null,null,null,null,null,null,null,null,null,null,null,null,null,null,null,null,null,null,null,74,{"$f":"$AE$7","v":20000000},{"$f":"$AF$7","v":"NO HAY CODIGO"},74,0,"144 MESES",144]
[null,null,null,null,null,null,null,null,null,null,null,null,null,null,null,null,null,null,null,null,null,null,null,null,null,null,null,null,null,75,{"$f":"$AE$5","v":10000000},{"$f":"$AF$5","v":"NO HAY CODIGO"},75,{"$f":"$AH$5","v":0},{"$f":"$AI$5","v":"60 MESES"},{"$f":"$AJ$5","v":60}]
[null,null,null,null,null,null,null,null,null,null,null,null,null,null,null,null,null,null,null,null,null,null,null,null,null,null,null,null,null,76,{"$f":"$AE$5","v":10000000},{"$f":"$AF$5","v":"NO HAY CODIGO"},76,{"$f":"$AH$5","v":0},{"$f":"$AI$5","v":"60 MESES"},{"$f":"$AJ$5","v":60}]
[null,null,null,null,null,null,null,null,null,null,null,null,null,null,null,null,null,null,null,null,null,null,null,null,null,null,null,null,null,77,{"$f":"$AE$5","v":10000000},{"$f":"$AF$5","v":"NO HAY CODIGO"},77,{"$f":"$AH$5","v":0},{"$f":"$AI$5","v":"60 MESES"},{"$f":"$AJ$5","v":60}]
[null,null,null,null,null,null,null,null,null,null,null,null,null,null,null,null,null,null,null,null,null,null,null,null,null,null,null,null,null,78,{"$f":"$AE$5","v":10000000},{"$f":"$AF$5","v":"NO HAY CODIGO"},78,{"$f":"$AH$5","v":0},{"$f":"$AI$5","v":"60 MESES"},{"$f":"$AJ$5","v":60}]
[null,null,null,null,null,null,null,null,null,null,null,null,null,null,null,null,null,null,null,null,null,null,null,null,null,null,null,null,null,79,{"$f":"$AE$5","v":10000000},{"$f":"$AF$5","v":"NO HAY CODIGO"},79,{"$f":"$AH$5","v":0},{"$f":"$AI$5","v":"60 MESES"},{"$f":"$AJ$5","v":60}]
[null,null,null,null,null,null,null,null,null,null,null,null,null,null,null,null,null,null,null,null,null,null,null,null,null,null,null,null,null,80,"SUPERA EDAD","SUPERA EDAD",80,"SUPERA EDAD","PARA SOLICITAR CREDITO",0]
[null,null,null,null,null,null,null,null,null,null,null,null,null,null,null,null,null,null,null,null,null,null,null,null,null,null,null,null,null,81,"SUPERA EDAD","SUPERA EDAD",81,"SUPERA EDAD","PARA SOLICITAR CREDITO",0]
[null,null,null,null,null,null,null,null,null,null,null,null,null,null,null,null,null,null,null,null,null,null,null,null,null,null,null,null,null,82,"SUPERA EDAD","SUPERA EDAD",82,"SUPERA EDAD","PARA SOLICITAR CREDITO",0]
[null,null,null,null,null,null,null,null,null,null,null,null,null,null,null,null,null,null,null,null,null,null,null,null,null,null,null,null,null,83,"SUPERA EDAD","SUPERA EDAD",83,"SUPERA EDAD","PARA SOLICITAR CREDITO",0]
[null,null,null,null,null,null,null,null,null,null,null,null,null,null,null,null,null,null,null,null,null,null,null,null,null,null,null,null,null,84,"SUPERA EDAD","SUPERA EDAD",84,"SUPERA EDAD","PARA SOLICITAR CREDITO",0]
[null,null,null,null,null,null,null,null,null,null,null,null,null,null,null,null,null,null,null,null,null,null,null,null,null,null,null,null,null,85,"SUPERA EDAD","SUPERA EDAD",85,"SUPERA EDAD","PARA SOLICITAR CREDITO",0]
[null,null,null,null,null,null,null,null,null,null,null,null,null,null,null,null,null,null,null,null,null,null,null,null,null,null,null,null,null,86,"SUPERA EDAD","SUPERA EDAD",86,"SUPERA EDAD","PARA SOLICITAR CREDITO",0]
[null,null,null,null,null,null,null,null,null,null,null,null,null,null,null,null,null,null,null,null,null,null,null,null,null,null,null,null,null,87,"SUPERA EDAD","SUPERA EDAD",87,"SUPERA EDAD","PARA SOLICITAR CREDITO",0]
[null,null,null,null,null,null,null,null,null,null,null,null,null,null,null,null,null,null,null,null,null,null,null,null,null,null,null,null,null,88,"SUPERA EDAD","SUPERA EDAD",88,"SUPERA EDAD","PARA SOLICITAR CREDITO",0]
[null,null,null,null,null,null,null,null,null,null,null,null,null,null,null,null,null,null,null,null,null,null,null,null,null,null,null,null,null,89,"SUPERA EDAD","SUPERA EDAD",89,"SUPERA EDAD","PARA SOLICITAR CREDITO",0]
[null,null,null,null,null,null,null,null,null,null,null,null,null,null,null,null,null,null,null,null,null,null,null,null,null,null,null,null,null,90,"SUPERA EDAD","SUPERA EDAD",90,"SUPERA EDAD","PARA SOLICITAR CREDITO",0]
[null,null,null,null,null,null,null,null,null,null,null,null,null,null,null,null,null,null,null,null,null,null,null,null,null,null,null,null,null,91,"SUPERA EDAD","SUPERA EDAD",91,"SUPERA EDAD","PARA SOLICITAR CREDITO",0]
[null,null,null,null,null,null,null,null,null,null,null,null,null,null,null,null,null,null,null,null,null,null,null,null,null,null,null,null,null,92,"SUPERA EDAD","SUPERA EDAD",92,"SUPERA EDAD","PARA SOLICITAR CREDITO",0]
[null,null,null,null,null,null,null,null,null,null,null,null,null,null,null,null,null,null,null,null,null,null,null,null,null,null,null,null,null,93,"SUPERA EDAD","SUPERA EDAD",93,"SUPERA EDAD","PARA SOLICITAR CREDITO",0]
[null,null,null,null,null,null,null,null,null,null,null,null,null,null,null,null,null,null,null,null,null,null,null,null,null,null,null,null,null,94,"SUPERA EDAD","SUPERA EDAD",94,"SUPERA EDAD","PARA SOLICITAR CREDITO",0]
[null,null,null,null,null,null,null,null,null,null,null,null,null,null,null,null,null,null,null,null,null,null,null,null,null,null,null,null,null,95,"SUPERA EDAD","SUPERA EDAD",95,"SUPERA EDAD","PARA SOLICITAR CREDITO",0]
[null,null,null,null,null,null,null,null,null,null,null,null,null,null,null,null,null,null,null,null,null,null,null,null,null,null,null,null,null,96,"SUPERA EDAD","SUPERA EDAD",96,"SUPERA EDAD","PARA SOLICITAR CREDITO",0]
[null,null,null,null,null,null,null,null,null,null,null,null,null,null,null,null,null,null,null,null,null,null,null,null,null,null,null,null,null,97,"SUPERA EDAD","SUPERA EDAD",97,"SUPERA EDAD","PARA SOLICITAR CREDITO",0]
[null,null,null,null,null,null,null,null,null,null,null,null,null,null,null,null,null,null,null,null,null,null,null,null,null,null,null,null,null,98,"SUPERA EDAD","SUPERA EDAD",98,"SUPERA EDAD","PARA SOLICITAR CREDITO",0]
[null,null,null,null,null,null,null,null,null,null,null,null,null,null,null,null,null,null,null,null,null,null,null,null,null,null,null,null,null,99,"SUPERA EDAD","SUPERA EDAD",99,"SUPERA EDAD","PARA SOLICITAR CREDITO",0]
[null,null,null,null,null,null,null,null,null,null,null,null,null,null,null,null,null,null,null,null,null,null,null,null,null,null,null,null,null,100,"SUPERA EDAD","SUPERA EDAD",100,"SUPERA EDAD","PARA SOLICITAR CREDITO",0]
[null,null,null,null,null,null,null,null,null,null,null,null,null,null,null,null,null,null,null,null,null,null,null,null,null,null,null,null,null,101,"SUPERA EDAD","SUPERA EDAD",101,"SUPERA EDAD","PARA SOLICITAR CREDITO",0]
[null,null,null,null,null,null,null,null,null,null,null,null,null,null,null,null,null,null,null,null,null,null,null,null,null,null,null,null,null,102,"SUPERA EDAD","SUPERA EDAD",102,"SUPERA EDAD","PARA SOLICITAR CREDITO",0]
[null,null,null,null,null,null,null,null,null,null,null,null,null,null,null,null,null,null,null,null,null,null,null,null,null,null,null,null,null,103,"SUPERA EDAD","SUPERA EDAD",103,"SUPERA EDAD","PARA SOLICITAR CREDITO",0]
[null,null,null,null,null,null,null,null,null,null,null,null,null,null,null,null,null,null,null,null,null,null,null,null,null,null,null,null,null,104,"SUPERA EDAD","SUPERA EDAD",104,"SUPERA EDAD","PARA SOLICITAR CREDITO",0]
[null,null,null,null,null,null,null,null,null,null,null,null,null,null,null,null,null,null,null,null,null,null,null,null,null,null,null,null,null,105,"SUPERA EDAD","SUPERA EDAD",105,"SUPERA EDAD","PARA SOLICITAR CREDITO",0]
[null,null,null,null,null,null,null,null,null,null,null,null,null,null,null,null,null,null,null,null,null,null,null,null,null,null,null,null,null,106,"SUPERA EDAD","SUPERA EDAD",106,"SUPERA EDAD","PARA SOLICITAR CREDITO",0]
[null,null,null,null,null,null,null,null,null,null,null,null,null,null,null,null,null,null,null,null,null,null,null,null,null,null,null,null,null,107,"SUPERA EDAD","SUPERA EDAD",107,"SUPERA EDAD","PARA SOLICITAR CREDITO",0]
[null,null,null,null,null,null,null,null,null,null,null,null,null,null,null,null,null,null,null,null,null,null,null,null,null,null,null,null,null,108,"SUPERA EDAD","SUPERA EDAD",108,"SUPERA EDAD","PARA SOLICITAR CREDITO",0]
[null,null,null,null,null,null,null,null,null,null,null,null,null,null,null,null,null,null,null,null,null,null,null,null,null,null,null,null,null,109,"SUPERA EDAD","SUPERA EDAD",109,"SUPERA EDAD","PARA SOLICITAR CREDITO",0]
[null,null,null,null,null,null,null,null,null,null,null,null,null,null,null,null,null,null,null,null,null,null,null,null,null,null,null,null,null,110,"SUPERA EDAD","SUPERA EDAD",110,"SUPERA EDAD","PARA SOLICITAR CREDITO",0]
[null,null,null,null,null,null,null,null,null,null,null,null,null,null,null,null,null,null,null,null,null,null,null,null,null,null,null,null,null,111,"SUPERA EDAD","SUPERA EDAD",111,"SUPERA EDAD","PARA SOLICITAR CREDITO",0]
[null,null,null,null,null,null,null,null,null,null,null,null,null,null,null,null,null,null,null,null,null,null,null,null,null,null,null,null,null,112,"SUPERA EDAD","SUPERA EDAD",112,"SUPERA EDAD","PARA SOLICITAR CREDITO",0]
[null,null,null,null,null,null,null,null,null,null,null,null,null,null,null,null,null,null,null,null,null,null,null,null,null,null,null,null,null,113,"SUPERA EDAD","SUPERA EDAD",113,"SUPERA EDAD","PARA SOLICITAR CREDITO",0]
[null,null,null,null,null,null,null,null,null,null,null,null,null,null,null,null,null,null,null,null,null,null,null,null,null,null,null,null,null,114,"SUPERA EDAD","SUPERA EDAD",114,"SUPERA EDAD","PARA SOLICITAR CREDITO",0]
[null,null,null,null,null,null,null,null,null,null,null,null,null,null,null,null,null,null,null,null,null,null,null,null,null,null,null,null,null,115,"SUPERA EDAD","SUPERA EDAD",115,"SUPERA EDAD","PARA SOLICITAR CREDITO",0]
[null,null,null,null,null,null,null,null,null,null,null,null,null,null,null,null,null,null,null,null,null,null,null,null,null,null,null,null,null,116,"SUPERA EDAD","SUPERA EDAD",116,"SUPERA EDAD","PARA SOLICITAR CREDITO",0]
[null,null,null,null,null,null,null,null,null,null,null,null,null,null,null,null,null,null,null,null,null,null,null,null,null,null,null,null,null,117,"SUPERA EDAD","SUPERA EDAD",117,"SUPERA EDAD","PARA SOLICITAR CREDITO",0]
[null,null,null,null,null,null,null,null,null,null,null,null,null,null,null,null,null,null,null,null,null,null,null,null,null,null,null,null,null,118,"SUPERA EDAD","SUPERA EDAD",118,"SUPERA EDAD","PARA SOLICITAR CREDITO",0]
[null,null,null,null,null,null,null,null,null,null,null,null,null,null,null,null,null,null,null,null,null,null,null,null,null,null,null,null,null,119,"SUPERA EDAD","SUPERA EDAD",119,"SUPERA EDAD","PARA SOLICITAR CREDITO",0]
[null,null,null,null,null,null,null,null,null,null,null,null,null,null,null,null,null,null,null,null,null,null,null,null,null,null,null,null,null,120,"SUPERA EDAD","SUPERA EDAD",120,"SUPERA EDAD","PARA SOLICITAR CREDITO",0]
[null,null,null,null,null,null,null,null,null,null,null,null,null,null,null,null,null,null,null,null,null,null,null,null,null,null,null,null,null,121,"SUPERA EDAD","SUPERA EDAD",121,"SUPERA EDAD","PARA SOLICITAR CREDITO",0]
[null,null,null,null,null,null,null,null,null,null,null,null,null,null,null,null,null,null,null,null,null,null,null,null,null,null,null,null,null,122,"SUPERA EDAD","SUPERA EDAD",122,"SUPERA EDAD","PARA SOLICITAR CREDITO",0]
[null,null,null,null,null,null,null,null,null,null,null,null,null,null,null,null,null,null,null,null,null,null,null,null,null,null,null,null,null,123,"SUPERA EDAD","SUPERA EDAD",123,"SUPERA EDAD","PARA SOLICITAR CREDITO",0]
[null,null,null,null,null,null,null,null,null,null,null,null,null,null,null,null,null,null,null,null,null,null,null,null,null,null,null,null,null,124,"SUPERA EDAD","SUPERA EDAD",124,"SUPERA EDAD","PARA SOLICITAR CREDITO",0]
[null,null,null,null,null,null,null,null,null,null,null,null,null,null,null,null,null,null,null,null,null,null,null,null,null,null,null,null,null,125,"SUPERA EDAD","SUPERA EDAD",125,"SUPERA EDAD","PARA SOLICITAR CREDITO",0]
[null,null,null,null,null,null,null,null,null,null,null,null,null,null,null,null,null,null,null,null,null,null,null,null,null,null,null,null,null,126,"SUPERA EDAD","SUPERA EDAD",126,"SUPERA EDAD","PARA SOLICITAR CREDITO",0]
[null,null,null,null,null,null,null,null,null,null,null,null,null,null,null,null,null,null,null,null,null,null,null,null,null,null,null,null,null,127,"SUPERA EDAD","SUPERA EDAD",127,"SUPERA EDAD","PARA SOLICITAR CREDITO",0]
[null,null,null,null,null,null,null,null,null,null,null,null,null,null,null,null,null,null,null,null,null,null,null,null,null,null,null,null,null,128,"SUPERA EDAD","SUPERA EDAD",128,"SUPERA EDAD","PARA SOLICITAR CREDITO",0]
[null,null,null,null,null,null,null,null,null,null,null,null,null,null,null,null,null,null,null,null,null,null,null,null,null,null,null,null,null,129,"SUPERA EDAD","SUPERA EDAD",129,"SUPERA EDAD","PARA SOLICITAR CREDITO",0]
[null,null,null,null,null,null,null,null,null,null,null,null,null,null,null,null,null,null,null,null,null,null,null,null,null,null,null,null,null,130,"SUPERA EDAD","SUPERA EDAD",130,"SUPERA EDAD","PARA SOLICITAR CREDITO",0]

{"sheet":"POSITIVA","index":18,"n_rows":138,"n_cols":36,"rows_kept":138,"cut":false,"hidden":false,"merged":[[9,0,9,4],[16,16,16,18],[16,21,16,22],[17,1,17,2],[17,3,17,4],[17,5,17,7],[17,16,17,18],[17,21,17,22],[11,0,16,3],[18,16,18,18],[18,21,18,22],[19,16,19,18],[19,21,19,22],[22,16,22,18],[22,21,22,22],[23,16,23,18],[23,21,23,22],[24,0,27,4],[25,16,25,18],[25,21,25,22],[26,16,26,18],[26,21,26,22],[27,16,27,18],[20,0,23,4],[20,16,20,18],[20,21,20,22],[21,16,21,18],[21,21,21,22],[27,21,27,22],[32,21,32,22],[28,16,28,18],[28,21,28,22],[29,5,29,7],[29,16,29,18],[29,21,29,22],[30,16,30,18],[30,10,30,15],[30,21,30,22],[31,16,31,18],[31,21,31,22],[28,10,28,15],[29,10,29,15],[32,16,32,18],[38,5,38,7],[38,0,38,2],[0,14,0,15],[39,5,39,7],[34,5,34,6],[36,5,36,6],[33,5,33,6],[9,10,9,15],[10,10,10,15],[8,10,8,15],[34,0,34,2],[35,0,35,2],[36,0,36,2],[37,0,37,2],[39,0,39,2],[2,0,2,4],[0,0,0,4],[1,0,1,4],[31,0,31,2],[35,5,35,6],[37,5,37,6],[3,0,3,4],[4,0,4,4],[5,0,5,4],[6,0,6,4],[18,0,19,4],[28,0,30,2],[6,6,6,8],[7,0,7,4],[8,0,8,4],[8,6,8,7],[10,0,10,4]]}
["POSITIVA CO N",null,null,null,null,"PENSION - SALUD / 2",null,null,null,null,null,null,null,null,{"$f":"TASAS!G15","v":"2025-03"}]
[{"$f":"IF(($F$2=\"\"),\"Digite la edad del cliente\",\"\")","v":"Digite la edad del cliente"},null,null,null,null,null,null,null,null,null,null,null,null,null,null,null,{"$f":"F6+F7-F8","v":0},{"$f":"F9-Q2","v":0}]
[{"$f":"IF(($F$3<50000000),\"Monto máximo por COSERFIN\",\"Monto máximo por COSERFIN\")","v":"Monto máximo por COSERFIN"},null,null,null,null,{"$f":"IF((F2 = \"\"),\"DIGITE EDAD\",VLOOKUP(F2,$AD$8:$AF$134,2,0))","v":"DIGITE EDAD"},{"$f":"IF(($F$2=\"\"),\"\",\"Por CREAVAL\")","v":""},{"$f":"IF((F2 = \"\"),\"DIGITE EDAD\",VLOOKUP(F2,$AD$8:$AF$134,3,0))","v":"DIGITE EDAD"},null,null,null,null,null,null,null,null,null,null,{"$f":"IF(AND(G29<TASAS!H11,F29<TASAS!M2),TASAS!H6,TASAS!H5)","v":{"$error":"#VALUE!"}},null,null,null,null,null,null,null,null,null,null,null,"COSERFIN","CREAVAL"]
[{"$f":"IF(($F$2=\"\"),\"\",\"Plazo máximo para el crédito\")","v":""},null,null,null,null,{"$f":"IF((F2 = \"\"),\"DEL SOLICITANTE\",VLOOKUP(F2,$AG$8:$AI$134,3,0))","v":"DEL SOLICITANTE"},null,null,null,null,null,null,null,null,null,null,null,null,{"$f":"D29-S3","v":{"$error":"#VALUE!"}},null,null,"TRAIDO DE TASAS",null,{"$f":"IF(F6<=V5,F6*0.04,0)","v":0},null,null,null,null,80,null,0,0,6600000,0,0,0]
["EVALUACION CAPACIDAD DE PAGO",null,null,null,null,"VALOR 1","VALOR 2","VALOR 3","TOTALES",null,null,null,null,null,null,null,null,null,0,null,null,{"$f":"TASAS!G11","v":1423500},null,{"$f":"IF(F6>V5,F6*0.1,0)","v":0},null,null,null,null,"75-79",null,10000000,"NO HAY CODIGO",30000000,0,"60 MESES",60]
["VALOR PENSION",null,null,null,null,0,null,null,{"$f":"F6","v":0},null,null,null,null,null,null,null,null,null,{"$f":"TASAS!H3","v":1.77E-2},"TASA",null,{"$f":"V5*3","v":4270500},null,{"$f":"IF(F6>V6,F6*0.1,0)","v":0},null,null,null,null,"18-70",null,50000000,"NO HAY CODIGO",50000000,0,"144 MESES",144]
["VALOR OTROS INGRESOS (PRIMAS, RETROACTIVOS, ADICIONALES, ETC.)",null,null,null,null,0,null,null,null,null,null,null,null,null,null,null,null,null,{"$f":"TASAS!H4","v":1.8200000000000001E-2},"TASA",null,null,null,{"$f":"IF(F6>V6,F6*0.12,0)","v":0},null,null,null,null,"71-74",null,20000000,"NO HAY CODIGO"]
["(-) TOTAL DESCUENTOS INCLUYENDO 12% DE SALUD (FOSYGA O EPS)",null,null,null,null,0,null,null,{"$f":"IF(($R$2>3),\"ERROR EN\",IF($R$2<-3,\"ERROR EN\",F8))","v":0},null,null,null,null,null,null,null,{"$f":"F8-(F6*0.12)","v":0},{"$f":"IF(Q8<0,((Q8*-1)+Q8),Q8)","v":0},{"$f":"TASAS!H5","v":1.8699999999999998E-2},"TASA",null,null,null,{"$f":"X4+X5-X6+X7","v":0},null,null,null,null,null,0,"USUARIO","MENOR DE EDAD",0,"USUARIO","MENOR DE EDAD",0]
["INGRESO NETO RECIBIDO EN EL DESPRENDIBLE DE PAGO",null,null,null,null,0,"DISPONIBLE PARA CREDITO",null,{"$f":"IF(($R$2>3),\"LOS DATOS\",IF($R$2<-3,\"LOS DATOS\",((I6-X9)/2)-(F8-X9)+I10+I11))","v":0},"*",{"$f":"IF((D29=0),\"¡ ¡ ¡ Por favor seleccione la tasa de interés ! ! !\",\" \")","v":"¡ ¡ ¡ Por favor seleccione la tasa de interés ! ! !"},null,null,null,null,null,null,null,{"$f":"TASAS!H6","v":3.4999999999999996E-2},"TASA",null,null,null,{"$f":"CEILING(X8,100)","v":0},null,null,null,null,null,1,"USUARIO","MENOR DE EDAD",1,"USUARIO","MENOR DE EDAD",0]
["(+) DESCUENTOS FINALIZADOS EN EL PRESENTE MES Y EN EL PROXIMO",null,null,null,null,0,0,0,{"$f":"SUM(F10:H10)","v":0},null,{"$f":"IF((S4=0),\" \",\"¡¡¡   A T E N C I O N   !!!\")","v":{"$error":"#VALUE!"}},null,null,null,null,null,null,null,{"$f":"TASAS!H7","v":1.4499999999999999E-2},"TASA",null,null,null,null,null,null,null,null,null,2,"USUARIO","MENOR DE EDAD",2,"USUARIO","MENOR DE EDAD",0]
["(+) CUOTAS DE COMPRAS DE CARTERA",null,null,null,null,0,0,0,{"$f":"SUM(F11:H11)","v":0},null,{"$f":"IF((S4=0),\" \",\"La tasa máxima para ese monto y plazo es del\")","v":{"$error":"#VALUE!"}},null,null,null,null,null,null,null,{"$f":"TASAS!H8","v":1.4999999999999999E-2},"TASA",null,null,null,null,null,null,null,null,null,3,"USUARIO","MENOR DE EDAD",3,"USUARIO","MENOR DE EDAD",0]
["(-) VALOR ESTIMADO CUOTA DE CREDITO CON COOSERFIN",null,null,null,{"$f":"IF(($F$14=\"TASA\"),\" \",\"VR SOLICT\")","v":"VR SOLICT"},{"$f":"IF(F3>G20,FLOOR(G20,100000),F3)","v":"DIGITE EDAD"},0,0,{"$f":"IF($I$18>=0.1,\"VALOR TOTAL\",\"\")","v":"VALOR TOTAL"},null,null,null,null,null,null,null,null,null,{"$f":"TASAS!H9","v":1.55E-2},"TASA",null,null,null,null,null,null,null,null,null,4,"USUARIO","MENOR DE EDAD",4,"USUARIO","MENOR DE EDAD",0]
[null,null,null,null,{"$f":"IF(($F$14=\"TASA\"),\" \",\"PLAZO\")","v":"PLAZO"},{"$f":"F20","v":"DIGITE EDAD"},{"$f":"F13","v":"DIGITE EDAD"},{"$f":"F13","v":"DIGITE EDAD"},{"$f":"IF($I$18>=0.1,\"DE LA\",\"\")","v":"DE LA"},null,null,null,null,null,null,null,null,null,null,null,null,null,null,null,null,null,null,null,null,5,"USUARIO","MENOR DE EDAD",5,"USUARIO","MENOR DE EDAD",0]
[null,null,null,null,"FACTOR",2.3E-2,{"$f":"IF($F$14=\"TASA\",(0),$F$14)","v":2.3E-2},{"$f":"IF($F$14=\"TASA\",(0),$F$14)","v":2.3E-2},{"$f":"IF($I$18>=0.1,\"SOLICITUD\",\"\")","v":"SOLICITUD"},null,null,null,null,null,null,null,null,{"$f":"F3*1","v":{"$error":"#VALUE!"}},{"$f":"(PV(D29,F29,V15))*-1","v":{"$error":"#VALUE!"}},null,null,{"$f":"H20","v":"NO APLICA"},null,null,null,null,null,null,null,6,"USUARIO","MENOR DE EDAD",10,"USUARIO","MENOR DE EDAD",0]
[null,null,null,null,{"$f":"IF(($F$14=\"TASA\"),\" \",\"MESES GRACIA\")","v":"MESES GRACIA"},0,0,0,null,null,null,null,null,null,null,null,null,null,{"$f":"(IF(S14>R14,R14,FLOOR(S14,100000)))","v":{"$error":"#VALUE!"}},{"$f":"(PV(D29,F29,H20))*-1","v":{"$error":"#VALUE!"}},null,{"$f":"((V14*(1-T20))-T22-X17-X21)*0.99","v":{"$error":"#VALUE!"}},null,null,null,null,null,null,null,7,"USUARIO","MENOR DE EDAD",7,"USUARIO","MENOR DE EDAD",0]
[null,null,null,null,{"$f":"IF(($F$14=\"TASA\"),\" \",\"VR LIBRANZA\")","v":"VR LIBRANZA"},{"$f":"IF($I$18>=0,($F$17*F13),IF($I$18<0,\"\"))","v":{"$error":"#VALUE!"}},{"$f":"IF($I$18>=0,($G$17*G13),IF($I$18<0,\"\"))","v":{"$error":"#VALUE!"}},{"$f":"IF($I$18>=0,($H$17*H13),IF($I$18<0,\"\"))","v":{"$error":"#VALUE!"}},{"$f":"IF($I$18>=0,(F12+G12+H12),IF($I$18<0.1,\"\"))","v":{"$error":"#VALUE!"}},null,null,null,null,null,null,null,{"$f":"G20*1","v":{"$error":"#VALUE!"}},null,null,null,null,null,null,null,null,null,null,null,null,8,"USUARIO","MENOR DE EDAD",8,"USUARIO","MENOR DE EDAD",0]
[null,null,null,null,{"$f":"IF(($F$14=\"TASA\"),\" \",\"VR CUOTA\")","v":"VR CUOTA"},{"$f":"IF(($F$2=\"\"),\"RECUERDE\",ROUNDUP((((($F$12*$F$14))*($F$13+$F$15))+$F$12)/$F$13,0))","v":"RECUERDE"},{"$f":"IF(($F$2=\"\"),\"DIGITAR\",ROUNDUP((((($G$12*$G$14))*($G$13+$G$15))+$G$12)/$G$13,0))","v":"DIGITAR"},{"$f":"IF(($F$2=\"\"),\"LA EDAD\",ROUNDUP((((($H$12*$H$14))*($H$13+$H$15))+$H$12)/$H$13,0))","v":"LA EDAD"},{"$f":"SUM(F17:H17)","v":0},null,null,null,null,null,null,null,"VALOR CREDITO         :",null,null,{"$f":"T15","v":{"$error":"#VALUE!"}},null,"VALOR SEGURO          :",null,{"$f":"T17*Y26","v":{"$error":"#VALUE!"}},null,null,null,null,null,9,"USUARIO","MENOR DE EDAD",9,"USUARIO","MENOR DE EDAD",0]
[{"$f":"IF(($F$2=\"\"),\"RECUERDE DIGITAR ARRIBA LA EDAD\",\"MONTO Y PLAZO POSIBLES SEGÚN EDAD\")","v":"RECUERDE DIGITAR ARRIBA LA EDAD"},{"$f":"IF((F2 = \"\"),\"DIGITE\",VLOOKUP(F2,$AD$4:$AE$131,2,0))","v":"DIGITE"},null,{"$f":"IF((F2 = \"\"),\"LA EDAD\",VLOOKUP(F2,$AG$4:$AI$131,3,0))","v":"LA EDAD"},null,{"$f":"IF((I9-I17)>0,\"USUARIO CON CAPACIDAD DE PAGO\",IF(I9-I17<0,\"INTENTE CON OTROS MONTOS Y/O PLAZOS\"))","v":false},{"$f":"IF($L$13>=#REF!,\"USUARIO CON CAPACIDAD DE ENDEUDAMIENTO\",IF($L$13<#REF!,\"CREDITO INVIABLE INTENTE CON OTRO MONTO Y/O PLAZO\"))","v":{"$error":"#REF!"}},{"$f":"IF($L$13>=#REF!,\"USUARIO CON CAPACIDAD DE ENDEUDAMIENTO\",IF($L$13<#REF!,\"CREDITO INVIABLE INTENTE CON OTRO MONTO Y/O PLAZO\"))","v":{"$error":"#REF!"}},{"$f":"IF(((I9-I17)>0),(I9-I17),\"SIN CUPO\")","v":"SIN CUPO"},null,null,null,null,null,null,null,"TASA NOMINAL MENSUAL  :",null,null,{"$f":"D29","v":0},null,"TASA EFECTIVA ANUAL   :",null,{"$f":"((1+((T18*12)/12))^12)-1","v":0},null,null,null,null,null,10,"USUARIO","MENOR DE EDAD",10,"USUARIO","MENOR DE EDAD",0]
[{"$f":"IF($Y$24>0,\"MONTO MAXIMO DE ENDEUDAMIENTO - OPCION 1 CREDITO\",IF($Y$24<=0,\"EL SOLICITANTE NO TIENE POSIBILIDADES DE CREDITO\"))","v":"EL SOLICITANTE NO TIENE POSIBILIDADES DE CREDITO"},null,null,null,null,"PLAZO","MONTO MAX","VALOR CUOTA","VR LIBRANZA",null,null,null,null,null,null,null,"PLAZO EN MESES        :",null,null,{"$f":"F29","v":"DIGITE EDAD"},null,"CUOTA NETA            :",null,{"$f":"((((T18)*((1+(T18))^T19))/(((1+(T18))^T19)-1))*(T17+AA20))+(((((T17+AA20)*T18)/30)*T24)/T19)","v":{"$error":"#VALUE!"}},null,null,null,null,null,11,"USUARIO","MENOR DE EDAD",11,"USUARIO","MENOR DE EDAD",0]
[null,null,null,null,null,{"$f":"IF((F2 = \"\"),\"DIGITE EDAD\",VLOOKUP(F2,$AG$4:$AJ$131,4,0))","v":"DIGITE EDAD"},{"$f":"IF(($Y$24<=0),\"NO APLICA\",$I$20*100/((($F$14*100)*($F$20+$F$15))+100))","v":"NO APLICA"},{"$f":"IF(($Y$24<=0),\"NO APLICA\",($I$9))","v":"NO APLICA"},{"$f":"IF(($Y$24<=0),\"NO APLICA\",($F$20*$H$20))","v":"NO APLICA"},"*",null,null,null,null,null,null,"TASA COMISION RECAUDO :",null,null,0,null,"COMISION POR RECAUDO  :",null,{"$f":"((((((T18)*((1+(T18))^T19))/(((1+(T18))^T19)-1))*(T17+AA20))+(((((T17+AA20)*T18)/30)*T24)/T19)+T22+X17)*100)/(100-(T20*100))-(((((T18)*((1+(T18))^T19))/(((1+(T18))^T19)-1))*(T17+AA20))+(((((T17+AA20)*T18)/30)*T24)/T19)+T22+X17)","v":{"$error":"#VALUE!"}},null,null,{"$f":"T17*T21","v":{"$error":"#VALUE!"}},null,null,12,"USUARIO","MENOR DE EDAD",12,"USUARIO","MENOR DE EDAD",0]
[{"$f":"IF($Y$24>0,\"MONTO MAXIMO DE ENDEUDAMIENTO - OPCION 3 CREDITOS\",IF($Y$24<=0,\"EL SOLICITANTE NO TIENE POSIBILIDADES DE CREDITO\"))","v":"EL SOLICITANTE NO TIENE POSIBILIDADES DE CREDITO"},null,null,null,null,{"$f":"AJ6","v":144},{"$f":"IF(($Y$24<=0),\"NO APLICA\",$I$21*100/((($F$14*100)*($F$21+$F$15))+100))","v":"NO APLICA"},{"$f":"IF(($Y$24<=0),\"NO APLICA\",(($I$9+$I$10+$I$11))*0.425)","v":"NO APLICA"},{"$f":"IF(($Y$24<=0),\"NO APLICA\",($F$21*$H$21))","v":"NO APLICA"},null,null,null,null,null,null,null,"OTROS GASTOS          :",null,null,{"$f":"D31","v":0},null,"VALOR OTROS GASTOS    :",null,{"$f":"X24-AA22","v":{"$error":"#VALUE!"}},null,null,{"$f":"T26*T30","v":{"$error":"#VALUE!"}},null,null,13,"USUARIO","MENOR DE EDAD",13,"USUARIO","MENOR DE EDAD",0]
[null,null,null,null,null,{"$f":"AJ6","v":144},{"$f":"IF(($Y$24<=0),\"NO APLICA\",$I$22*100/((($F$14*100)*($F$22+$F$15))+100))","v":"NO APLICA"},{"$f":"IF(($Y$24<=0),\"NO APLICA\",(($I$9+$I$10+$I$11))*0.425)","v":"NO APLICA"},{"$f":"IF(($Y$24<=0),\"NO APLICA\",($F$22*$H$22))","v":"NO APLICA"},null,null,null,null,null,null,null,"APORTES SOCIALES      :",null,null,0,null,"FECHA DE INICIO       :",null,{"$f":"(T23+((T19+1)*29))-((T19-1)*29)","v":{"$error":"#VALUE!"}},null,null,{"$f":"((((T18)*((1+(T18))^T19))/(((1+(T18))^T19)-1))*T17)+((((T17*T18)/30)*T24)/T19)+T22+X17+X20","v":{"$error":"#VALUE!"}},null,null,14,"USUARIO","MENOR DE EDAD",14,"USUARIO","MENOR DE EDAD",0]
[null,null,null,null,null,12,{"$f":"IF(($Y$24<=0),\"NO APLICA\",$I$23*100/((($F$14*100)*($F$23+$F$15))+100))","v":"NO APLICA"},{"$f":"IF(($Y$24<=0),\"NO APLICA\",(($I$9+$I$10+$I$11))*0.15)","v":"NO APLICA"},{"$f":"IF(($Y$24<=0),\"NO APLICA\",($F$23*$H$23))","v":"NO APLICA"},null,null,null,null,null,null,null,"FECHA DESEMBOLSO      :",null,null,"2012-01-01",null,"FECHA DE TERMINO      :",null,{"$f":"(T23+((T19+1)*29))-((T19-1)*29)+((T19-1)*30)","v":{"$error":"#VALUE!"}},null,null,null,null,null,15,"USUARIO","MENOR DE EDAD",15,"USUARIO","MENOR DE EDAD",0]
[null,null,null,null,null,"TOTALES",{"$f":"SUM(G21:G23)","v":0},{"$f":"SUM(H21:H23)","v":0},{"$f":"SUM(I21:I23)","v":0},null,null,null,null,null,null,null,"DIAS DE GRACIA        :",null,null,{"$f":"D32","v":0},null,"TOTAL CUOTA MENSUAL   :",null,{"$f":"X19+T22+X20+X17","v":{"$error":"#VALUE!"}},{"$f":"$I$9+$I$10+$I$11","v":0},"PLAZO","MONTO MAX","VR MAX CUOTA","VALOR LZ",16,"USUARIO","MENOR DE EDAD",16,"USUARIO","MENOR DE EDAD",0]
[{"$f":"IF(I18>=0,\"OTRAS OPCIONES DE CREDITO DISPONIBLES\",IF(I18<0,\"INTENTE CON OTRO MONTO Y/O PLAZO\"))","v":"OTRAS OPCIONES DE CREDITO DISPONIBLES"},null,null,null,null,{"$f":"IF($AA$25<=$AC$29,12,IF($AA$25>$AC$29,\"NO APLICA\"))","v":{"$error":"#VALUE!"}},{"$f":"IF(AA25>$AC$29,\"NO APLICA\",IF(AA25<=$AC$29,FLOOR(AA25,10000)))","v":{"$error":"#VALUE!"}},{"$f":"IF($AA$25>$AC$29,\"NO APLICA\",IF(AA25<=$AC$29,((((G25*($F$14)*((F25+$F$15))+G25)/F25)))))","v":{"$error":"#VALUE!"}},{"$f":"IF($AA$25>$AC$29,\"NO APLICA\",IF(AA25<=$AC$29,(F25*H25)))","v":{"$error":"#VALUE!"}},null,null,null,null,null,null,null,null,null,null,null,null,null,null,null,"SEGURO",12,{"$f":"IF(($I$18>=0),AC25*100/((($F$14*100)*(Z25+$F$15))+100),\"\")","v":{"$error":"#VALUE!"}},{"$f":"IF(($I$18>=0),($I$17+$I$18),\"\")","v":{"$error":"#VALUE!"}},{"$f":"IF(($I$18>=0),(AB25*Z25),\"\")","v":{"$error":"#VALUE!"}},17,"USUARIO","MENOR DE EDAD",17,"USUARIO","MENOR DE EDAD",0]
[null,null,null,null,null,{"$f":"IF($AA$26<=$AC$29,24,IF($AA$26>$AC$29,\"NO APLICA\"))","v":{"$error":"#VALUE!"}},{"$f":"IF(AA26>$AC$29,\"NO APLICA\",IF(AA26<=$AC$29,FLOOR(AA26,10000)))","v":{"$error":"#VALUE!"}},{"$f":"IF($AA$26>$AC$29,\"NO APLICA\",IF(AA26<=$AC$29,((((G26*($F$14)*((F26+$F$15))+G26)/F26)))))","v":{"$error":"#VALUE!"}},{"$f":"IF($AA$26>$AC$29,\"NO APLICA\",IF(AA26<=$AC$29,(F26*H26)))","v":{"$error":"#VALUE!"}},null,null,null,null,null,null,null,"VALOR CREDITO         :",null,null,{"$f":"G29","v":{"$error":"#VALUE!"}},null,"VALOR SEGURO          :",null,{"$f":"T26*Y26","v":{"$error":"#VALUE!"}},{"$f":"IF((F2<66),(TASAS!C12),(VLOOKUP(F2,TASAS!B13:C27,2,0)))","v":1.15E-3},24,{"$f":"IF(($I$18>=0),AC26*100/((($F$14*100)*(Z26+$F$15))+100),\"\")","v":{"$error":"#VALUE!"}},{"$f":"IF(($I$18>=0),($I$17+$I$18),\"\")","v":{"$error":"#VALUE!"}},{"$f":"IF(($I$18>=0),(AB26*Z26),\"\")","v":{"$error":"#VALUE!"}},18,{"$f":"$AE$6","v":50000000},{"$f":"$AF$6","v":"NO HAY CODIGO"},18,{"$f":"$AH$6","v":0},{"$f":"$AI$6","v":"144 MESES"},{"$f":"$AJ$6","v":144}]
[null,null,null,null,null,{"$f":"IF($AA$27<=$AC$29,36,IF($AA$27>$AC$29,\"NO APLICA\"))","v":{"$error":"#VALUE!"}},{"$f":"IF(AA27>$AC$29,\"NO APLICA\",IF(AA27<=$AC$29,FLOOR(AA27,10000)))","v":{"$error":"#VALUE!"}},{"$f":"IF($AA$27>$AC$29,\"NO APLICA\",IF(AA27<=$AC$29,((((G27*($F$14)*((F27+$F$15))+G27)/F27)))))","v":{"$error":"#VALUE!"}},{"$f":"IF($AA$27>$AC$29,\"NO APLICA\",IF(AA27<=$AC$29,(F27*H27)))","v":{"$error":"#VALUE!"}},null,null,null,null,null,null,null,"TASA NOMINAL MENSUAL  :",null,null,{"$f":"T18","v":0},null,"TASA EFECTIVA ANUAL   :",null,{"$f":"((1+((T27*12)/12))^12)-1","v":0},null,36,{"$f":"IF(($I$18>=0),AC27*100/((($F$14*100)*(Z27+$F$15))+100),\"\")","v":{"$error":"#VALUE!"}},{"$f":"IF(($I$18>=0),($I$17+$I$18),\"\")","v":{"$error":"#VALUE!"}},{"$f":"IF(($I$18>=0),(AB27*Z27),\"\")","v":{"$error":"#VALUE!"}},19,{"$f":"$AE$6","v":50000000},{"$f":"$AF$6","v":"NO HAY CODIGO"},19,{"$f":"$AH$6","v":0},{"$f":"$AI$6","v":"144 MESES"},{"$f":"$AJ$6","v":144}]
[null,null,null,null,null,{"$f":"IF($AA$28<=$AC$29,48,IF($AA$28>$AC$29,\"NO APLICA\"))","v":{"$error":"#VALUE!"}},{"$f":"IF(AA28>$AC$29,\"NO APLICA\",IF(AA28<=$AC$29,FLOOR(AA28,10000)))","v":{"$error":"#VALUE!"}},{"$f":"IF($AA$28>$AC$29,\"NO APLICA\",IF(AA28<=$AC$29,((((G28*($F$14)*((F28+$F$15))+G28)/F28)))))","v":{"$error":"#VALUE!"}},{"$f":"IF($AA$28>$AC$29,\"NO APLICA\",IF(AA28<=$AC$29,(F28*H28)))","v":{"$error":"#VALUE!"}},null,null,null,null,null,null,null,"PLAZO EN MESES        :",null,null,"DIGITE EDAD",null,"CUOTA NETA            :",null,{"$f":"((((T27)*((1+(T27))^T28))/(((1+(T27))^T28)-1))*(T26+AA21))+(((((T26+AA21)*T27)/30)*T33)/T28)","v":{"$error":"#VALUE!"}},null,48,{"$f":"IF(($I$18>=0),AC28*100/((($F$14*100)*(Z28+$F$15))+100),\"\")","v":{"$error":"#VALUE!"}},{"$f":"IF(($I$18>=0),($I$17+$I$18),\"\")","v":{"$error":"#VALUE!"}},{"$f":"IF(($I$18>=0),(AB28*Z28),\"\")","v":{"$error":"#VALUE!"}},20,50000000,"NO HAY CODIGO",20,0,"144 MESES",144]
["LIBRE INVERSION - COBRO DE AVAL ANTICIPADO",null,null,0,"N.M.V.",{"$f":"F20","v":"DIGITE EDAD"},{"$f":"S15","v":{"$error":"#VALUE!"}},"  VR CUOTA   ",{"$f":"((((T27)*((1+(T27))^T28))/(((1+(T27))^T28)-1))*(G29+AA21))+(((((G29+AA21)*T27)/30)*T33)/T28)+T31+X26+X29+X30","v":{"$error":"#VALUE!"}},null,{"$f":"IF((S4=0),\" \",S3)","v":{"$error":"#VALUE!"}},null,null,null,null,null,"TASA COMISION RECAUDO :",null,null,0,null,"COMISION POR RECAUDO  :",null,{"$f":"((((((T27)*((1+(T27))^T28))/(((1+(T27))^T28)-1))*(T26+AA21))+(((((T26+AA21)*T27)/30)*T33)/T28)+T31+X26)*100)/(100-(T29*100))-(((((T27)*((1+(T27))^T28))/(((1+(T27))^T28)-1))*(T26+AA21))+(((((T26+AA21)*T27)/30)*T33)/T28)+T31+X26)","v":{"$error":"#VALUE!"}},null,null,null,"MONTO MAXIMO POR CLIENTE",50000000,21,50000000,"NO HAY CODIGO",21,0,"144 MESES",144]
[null,null,null,{"$f":"((1+((D29*12)/12))^12)-1","v":0}," E. A.",{"$f":"IF(I30>=0,\"USUARIO CON CAPACIDAD DE PAGO\",IF(I30<0,\"INTENTE CON OTRO MONTO Y/O PLAZO\"))","v":{"$error":"#VALUE!"}},null,null,{"$f":"I9-I29","v":{"$error":"#VALUE!"}},null,{"$f":"IF(D29=TASAS!H3,\"Tasa para clientes con puntaje > a 750 y sin procesos\",\" \")","v":" "},null,null,null,null,null,"OTROS GASTOS          :",null,null,0,null,"VALOR OTROS GASTOS    :",null,null,null,null,null,null,null,22,50000000,"NO HAY CODIGO",22,0,"144 MESES",144]
[null,null,null,0," O. G.","% AVAL","VALOR AVAL ","A GIRAR",null,null,{"$f":"IF(D29=TASAS!H4,\"Tasa para clientes con puntaje entre 650 - 749 y sin procesos\",\" \")","v":" "},null,null,null,null,null,"APORTES SOCIALES      :",null,null,0,null,"FECHA DE INICIO       :",null,{"$f":"(T32+((T28+1)*29))-((T28-1)*29)","v":{"$error":"#VALUE!"}},null,null,null,null,null,23,50000000,"NO HAY CODIGO",23,0,"144 MESES",144]
[null,null,null,0," D. G.",0.09,{"$f":"G29*F32","v":{"$error":"#VALUE!"}},{"$f":"G29-G32","v":{"$error":"#VALUE!"}},null,null,null,null,null,null,null,null,"FECHA DESEMBOLSO      :",null,null,"2012-01-01",null,"FECHA DE TERMINO      :",null,{"$f":"(T32+((T28+1)*29))-((T28-1)*29)+((T28-1)*30)","v":{"$error":"#VALUE!"}},null,null,null,null,null,24,50000000,"NO HAY CODIGO",24,0,"144 MESES",144]
[null,null,null,"% Simple",{"$f":"(((I29*F29)-G29)/G29)/F29","v":{"$error":"#VALUE!"}},null,"VR MENSUAL x 1 MM",{"$f":"I29/(G29/1000000)","v":{"$error":"#VALUE!"}},null,null,null,null,null,null,null,null,"DIAS DE GRACIA        :",null,null,0,null,"TOTAL CUOTA MENSUAL   :",null,{"$f":"X28+T31+X29+X26","v":{"$error":"#VALUE!"}},null,null,null,null,null,25,50000000,"NO HAY CODIGO",25,0,"144 MESES",144]
[null,null,null,null,null,"COMPRA O AMPLIACION 1",null,0,null,"FIDELIZACIÓN","VR CRÉDITO","VR CUOTA ","PLAZO"," VR AVAL","SALDO","A GIRAR",null,null,null,null,null,null,null,null,null,null,null,null,null,26,50000000,"NO HAY CODIGO",26,0,"144 MESES",144]
["Vr. Crédito",null,null,{"$f":"G29","v":{"$error":"#VALUE!"}},null,"COMPRA O AMPLIACION 2",null,0,"LIBRE INV",null,0,0,0,0,0,{"$f":"K35-N35-O35","v":0},null,null,null,null,null,null,null,null,null,null,null,null,null,27,50000000,"NO HAY CODIGO",27,0,"144 MESES",144]
["Aval",null,null,{"$f":"G32","v":{"$error":"#VALUE!"}},null,"COMPRA O AMPLIACION 3",null,0,"AMPLIACION","LZ A",0,0,0,0,0,{"$f":"K36-N36-O36","v":0},null,null,null,null,null,null,null,null,null,null,null,null,null,28,50000000,"NO HAY CODIGO",28,0,"144 MESES",144]
["Compra(s) / Saneamiento(s) / Ampiación(es)",null,null,{"$f":"SUM(H34:H37)","v":0},null,"COMPRA O AMPLIACION 4",null,0,"COMPRA","OPERADOR ?",0,0,0,0,0,{"$f":"K37-N37-O37","v":0},null,null,null,null,null,null,null,null,null,null,null,null,null,29,50000000,"NO HAY CODIGO",29,0,"144 MESES",144]
["Vr. Desembolso",null,null,{"$f":"D35-D36-D37","v":{"$error":"#VALUE!"}},{"$f":"IF(((D38-H38)>0),\"ERROR\",IF((D38-H38)=0,\" \"))","v":{"$error":"#VALUE!"}},"NETO A GIRAR",null,{"$f":"H32-H34-H35-H36-H37","v":{"$error":"#VALUE!"}},"COMPRA","OPERADOR ?",0,0,0,0,0,{"$f":"K38-N38-O38","v":0},null,null,null,null,null,null,null,null,null,null,null,null,null,30,50000000,"NO HAY CODIGO",30,0,"144 MESES",144]
["Vr. Cuota",null,null,{"$f":"I29","v":{"$error":"#VALUE!"}},null,{"$f":"IF(((F3-G29)<0),\"¡¡¡ A T E N C I Ó N !!!\",IF((F3-G29)>=0,\" \"))","v":{"$error":"#VALUE!"}},null,null,null,null,null,null,null,null,null,null,null,null,null,null,null,null,null,null,null,null,null,null,null,31,50000000,"NO HAY CODIGO",31,0,"144 MESES",144]
["Plazo",null,null,{"$f":"F29","v":"DIGITE EDAD"},null,{"$f":"IF(((F3-G29)<0),\"EL MONTO EXCEDE LIMITE PARA ESA EDAD\",IF((F3-G29)>=0,\" \"))","v":{"$error":"#VALUE!"}},null,null,null,null,null,null,null,null,null,null,null,null,null,null,null,null,null,null,null,null,null,null,null,32,50000000,"NO HAY CODIGO",32,0,"144 MESES",144]
[null,null,null,null,null,null,null,null,null,null,null,null,null,null,null,null,null,null,null,null,null,null,null,null,null,null,null,null,null,33,50000000,"NO HAY CODIGO",33,0,"144 MESES",144]
["REQUISITOS PARA SOLICITUD DE CREDITO:",null,null,null,null,null,null,null,null,null,null,null,null,null,null,null,null,null,null,null,null,null,null,null,null,null,null,null,null,34,50000000,"NO HAY CODIGO",34,0,"144 MESES",144]
["1. Desprendible de pago del último mes, el cual puede descargarse aquí",null,null,null,null,null,null,null,null,null,null,null,null,null,null,null,null,null,null,null,null,null,null,null,null,null,null,null,null,35,50000000,"NO HAY CODIGO",35,0,"144 MESES",144]
["http://https//www.sygnus.co/sygnuspositiva/",null,null,null,null,null,null,null,null,null,null,null,null,null,null,null,null,null,null,null,null,null,null,null,null,null,null,null,null,36,50000000,"NO HAY CODIGO",36,0,"144 MESES",144]
["2. Si el cliente autoriza, se podrá realizar la descarga del desprendible firmando el siguiente formato",null,null,null,null,null,null,null,null,null,null,null,null,null,null,null,null,null,null,null,null,null,null,null,null,null,null,null,null,37,50000000,"NO HAY CODIGO",37,0,"144 MESES",144]
["https://coserfin.co/panelwi/upload/c8d2ea_AUTORIZACION%20ACCESO%20PLATAFORMAS%20CO%20y%20CR.pdf",null,null,null,null,null,null,null,null,null,null,null,null,null,null,null,null,null,null,null,null,null,null,null,null,null,null,null,null,38,50000000,"NO HAY CODIGO",38,0,"144 MESES",144]
["3. Una (1) fotocopia de la cédula de ciudadanía ampliada al 150% en blanco y negro, con firma y huella",null,null,null,null,null,null,null,null,null,null,null,null,null,null,null,null,null,null,null,null,null,null,null,null,null,null,null,null,39,50000000,"NO HAY CODIGO",39,0,"144 MESES",144]
["4. Para compra de cartera, se requiere la firma del siguiente formato",null,null,null,null,null,null,null,null,null,null,null,null,null,null,null,null,null,null,null,null,null,null,null,null,null,null,null,null,40,50000000,"NO HAY CODIGO",40,0,"144 MESES",144]
["https://coserfin.co/panelwi/upload/e254a9_COMPRA%20DE%20CARTERA%20GENERAL%20CO%20Y%20CR.pdf",null,null,null,null,null,null,null,null,null,null,null,null,null,null,null,null,null,null,null,null,null,null,null,null,null,null,null,null,41,50000000,"NO HAY CODIGO",41,0,"144 MESES",144]
["5. Si el solicitante es pensionado por perdida psicofisica, se requiere resolución de reconocmiento de la pensión y dictamen médico",null,null,null,null,null,null,null,null,null,null,null,null,null,null,null,null,null,null,null,null,null,null,null,null,null,null,null,null,42,50000000,"NO HAY CODIGO",42,0,"144 MESES",144]
["6. No requiere codeudor, pero es necesario cobro de aval",null,null,null,null,null,null,null,null,null,null,null,null,null,null,null,null,null,null,null,null,null,null,null,null,null,null,null,null,43,50000000,"NO HAY CODIGO",43,0,"144 MESES",144]
[null,null,null,null,null,null,null,null,null,null,null,null,null,null,null,null,null,null,null,null,null,null,null,null,null,null,null,null,null,44,50000000,"NO HAY CODIGO",44,0,"144 MESES",144]
["INCORPORACIÓN DEL DESCUENTO Y TIEMPO DE DESEMBOLSO:",null,null,null,null,null,null,null,null,null,null,null,null,null,null,null,null,null,null,null,null,null,null,null,null,null,null,null,null,45,50000000,"NO HAY CODIGO",45,0,"144 MESES",144]
["1. La incorporación se realiza mediante la plataforma SYGNUS, la cual inicia operación entre el dia 17 y 20 de cada mes",null,null,null,null,null,null,null,null,null,null,null,null,null,null,null,null,null,null,null,null,null,null,null,null,null,null,null,null,46,50000000,"NO HAY CODIGO",46,0,"144 MESES",144]
["2. La plataforma SYGNUS permanece abierta durante dos (2) semanas al mes",null,null,null,null,null,null,null,null,null,null,null,null,null,null,null,null,null,null,null,null,null,null,null,null,null,null,null,null,47,50000000,"NO HAY CODIGO",47,0,"144 MESES",144]
["3. El descuento opera para el siguiente mes, o para el mismo mes si la plataforma alcanza a estar abierta durante los primeros días de ese mes",null,null,null,null,null,null,null,null,null,null,null,null,null,null,null,null,null,null,null,null,null,null,null,null,null,null,null,null,48,50000000,"NO HAY CODIGO",48,0,"144 MESES",144]
["4. El desembolso se realiza una vez ha sido incorporado el descuento a la plataforma SYGNUS por parte del ANALISTA",null,null,null,null,null,null,null,null,null,null,null,null,null,null,null,null,null,null,null,null,null,null,null,null,null,null,null,null,49,50000000,"NO HAY CODIGO",49,0,"144 MESES",144]
["5. Cuando se trata de compras de cartera, es necesario que el operador de libranza suspenda el descuento del crédito que se está comprando",null,null,null,null,null,null,null,null,null,null,null,null,null,null,null,null,null,null,null,null,null,null,null,null,null,null,null,null,50,50000000,"NO HAY CODIGO",50,0,"144 MESES",144]
["    para que permita el ingreso de nuestro descuento",null,null,null,null,null,null,null,null,null,null,null,null,null,null,null,null,null,null,null,null,null,null,null,null,null,null,null,null,51,50000000,"NO HAY CODIGO",51,0,"144 MESES",144]
["6. Todas las fechas descritas son aproximadas y pueden cambiar cada mes",null,null,null,null,null,null,null,null,null,null,null,null,null,null,null,null,null,null,null,null,null,null,null,null,null,null,null,null,52,50000000,"NO HAY CODIGO",52,0,"144 MESES",144]
[null,null,null,null,null,null,null,null,null,null,null,null,null,null,null,null,null,null,null,null,null,null,null,null,null,null,null,null,null,53,50000000,"NO HAY CODIGO",53,0,"144 MESES",144]
["DOCUMENTOS DE IDENTIFICACION VALIDOS PARA TODAS LAS ENTIDADES:",null,null,null,null,null,null,null,null,null,null,null,null,null,null,null,null,null,null,null,null,null,null,null,null,null,null,null,null,54,50000000,"NO HAY CODIGO",54,0,"144 MESES",144]
["1. Coia de la licencia de conducción",null,null,null,null,null,null,null,null,null,null,null,null,null,null,null,null,null,null,null,null,null,null,null,null,null,null,null,null,55,50000000,"NO HAY CODIGO",55,0,"144 MESES",144]
["2. Copia de la tarjeta de propiedad de un vehiculo o moto.",null,null,null,null,null,null,null,null,null,null,null,null,null,null,null,null,null,null,null,null,null,null,null,null,null,null,null,null,56,50000000,"NO HAY CODIGO",56,0,"144 MESES",144]
["3. Copia del carné de la EPS",null,null,null,null,null,null,null,null,null,null,null,null,null,null,null,null,null,null,null,null,null,null,null,null,null,null,null,null,57,50000000,"NO HAY CODIGO",57,0,"144 MESES",144]
["4. Copia de un recibo de pago de servicio público del inmueble donde reside el solicitante, a nombre del mismo",null,null,null,null,null,null,null,null,null,null,null,null,null,null,null,null,null,null,null,null,null,null,null,null,null,null,null,null,58,50000000,"NO HAY CODIGO",58,0,"144 MESES",144]
["5. Copia de un extracto de cuenta bancaria, preferiblemente la de nómina o pensión",null,null,null,null,null,null,null,null,null,null,null,null,null,null,null,null,null,null,null,null,null,null,null,null,null,null,null,null,59,50000000,"NO HAY CODIGO",59,0,"144 MESES",144]
["6. Copia de un extracto de tarjeta de crédito",null,null,null,null,null,null,null,null,null,null,null,null,null,null,null,null,null,null,null,null,null,null,null,null,null,null,null,null,60,50000000,"NO HAY CODIGO",60,0,"144 MESES",144]
["7. Copia de una tarjeta de crédito",null,null,null,null,null,null,null,null,null,null,null,null,null,null,null,null,null,null,null,null,null,null,null,null,null,null,null,null,61,50000000,"NO HAY CODIGO",61,0,"144 MESES",144]
["8. Copia de un carné de afiliación a un club, asociación o cooperativa",null,null,null,null,null,null,null,null,null,null,null,null,null,null,null,null,null,null,null,null,null,null,null,null,null,null,null,null,62,50000000,"NO HAY CODIGO",62,0,"144 MESES",144]
["9. Copia de una fórmula médica",null,null,null,null,null,null,null,null,null,null,null,null,null,null,null,null,null,null,null,null,null,null,null,null,null,null,null,null,63,50000000,"NO HAY CODIGO",63,0,"144 MESES",144]
[null,null,null,null,null,null,null,null,null,null,null,null,null,null,null,null,null,null,null,null,null,null,null,null,null,null,null,null,null,64,50000000,"NO HAY CODIGO",64,0,"144 MESES",144]
[null,null,null,null,null,null,null,null,null,null,null,null,null,null,null,null,null,null,null,null,null,null,null,null,null,null,null,null,null,65,50000000,"NO HAY CODIGO",65,0,{"$f":"$AI$6","v":"144 MESES"},144]
[null,null,null,null,null,null,null,null,null,null,null,null,null,null,null,null,null,null,null,null,null,null,null,null,null,null,null,null,null,66,50000000,"NO HAY CODIGO",66,0,"144 MESES",144]
[null,null,null,null,null,null,null,null,null,null,null,null,null,null,null,null,null,null,null,null,null,null,null,null,null,null,null,null,null,67,50000000,{"$f":"$AF$7","v":"NO HAY CODIGO"},67,0,"144 MESES",144]
[null,null,null,null,null,null,null,null,null,null,null,null,null,null,null,null,null,null,null,null,null,null,null,null,null,null,null,null,null,68,50000000,{"$f":"$AF$7","v":"NO HAY CODIGO"},68,0,"144 MESES",144]
[null,null,null,null,null,null,null,null,null,null,null,null,null,null,null,null,null,null,null,null,null,null,null,null,null,null,null,null,null,69,50000000,{"$f":"$AF$7","v":"NO HAY CODIGO"},69,0,"144 MESES",144]
[null,null,null,null,null,null,null,null,null,null,null,null,null,null,null,null,null,null,null,null,null,null,null,null,null,null,null,null,null,70,50000000,{"$f":"$AF$7","v":"NO HAY CODIGO"},70,0,"144 MESES",144]
[null,null,null,null,null,null,null,null,null,null,null,null,null,null,null,null,null,null,null,null,null,null,null,null,null,null,null,null,null,71,{"$f":"$AE$7","v":20000000},{"$f":"$AF$5","v":"NO HAY CODIGO"},71,{"$f":"$AH$5","v":0},{"$f":"$AI$5","v":"60 MESES"},{"$f":"$AJ$5","v":60}]
[null,null,null,null,null,null,null,null,null,null,null,null,null,null,null,null,null,null,null,null,null,null,null,null,null,null,null,null,null,72,{"$f":"$AE$7","v":20000000},{"$f":"$AF$5","v":"NO HAY CODIGO"},72,{"$f":"$AH$5","v":0},{"$f":"$AI$5","v":"60 MESES"},{"$f":"$AJ$5","v":60}]
[null,null,null,null,null,null,null,null,null,null,null,null,null,null,null,null,null,null,null,null,null,null,null,null,null,null,null,null,null,73,{"$f":"$AE$7","v":20000000},{"$f":"$AF$5","v":"NO HAY CODIGO"},73,{"$f":"$AH$5","v":0},{"$f":"$AI$5","v":"60 MESES"},{"$f":"$AJ$5","v":60}]
[null,null,null,null,null,null,null,null,null,null,null,null,null,null,null,null,null,null,null,null,null,null,null,null,null,null,null,null,null,74,{"$f":"$AE$7","v":20000000},{"$f":"$AF$5","v":"NO HAY CODIGO"},74,{"$f":"$AH$5","v":0},{"$f":"$AI$5","v":"60 MESES"},{"$f":"$AJ$5","v":60}]
[null,null,null,null,null,null,null,null,null,null,null,null,null,null,null,null,null,null,null,null,null,null,null,null,null,null,null,null,null,75,{"$f":"$AE$5","v":10000000},{"$f":"$AF$5","v":"NO HAY CODIGO"},75,{"$f":"$AH$5","v":0},{"$f":"$AI$5","v":"60 MESES"},{"$f":"$AJ$5","v":60}]
[null,null,null,null,null,null,null,null,null,null,null,null,null,null,null,null,null,null,null,null,null,null,null,null,null,null,null,null,null,76,{"$f":"$AE$5","v":10000000},{"$f":"$AF$5","v":"NO HAY CODIGO"},76,0,{"$f":"$AI$5","v":"60 MESES"},{"$f":"$AJ$5","v":60}]
[null,null,null,null,null,null,null,null,null,null,null,null,null,null,null,null,null,null,null,null,null,null,null,null,null,null,null,null,null,77,10000000,"NO HAY CODIGO",77,0,"60 MESES",60]
[null,null,null,null,null,null,null,null,null,null,null,null,null,null,null,null,null,null,null,null,null,null,null,null,null,null,null,null,null,78,10000000,"NO HAY CODIGO",78,0,"60 MESES",60]
[null,null,null,null,null,null,null,null,null,null,null,null,null,null,null,null,null,null,null,null,null,null,null,null,null,null,null,null,null,79,10000000,"NO HAY CODIGO",79,0,"60 MESES",60]
[null,null,null,null,null,null,null,null,null,null,null,null,null,null,null,null,null,null,null,null,null,null,null,null,null,null,null,null,null,80,"SUPERA EDAD","SUPERA EDAD",80,"SUPERA EDAD","PARA SOLICITAR CREDITO",0]
[null,null,null,null,null,null,null,null,null,null,null,null,null,null,null,null,null,null,null,null,null,null,null,null,null,null,null,null,null,81,"SUPERA EDAD","SUPERA EDAD",81,"SUPERA EDAD","PARA SOLICITAR CREDITO",0]
[null,null,null,null,null,null,null,null,null,null,null,null,null,null,null,null,null,null,null,null,null,null,null,null,null,null,null,null,null,82,"SUPERA EDAD","SUPERA EDAD",82,"SUPERA EDAD","PARA SOLICITAR CREDITO",0]
[null,null,null,null,null,null,null,null,null,null,null,null,null,null,null,null,null,null,null,null,null,null,null,null,null,null,null,null,null,83,"SUPERA EDAD","SUPERA EDAD",83,"SUPERA EDAD","PARA SOLICITAR CREDITO",0]
[null,null,null,null,null,null,null,null,null,null,null,null,null,null,null,null,null,null,null,null,null,null,null,null,null,null,null,null,null,84,"SUPERA EDAD","SUPERA EDAD",84,"SUPERA EDAD","PARA SOLICITAR CREDITO",0]
[null,null,null,null,null,null,null,null,null,null,null,null,null,null,null,null,null,null,null,null,null,null,null,null,null,null,null,null,null,85,"SUPERA EDAD","SUPERA EDAD",85,"SUPERA EDAD","PARA SOLICITAR CREDITO",0]
[null,null,null,null,null,null,null,null,null,null,null,null,null,null,null,null,null,null,null,null,null,null,null,null,null,null,null,null,null,86,"SUPERA EDAD","SUPERA EDAD",86,"SUPERA EDAD","PARA SOLICITAR CREDITO",0]
[null,null,null,null,null,null,null,null,null,null,null,null,null,null,null,null,null,null,null,null,null,null,null,null,null,null,null,null,null,87,"SUPERA EDAD","SUPERA EDAD",87,"SUPERA EDAD","PARA SOLICITAR CREDITO",0]
[null,null,null,null,null,null,null,null,null,null,null,null,null,null,null,null,null,null,null,null,null,null,null,null,null,null,null,null,null,88,"SUPERA EDAD","SUPERA EDAD",88,"SUPERA EDAD","PARA SOLICITAR CREDITO",0]
[null,null,null,null,null,null,null,null,null,null,null,null,null,null,null,null,null,null,null,null,null,null,null,null,null,null,null,null,null,89,"SUPERA EDAD","SUPERA EDAD",89,"SUPERA EDAD","PARA SOLICITAR CREDITO",0]
[null,null,null,null,null,null,null,null,null,null,null,null,null,null,null,null,null,null,null,null,null,null,null,null,null,null,null,null,null,90,"SUPERA EDAD","SUPERA EDAD",90,"SUPERA EDAD","PARA SOLICITAR CREDITO",0]
[null,null,null,null,null,null,null,null,null,null,null,null,null,null,null,null,null,null,null,null,null,null,null,null,null,null,null,null,null,91,"SUPERA EDAD","SUPERA EDAD",91,"SUPERA EDAD","PARA SOLICITAR CREDITO",0]
[null,null,null,null,null,null,null,null,null,null,null,null,null,null,null,null,null,null,null,null,null,null,null,null,null,null,null,null,null,92,"SUPERA EDAD","SUPERA EDAD",92,"SUPERA EDAD","PARA SOLICITAR CREDITO",0]
[null,null,null,null,null,null,null,null,null,null,null,null,null,null,null,null,null,null,null,null,null,null,null,null,null,null,null,null,null,93,"SUPERA EDAD","SUPERA EDAD",93,"SUPERA EDAD","PARA SOLICITAR CREDITO",0]
[null,null,null,null,null,null,null,null,null,null,null,null,null,null,null,null,null,null,null,null,null,null,null,null,null,null,null,null,null,94,"SUPERA EDAD","SUPERA EDAD",94,"SUPERA EDAD","PARA SOLICITAR CREDITO",0]
[null,null,null,null,null,null,null,null,null,null,null,null,null,null,null,null,null,null,null,null,null,null,null,null,null,null,null,null,null,95,"SUPERA EDAD","SUPERA EDAD",95,"SUPERA EDAD","PARA SOLICITAR CREDITO",0]
[null,null,null,null,null,null,null,null,null,null,null,null,null,null,null,null,null,null,null,null,null,null,null,null,null,null,null,null,null,96,"SUPERA EDAD","SUPERA EDAD",96,"SUPERA EDAD","PARA SOLICITAR CREDITO",0]
[null,null,null,null,null,null,null,null,null,null,null,null,null,null,null,null,null,null,null,null,null,null,null,null,null,null,null,null,null,97,"SUPERA EDAD","SUPERA EDAD",97,"SUPERA EDAD","PARA SOLICITAR CREDITO",0]
[null,null,null,null,null,null,null,null,null,null,null,null,null,null,null,null,null,null,null,null,null,null,null,null,null,null,null,null,null,98,"SUPERA EDAD","SUPERA EDAD",98,"SUPERA EDAD","PARA SOLICITAR CREDITO",0]
[null,null,null,null,null,null,null,null,null,null,null,null,null,null,null,null,null,null,null,null,null,null,null,null,null,null,null,null,null,99,"SUPERA EDAD","SUPERA EDAD",99,"SUPERA EDAD","PARA SOLICITAR CREDITO",0]
[null,null,null,null,null,null,null,null,null,null,null,null,null,null,null,null,null,null,null,null,null,null,null,null,null,null,null,null,null,100,"SUPERA EDAD","SUPERA EDAD",100,"SUPERA EDAD","PARA SOLICITAR CREDITO",0]
[null,null,null,null,null,null,null,null,null,null,null,null,null,null,null,null,null,null,null,null,null,null,null,null,null,null,null,null,null,101,"SUPERA EDAD","SUPERA EDAD",101,"SUPERA EDAD","PARA SOLICITAR CREDITO",0]
[null,null,null,null,null,null,null,null,null,null,null,null,null,null,null,null,null,null,null,null,null,null,null,null,null,null,null,null,null,102,"SUPERA EDAD","SUPERA EDAD",102,"SUPERA EDAD","PARA SOLICITAR CREDITO",0]
[null,null,null,null,null,null,null,null,null,null,null,null,null,null,null,null,null,null,null,null,null,null,null,null,null,null,null,null,null,103,"SUPERA EDAD","SUPERA EDAD",103,"SUPERA EDAD","PARA SOLICITAR CREDITO",0]
[null,null,null,null,null,null,null,null,null,null,null,null,null,null,null,null,null,null,null,null,null,null,null,null,null,null,null,null,null,104,"SUPERA EDAD","SUPERA EDAD",104,"SUPERA EDAD","PARA SOLICITAR CREDITO",0]
[null,null,null,null,null,null,null,null,null,null,null,null,null,null,null,null,null,null,null,null,null,null,null,null,null,null,null,null,null,105,"SUPERA EDAD","SUPERA EDAD",105,"SUPERA EDAD","PARA SOLICITAR CREDITO",0]
[null,null,null,null,null,null,null,null,null,null,null,null,null,null,null,null,null,null,null,null,null,null,null,null,null,null,null,null,null,106,"SUPERA EDAD","SUPERA EDAD",106,"SUPERA EDAD","PARA SOLICITAR CREDITO",0]
[null,null,null,null,null,null,null,null,null,null,null,null,null,null,null,null,null,null,null,null,null,null,null,null,null,null,null,null,null,107,"SUPERA EDAD","SUPERA EDAD",107,"SUPERA EDAD","PARA SOLICITAR CREDITO",0]
[null,null,null,null,null,null,null,null,null,null,null,null,null,null,null,null,null,null,null,null,null,null,null,null,null,null,null,null,null,108,"SUPERA EDAD","SUPERA EDAD",108,"SUPERA EDAD","PARA SOLICITAR CREDITO",0]
[null,null,null,null,null,null,null,null,null,null,null,null,null,null,null,null,null,null,null,null,null,null,null,null,null,null,null,null,null,109,"SUPERA EDAD","SUPERA EDAD",109,"SUPERA EDAD","PARA SOLICITAR CREDITO",0]
[null,null,null,null,null,null,null,null,null,null,null,null,null,null,null,null,null,null,null,null,null,null,null,null,null,null,null,null,null,110,"SUPERA EDAD","SUPERA EDAD",110,"SUPERA EDAD","PARA SOLICITAR CREDITO",0]
[null,null,null,null,null,null,null,null,null,null,null,null,null,null,null,null,null,null,null,null,null,null,null,null,null,null,null,null,null,111,"SUPERA EDAD","SUPERA EDAD",111,"SUPERA EDAD","PARA SOLICITAR CREDITO",0]
[null,null,null,null,null,null,null,null,null,null,null,null,null,null,null,null,null,null,null,null,null,null,null,null,null,null,null,null,null,112,"SUPERA EDAD","SUPERA EDAD",112,"SUPERA EDAD","PARA SOLICITAR CREDITO",0]
[null,null,null,null,null,null,null,null,null,null,null,null,null,null,null,null,null,null,null,null,null,null,null,null,null,null,null,null,null,113,"SUPERA EDAD","SUPERA EDAD",113,"SUPERA EDAD","PARA SOLICITAR CREDITO",0]
[null,null,null,null,null,null,null,null,null,null,null,null,null,null,null,null,null,null,null,null,null,null,null,null,null,null,null,null,null,114,"SUPERA EDAD","SUPERA EDAD",114,"SUPERA EDAD","PARA SOLICITAR CREDITO",0]
[null,null,null,null,null,null,null,null,null,null,null,null,null,null,null,null,null,null,null,null,null,null,null,null,null,null,null,null,null,115,"SUPERA EDAD","SUPERA EDAD",115,"SUPERA EDAD","PARA SOLICITAR CREDITO",0]
[null,null,null,null,null,null,null,null,null,null,null,null,null,null,null,null,null,null,null,null,null,null,null,null,null,null,null,null,null,116,"SUPERA EDAD","SUPERA EDAD",116,"SUPERA EDAD","PARA SOLICITAR CREDITO",0]
[null,null,null,null,null,null,null,null,null,null,null,null,null,null,null,null,null,null,null,null,null,null,null,null,null,null,null,null,null,117,"SUPERA EDAD","SUPERA EDAD",117,"SUPERA EDAD","PARA SOLICITAR CREDITO",0]
[null,null,null,null,null,null,null,null,null,null,null,null,null,null,null,null,null,null,null,null,null,null,null,null,null,null,null,null,null,118,"SUPERA EDAD","SUPERA EDAD",118,"SUPERA EDAD","PARA SOLICITAR CREDITO",0]
[null,null,null,null,null,null,null,null,null,null,null,null,null,null,null,null,null,null,null,null,null,null,null,null,null,null,null,null,null,119,"SUPERA EDAD","SUPERA EDAD",119,"SUPERA EDAD","PARA SOLICITAR CREDITO",0]
[null,null,null,null,null,null,null,null,null,null,null,null,null,null,null,null,null,null,null,null,null,null,null,null,null,null,null,null,null,120,"SUPERA EDAD","SUPERA EDAD",120,"SUPERA EDAD","PARA SOLICITAR CREDITO",0]
[null,null,null,null,null,null,null,null,null,null,null,null,null,null,null,null,null,null,null,null,null,null,null,null,null,null,null,null,null,121,"SUPERA EDAD","SUPERA EDAD",121,"SUPERA EDAD","PARA SOLICITAR CREDITO",0]
[null,null,null,null,null,null,null,null,null,null,null,null,null,null,null,null,null,null,null,null,null,null,null,null,null,null,null,null,null,122,"SUPERA EDAD","SUPERA EDAD",122,"SUPERA EDAD","PARA SOLICITAR CREDITO",0]
[null,null,null,null,null,null,null,null,null,null,null,null,null,null,null,null,null,null,null,null,null,null,null,null,null,null,null,null,null,123,"SUPERA EDAD","SUPERA EDAD",123,"SUPERA EDAD","PARA SOLICITAR CREDITO",0]
[null,null,null,null,null,null,null,null,null,null,null,null,null,null,null,null,null,null,null,null,null,null,null,null,null,null,null,null,null,124,"SUPERA EDAD","SUPERA EDAD",124,"SUPERA EDAD","PARA SOLICITAR CREDITO",0]
[null,null,null,null,null,null,null,null,null,null,null,null,null,null,null,null,null,null,null,null,null,null,null,null,null,null,null,null,null,125,"SUPERA EDAD","SUPERA EDAD",125,"SUPERA EDAD","PARA SOLICITAR CREDITO",0]
[null,null,null,null,null,null,null,null,null,null,null,null,null,null,null,null,null,null,null,null,null,null,null,null,null,null,null,null,null,126,"SUPERA EDAD","SUPERA EDAD",126,"SUPERA EDAD","PARA SOLICITAR CREDITO",0]
[null,null,null,null,null,null,null,null,null,null,null,null,null,null,null,null,null,null,null,null,null,null,null,null,null,null,null,null,null,127,"SUPERA EDAD","SUPERA EDAD",127,"SUPERA EDAD","PARA SOLICITAR CREDITO",0]
[null,null,null,null,null,null,null,null,null,null,null,null,null,null,null,null,null,null,null,null,null,null,null,null,null,null,null,null,null,128,"SUPERA EDAD","SUPERA EDAD",128,"SUPERA EDAD","PARA SOLICITAR CREDITO",0]
[null,null,null,null,null,null,null,null,null,null,null,null,null,null,null,null,null,null,null,null,null,null,null,null,null,null,null,null,null,129,"SUPERA EDAD","SUPERA EDAD",129,"SUPERA EDAD","PARA SOLICITAR CREDITO",0]
[null,null,null,null,null,null,null,null,null,null,null,null,null,null,null,null,null,null,null,null,null,null,null,null,null,null,null,null,null,130,"SUPERA EDAD","SUPERA EDAD",130,"SUPERA EDAD","PARA SOLICITAR CREDITO",0]

{"sheet":"CPA y PENS ANT","index":19,"n_rows":138,"n_cols":36,"rows_kept":138,"cut":false,"hidden":false,"merged":[[4,0,4,4],[0,0,0,4],[0,14,0,15],[1,0,1,4],[2,0,2,4],[3,0,3,4],[5,0,5,4],[6,0,6,4],[6,6,6,8],[7,0,7,4],[8,0,8,4],[8,6,8,7],[8,10,8,15],[9,0,9,4],[9,10,9,15],[10,0,10,4],[10,10,10,15],[16,16,16,18],[16,21,16,22],[17,1,17,2],[17,3,17,4],[17,5,17,7],[17,16,17,18],[17,21,17,22],[11,0,16,3],[18,0,19,4],[18,16,18,18],[18,21,18,22],[19,16,19,18],[19,21,19,22],[20,0,23,4],[20,16,20,18],[20,21,20,22],[21,16,21,18],[21,21,21,22],[22,16,22,18],[22,21,22,22],[23,16,23,18],[23,21,23,22],[24,0,27,4],[25,16,25,18],[25,21,25,22],[26,16,26,18],[26,21,26,22],[27,16,27,18],[27,21,27,22],[28,16,28,18],[28,21,28,22],[29,16,29,18],[29,21,29,22],[36,0,36,2],[36,5,36,6],[30,16,30,18],[30,21,30,22],[31,0,31,2],[31,16,31,18],[31,21,31,22],[32,16,32,18],[32,21,32,22],[33,5,33,6],[34,0,34,2],[34,5,34,6],[30,10,30,15],[28,0,30,2],[28,10,28,15],[37,0,37,2],[37,5,37,6],[29,5,29,7],[29,10,29,15],[38,0,38,2],[38,5,38,7],[39,0,39,2],[39,5,39,7],[35,0,35,2],[35,5,35,6]]}
["CPA y Pensiones de Antioquia CO 1",null,null,null,null,"PENSION - SALUD / 2",null,null,null,null,null,null,null,null,{"$f":"TASAS!G15","v":"2025-03"}]
[{"$f":"IF(($F$2=\"\"),\"Digite la edad del cliente\",\"\")","v":"Digite la edad del cliente"},null,null,null,null,null,null,null,null,null,null,null,null,null,null,null,{"$f":"F6+F7-F8","v":0},{"$f":"F9-Q2","v":0}]
[{"$f":"IF(($F$3<50000000),\"Monto máximo por COSERFIN\",\"Monto máximo por COSERFIN\")","v":"Monto máximo por COSERFIN"},null,null,null,null,{"$f":"IF((F2 = \"\"),\"DIGITE EDAD\",VLOOKUP(F2,$AD$8:$AF$134,2,0))","v":"DIGITE EDAD"},{"$f":"IF(($F$2=\"\"),\"\",\"Por CREAVAL\")","v":""},{"$f":"IF((F2 = \"\"),\"DIGITE EDAD\",VLOOKUP(F2,$AD$8:$AF$134,3,0))","v":"DIGITE EDAD"},null,null,null,null,null,null,null,null,null,null,{"$f":"IF(AND(G29<TASAS!H11,F29<TASAS!M2),TASAS!H6,TASAS!H5)","v":{"$error":"#VALUE!"}},null,null,null,null,null,null,null,null,null,null,null,"COSERFIN","CREAVAL"]
[{"$f":"IF(($F$2=\"\"),\"\",\"Plazo máximo para cada crédito\")","v":""},null,null,null,null,{"$f":"IF((F2 = \"\"),\"DEL SOLICITANTE\",VLOOKUP(F2,$AG$8:$AI$134,3,0))","v":"DEL SOLICITANTE"},null,null,null,null,null,null,null,null,null,null,null,null,{"$f":"D29-S3","v":{"$error":"#VALUE!"}},null,null,"TRAIDO DE TASAS",null,{"$f":"IF(F6<=V5,F6*0.04,0)","v":0},null,null,null,null,80,null,0,0,6600000,0,0,0]
["EVALUACION CAPACIDAD DE PAGO",null,null,null,null,"VALOR 1","VALOR 2","VALOR 3","TOTALES",null,null,null,null,null,null,null,null,null,0,null,null,{"$f":"TASAS!G11","v":1423500},null,{"$f":"IF(F6>V5,F6*0.1,0)","v":0},null,null,null,null,"75-79",null,10000000,"NO HAY CODIGO",30000000,0,"60 MESES",60]
["VALOR PENSION",null,null,null,null,0,null,null,{"$f":"F6","v":0},null,null,null,null,null,null,null,null,null,{"$f":"TASAS!H3","v":1.77E-2},"TASA",null,{"$f":"V5*3","v":4270500},null,{"$f":"IF(F6>V6,F6*0.1,0)","v":0},null,null,null,null,"18-70",null,50000000,"NO HAY CODIGO",50000000,0,"144 MESES",144]
["VALOR OTROS INGRESOS (PRIMAS, RETROACTIVOS, ADICIONALES, ETC.)",null,null,null,null,0,null,null,null,null,null,null,null,null,null,null,null,null,{"$f":"TASAS!H4","v":1.8200000000000001E-2},"TASA",null,null,null,{"$f":"IF(F6>V6,F6*0.12,0)","v":0},null,null,null,null,"71-74",null,20000000,"NO HAY CODIGO"]
["(-) TOTAL DESCUENTOS INCLUYENDO 4, 8 ó 12% DE SALUD (EPS)",null,null,null,null,0,null,null,{"$f":"IF(($R$2>3),\"ERROR EN\",IF($R$2<-3,\"ERROR EN\",F8))","v":0},null,null,null,null,null,null,null,{"$f":"F8-(F6*0.12)","v":0},{"$f":"IF(Q8<0,((Q8*-1)+Q8),Q8)","v":0},{"$f":"TASAS!H5","v":1.8699999999999998E-2},"TASA",null,null,null,{"$f":"X4+X5-X6+X7","v":0},null,null,null,null,null,0,"USUARIO","MENOR DE EDAD",0,"USUARIO","MENOR DE EDAD",0]
["INGRESO NETO RECIBIDO EN EL DESPRENDIBLE DE PAGO",null,null,null,null,0,"DISPONIBLE PARA CREDITO",null,{"$f":"IF(($R$2>3),\"LOS DATOS\",IF($R$2<-3,\"LOS DATOS\",((I6-X9)/2)-(F8-X9)+I10+I11))","v":0},"*",{"$f":"IF((D29=0),\"¡ ¡ ¡ Por favor seleccione la tasa de interés ! ! !\",\" \")","v":"¡ ¡ ¡ Por favor seleccione la tasa de interés ! ! !"},null,null,null,null,null,null,null,{"$f":"TASAS!H6","v":3.4999999999999996E-2},"TASA",null,null,null,{"$f":"CEILING(X8,100)","v":0},null,null,null,null,null,1,"USUARIO","MENOR DE EDAD",1,"USUARIO","MENOR DE EDAD",0]
["(+) DESCUENTOS FINALIZADOS EN EL PRESENTE MES Y EN EL PROXIMO",null,null,null,null,0,0,0,{"$f":"SUM(F10:H10)","v":0},null,{"$f":"IF((S4=0),\" \",\"¡¡¡   A T E N C I O N   !!!\")","v":{"$error":"#VALUE!"}},null,null,null,null,null,null,null,{"$f":"TASAS!H7","v":1.4499999999999999E-2},"TASA",null,null,null,null,null,null,null,null,null,2,"USUARIO","MENOR DE EDAD",2,"USUARIO","MENOR DE EDAD",0]
["(+) CUOTAS DE COMPRAS DE CARTERA",null,null,null,null,0,0,0,{"$f":"SUM(F11:H11)","v":0},null,{"$f":"IF((S4=0),\" \",\"La tasa máxima para ese monto y plazo es del\")","v":{"$error":"#VALUE!"}},null,null,null,null,null,null,null,{"$f":"TASAS!H8","v":1.4999999999999999E-2},"TASA",null,null,null,null,null,null,null,null,null,3,"USUARIO","MENOR DE EDAD",3,"USUARIO","MENOR DE EDAD",0]
["(-) VALOR ESTIMADO CUOTA DE CREDITO CON COOSERFIN",null,null,null,{"$f":"IF(($F$14=\"TASA\"),\" \",\"VR SOLICT\")","v":"VR SOLICT"},{"$f":"IF(F3>G20,FLOOR(G20,100000),F3)","v":"DIGITE EDAD"},0,0,{"$f":"IF($I$18>=0.1,\"VALOR TOTAL\",\"\")","v":"VALOR TOTAL"},null,null,null,null,null,null,null,null,null,{"$f":"TASAS!H9","v":1.55E-2},"TASA",null,null,null,null,null,null,null,null,null,4,"USUARIO","MENOR DE EDAD",4,"USUARIO","MENOR DE EDAD",0]
[null,null,null,null,{"$f":"IF(($F$14=\"TASA\"),\" \",\"PLAZO\")","v":"PLAZO"},{"$f":"F20","v":"DIGITE EDAD"},{"$f":"F13","v":"DIGITE EDAD"},{"$f":"F13","v":"DIGITE EDAD"},{"$f":"IF($I$18>=0.1,\"DE LA\",\"\")","v":"DE LA"},null,null,null,null,null,null,null,null,null,null,null,null,null,null,null,null,null,null,null,null,5,"USUARIO","MENOR DE EDAD",5,"USUARIO","MENOR DE EDAD",0]
[null,null,null,null,"FACTOR",2.3E-2,{"$f":"IF($F$14=\"TASA\",(0),$F$14)","v":2.3E-2},{"$f":"IF($F$14=\"TASA\",(0),$F$14)","v":2.3E-2},{"$f":"IF($I$18>=0.1,\"SOLICITUD\",\"\")","v":"SOLICITUD"},null,null,null,null,null,null,null,null,{"$f":"F3*1","v":{"$error":"#VALUE!"}},{"$f":"(PV(D29,F29,V15))*-1","v":{"$error":"#VALUE!"}},null,null,{"$f":"H20","v":"NO APLICA"},null,null,null,null,null,null,null,6,"USUARIO","MENOR DE EDAD",10,"USUARIO","MENOR DE EDAD",0]
[null,null,null,null,{"$f":"IF(($F$14=\"TASA\"),\" \",\"MESES GRACIA\")","v":"MESES GRACIA"},0,0,0,null,null,null,null,null,null,null,null,null,null,{"$f":"(IF(S14>R14,R14,FLOOR(S14,100000)))","v":{"$error":"#VALUE!"}},{"$f":"(PV(D29,F29,H20))*-1","v":{"$error":"#VALUE!"}},null,{"$f":"((V14*(1-T20))-T22-X17-X21)*0.99","v":{"$error":"#VALUE!"}},null,null,null,null,null,null,null,7,"USUARIO","MENOR DE EDAD",7,"USUARIO","MENOR DE EDAD",0]
[null,null,null,null,{"$f":"IF(($F$14=\"TASA\"),\" \",\"VR LIBRANZA\")","v":"VR LIBRANZA"},{"$f":"IF($I$18>=0,($F$17*F13),IF($I$18<0,\"\"))","v":{"$error":"#VALUE!"}},{"$f":"IF($I$18>=0,($G$17*G13),IF($I$18<0,\"\"))","v":{"$error":"#VALUE!"}},{"$f":"IF($I$18>=0,($H$17*H13),IF($I$18<0,\"\"))","v":{"$error":"#VALUE!"}},{"$f":"IF($I$18>=0,(F12+G12+H12),IF($I$18<0.1,\"\"))","v":{"$error":"#VALUE!"}},null,null,null,null,null,null,null,{"$f":"G20*1","v":{"$error":"#VALUE!"}},null,null,null,null,null,null,null,null,null,null,null,null,8,"USUARIO","MENOR DE EDAD",8,"USUARIO","MENOR DE EDAD",0]
[null,null,null,null,{"$f":"IF(($F$14=\"TASA\"),\" \",\"VR CUOTA\")","v":"VR CUOTA"},{"$f":"IF(($F$2=\"\"),\"RECUERDE\",ROUNDUP((((($F$12*$F$14))*($F$13+$F$15))+$F$12)/$F$13,0))","v":"RECUERDE"},{"$f":"IF(($F$2=\"\"),\"DIGITAR\",ROUNDUP((((($G$12*$G$14))*($G$13+$G$15))+$G$12)/$G$13,0))","v":"DIGITAR"},{"$f":"IF(($F$2=\"\"),\"LA EDAD\",ROUNDUP((((($H$12*$H$14))*($H$13+$H$15))+$H$12)/$H$13,0))","v":"LA EDAD"},{"$f":"SUM(F17:H17)","v":0},null,null,null,null,null,null,null,"VALOR CREDITO         :",null,null,{"$f":"T15","v":{"$error":"#VALUE!"}},null,"VALOR SEGURO          :",null,{"$f":"T17*Y26","v":{"$error":"#VALUE!"}},null,null,null,null,null,9,"USUARIO","MENOR DE EDAD",9,"USUARIO","MENOR DE EDAD",0]
[{"$f":"IF(($F$2=\"\"),\"RECUERDE DIGITAR ARRIBA LA EDAD\",\"MONTO Y PLAZO POSIBLES SEGÚN EDAD\")","v":"RECUERDE DIGITAR ARRIBA LA EDAD"},{"$f":"IF((F2 = \"\"),\"DIGITE\",VLOOKUP(F2,$AD$4:$AE$131,2,0))","v":"DIGITE"},null,{"$f":"IF((F2 = \"\"),\"LA EDAD\",VLOOKUP(F2,$AG$4:$AI$131,3,0))","v":"LA EDAD"},null,{"$f":"IF((I9-I17)>0,\"USUARIO CON CAPACIDAD DE PAGO\",IF(I9-I17<0,\"INTENTE CON OTROS MONTOS Y/O PLAZOS\"))","v":false},{"$f":"IF($L$13>=#REF!,\"USUARIO CON CAPACIDAD DE ENDEUDAMIENTO\",IF($L$13<#REF!,\"CREDITO INVIABLE INTENTE CON OTRO MONTO Y/O PLAZO\"))","v":{"$error":"#REF!"}},{"$f":"IF($L$13>=#REF!,\"USUARIO CON CAPACIDAD DE ENDEUDAMIENTO\",IF($L$13<#REF!,\"CREDITO INVIABLE INTENTE CON OTRO MONTO Y/O PLAZO\"))","v":{"$error":"#REF!"}},{"$f":"IF(((I9-I17)>0),(I9-I17),\"SIN CUPO\")","v":"SIN CUPO"},null,null,null,null,null,null,null,"TASA NOMINAL MENSUAL  :",null,null,{"$f":"D29","v":0},null,"TASA EFECTIVA ANUAL   :",null,{"$f":"((1+((T18*12)/12))^12)-1","v":0},null,null,null,null,null,10,"USUARIO","MENOR DE EDAD",10,"USUARIO","MENOR DE EDAD",0]
[{"$f":"IF($Y$24>0,\"MONTO MAXIMO DE ENDEUDAMIENTO - OPCION 1 CREDITO\",IF($Y$24<=0,\"EL SOLICITANTE NO TIENE POSIBILIDADES DE CREDITO\"))","v":"EL SOLICITANTE NO TIENE POSIBILIDADES DE CREDITO"},null,null,null,null,"PLAZO","MONTO MAX","VALOR CUOTA","VR LIBRANZA",null,null,null,null,null,null,null,"PLAZO EN MESES        :",null,null,{"$f":"F29","v":"DIGITE EDAD"},null,"CUOTA NETA            :",null,{"$f":"((((T18)*((1+(T18))^T19))/(((1+(T18))^T19)-1))*(T17+AA20))+(((((T17+AA20)*T18)/30)*T24)/T19)","v":{"$error":"#VALUE!"}},null,null,null,null,null,11,"USUARIO","MENOR DE EDAD",11,"USUARIO","MENOR DE EDAD",0]
[null,null,null,null,null,{"$f":"IF((F2 = \"\"),\"DIGITE EDAD\",VLOOKUP(F2,$AG$4:$AJ$131,4,0))","v":"DIGITE EDAD"},{"$f":"IF(($Y$24<=0),\"NO APLICA\",$I$20*100/((($F$14*100)*($F$20+$F$15))+100))","v":"NO APLICA"},{"$f":"IF(($Y$24<=0),\"NO APLICA\",($I$9))","v":"NO APLICA"},{"$f":"IF(($Y$24<=0),\"NO APLICA\",($F$20*$H$20))","v":"NO APLICA"},"*",null,null,null,null,null,null,"TASA COMISION RECAUDO :",null,null,0,null,"COMISION POR RECAUDO  :",null,{"$f":"((((((T18)*((1+(T18))^T19))/(((1+(T18))^T19)-1))*(T17+AA20))+(((((T17+AA20)*T18)/30)*T24)/T19)+T22+X17)*100)/(100-(T20*100))-(((((T18)*((1+(T18))^T19))/(((1+(T18))^T19)-1))*(T17+AA20))+(((((T17+AA20)*T18)/30)*T24)/T19)+T22+X17)","v":{"$error":"#VALUE!"}},null,null,{"$f":"T17*T21","v":{"$error":"#VALUE!"}},null,null,12,"USUARIO","MENOR DE EDAD",12,"USUARIO","MENOR DE EDAD",0]
[{"$f":"IF($Y$24>0,\"MONTO MAXIMO DE ENDEUDAMIENTO - OPCION 3 CREDITOS\",IF($Y$24<=0,\"EL SOLICITANTE NO TIENE POSIBILIDADES DE CREDITO\"))","v":"EL SOLICITANTE NO TIENE POSIBILIDADES DE CREDITO"},null,null,null,null,{"$f":"AJ6","v":144},{"$f":"IF(($Y$24<=0),\"NO APLICA\",$I$21*100/((($F$14*100)*($F$21+$F$15))+100))","v":"NO APLICA"},{"$f":"IF(($Y$24<=0),\"NO APLICA\",(($I$9+$I$10+$I$11))*0.425)","v":"NO APLICA"},{"$f":"IF(($Y$24<=0),\"NO APLICA\",($F$21*$H$21))","v":"NO APLICA"},null,null,null,null,null,null,null,"OTROS GASTOS          :",null,null,{"$f":"D31","v":0},null,"VALOR OTROS GASTOS    :",null,{"$f":"X24-AA22","v":{"$error":"#VALUE!"}},null,null,{"$f":"T26*T30","v":{"$error":"#VALUE!"}},null,null,13,"USUARIO","MENOR DE EDAD",13,"USUARIO","MENOR DE EDAD",0]
[null,null,null,null,null,{"$f":"AJ6","v":144},{"$f":"IF(($Y$24<=0),\"NO APLICA\",$I$22*100/((($F$14*100)*($F$22+$F$15))+100))","v":"NO APLICA"},{"$f":"IF(($Y$24<=0),\"NO APLICA\",(($I$9+$I$10+$I$11))*0.425)","v":"NO APLICA"},{"$f":"IF(($Y$24<=0),\"NO APLICA\",($F$22*$H$22))","v":"NO APLICA"},null,null,null,null,null,null,null,"APORTES SOCIALES      :",null,null,0,null,"FECHA DE INICIO       :",null,{"$f":"(T23+((T19+1)*29))-((T19-1)*29)","v":{"$error":"#VALUE!"}},null,null,{"$f":"((((T18)*((1+(T18))^T19))/(((1+(T18))^T19)-1))*T17)+((((T17*T18)/30)*T24)/T19)+T22+X17+X20","v":{"$error":"#VALUE!"}},null,null,14,"USUARIO","MENOR DE EDAD",14,"USUARIO","MENOR DE EDAD",0]
[null,null,null,null,null,12,{"$f":"IF(($Y$24<=0),\"NO APLICA\",$I$23*100/((($F$14*100)*($F$23+$F$15))+100))","v":"NO APLICA"},{"$f":"IF(($Y$24<=0),\"NO APLICA\",(($I$9+$I$10+$I$11))*0.15)","v":"NO APLICA"},{"$f":"IF(($Y$24<=0),\"NO APLICA\",($F$23*$H$23))","v":"NO APLICA"},null,null,null,null,null,null,null,"FECHA DESEMBOLSO      :",null,null,"2012-01-01",null,"FECHA DE TERMINO      :",null,{"$f":"(T23+((T19+1)*29))-((T19-1)*29)+((T19-1)*30)","v":{"$error":"#VALUE!"}},null,null,null,null,null,15,"USUARIO","MENOR DE EDAD",15,"USUARIO","MENOR DE EDAD",0]
[null,null,null,null,null,"TOTALES",{"$f":"SUM(G21:G23)","v":0},{"$f":"SUM(H21:H23)","v":0},{"$f":"SUM(I21:I23)","v":0},null,null,null,null,null,null,null,"DIAS DE GRACIA        :",null,null,{"$f":"D32","v":0},null,"TOTAL CUOTA MENSUAL   :",null,{"$f":"X19+T22+X20+X17","v":{"$error":"#VALUE!"}},{"$f":"$I$9+$I$10+$I$11","v":0},"PLAZO","MONTO MAX","VR MAX CUOTA","VALOR LZ",16,"USUARIO","MENOR DE EDAD",16,"USUARIO","MENOR DE EDAD",0]
[{"$f":"IF(I18>=0,\"OTRAS OPCIONES DE CREDITO DISPONIBLES\",IF(I18<0,\"INTENTE CON OTRO MONTO Y/O PLAZO\"))","v":"OTRAS OPCIONES DE CREDITO DISPONIBLES"},null,null,null,null,{"$f":"IF($AA$25<=$AC$29,12,IF($AA$25>$AC$29,\"NO APLICA\"))","v":{"$error":"#VALUE!"}},{"$f":"IF(AA25>$AC$29,\"NO APLICA\",IF(AA25<=$AC$29,FLOOR(AA25,10000)))","v":{"$error":"#VALUE!"}},{"$f":"IF($AA$25>$AC$29,\"NO APLICA\",IF(AA25<=$AC$29,((((G25*($F$14)*((F25+$F$15))+G25)/F25)))))","v":{"$error":"#VALUE!"}},{"$f":"IF($AA$25>$AC$29,\"NO APLICA\",IF(AA25<=$AC$29,(F25*H25)))","v":{"$error":"#VALUE!"}},null,null,null,null,null,null,null,null,null,null,null,null,null,null,null,"SEGURO",12,{"$f":"IF(($I$18>=0),AC25*100/((($F$14*100)*(Z25+$F$15))+100),\"\")","v":{"$error":"#VALUE!"}},{"$f":"IF(($I$18>=0),($I$17+$I$18),\"\")","v":{"$error":"#VALUE!"}},{"$f":"IF(($I$18>=0),(AB25*Z25),\"\")","v":{"$error":"#VALUE!"}},17,"USUARIO","MENOR DE EDAD",17,"USUARIO","MENOR DE EDAD",0]
[null,null,null,null,null,{"$f":"IF($AA$26<=$AC$29,24,IF($AA$26>$AC$29,\"NO APLICA\"))","v":{"$error":"#VALUE!"}},{"$f":"IF(AA26>$AC$29,\"NO APLICA\",IF(AA26<=$AC$29,FLOOR(AA26,10000)))","v":{"$error":"#VALUE!"}},{"$f":"IF($AA$26>$AC$29,\"NO APLICA\",IF(AA26<=$AC$29,((((G26*($F$14)*((F26+$F$15))+G26)/F26)))))","v":{"$error":"#VALUE!"}},{"$f":"IF($AA$26>$AC$29,\"NO APLICA\",IF(AA26<=$AC$29,(F26*H26)))","v":{"$error":"#VALUE!"}},null,null,null,null,null,null,null,"VALOR CREDITO         :",null,null,{"$f":"G29","v":{"$error":"#VALUE!"}},null,"VALOR SEGURO          :",null,{"$f":"T26*Y26","v":{"$error":"#VALUE!"}},{"$f":"IF((F2<66),(TASAS!C12),(VLOOKUP(F2,TASAS!B13:C27,2,0)))","v":1.15E-3},24,{"$f":"IF(($I$18>=0),AC26*100/((($F$14*100)*(Z26+$F$15))+100),\"\")","v":{"$error":"#VALUE!"}},{"$f":"IF(($I$18>=0),($I$17+$I$18),\"\")","v":{"$error":"#VALUE!"}},{"$f":"IF(($I$18>=0),(AB26*Z26),\"\")","v":{"$error":"#VALUE!"}},18,{"$f":"$AE$6","v":50000000},{"$f":"$AF$6","v":"NO HAY CODIGO"},18,{"$f":"$AH$6","v":0},{"$f":"$AI$6","v":"144 MESES"},{"$f":"$AJ$6","v":144}]
[null,null,null,null,null,{"$f":"IF($AA$27<=$AC$29,36,IF($AA$27>$AC$29,\"NO APLICA\"))","v":{"$error":"#VALUE!"}},{"$f":"IF(AA27>$AC$29,\"NO APLICA\",IF(AA27<=$AC$29,FLOOR(AA27,10000)))","v":{"$error":"#VALUE!"}},{"$f":"IF($AA$27>$AC$29,\"NO APLICA\",IF(AA27<=$AC$29,((((G27*($F$14)*((F27+$F$15))+G27)/F27)))))","v":{"$error":"#VALUE!"}},{"$f":"IF($AA$27>$AC$29,\"NO APLICA\",IF(AA27<=$AC$29,(F27*H27)))","v":{"$error":"#VALUE!"}},null,null,null,null,null,null,null,"TASA NOMINAL MENSUAL  :",null,null,{"$f":"T18","v":0},null,"TASA EFECTIVA ANUAL   :",null,{"$f":"((1+((T27*12)/12))^12)-1","v":0},null,36,{"$f":"IF(($I$18>=0),AC27*100/((($F$14*100)*(Z27+$F$15))+100),\"\")","v":{"$error":"#VALUE!"}},{"$f":"IF(($I$18>=0),($I$17+$I$18),\"\")","v":{"$error":"#VALUE!"}},{"$f":"IF(($I$18>=0),(AB27*Z27),\"\")","v":{"$error":"#VALUE!"}},19,{"$f":"$AE$6","v":50000000},{"$f":"$AF$6","v":"NO HAY CODIGO"},19,{"$f":"$AH$6","v":0},{"$f":"$AI$6","v":"144 MESES"},{"$f":"$AJ$6","v":144}]
[null,null,null,null,null,{"$f":"IF($AA$28<=$AC$29,48,IF($AA$28>$AC$29,\"NO APLICA\"))","v":{"$error":"#VALUE!"}},{"$f":"IF(AA28>$AC$29,\"NO APLICA\",IF(AA28<=$AC$29,FLOOR(AA28,10000)))","v":{"$error":"#VALUE!"}},{"$f":"IF($AA$28>$AC$29,\"NO APLICA\",IF(AA28<=$AC$29,((((G28*($F$14)*((F28+$F$15))+G28)/F28)))))","v":{"$error":"#VALUE!"}},{"$f":"IF($AA$28>$AC$29,\"NO APLICA\",IF(AA28<=$AC$29,(F28*H28)))","v":{"$error":"#VALUE!"}},null,null,null,null,null,null,null,"PLAZO EN MESES        :",null,null,"DIGITE EDAD",null,"CUOTA NETA            :",null,{"$f":"((((T27)*((1+(T27))^T28))/(((1+(T27))^T28)-1))*(T26+AA21))+(((((T26+AA21)*T27)/30)*T33)/T28)","v":{"$error":"#VALUE!"}},null,48,{"$f":"IF(($I$18>=0),AC28*100/((($F$14*100)*(Z28+$F$15))+100),\"\")","v":{"$error":"#VALUE!"}},{"$f":"IF(($I$18>=0),($I$17+$I$18),\"\")","v":{"$error":"#VALUE!"}},{"$f":"IF(($I$18>=0),(AB28*Z28),\"\")","v":{"$error":"#VALUE!"}},20,50000000,"NO HAY CODIGO",20,0,"144 MESES",144]
["LIBRE INVERSION - COBRO DE AVAL ANTICIPADO",null,null,0,"N.M.V.",{"$f":"F20","v":"DIGITE EDAD"},{"$f":"S15","v":{"$error":"#VALUE!"}},"  VR CUOTA   ",{"$f":"((((T27)*((1+(T27))^T28))/(((1+(T27))^T28)-1))*(G29+AA21))+(((((G29+AA21)*T27)/30)*T33)/T28)+T31+X26+X29+X30","v":{"$error":"#VALUE!"}},null,{"$f":"IF((S4=0),\" \",S3)","v":{"$error":"#VALUE!"}},null,null,null,null,null,"TASA COMISION RECAUDO :",null,null,0,null,"COMISION POR RECAUDO  :",null,{"$f":"((((((T27)*((1+(T27))^T28))/(((1+(T27))^T28)-1))*(T26+AA21))+(((((T26+AA21)*T27)/30)*T33)/T28)+T31+X26)*100)/(100-(T29*100))-(((((T27)*((1+(T27))^T28))/(((1+(T27))^T28)-1))*(T26+AA21))+(((((T26+AA21)*T27)/30)*T33)/T28)+T31+X26)","v":{"$error":"#VALUE!"}},null,null,null,"MONTO MAXIMO POR CLIENTE",50000000,21,50000000,"NO HAY CODIGO",21,0,"144 MESES",144]
[null,null,null,{"$f":"((1+((D29*12)/12))^12)-1","v":0}," E. A.",{"$f":"IF(I30>=0,\"USUARIO CON CAPACIDAD DE PAGO\",IF(I30<0,\"INTENTE CON OTRO MONTO Y/O PLAZO\"))","v":{"$error":"#VALUE!"}},null,null,{"$f":"I9-I29","v":{"$error":"#VALUE!"}},null,{"$f":"IF(D29=TASAS!H3,\"Tasa para clientes con puntaje > a 750 y sin procesos\",\" \")","v":" "},null,null,null,null,null,"OTROS GASTOS          :",null,null,0,null,"VALOR OTROS GASTOS    :",null,null,null,null,null,null,null,22,50000000,"NO HAY CODIGO",22,0,"144 MESES",144]
[null,null,null,0," O. G.","% AVAL","VALOR AVAL ","A GIRAR",null,null,{"$f":"IF(D29=TASAS!H4,\"Tasa para clientes con puntaje entre 650 - 749 y sin procesos\",\" \")","v":" "},null,null,null,null,null,"APORTES SOCIALES      :",null,null,0,null,"FECHA DE INICIO       :",null,{"$f":"(T32+((T28+1)*29))-((T28-1)*29)","v":{"$error":"#VALUE!"}},null,null,null,null,null,23,50000000,"NO HAY CODIGO",23,0,"144 MESES",144]
[null,null,null,0," D. G.",0.09,{"$f":"G29*F32","v":{"$error":"#VALUE!"}},{"$f":"G29-G32","v":{"$error":"#VALUE!"}},null,null,null,null,null,null,null,null,"FECHA DESEMBOLSO      :",null,null,"2012-01-01",null,"FECHA DE TERMINO      :",null,{"$f":"(T32+((T28+1)*29))-((T28-1)*29)+((T28-1)*30)","v":{"$error":"#VALUE!"}},null,null,null,null,null,24,50000000,"NO HAY CODIGO",24,0,"144 MESES",144]
[null,null,null,"% Simple",{"$f":"(((I29*F29)-G29)/G29)/F29","v":{"$error":"#VALUE!"}},null,"VR MENSUAL x 1 MM",{"$f":"I29/(G29/1000000)","v":{"$error":"#VALUE!"}},null,null,null,null,null,null,null,null,"DIAS DE GRACIA        :",null,null,0,null,"TOTAL CUOTA MENSUAL   :",null,{"$f":"X28+T31+X29+X26","v":{"$error":"#VALUE!"}},null,null,null,null,null,25,50000000,"NO HAY CODIGO",25,0,"144 MESES",144]
[null,null,null,null,null,"COMPRA O AMPLIACION 1",null,0,null,"FIDELIZACIÓN","VR CRÉDITO","VR CUOTA ","PLAZO"," VR AVAL","SALDO","A GIRAR",null,null,null,null,null,null,null,null,null,null,null,null,null,26,50000000,"NO HAY CODIGO",26,0,"144 MESES",144]
["Vr. Crédito",null,null,{"$f":"G29","v":{"$error":"#VALUE!"}},null,"COMPRA O AMPLIACION 2",null,0,"LIBRE INV",null,0,0,0,0,0,{"$f":"K35-N35-O35","v":0},null,null,null,null,null,null,null,null,null,null,null,null,null,27,50000000,"NO HAY CODIGO",27,0,"144 MESES",144]
["Aval",null,null,{"$f":"G32","v":{"$error":"#VALUE!"}},null,"COMPRA O AMPLIACION 3",null,0,"AMPLIACION","LZ A",0,0,0,0,0,{"$f":"K36-N36-O36","v":0},null,null,null,null,null,null,null,null,null,null,null,null,null,28,50000000,"NO HAY CODIGO",28,0,"144 MESES",144]
["Compra(s) / Saneamiento(s) / Ampiación(es)",null,null,{"$f":"SUM(H34:H37)","v":0},null,"COMPRA O AMPLIACION 4",null,0,"COMPRA","OPERADOR ?",0,0,0,0,0,{"$f":"K37-N37-O37","v":0},null,null,null,null,null,null,null,null,null,null,null,null,null,29,50000000,"NO HAY CODIGO",29,0,"144 MESES",144]
["Vr. Desembolso",null,null,{"$f":"D35-D36-D37","v":{"$error":"#VALUE!"}},{"$f":"IF(((D38-H38)>0),\"ERROR\",IF((D38-H38)=0,\" \"))","v":{"$error":"#VALUE!"}},"NETO A GIRAR",null,{"$f":"H32-H34-H35-H36-H37","v":{"$error":"#VALUE!"}},"COMPRA","OPERADOR ?",0,0,0,0,0,{"$f":"K38-N38-O38","v":0},null,null,null,null,null,null,null,null,null,null,null,null,null,30,50000000,"NO HAY CODIGO",30,0,"144 MESES",144]
["Vr. Cuota",null,null,{"$f":"I29","v":{"$error":"#VALUE!"}},null,{"$f":"IF(((F3-G29)<0),\"¡¡¡ A T E N C I Ó N !!!\",IF((F3-G29)>=0,\" \"))","v":{"$error":"#VALUE!"}},null,null,null,null,null,null,null,null,null,null,null,null,null,null,null,null,null,null,null,null,null,null,null,31,50000000,"NO HAY CODIGO",31,0,"144 MESES",144]
["Plazo",null,null,{"$f":"F29","v":"DIGITE EDAD"},null,{"$f":"IF(((F3-G29)<0),\"EL MONTO EXCEDE LIMITE PARA ESA EDAD\",IF((F3-G29)>=0,\" \"))","v":{"$error":"#VALUE!"}},null,null,null,null,null,null,null,null,null,null,null,null,null,null,null,null,null,null,null,null,null,null,null,32,50000000,"NO HAY CODIGO",32,0,"144 MESES",144]
[null,null,null,null,null,null,null,null,null,null,null,null,null,null,null,null,null,null,null,null,null,null,null,null,null,null,null,null,null,33,50000000,"NO HAY CODIGO",33,0,"144 MESES",144]
["REQUISITOS PARA SOLICITUD DE CREDITO:",null,null,null,null,null,null,null,null,null,null,null,null,null,null,null,null,null,null,null,null,null,null,null,null,null,null,null,null,34,50000000,"NO HAY CODIGO",34,0,"144 MESES",144]
["1. Desprendible de pago del último mes",null,null,null,null,null,null,null,null,null,null,null,null,null,null,null,null,null,null,null,null,null,null,null,null,null,null,null,null,35,50000000,"NO HAY CODIGO",35,0,"144 MESES",144]
["2. Una (1) fotocopia de la cédula de ciudadanía ampliada al 150% en blanco y negro, con firma y huella",null,null,null,null,null,null,null,null,null,null,null,null,null,null,null,null,null,null,null,null,null,null,null,null,null,null,null,null,36,50000000,"NO HAY CODIGO",36,0,"144 MESES",144]
["3. Dos (2) formatos de autorización de descuento AUTENTICADOS según la entidad pagadora. Se descargan aquí",null,null,null,null,null,null,null,null,null,null,null,null,null,null,null,null,null,null,null,null,null,null,null,null,null,null,null,null,37,50000000,"NO HAY CODIGO",37,0,"144 MESES",144]
["Consorcio Pensiones de Antioquia","https://coserfin.co/panelwi/upload/60c678_FORMATOS%20CONSORCIO%20PENSIONES%20DE%20ANTIOQUIA.pdf",null,null,null,null,null,null,null,null,null,null,null,null,null,null,null,null,null,null,null,null,null,null,null,null,null,null,null,38,50000000,"NO HAY CODIGO",38,0,"144 MESES",144]
["Pensiones de Antioquia","https://coserfin.co/panelwi/upload/12b968_Autorizaci%C3%B3n%20descuento%20Pensiones%20de%20Antioquia%20-%20PDA.pdf",null,null,null,null,null,null,null,null,null,null,null,null,null,null,null,null,null,null,null,null,null,null,null,null,null,null,null,39,50000000,"NO HAY CODIGO",39,0,"144 MESES",144]
["4. Todos los formatos de autorización deben venir autenticados",null,null,null,null,null,null,null,null,null,null,null,null,null,null,null,null,null,null,null,null,null,null,null,null,null,null,null,null,40,50000000,"NO HAY CODIGO",40,0,"144 MESES",144]
["5. Para compra de cartera, se requiere la firma del siguiente formato",null,null,null,null,null,null,null,null,null,null,null,null,null,null,null,null,null,null,null,null,null,null,null,null,null,null,null,null,41,50000000,"NO HAY CODIGO",41,0,"144 MESES",144]
["https://coserfin.co/panelwi/upload/e254a9_COMPRA%20DE%20CARTERA%20GENERAL%20CO%20Y%20CR.pdf",null,null,null,null,null,null,null,null,null,null,null,null,null,null,null,null,null,null,null,null,null,null,null,null,null,null,null,null,42,50000000,"NO HAY CODIGO",42,0,"144 MESES",144]
["6. Si el solicitante es pensionado por perdida psicofisica, se requiere resolución de reconocmiento de la pensión y dictamen médico",null,null,null,null,null,null,null,null,null,null,null,null,null,null,null,null,null,null,null,null,null,null,null,null,null,null,null,null,43,50000000,"NO HAY CODIGO",43,0,"144 MESES",144]
["7. No requiere codeudor, pero es necesario cobro de aval",null,null,null,null,null,null,null,null,null,null,null,null,null,null,null,null,null,null,null,null,null,null,null,null,null,null,null,null,44,50000000,"NO HAY CODIGO",44,0,"144 MESES",144]
[null,null,null,null,null,null,null,null,null,null,null,null,null,null,null,null,null,null,null,null,null,null,null,null,null,null,null,null,null,45,50000000,"NO HAY CODIGO",45,0,"144 MESES",144]
[null,null,null,null,null,null,null,null,null,null,null,null,null,null,null,null,null,null,null,null,null,null,null,null,null,null,null,null,null,46,50000000,"NO HAY CODIGO",46,0,"144 MESES",144]
[null,null,null,null,null,null,null,null,null,null,null,null,null,null,null,null,null,null,null,null,null,null,null,null,null,null,null,null,null,47,50000000,"NO HAY CODIGO",47,0,"144 MESES",144]
[null,null,null,null,null,null,null,null,null,null,null,null,null,null,null,null,null,null,null,null,null,null,null,null,null,null,null,null,null,48,50000000,"NO HAY CODIGO",48,0,"144 MESES",144]
[null,null,null,null,null,null,null,null,null,null,null,null,null,null,null,null,null,null,null,null,null,null,null,null,null,null,null,null,null,49,50000000,"NO HAY CODIGO",49,0,"144 MESES",144]
[null,null,null,null,null,null,null,null,null,null,null,null,null,null,null,null,null,null,null,null,null,null,null,null,null,null,null,null,null,50,50000000,"NO HAY CODIGO",50,0,"144 MESES",144]
[null,null,null,null,null,null,null,null,null,null,null,null,null,null,null,null,null,null,null,null,null,null,null,null,null,null,null,null,null,51,50000000,"NO HAY CODIGO",51,0,"144 MESES",144]
[null,null,null,null,null,null,null,null,null,null,null,null,null,null,null,null,null,null,null,null,null,null,null,null,null,null,null,null,null,52,50000000,"NO HAY CODIGO",52,0,"144 MESES",144]
[null,null,null,null,null,null,null,null,null,null,null,null,null,null,null,null,null,null,null,null,null,null,null,null,null,null,null,null,null,53,50000000,"NO HAY CODIGO",53,0,"144 MESES",144]
[null,null,null,null,null,null,null,null,null,null,null,null,null,null,null,null,null,null,null,null,null,null,null,null,null,null,null,null,null,54,50000000,"NO HAY CODIGO",54,0,"144 MESES",144]
[null,null,null,null,null,null,null,null,null,null,null,null,null,null,null,null,null,null,null,null,null,null,null,null,null,null,null,null,null,55,50000000,"NO HAY CODIGO",55,0,"144 MESES",144]
[null,null,null,null,null,null,null,null,null,null,null,null,null,null,null,null,null,null,null,null,null,null,null,null,null,null,null,null,null,56,50000000,"NO HAY CODIGO",56,0,"144 MESES",144]
[null,null,null,null,null,null,null,null,null,null,null,null,null,null,null,null,null,null,null,null,null,null,null,null,null,null,null,null,null,57,50000000,"NO HAY CODIGO",57,0,"144 MESES",144]
[null,null,null,null,null,null,null,null,null,null,null,null,null,null,null,null,null,null,null,null,null,null,null,null,null,null,null,null,null,58,50000000,"NO HAY CODIGO",58,0,"144 MESES",144]
[null,null,null,null,null,null,null,null,null,null,null,null,null,null,null,null,null,null,null,null,null,null,null,null,null,null,null,null,null,59,50000000,"NO HAY CODIGO",59,0,"144 MESES",144]
[null,null,null,null,null,null,null,null,null,null,null,null,null,null,null,null,null,null,null,null,null,null,null,null,null,null,null,null,null,60,50000000,"NO HAY CODIGO",60,0,"144 MESES",144]
[null,null,null,null,null,null,null,null,null,null,null,null,null,null,null,null,null,null,null,null,null,null,null,null,null,null,null,null,null,61,50000000,"NO HAY CODIGO",61,0,"144 MESES",144]
[null,null,null,null,null,null,null,null,null,null,null,null,null,null,null,null,null,null,null,null,null,null,null,null,null,null,null,null,null,62,50000000,0,62,0,"144 MESES",144]
[null,null,null,null,null,null,null,null,null,null,null,null,null,null,null,null,null,null,null,null,null,null,null,null,null,null,null,null,null,63,50000000,0,63,0,"144 MESES",144]
[null,null,null,null,null,null,null,null,null,null,null,null,null,null,null,null,null,null,null,null,null,null,null,null,null,null,null,null,null,64,50000000,0,64,0,"144 MESES",144]
[null,null,null,null,null,null,null,null,null,null,null,null,null,null,null,null,null,null,null,null,null,null,null,null,null,null,null,null,null,65,50000000,0,65,0,"144 MESES",144]
[null,null,null,null,null,null,null,null,null,null,null,null,null,null,null,null,null,null,null,null,null,null,null,null,null,null,null,null,null,66,50000000,0,66,0,"144 MESES",144]
[null,null,null,null,null,null,null,null,null,null,null,null,null,null,null,null,null,null,null,null,null,null,null,null,null,null,null,null,null,67,50000000,{"$f":"$AF$7","v":"NO HAY CODIGO"},67,0,"144 MESES",144]
[null,null,null,null,null,null,null,null,null,null,null,null,null,null,null,null,null,null,null,null,null,null,null,null,null,null,null,null,null,68,50000000,{"$f":"$AF$7","v":"NO HAY CODIGO"},68,0,"144 MESES",144]
[null,null,null,null,null,null,null,null,null,null,null,null,null,null,null,null,null,null,null,null,null,null,null,null,null,null,null,null,null,69,50000000,{"$f":"$AF$7","v":"NO HAY CODIGO"},69,0,"144 MESES",144]
[null,null,null,null,null,null,null,null,null,null,null,null,null,null,null,null,null,null,null,null,null,null,null,null,null,null,null,null,null,70,50000000,{"$f":"$AF$7","v":"NO HAY CODIGO"},70,0,"144 MESES",144]
[null,null,null,null,null,null,null,null,null,null,null,null,null,null,null,null,null,null,null,null,null,null,null,null,null,null,null,null,null,71,{"$f":"$AE$7","v":20000000},{"$f":"$AF$5","v":"NO HAY CODIGO"},71,{"$f":"$AH$5","v":0},{"$f":"$AI$5","v":"60 MESES"},{"$f":"$AJ$5","v":60}]
[null,null,null,null,null,null,null,null,null,null,null,null,null,null,null,null,null,null,null,null,null,null,null,null,null,null,null,null,null,72,{"$f":"$AE$7","v":20000000},"NO HAY CODIGO",72,{"$f":"$AH$5","v":0},"60 MESES",60]
[null,null,null,null,null,null,null,null,null,null,null,null,null,null,null,null,null,null,null,null,null,null,null,null,null,null,null,null,null,73,{"$f":"$AE$7","v":20000000},"NO HAY CODIGO",73,{"$f":"$AH$5","v":0},"60 MESES",60]
[null,null,null,null,null,null,null,null,null,null,null,null,null,null,null,null,null,null,null,null,null,null,null,null,null,null,null,null,null,74,{"$f":"$AE$7","v":20000000},"NO HAY CODIGO",74,{"$f":"$AH$5","v":0},"60 MESES",60]
[null,null,null,null,null,null,null,null,null,null,null,null,null,null,null,null,null,null,null,null,null,null,null,null,null,null,null,null,null,75,{"$f":"$AE$5","v":10000000},"NO HAY CODIGO",75,{"$f":"$AH$5","v":0},"60 MESES",60]
[null,null,null,null,null,null,null,null,null,null,null,null,null,null,null,null,null,null,null,null,null,null,null,null,null,null,null,null,null,76,{"$f":"$AE$5","v":10000000},"NO HAY CODIGO",76,{"$f":"$AH$4","v":0},"60 MESES",60]
[null,null,null,null,null,null,null,null,null,null,null,null,null,null,null,null,null,null,null,null,null,null,null,null,null,null,null,null,null,77,{"$f":"$AE$5","v":10000000},"NO HAY CODIGO",77,"SUPERA EDAD","60 MESES",60]
[null,null,null,null,null,null,null,null,null,null,null,null,null,null,null,null,null,null,null,null,null,null,null,null,null,null,null,null,null,78,{"$f":"$AE$5","v":10000000},"NO HAY CODIGO",78,"SUPERA EDAD","60 MESES",60]
[null,null,null,null,null,null,null,null,null,null,null,null,null,null,null,null,null,null,null,null,null,null,null,null,null,null,null,null,null,79,{"$f":"$AE$5","v":10000000},"NO HAY CODIGO",79,"SUPERA EDAD","60 MESES",60]
[null,null,null,null,null,null,null,null,null,null,null,null,null,null,null,null,null,null,null,null,null,null,null,null,null,null,null,null,null,80,"SUPERA EDAD","SUPERA EDAD",80,"SUPERA EDAD","PARA SOLICITAR CREDITO",0]
[null,null,null,null,null,null,null,null,null,null,null,null,null,null,null,null,null,null,null,null,null,null,null,null,null,null,null,null,null,81,"SUPERA EDAD","SUPERA EDAD",81,"SUPERA EDAD","PARA SOLICITAR CREDITO",0]
[null,null,null,null,null,null,null,null,null,null,null,null,null,null,null,null,null,null,null,null,null,null,null,null,null,null,null,null,null,82,"SUPERA EDAD","SUPERA EDAD",82,"SUPERA EDAD","PARA SOLICITAR CREDITO",0]
[null,null,null,null,null,null,null,null,null,null,null,null,null,null,null,null,null,null,null,null,null,null,null,null,null,null,null,null,null,83,"SUPERA EDAD","SUPERA EDAD",83,"SUPERA EDAD","PARA SOLICITAR CREDITO",0]
[null,null,null,null,null,null,null,null,null,null,null,null,null,null,null,null,null,null,null,null,null,null,null,null,null,null,null,null,null,84,"SUPERA EDAD","SUPERA EDAD",84,"SUPERA EDAD","PARA SOLICITAR CREDITO",0]
[null,null,null,null,null,null,null,null,null,null,null,null,null,null,null,null,null,null,null,null,null,null,null,null,null,null,null,null,null,85,"SUPERA EDAD","SUPERA EDAD",85,"SUPERA EDAD","PARA SOLICITAR CREDITO",0]
[null,null,null,null,null,null,null,null,null,null,null,null,null,null,null,null,null,null,null,null,null,null,null,null,null,null,null,null,null,86,"SUPERA EDAD","SUPERA EDAD",86,"SUPERA EDAD","PARA SOLICITAR CREDITO",0]
[null,null,null,null,null,null,null,null,null,null,null,null,null,null,null,null,null,null,null,null,null,null,null,null,null,null,null,null,null,87,"SUPERA EDAD","SUPERA EDAD",87,"SUPERA EDAD","PARA SOLICITAR CREDITO",0]
[null,null,null,null,null,null,null,null,null,null,null,null,null,null,null,null,null,null,null,null,null,null,null,null,null,null,null,null,null,88,"SUPERA EDAD","SUPERA EDAD",88,"SUPERA EDAD","PARA SOLICITAR CREDITO",0]
[null,null,null,null,null,null,null,null,null,null,null,null,null,null,null,null,null,null,null,null,null,null,null,null,null,null,null,null,null,89,"SUPERA EDAD","SUPERA EDAD",89,"SUPERA EDAD","PARA SOLICITAR CREDITO",0]
[null,null,null,null,null,null,null,null,null,null,null,null,null,null,null,null,null,null,null,null,null,null,null,null,null,null,null,null,null,90,"SUPERA EDAD","SUPERA EDAD",90,"SUPERA EDAD","PARA SOLICITAR CREDITO",0]
[null,null,null,null,null,null,null,null,null,null,null,null,null,null,null,null,null,null,null,null,null,null,null,null,null,null,null,null,null,91,"SUPERA EDAD","SUPERA EDAD",91,"SUPERA EDAD","PARA SOLICITAR CREDITO",0]
[null,null,null,null,null,null,null,null,null,null,null,null,null,null,null,null,null,null,null,null,null,null,null,null,null,null,null,null,null,92,"SUPERA EDAD","SUPERA EDAD",92,"SUPERA EDAD","PARA SOLICITAR CREDITO",0]
[null,null,null,null,null,null,null,null,null,null,null,null,null,null,null,null,null,null,null,null,null,null,null,null,null,null,null,null,null,93,"SUPERA EDAD","SUPERA EDAD",93,"SUPERA EDAD","PARA SOLICITAR CREDITO",0]
[null,null,null,null,null,null,null,null,null,null,null,null,null,null,null,null,null,null,null,null,null,null,null,null,null,null,null,null,null,94,"SUPERA EDAD","SUPERA EDAD",94,"SUPERA EDAD","PARA SOLICITAR CREDITO",0]
[null,null,null,null,null,null,null,null,null,null,null,null,null,null,null,null,null,null,null,null,null,null,null,null,null,null,null,null,null,95,"SUPERA EDAD","SUPERA EDAD",95,"SUPERA EDAD","PARA SOLICITAR CREDITO",0]
[null,null,null,null,null,null,null,null,null,null,null,null,null,null,null,null,null,null,null,null,null,null,null,null,null,null,null,null,null,96,"SUPERA EDAD","SUPERA EDAD",96,"SUPERA EDAD","PARA SOLICITAR CREDITO",0]
[null,null,null,null,null,null,null,null,null,null,null,null,null,null,null,null,null,null,null,null,null,null,null,null,null,null,null,null,null,97,"SUPERA EDAD","SUPERA EDAD",97,"SUPERA EDAD","PARA SOLICITAR CREDITO",0]
[null,null,null,null,null,null,null,null,null,null,null,null,null,null,null,null,null,null,null,null,null,null,null,null,null,null,null,null,null,98,"SUPERA EDAD","SUPERA EDAD",98,"SUPERA EDAD","PARA SOLICITAR CREDITO",0]
[null,null,null,null,null,null,null,null,null,null,null,null,null,null,null,null,null,null,null,null,null,null,null,null,null,null,null,null,null,99,"SUPERA EDAD","SUPERA EDAD",99,"SUPERA EDAD","PARA SOLICITAR CREDITO",0]
[null,null,null,null,null,null,null,null,null,null,null,null,null,null,null,null,null,null,null,null,null,null,null,null,null,null,null,null,null,100,"SUPERA EDAD","SUPERA EDAD",100,"SUPERA EDAD","PARA SOLICITAR CREDITO",0]
[null,null,null,null,null,null,null,null,null,null,null,null,null,null,null,null,null,null,null,null,null,null,null,null,null,null,null,null,null,101,"SUPERA EDAD","SUPERA EDAD",101,"SUPERA EDAD","PARA SOLICITAR CREDITO",0]
[null,null,null,null,null,null,null,null,null,null,null,null,null,null,null,null,null,null,null,null,null,null,null,null,null,null,null,null,null,102,"SUPERA EDAD","SUPERA EDAD",102,"SUPERA EDAD","PARA SOLICITAR CREDITO",0]
[null,null,null,null,null,null,null,null,null,null,null,null,null,null,null,null,null,null,null,null,null,null,null,null,null,null,null,null,null,103,"SUPERA EDAD","SUPERA EDAD",103,"SUPERA EDAD","PARA SOLICITAR CREDITO",0]
[null,null,null,null,null,null,null,null,null,null,null,null,null,null,null,null,null,null,null,null,null,null,null,null,null,null,null,null,null,104,"SUPERA EDAD","SUPERA EDAD",104,"SUPERA EDAD","PARA SOLICITAR CREDITO",0]
[null,null,null,null,null,null,null,null,null,null,null,null,null,null,null,null,null,null,null,null,null,null,null,null,null,null,null,null,null,105,"SUPERA EDAD","SUPERA EDAD",105,"SUPERA EDAD","PARA SOLICITAR CREDITO",0]
[null,null,null,null,null,null,null,null,null,null,null,null,null,null,null,null,null,null,null,null,null,null,null,null,null,null,null,null,null,106,"SUPERA EDAD","SUPERA EDAD",106,"SUPERA EDAD","PARA SOLICITAR CREDITO",0]
[null,null,null,null,null,null,null,null,null,null,null,null,null,null,null,null,null,null,null,null,null,null,null,null,null,null,null,null,null,107,"SUPERA EDAD","SUPERA EDAD",107,"SUPERA EDAD","PARA SOLICITAR CREDITO",0]
[null,null,null,null,null,null,null,null,null,null,null,null,null,null,null,null,null,null,null,null,null,null,null,null,null,null,null,null,null,108,"SUPERA EDAD","SUPERA EDAD",108,"SUPERA EDAD","PARA SOLICITAR CREDITO",0]
[null,null,null,null,null,null,null,null,null,null,null,null,null,null,null,null,null,null,null,null,null,null,null,null,null,null,null,null,null,109,"SUPERA EDAD","SUPERA EDAD",109,"SUPERA EDAD","PARA SOLICITAR CREDITO",0]
[null,null,null,null,null,null,null,null,null,null,null,null,null,null,null,null,null,null,null,null,null,null,null,null,null,null,null,null,null,110,"SUPERA EDAD","SUPERA EDAD",110,"SUPERA EDAD","PARA SOLICITAR CREDITO",0]
[null,null,null,null,null,null,null,null,null,null,null,null,null,null,null,null,null,null,null,null,null,null,null,null,null,null,null,null,null,111,"SUPERA EDAD","SUPERA EDAD",111,"SUPERA EDAD","PARA SOLICITAR CREDITO",0]
[null,null,null,null,null,null,null,null,null,null,null,null,null,null,null,null,null,null,null,null,null,null,null,null,null,null,null,null,null,112,"SUPERA EDAD","SUPERA EDAD",112,"SUPERA EDAD","PARA SOLICITAR CREDITO",0]
[null,null,null,null,null,null,null,null,null,null,null,null,null,null,null,null,null,null,null,null,null,null,null,null,null,null,null,null,null,113,"SUPERA EDAD","SUPERA EDAD",113,"SUPERA EDAD","PARA SOLICITAR CREDITO",0]
[null,null,null,null,null,null,null,null,null,null,null,null,null,null,null,null,null,null,null,null,null,null,null,null,null,null,null,null,null,114,"SUPERA EDAD","SUPERA EDAD",114,"SUPERA EDAD","PARA SOLICITAR CREDITO",0]
[null,null,null,null,null,null,null,null,null,null,null,null,null,null,null,null,null,null,null,null,null,null,null,null,null,null,null,null,null,115,"SUPERA EDAD","SUPERA EDAD",115,"SUPERA EDAD","PARA SOLICITAR CREDITO",0]
[null,null,null,null,null,null,null,null,null,null,null,null,null,null,null,null,null,null,null,null,null,null,null,null,null,null,null,null,null,116,"SUPERA EDAD","SUPERA EDAD",116,"SUPERA EDAD","PARA SOLICITAR CREDITO",0]
[null,null,null,null,null,null,null,null,null,null,null,null,null,null,null,null,null,null,null,null,null,null,null,null,null,null,null,null,null,117,"SUPERA EDAD","SUPERA EDAD",117,"SUPERA EDAD","PARA SOLICITAR CREDITO",0]
[null,null,null,null,null,null,null,null,null,null,null,null,null,null,null,null,null,null,null,null,null,null,null,null,null,null,null,null,null,118,"SUPERA EDAD","SUPERA EDAD",118,"SUPERA EDAD","PARA SOLICITAR CREDITO",0]
[null,null,null,null,null,null,null,null,null,null,null,null,null,null,null,null,null,null,null,null,null,null,null,null,null,null,null,null,null,119,"SUPERA EDAD","SUPERA EDAD",119,"SUPERA EDAD","PARA SOLICITAR CREDITO",0]
[null,null,null,null,null,null,null,null,null,null,null,null,null,null,null,null,null,null,null,null,null,null,null,null,null,null,null,null,null,120,"SUPERA EDAD","SUPERA EDAD",120,"SUPERA EDAD","PARA SOLICITAR CREDITO",0]
[null,null,null,null,null,null,null,null,null,null,null,null,null,null,null,null,null,null,null,null,null,null,null,null,null,null,null,null,null,121,"SUPERA EDAD","SUPERA EDAD",121,"SUPERA EDAD","PARA SOLICITAR CREDITO",0]
[null,null,null,null,null,null,null,null,null,null,null,null,null,null,null,null,null,null,null,null,null,null,null,null,null,null,null,null,null,122,"SUPERA EDAD","SUPERA EDAD",122,"SUPERA EDAD","PARA SOLICITAR CREDITO",0]
[null,null,null,null,null,null,null,null,null,null,null,null,null,null,null,null,null,null,null,null,null,null,null,null,null,null,null,null,null,123,"SUPERA EDAD","SUPERA EDAD",123,"SUPERA EDAD","PARA SOLICITAR CREDITO",0]
[null,null,null,null,null,null,null,null,null,null,null,null,null,null,null,null,null,null,null,null,null,null,null,null,null,null,null,null,null,124,"SUPERA EDAD","SUPERA EDAD",124,"SUPERA EDAD","PARA SOLICITAR CREDITO",0]
[null,null,null,null,null,null,null,null,null,null,null,null,null,null,null,null,null,null,null,null,null,null,null,null,null,null,null,null,null,125,"SUPERA EDAD","SUPERA EDAD",125,"SUPERA EDAD","PARA SOLICITAR CREDITO",0]
[null,null,null,null,null,null,null,null,null,null,null,null,null,null,null,null,null,null,null,null,null,null,null,null,null,null,null,null,null,126,"SUPERA EDAD","SUPERA EDAD",126,"SUPERA EDAD","PARA SOLICITAR CREDITO",0]
[null,null,null,null,null,null,null,null,null,null,null,null,null,null,null,null,null,null,null,null,null,null,null,null,null,null,null,null,null,127,"SUPERA EDAD","SUPERA EDAD",127,"SUPERA EDAD","PARA SOLICITAR CREDITO",1]
[null,null,null,null,null,null,null,null,null,null,null,null,null,null,null,null,null,null,null,null,null,null,null,null,null,null,null,null,null,128,"SUPERA EDAD","SUPERA EDAD",128,"SUPERA EDAD","PARA SOLICITAR CREDITO",2]
[null,null,null,null,null,null,null,null,null,null,null,null,null,null,null,null,null,null,null,null,null,null,null,null,null,null,null,null,null,129,"SUPERA EDAD","SUPERA EDAD",129,"SUPERA EDAD","PARA SOLICITAR CREDITO",3]
[null,null,null,null,null,null,null,null,null,null,null,null,null,null,null,null,null,null,null,null,null,null,null,null,null,null,null,null,null,130,"SUPERA EDAD","SUPERA EDAD",130,"SUPERA EDAD","PARA SOLICITAR CREDITO",4]

{"sheet":"DOCENTES ACT y ALC FUSA","index":20,"n_rows":138,"n_cols":33,"rows_kept":138,"cut":false,"hidden":false,"merged":[[2,0,2,2],[2,8,2,13],[0,0,0,2],[0,3,0,4],[0,5,0,6],[0,12,0,13],[1,0,1,2],[10,0,10,2],[10,8,10,13],[3,0,3,2],[4,0,4,2],[5,0,5,2],[6,0,6,2],[6,4,6,6],[7,0,7,2],[8,0,8,2],[8,4,8,5],[8,8,8,13],[9,0,9,2],[9,8,9,13],[11,0,15,2],[11,4,11,5],[11,6,15,6],[12,4,12,5],[13,4,13,5],[14,4,14,5],[15,4,15,5],[16,0,16,2],[16,3,16,5],[16,14,16,16],[16,19,16,20],[17,0,18,2],[17,14,17,16],[17,19,17,20],[18,14,18,16],[18,19,18,20],[19,0,22,2],[19,14,19,16],[19,19,19,20],[20,14,20,16],[20,19,20,20],[21,14,21,16],[21,19,21,20],[22,14,22,16],[22,19,22,20],[23,0,25,0],[23,8,23,13],[23,14,23,16],[23,19,23,20],[24,3,24,5],[24,8,24,13],[24,14,24,16],[25,8,25,13],[25,14,25,16],[25,19,25,20],[26,14,26,16],[26,19,26,20],[27,14,27,16],[27,19,27,20],[28,3,28,4],[28,14,28,16],[28,19,28,20],[29,3,29,4],[29,14,29,16],[29,19,29,20],[30,3,30,4],[30,14,30,16],[30,19,30,20],[33,3,33,5],[34,3,34,5],[31,3,31,4],[31,14,31,16],[31,19,31,20],[32,3,32,4],[32,14,32,16],[32,19,32,20]]}
["Docentes Activos y Alc. de Fusa CO 1",null,null,{"$f":"TASAS!G11","v":1423500},null,null,null,null,null,null,null,null,{"$f":"TASAS!G15","v":"2025-03"}]
[{"$f":"IF(($D$2=\"\"),\"Digite la edad del cliente\",\"\")","v":"Digite la edad del cliente"},null,null,null,null,null,null,null,null,null,null,null,null,null,{"$f":"D6+D7-D8","v":0},{"$f":"D9-O2","v":0}]
[{"$f":"IF(($D$3<50000000),\"Monto máximo por COSERFIN\",\"Monto máximo por COSERFIN\")","v":"Monto máximo por COSERFIN"},null,null,{"$f":"IF((D2 = \"\"),\"DIGITE EDAD\",VLOOKUP(D2,$AB$8:$AD$138,2,0))","v":"DIGITE EDAD"},{"$f":"IF(($D$2=\"\"),\"\",\"Por CREAVAL\")","v":""},{"$f":"IF((D2 = \"\"),\" \",VLOOKUP(D2,$AB$8:$AD$138,3,0))","v":" "},null,null,"NO SE TRAMITAN COMPRAS DE CARTERA",null,null,null,null,null,null,null,null,null,{"$f":"IF(AND(E24<TASAS!H11,D24<TASAS!M2),TASAS!H6,TASAS!H5)","v":{"$error":"#VALUE!"}},null,null,null,null,null,null,null,null,null,"COSERFIN","CREAVAL"]
[{"$f":"IF(($D$2=\"\"),\"\",\"Plazo máximo para cada crédito\")","v":""},null,null,{"$f":"IF((D2 = \"\"),\"DEL SOLICITANTE\",VLOOKUP(D2,$AE$8:$AF$138,2,0))","v":"DEL SOLICITANTE"},null,null,null,null,null,null,null,null,null,null,null,null,null,null,{"$f":"B24-S3","v":{"$error":"#VALUE!"}},null,null,null,null,null,null,null,80,null,0,"NO HAY CODIGO",null,"24 MESES",24]
["EVALUACION CAPACIDAD DE PAGO",null,null,"VALOR 1","VALOR 2","VALOR 3","TOTALES",null,null,null,null,null,null,null,null,null,null,null,0,null,null,null,null,null,null,null,"75-79",null,10000000,"NO HAY CODIGO",null,"48 MESES",48]
["VALOR SALARIO BASICO",null,null,0,null,null,{"$f":"D6","v":0},null,null,null,null,null,null,null,null,null,null,null,{"$f":"TASAS!H3","v":1.77E-2},"TASA",null,null,null,null,null,null,"18-70",null,25000000,"NO HAY CODIGO",null,"48 MESES",48]
["VALOR OTROS INGRESOS ENDEUDABLES",null,null,0,null,null,null,null,null,null,null,null,null,null,null,null,null,null,{"$f":"TASAS!H4","v":1.8200000000000001E-2},"TASA",null,null,null,null,null,null,"71-74",null,15000000,"NO HAY CODIGO"]
["(-) TOTAL DESCUENTOS",null,null,0,null,null,{"$f":"IF(($P$2>3),\"ERROR EN\",IF($P$2<-3,\"ERROR EN\",D8))","v":0},null,null,null,null,null,null,null,null,null,null,null,{"$f":"TASAS!H5","v":1.8699999999999998E-2},"TASA",null,null,null,null,null,null,null,0,"USUARIO MENOR DE EDAD","USUARIO MENOR DE EDAD",0,"USUARIO MENOR DE EDAD",0]
["INGRESO NETO RECIBIDO EN EL DESPRENDIBLE DE PAGO",null,null,0,"DISPONIBLE PARA CREDITO",null,{"$f":"IF(($P$2>3),\"LOS DATOS\",IF($P$2<-3,\"LOS DATOS\",D6+D7-D8-D1+G10+G11))","v":-1423500},"*",{"$f":"IF((B24=0),\"¡ ¡ ¡ Por favor seleccione la tasa de interés ! ! !\",\" \")","v":"¡ ¡ ¡ Por favor seleccione la tasa de interés ! ! !"},null,null,null,null,null,null,null,null,null,{"$f":"TASAS!H6","v":3.4999999999999996E-2},"TASA",null,null,null,null,null,null,null,1,"USUARIO MENOR DE EDAD","USUARIO MENOR DE EDAD",1,"USUARIO MENOR DE EDAD",0]
["(+) DESCUENTOS FINALIZADOS EN EL PRESENTE MES Y EN EL PROXIMO",null,null,0,0,0,{"$f":"SUM(D10:F10)","v":0},null,{"$f":"IF((S4=0),\" \",\"¡¡¡   A T E N C I O N   !!!\")","v":{"$error":"#VALUE!"}},null,null,null,null,null,null,null,null,null,{"$f":"TASAS!H7","v":1.4499999999999999E-2},"TASA",null,null,null,null,null,null,null,2,"USUARIO MENOR DE EDAD","USUARIO MENOR DE EDAD",2,"USUARIO MENOR DE EDAD",0]
["(+) CUOTAS DE COMPRAS DE CARTERA",null,null,0,0,0,{"$f":"SUM(D11:F11)","v":0},null,{"$f":"IF((S4=0),\" \",\"La tasa máxima para ese monto y plazo es del\")","v":{"$error":"#VALUE!"}},null,null,null,null,null,null,null,null,null,{"$f":"TASAS!H8","v":1.4999999999999999E-2},"TASA",null,null,null,null,null,null,null,3,"USUARIO MENOR DE EDAD","USUARIO MENOR DE EDAD",3,"USUARIO MENOR DE EDAD",0]
["(-) VALOR ESTIMADO CUOTA DE CREDITO CON COOSERFIN",null,null,{"$f":"IF(D3>E19,FLOOR(E19,100000),D3)","v":"DIGITE EDAD"},{"$f":"IF(($D$14=\"TASA\"),\" \",\"VALOR SOLICITADO\")","v":"VALOR SOLICITADO"},null,{"$f":"IF(($D$2=\"\"),\"RECUERDE DIGITAR ARRIBA LA EDAD\",ROUNDUP(((((D12*D14))*(D13+D15))+D12)/D13,0))","v":"RECUERDE DIGITAR ARRIBA LA EDAD"},null,null,null,null,null,null,null,null,null,null,null,{"$f":"TASAS!H9","v":1.55E-2},"TASA",null,null,null,null,null,null,null,4,"USUARIO MENOR DE EDAD","USUARIO MENOR DE EDAD",4,"USUARIO MENOR DE EDAD",0]
[null,null,null,{"$f":"D19","v":"DIGITE EDAD"},{"$f":"IF(($D$14=\"TASA\"),\" \",\"PLAZO\")","v":"PLAZO"},null,null,null,null,null,null,null,null,null,null,null,null,null,null,null,null,null,null,null,null,null,null,5,"USUARIO MENOR DE EDAD","USUARIO MENOR DE EDAD",5,"USUARIO MENOR DE EDAD",0]
[null,null,null,2.3E-2,"FACTOR",null,null,null,null,null,null,null,null,null,null,null,null,{"$f":"D3*1","v":{"$error":"#VALUE!"}},{"$f":"(PV($B$24,$D$24,$T$15))*-1","v":{"$error":"#VALUE!"}},{"$f":"F19","v":"NO APLICA"},null,null,null,null,null,null,null,6,"USUARIO MENOR DE EDAD","USUARIO MENOR DE EDAD",10,"USUARIO MENOR DE EDAD",0]
[null,null,null,0,{"$f":"IF(($D$14=\"TASA\"),\" \",\"MES(ES) DE GRACIA\")","v":"MES(ES) DE GRACIA"},null,null,null,null,null,null,null,null,null,null,null,null,{"$f":"(PV(B24,D24,F19))*-1","v":{"$error":"#VALUE!"}},{"$f":"(IF(S14>R14,R14,FLOOR(S14,100000)))","v":{"$error":"#VALUE!"}},{"$f":"((T14*(1-R20))-R22-V17-V21)*0.99","v":{"$error":"#VALUE!"}},null,null,null,null,{"$f":"R17*R21","v":{"$error":"#VALUE!"}},null,null,7,"USUARIO MENOR DE EDAD","USUARIO MENOR DE EDAD",7,"USUARIO MENOR DE EDAD",0]
[null,null,null,{"$f":"IF($G$17>=0,(G12*D13),IF($G$17<0,\"\"))","v":{"$error":"#VALUE!"}},{"$f":"IF(($D$14=\"TASA\"),\" \",\"VALOR LIBRANZA\")","v":"VALOR LIBRANZA"},null,null,null,null,null,null,null,null,null,null,null,null,null,null,null,null,null,null,null,{"$f":"R26*R30","v":{"$error":"#VALUE!"}},null,null,8,"USUARIO MENOR DE EDAD","USUARIO MENOR DE EDAD",8,"USUARIO MENOR DE EDAD",0]
["INGRESO ESTIMADO EN EL PRIMER MES DE PAGO DEL CREDITO",null,null,{"$f":"IF((G9-G12)>0,\"USUARIO CON CAPACIDAD DE PAGO\",IF(G9-G12<0,\"INTENTE CON OTRO MONTO Y/O PLAZO\"))","v":{"$error":"#VALUE!"}},{"$f":"IF($J$13>=#REF!,\"USUARIO CON CAPACIDAD DE ENDEUDAMIENTO\",IF($J$13<#REF!,\"CREDITO INVIABLE INTENTE CON OTRO MONTO Y/O PLAZO\"))","v":{"$error":"#REF!"}},{"$f":"IF($J$13>=#REF!,\"USUARIO CON CAPACIDAD DE ENDEUDAMIENTO\",IF($J$13<#REF!,\"CREDITO INVIABLE INTENTE CON OTRO MONTO Y/O PLAZO\"))","v":{"$error":"#REF!"}},{"$f":"IF(((G9-G12)>0),(G9-G12),\"SIN CUPO\")","v":{"$error":"#VALUE!"}},null,null,null,null,null,null,null,"VALOR CREDITO         :",null,null,{"$f":"R15","v":{"$error":"#VALUE!"}},null,"VALOR SEGURO          :",null,{"$f":"R17*W26","v":{"$error":"#VALUE!"}},null,null,{"$f":"((((R18)*((1+(R18))^R19))/(((1+(R18))^R19)-1))*R17)+((((R17*R18)/30)*R24)/R19)+R22+V17+V20","v":{"$error":"#VALUE!"}},null,null,9,"USUARIO MENOR DE EDAD","USUARIO MENOR DE EDAD",9,"USUARIO MENOR DE EDAD",0]
[{"$f":"IF($W$19>0,\"MONTO MAXIMO DE ENDEUDAMIENTO\",IF($W$19<=0,\"EL SOLICITANTE NO TIENE POSIBILIDADES DE CREDITO\"))","v":"EL SOLICITANTE NO TIENE POSIBILIDADES DE CREDITO"},null,null,"PLAZO","MONTO MAX","VALOR CUOTA","VR LIBRANZA",null,null,null,null,null,null,null,"TASA NOMINAL MENSUAL  :",null,null,{"$f":"B24","v":0},null,"TASA EFECTIVA ANUAL   :",null,{"$f":"((1+((R18*12)/12))^12)-1","v":0},null,null,null,null,null,10,"USUARIO MENOR DE EDAD","USUARIO MENOR DE EDAD",10,"USUARIO MENOR DE EDAD",0]
[null,null,null,{"$f":"IF((D2=\"\"),\"DIGITE EDAD\",VLOOKUP(D2,$AE$4:$AG$135,3,0))","v":"DIGITE EDAD"},{"$f":"IF(($W$19<=0),\"NO APLICA\",$G$19*100/((($D$14*100)*($D$19+$D$15))+100))","v":"NO APLICA"},{"$f":"IF(($W$19<=0),\"NO APLICA\",($G$9))","v":"NO APLICA"},{"$f":"IF(($W$19<=0),\"NO APLICA\",($D$19*$F$19))","v":"NO APLICA"},"*",null,null,null,null,null,null,"PLAZO EN MESES        :",null,null,{"$f":"D24","v":"DIGITE EDAD"},null,"CUOTA NETA            :",null,{"$f":"((((R18)*((1+(R18))^R19))/(((1+(R18))^R19)-1))*(R17+Y15))+(((((R17+Y15)*R18)/30)*R24)/R19)","v":{"$error":"#VALUE!"}},{"$f":"$G$9+$G$10+$G$11","v":-1423500},"PLAZO","MONTO MAX","VR MAX CUOTA","VALOR LZ",11,"USUARIO MENOR DE EDAD","USUARIO MENOR DE EDAD",11,"USUARIO MENOR DE EDAD",0]
[{"$f":"IF($G$17>=0,\"OTRAS OPCIONES DE CREDITO DISPONIBLES\",IF($G$17<0,\"INTENTE CON OTRO MONTO Y/O PLAZO\"))","v":{"$error":"#VALUE!"}},null,null,{"$f":"IF($Y$20<=$AA$24,12,IF($Y$20>$AA$24,\"NO APLICA\"))","v":{"$error":"#VALUE!"}},{"$f":"IF(Y20>$AA$24,\"NO APLICA\",IF(Y20<=$AA$24,FLOOR(Y20,10000)))","v":{"$error":"#VALUE!"}},{"$f":"IF($Y$20>$AA$24,\"NO APLICA\",IF(Y20<=$AA$24,((((E20*($D$14)*((D20+$D$15))+E20)/D20)))))","v":{"$error":"#VALUE!"}},{"$f":"IF($Y$20>$AA$24,\"NO APLICA\",IF(Y20<=$AA$24,(D20*F20)))","v":{"$error":"#VALUE!"}},null,null,null,null,null,null,null,"TASA COMISION RECAUDO :",null,null,0,null,"COMISION POR RECAUDO  :",null,{"$f":"((((((R18)*((1+(R18))^R19))/(((1+(R18))^R19)-1))*(R17+Y15))+(((((R17+Y15)*R18)/30)*R24)/R19)+R22+V17)*100)/(100-(R20*100))-(((((R18)*((1+(R18))^R19))/(((1+(R18))^R19)-1))*(R17+Y15))+(((((R17+Y15)*R18)/30)*R24)/R19)+R22+V17)","v":{"$error":"#VALUE!"}},null,12,{"$f":"IF(($G$17>=0),AA20*100/((($D$14*100)*(X20+$D$15))+100),\"\")","v":{"$error":"#VALUE!"}},{"$f":"IF(($G$17>=0),($G$12+$G$17),\"\")","v":{"$error":"#VALUE!"}},{"$f":"IF(($G$17>=0),(Z20*X20),\"\")","v":{"$error":"#VALUE!"}},12,"USUARIO MENOR DE EDAD","USUARIO MENOR DE EDAD",12,"USUARIO MENOR DE EDAD",0]
[null,null,null,{"$f":"IF($Y$21<=$AA$24,24,IF($Y$21>$AA$24,\"NO APLICA\"))","v":{"$error":"#VALUE!"}},{"$f":"IF(Y21>$AA$24,\"NO APLICA\",IF(Y21<=$AA$24,FLOOR(Y21,10000)))","v":{"$error":"#VALUE!"}},{"$f":"IF($Y$21>$AA$24,\"NO APLICA\",IF(Y21<=$AA$24,((((E21*($D$14)*((D21+$D$15))+E21)/D21)))))","v":{"$error":"#VALUE!"}},{"$f":"IF($Y$21>$AA$24,\"NO APLICA\",IF(Y21<=$AA$24,(D21*F21)))","v":{"$error":"#VALUE!"}},null,null,null,null,null,null,null,"OTROS GASTOS          :",null,null,{"$f":"B26","v":0},null,"VALOR OTROS GASTOS    :",null,{"$f":"V24-Y17","v":{"$error":"#VALUE!"}},null,24,{"$f":"IF(($G$17>=0),AA21*100/((($D$14*100)*(X21+$D$15))+100),\"\")","v":{"$error":"#VALUE!"}},{"$f":"IF(($G$17>=0),($G$12+$G$17),\"\")","v":{"$error":"#VALUE!"}},{"$f":"IF(($G$17>=0),(Z21*X21),\"\")","v":{"$error":"#VALUE!"}},13,"USUARIO MENOR DE EDAD","USUARIO MENOR DE EDAD",13,"USUARIO MENOR DE EDAD",0]
[null,null,null,{"$f":"IF($Y$22<=$AA$24,36,IF($Y$22>$AA$24,\"NO APLICA\"))","v":{"$error":"#VALUE!"}},{"$f":"IF(Y22>$AA$24,\"NO APLICA\",IF(Y22<=$AA$24,FLOOR(Y22,10000)))","v":{"$error":"#VALUE!"}},{"$f":"IF($Y$22>$AA$24,\"NO APLICA\",IF(Y22<=$AA$24,((((E22*($D$14)*((D22+$D$15))+E22)/D22)))))","v":{"$error":"#VALUE!"}},{"$f":"IF($Y$22>$AA$24,\"NO APLICA\",IF(Y22<=$AA$24,(D22*F22)))","v":{"$error":"#VALUE!"}},null,null,null,null,null,null,null,"APORTES SOCIALES      :",null,null,0,null,"FECHA DE INICIO       :",null,{"$f":"(R23+((R19+1)*29))-((R19-1)*29)","v":{"$error":"#VALUE!"}},null,36,{"$f":"IF(($G$17>=0),AA22*100/((($D$14*100)*(X22+$D$15))+100),\"\")","v":{"$error":"#VALUE!"}},{"$f":"IF(($G$17>=0),($G$12+$G$17),\"\")","v":{"$error":"#VALUE!"}},{"$f":"IF(($G$17>=0),(Z22*X22),\"\")","v":{"$error":"#VALUE!"}},14,"USUARIO MENOR DE EDAD","USUARIO MENOR DE EDAD",14,"USUARIO MENOR DE EDAD",0]
[null,null,null,{"$f":"IF($Y$23<=$AA$24,48,IF($Y$23>$AA$24,\"NO APLICA\"))","v":{"$error":"#VALUE!"}},{"$f":"IF(Y23>$AA$24,\"NO APLICA\",IF(Y23<=$AA$24,FLOOR(Y23,10000)))","v":{"$error":"#VALUE!"}},{"$f":"IF($Y$23>$AA$24,\"NO APLICA\",IF(Y23<=$AA$24,((((E23*($D$14)*((D23+$D$15))+E23)/D23)))))","v":{"$error":"#VALUE!"}},{"$f":"IF($Y$23>$AA$24,\"NO APLICA\",IF(Y23<=$AA$24,(D23*F23)))","v":{"$error":"#VALUE!"}},null,null,null,null,null,null,null,"FECHA DESEMBOLSO      :",null,null,"2012-01-01",null,"FECHA DE TERMINO      :",null,{"$f":"(R23+((R19+1)*29))-((R19-1)*29)+((R19-1)*30)","v":{"$error":"#VALUE!"}},null,48,{"$f":"IF(($G$17>=0),AA23*100/((($D$14*100)*(X23+$D$15))+100),\"\")","v":{"$error":"#VALUE!"}},{"$f":"IF(($G$17>=0),($G$12+$G$17),\"\")","v":{"$error":"#VALUE!"}},{"$f":"IF(($G$17>=0),(Z23*X23),\"\")","v":{"$error":"#VALUE!"}},15,"USUARIO MENOR DE EDAD","USUARIO MENOR DE EDAD",15,"USUARIO MENOR DE EDAD",0]
["LIBRE INVERSION - COBRO DE AVAL ANTICIPADO",0,"N.M.V.",{"$f":"D19","v":"DIGITE EDAD"},{"$f":"S15","v":{"$error":"#VALUE!"}},"  VR CUOTA   ",{"$f":"((((R27)*((1+(R27))^R28))/(((1+(R27))^R28)-1))*(E24+Y16))+(((((E24+Y16)*R27)/30)*R33)/R28)+R31+V26+V29+V30","v":{"$error":"#VALUE!"}},null,{"$f":"IF((S4=0),\" \",S3)","v":{"$error":"#VALUE!"}},null,null,null,null,null,"DIAS DE GRACIA        :",null,null,{"$f":"B27","v":0},null,"TOTAL CUOTA MENSUAL   :",null,{"$f":"V19+R22+V20+V17","v":{"$error":"#VALUE!"}},null,null,null,"MONTO MAXIMO POR CLIENTE",50000000,16,"USUARIO MENOR DE EDAD","USUARIO MENOR DE EDAD",16,"USUARIO MENOR DE EDAD",0]
[null,{"$f":"((1+((B24*12)/12))^12)-1","v":0}," E. A.",{"$f":"IF(G25>=0,\"USUARIO CON CAPACIDAD DE PAGO\",IF(G25<0,\"INTENTE CON OTRO MONTO Y/O PLAZO\"))","v":{"$error":"#VALUE!"}},null,null,{"$f":"G9-G24","v":{"$error":"#VALUE!"}},null,{"$f":"IF(B24=TASAS!H3,\"Tasa para clientes con puntaje > a 750 y sin procesos\",\" \")","v":" "},null,null,null,null,null,null,null,null,null,null,null,null,null,"SEGURO",null,null,null,null,17,"USUARIO MENOR DE EDAD","USUARIO MENOR DE EDAD",17,"USUARIO MENOR DE EDAD",0]
[null,0," O. G.","% AVAL","VALOR AVAL ","A GIRAR",null,null,{"$f":"IF(B24=TASAS!H4,\"Tasa para clientes con puntaje entre 650 - 749 y sin procesos\",\" \")","v":" "},null,null,null,null,null,"VALOR CREDITO         :",null,null,{"$f":"E24","v":{"$error":"#VALUE!"}},null,"VALOR SEGURO          :",null,{"$f":"R26*W26","v":{"$error":"#VALUE!"}},{"$f":"IF((D2<66),(TASAS!C12),(VLOOKUP(D2,TASAS!B13:C27,2,0)))","v":1.15E-3},null,null,null,null,18,{"$f":"$AC$6","v":25000000},{"$f":"$AD$6","v":"NO HAY CODIGO"},18,{"$f":"$AF$6","v":"48 MESES"},{"$f":"$AG$6","v":48}]
[null,0," D. G.",0.09,{"$f":"E24*D27","v":{"$error":"#VALUE!"}},{"$f":"E24-E27","v":{"$error":"#VALUE!"}},null,null,null,null,null,null,null,null,"TASA NOMINAL MENSUAL  :",null,null,{"$f":"R18","v":0},null,"TASA EFECTIVA ANUAL   :",null,{"$f":"((1+((R27*12)/12))^12)-1","v":0},null,null,null,null,null,19,{"$f":"$AC$6","v":25000000},{"$f":"$AD$6","v":"NO HAY CODIGO"},19,{"$f":"$AF$6","v":"48 MESES"},{"$f":"$AG$6","v":48}]
[null,"% Simple",{"$f":"(((G24*D24)-E24)/E24)/D24","v":{"$error":"#VALUE!"}},null,"VR MENSUAL x 1 MM",{"$f":"G24/(E24/1000000)","v":{"$error":"#VALUE!"}},null,null,null,null,null,null,null,null,"PLAZO EN MESES        :",null,null,"DIGITE EDAD",null,"CUOTA NETA            :",null,{"$f":"((((R27)*((1+(R27))^R28))/(((1+(R27))^R28)-1))*(R26+Y16))+(((((R26+Y16)*R27)/30)*R33)/R28)","v":{"$error":"#VALUE!"}},null,null,null,null,null,20,25000000,{"$f":"$AD$6","v":"NO HAY CODIGO"},20,"48 MESES",48]
[null,null,null,"COMPRA O AMPLIACION 1",null,0,null,"FIDELIZACIÓN","VR CRÉDITO","VR CUOTA ","PLAZO"," VR AVAL","SALDO","A GIRAR","TASA COMISION RECAUDO :",null,null,0,null,"COMISION POR RECAUDO  :",null,{"$f":"((((((R27)*((1+(R27))^R28))/(((1+(R27))^R28)-1))*(R26+Y16))+(((((R26+Y16)*R27)/30)*R33)/R28)+R31+V26)*100)/(100-(R29*100))-(((((R27)*((1+(R27))^R28))/(((1+(R27))^R28)-1))*(R26+Y16))+(((((R26+Y16)*R27)/30)*R33)/R28)+R31+V26)","v":{"$error":"#VALUE!"}},null,null,null,null,null,21,25000000,"NO HAY CODIGO",21,"48 MESES",48]
["Vr. Crédito",{"$f":"E24","v":{"$error":"#VALUE!"}},null,"COMPRA O AMPLIACION 2",null,0,"LIBRE INV",null,0,0,0,0,0,{"$f":"I30-L30-M30","v":0},"OTROS GASTOS          :",null,null,0,null,"VALOR OTROS GASTOS    :",null,null,null,null,null,null,null,22,25000000,"NO HAY CODIGO",22,"48 MESES",48]
["Aval",{"$f":"E27","v":{"$error":"#VALUE!"}},null,"COMPRA O AMPLIACION 3",null,0,"AMPLIACION","LZ A",0,0,0,0,0,{"$f":"I31-L31-M31","v":0},"APORTES SOCIALES      :",null,null,0,null,"FECHA DE INICIO       :",null,{"$f":"(R32+((R28+1)*29))-((R28-1)*29)","v":{"$error":"#VALUE!"}},null,null,null,null,null,23,25000000,"NO HAY CODIGO",23,"48 MESES",{"$f":"$AG$6","v":48}]
["Compra(s) / Saneamiento(s) / Ampiación(es)",{"$f":"SUM(F29:F32)","v":0},null,"COMPRA O AMPLIACION 4",null,0,null,null,null,null,null,null,null,null,"FECHA DESEMBOLSO      :",null,null,"2012-01-01",null,"FECHA DE TERMINO      :",null,{"$f":"(R32+((R28+1)*29))-((R28-1)*29)+((R28-1)*30)","v":{"$error":"#VALUE!"}},null,null,null,null,null,24,25000000,"NO HAY CODIGO",24,"48 MESES",48]
["Vr. Desembolso",{"$f":"B30-B31-B32","v":{"$error":"#VALUE!"}},{"$f":"IF(((B33-F33)>0),\"ERROR\",IF((B33-F33)=0,\" \"))","v":{"$error":"#VALUE!"}},"NETO A GIRAR",null,{"$f":"F27-F29-F30-F31-F32","v":{"$error":"#VALUE!"}},null,null,null,null,null,null,null,null,"DIAS DE GRACIA        :",null,null,0,null,"TOTAL CUOTA MENSUAL   :",null,{"$f":"V28+R31+V29+V26","v":{"$error":"#VALUE!"}},null,null,null,null,null,25,25000000,"NO HAY CODIGO",25,"48 MESES",48]
["Vr. Cuota",{"$f":"G24","v":{"$error":"#VALUE!"}},null,{"$f":"IF(((D3-E24)<0),\"¡¡¡ A T E N C I Ó N !!!\",IF((D3-E24)>=0,\" \"))","v":{"$error":"#VALUE!"}},null,null,null,null,null,null,null,null,null,null,null,null,null,null,null,null,null,null,null,null,null,null,null,26,25000000,"NO HAY CODIGO",26,"48 MESES",48]
["Plazo",{"$f":"D24","v":"DIGITE EDAD"},null,{"$f":"IF(((D3-E24)<0),\"EL MONTO EXCEDE LIMITE PARA ESA EDAD\",IF((D3-E24)>=0,\" \"))","v":{"$error":"#VALUE!"}},null,null,null,null,null,null,null,null,null,null,null,null,null,null,null,null,null,null,null,null,null,null,null,27,25000000,"NO HAY CODIGO",27,"48 MESES",48]
[null,null,null,null,null,null,null,null,null,null,null,null,null,null,null,null,null,null,null,null,null,null,null,null,null,null,null,28,25000000,"NO HAY CODIGO",28,"48 MESES",48]
["REQUISITOS PARA SOLICITUD DE CREDITO:",null,null,null,null,null,null,null,null,null,null,null,null,null,null,null,null,null,null,null,null,null,null,null,null,null,null,29,25000000,"NO HAY CODIGO",29,"48 MESES",48]
["1. Desprendible de pago del último mes",null,null,null,null,null,null,null,null,null,null,null,null,null,null,null,null,null,null,null,null,null,null,null,null,null,null,30,25000000,"NO HAY CODIGO",30,"48 MESES",48]
["2. Una (1) fotocopia de la cédula de ciudadanía ampliada al 150% en blanco y negro, con firma y huella",null,null,null,null,null,null,null,null,null,null,null,null,null,null,null,null,null,null,null,null,null,null,null,null,null,null,31,25000000,"NO HAY CODIGO",31,"48 MESES",48]
["3. Fotocopia de la resolución de nombramiento en propiedad",null,null,null,null,null,null,null,null,null,null,null,null,null,null,null,null,null,null,null,null,null,null,null,null,null,null,32,25000000,"NO HAY CODIGO",32,"48 MESES",{"$f":"$AG$6","v":48}]
["4. No requiere codeudor, pero es necesario cobro de aval",null,null,null,null,null,null,null,null,null,null,null,null,null,null,null,null,null,null,null,null,null,null,null,null,null,null,33,25000000,"NO HAY CODIGO",33,"48 MESES",48]
[null,null,null,null,null,null,null,null,null,null,null,null,null,null,null,null,null,null,null,null,null,null,null,null,null,null,null,34,25000000,"NO HAY CODIGO",34,"48 MESES",48]
[null,null,null,null,null,null,null,null,null,null,null,null,null,null,null,null,null,null,null,null,null,null,null,null,null,null,null,35,25000000,"NO HAY CODIGO",35,"48 MESES",48]
[null,null,null,null,null,null,null,null,null,null,null,null,null,null,null,null,null,null,null,null,null,null,null,null,null,null,null,36,25000000,"NO HAY CODIGO",36,"48 MESES",48]
[null,null,null,null,null,null,null,null,null,null,null,null,null,null,null,null,null,null,null,null,null,null,null,null,null,null,null,37,25000000,"NO HAY CODIGO",37,"48 MESES",48]
[null,null,null,null,null,null,null,null,null,null,null,null,null,null,null,null,null,null,null,null,null,null,null,null,null,null,null,38,25000000,"NO HAY CODIGO",38,"48 MESES",48]
[null,null,null,null,null,null,null,null,null,null,null,null,null,null,null,null,null,null,null,null,null,null,null,null,null,null,null,39,25000000,"NO HAY CODIGO",39,"48 MESES",48]
[null,null,null,null,null,null,null,null,null,null,null,null,null,null,null,null,null,null,null,null,null,null,null,null,null,null,null,40,25000000,"NO HAY CODIGO",40,"48 MESES",48]
[null,null,null,null,null,null,null,null,null,null,null,null,null,null,null,null,null,null,null,null,null,null,null,null,null,null,null,41,25000000,"NO HAY CODIGO",41,"48 MESES",48]
[null,null,null,null,null,null,null,null,null,null,null,null,null,null,null,null,null,null,null,null,null,null,null,null,null,null,null,42,25000000,"NO HAY CODIGO",42,"48 MESES",48]
[null,null,null,null,null,null,null,null,null,null,null,null,null,null,null,null,null,null,null,null,null,null,null,null,null,null,null,43,25000000,"NO HAY CODIGO",43,"48 MESES",48]
[null,null,null,null,null,null,null,null,null,null,null,null,null,null,null,null,null,null,null,null,null,null,null,null,null,null,null,44,25000000,"NO HAY CODIGO",44,"48 MESES",48]
[null,null,null,null,null,null,null,null,null,null,null,null,null,null,null,null,null,null,null,null,null,null,null,null,null,null,null,45,25000000,"NO HAY CODIGO",45,"48 MESES",48]
[null,null,null,null,null,null,null,null,null,null,null,null,null,null,null,null,null,null,null,null,null,null,null,null,null,null,null,46,25000000,"NO HAY CODIGO",46,"48 MESES",48]
[null,null,null,null,null,null,null,null,null,null,null,null,null,null,null,null,null,null,null,null,null,null,null,null,null,null,null,47,25000000,"NO HAY CODIGO",47,"48 MESES",48]
[null,null,null,null,null,null,null,null,null,null,null,null,null,null,null,null,null,null,null,null,null,null,null,null,null,null,null,48,25000000,"NO HAY CODIGO",48,"48 MESES",48]
[null,null,null,null,null,null,null,null,null,null,null,null,null,null,null,null,null,null,null,null,null,null,null,null,null,null,null,49,25000000,"NO HAY CODIGO",49,"48 MESES",48]
[null,null,null,null,null,null,null,null,null,null,null,null,null,null,null,null,null,null,null,null,null,null,null,null,null,null,null,50,25000000,"NO HAY CODIGO",50,"48 MESES",48]
[null,null,null,null,null,null,null,null,null,null,null,null,null,null,null,null,null,null,null,null,null,null,null,null,null,null,null,51,25000000,"NO HAY CODIGO",51,"48 MESES",48]
[null,null,null,null,null,null,null,null,null,null,null,null,null,null,null,null,null,null,null,null,null,null,null,null,null,null,null,52,25000000,"NO HAY CODIGO",52,"48 MESES",48]
[null,null,null,null,null,null,null,null,null,null,null,null,null,null,null,null,null,null,null,null,null,null,null,null,null,null,null,53,25000000,"NO HAY CODIGO",53,"48 MESES",48]
[null,null,null,null,null,null,null,null,null,null,null,null,null,null,null,null,null,null,null,null,null,null,null,null,null,null,null,54,25000000,"NO HAY CODIGO",54,"48 MESES",48]
[null,null,null,null,null,null,null,null,null,null,null,null,null,null,null,null,null,null,null,null,null,null,null,null,null,null,null,55,25000000,"NO HAY CODIGO",55,"48 MESES",48]
[null,null,null,null,null,null,null,null,null,null,null,null,null,null,null,null,null,null,null,null,null,null,null,null,null,null,null,56,25000000,"NO HAY CODIGO",56,"48 MESES",48]
[null,null,null,null,null,null,null,null,null,null,null,null,null,null,null,null,null,null,null,null,null,null,null,null,null,null,null,57,25000000,"NO HAY CODIGO",57,"48 MESES",48]
[null,null,null,null,null,null,null,null,null,null,null,null,null,null,null,null,null,null,null,null,null,null,null,null,null,null,null,58,25000000,"NO HAY CODIGO",58,"48 MESES",48]
[null,null,null,null,null,null,null,null,null,null,null,null,null,null,null,null,null,null,null,null,null,null,null,null,null,null,null,59,25000000,"NO HAY CODIGO",59,"48 MESES",48]
[null,null,null,null,null,null,null,null,null,null,null,null,null,null,null,null,null,null,null,null,null,null,null,null,null,null,null,60,25000000,"NO HAY CODIGO",60,"48 MESES",48]
[null,null,null,null,null,null,null,null,null,null,null,null,null,null,null,null,null,null,null,null,null,null,null,null,null,null,null,61,25000000,"NO HAY CODIGO",61,"48 MESES",48]
[null,null,null,null,null,null,null,null,null,null,null,null,null,null,null,null,null,null,null,null,null,null,null,null,null,null,null,62,25000000,"NO HAY CODIGO",62,"48 MESES",48]
[null,null,null,null,null,null,null,null,null,null,null,null,null,null,null,null,null,null,null,null,null,null,null,null,null,null,null,63,25000000,"NO HAY CODIGO",63,"48 MESES",48]
[null,null,null,null,null,null,null,null,null,null,null,null,null,null,null,null,null,null,null,null,null,null,null,null,null,null,null,64,25000000,"NO HAY CODIGO",64,"48 MESES",48]
[null,null,null,null,null,null,null,null,null,null,null,null,null,null,null,null,null,null,null,null,null,null,null,null,null,null,null,65,25000000,"NO HAY CODIGO",65,"48 MESES",48]
[null,null,null,null,null,null,null,null,null,null,null,null,null,null,null,null,null,null,null,null,null,null,null,null,null,null,null,66,25000000,0,66,"48 MESES",48]
[null,null,null,null,null,null,null,null,null,null,null,null,null,null,null,null,null,null,null,null,null,null,null,null,null,null,null,67,25000000,0,67,"48 MESES",48]
[null,null,null,null,null,null,null,null,null,null,null,null,null,null,null,null,null,null,null,null,null,null,null,null,null,null,null,68,25000000,0,68,"48 MESES",48]
[null,null,null,null,null,null,null,null,null,null,null,null,null,null,null,null,null,null,null,null,null,null,null,null,null,null,null,69,{"$f":"$AC$6","v":25000000},0,69,"48 MESES",48]
[null,null,null,null,null,null,null,null,null,null,null,null,null,null,null,null,null,null,null,null,null,null,null,null,null,null,null,70,{"$f":"$AC$6","v":25000000},0,70,{"$f":"$AF$6","v":"48 MESES"},48]
[null,null,null,null,null,null,null,null,null,null,null,null,null,null,null,null,null,null,null,null,null,null,null,null,null,null,null,71,{"$f":"$AC$7","v":15000000},{"$f":"$AD$7","v":"NO HAY CODIGO"},71,{"$f":"$AF$6","v":"48 MESES"},48]
[null,null,null,null,null,null,null,null,null,null,null,null,null,null,null,null,null,null,null,null,null,null,null,null,null,null,null,72,{"$f":"$AC$7","v":15000000},{"$f":"$AD$7","v":"NO HAY CODIGO"},72,{"$f":"$AF$6","v":"48 MESES"},48]
[null,null,null,null,null,null,null,null,null,null,null,null,null,null,null,null,null,null,null,null,null,null,null,null,null,null,null,73,{"$f":"$AC$7","v":15000000},{"$f":"$AD$7","v":"NO HAY CODIGO"},73,{"$f":"$AF$6","v":"48 MESES"},48]
[null,null,null,null,null,null,null,null,null,null,null,null,null,null,null,null,null,null,null,null,null,null,null,null,null,null,null,74,{"$f":"$AC$7","v":15000000},{"$f":"$AD$7","v":"NO HAY CODIGO"},74,{"$f":"$AF$6","v":"48 MESES"},48]
[null,null,null,null,null,null,null,null,null,null,null,null,null,null,null,null,null,null,null,null,null,null,null,null,null,null,null,75,{"$f":"$AC$5","v":10000000},{"$f":"$AD$5","v":"NO HAY CODIGO"},75,{"$f":"$AF$5","v":"48 MESES"},{"$f":"$AG$5","v":48}]
[null,null,null,null,null,null,null,null,null,null,null,null,null,null,null,null,null,null,null,null,null,null,null,null,null,null,null,76,{"$f":"$AC$5","v":10000000},{"$f":"$AD$5","v":"NO HAY CODIGO"},76,{"$f":"$AF$5","v":"48 MESES"},{"$f":"$AG$5","v":48}]
[null,null,null,null,null,null,null,null,null,null,null,null,null,null,null,null,null,null,null,null,null,null,null,null,null,null,null,77,{"$f":"$AC$5","v":10000000},{"$f":"$AD$5","v":"NO HAY CODIGO"},77,{"$f":"$AF$5","v":"48 MESES"},{"$f":"$AG$5","v":48}]
[null,null,null,null,null,null,null,null,null,null,null,null,null,null,null,null,null,null,null,null,null,null,null,null,null,null,null,78,{"$f":"$AC$5","v":10000000},{"$f":"$AD$5","v":"NO HAY CODIGO"},78,{"$f":"$AF$5","v":"48 MESES"},{"$f":"$AG$5","v":48}]
[null,null,null,null,null,null,null,null,null,null,null,null,null,null,null,null,null,null,null,null,null,null,null,null,null,null,null,79,{"$f":"$AC$5","v":10000000},{"$f":"$AD$5","v":"NO HAY CODIGO"},79,{"$f":"$AF$5","v":"48 MESES"},{"$f":"$AG$5","v":48}]
[null,null,null,null,null,null,null,null,null,null,null,null,null,null,null,null,null,null,null,null,null,null,null,null,null,null,null,80,{"$f":"$AC$4","v":0},{"$f":"$AD$4","v":"NO HAY CODIGO"},80,{"$f":"$AF$4","v":"24 MESES"},{"$f":"$AG$4","v":24}]
[null,null,null,null,null,null,null,null,null,null,null,null,null,null,null,null,null,null,null,null,null,null,null,null,null,null,null,81,"SUPERA EDAD MAXIMA PARA SOLICITUD DE CREDITO","SUPERA EDAD MAXIMA PARA SOLICITUD DE CREDITO",81,"SUPERA EDAD MAXIMA PARA SOLICITUD DE CREDITO",0]
[null,null,null,null,null,null,null,null,null,null,null,null,null,null,null,null,null,null,null,null,null,null,null,null,null,null,null,82,"SUPERA EDAD MAXIMA PARA SOLICITUD DE CREDITO","SUPERA EDAD MAXIMA PARA SOLICITUD DE CREDITO",82,"SUPERA EDAD MAXIMA PARA SOLICITUD DE CREDITO",0]
[null,null,null,null,null,null,null,null,null,null,null,null,null,null,null,null,null,null,null,null,null,null,null,null,null,null,null,83,"SUPERA EDAD MAXIMA PARA SOLICITUD DE CREDITO","SUPERA EDAD MAXIMA PARA SOLICITUD DE CREDITO",83,"SUPERA EDAD MAXIMA PARA SOLICITUD DE CREDITO",0]
[null,null,null,null,null,null,null,null,null,null,null,null,null,null,null,null,null,null,null,null,null,null,null,null,null,null,null,84,"SUPERA EDAD MAXIMA PARA SOLICITUD DE CREDITO","SUPERA EDAD MAXIMA PARA SOLICITUD DE CREDITO",84,"SUPERA EDAD MAXIMA PARA SOLICITUD DE CREDITO",0]
[null,null,null,null,null,null,null,null,null,null,null,null,null,null,null,null,null,null,null,null,null,null,null,null,null,null,null,85,"SUPERA EDAD MAXIMA PARA SOLICITUD DE CREDITO","SUPERA EDAD MAXIMA PARA SOLICITUD DE CREDITO",85,"SUPERA EDAD MAXIMA PARA SOLICITUD DE CREDITO",0]
[null,null,null,null,null,null,null,null,null,null,null,null,null,null,null,null,null,null,null,null,null,null,null,null,null,null,null,86,"SUPERA EDAD MAXIMA PARA SOLICITUD DE CREDITO","SUPERA EDAD MAXIMA PARA SOLICITUD DE CREDITO",86,"SUPERA EDAD MAXIMA PARA SOLICITUD DE CREDITO",0]
[null,null,null,null,null,null,null,null,null,null,null,null,null,null,null,null,null,null,null,null,null,null,null,null,null,null,null,87,"SUPERA EDAD MAXIMA PARA SOLICITUD DE CREDITO","SUPERA EDAD MAXIMA PARA SOLICITUD DE CREDITO",87,"SUPERA EDAD MAXIMA PARA SOLICITUD DE CREDITO",0]
[null,null,null,null,null,null,null,null,null,null,null,null,null,null,null,null,null,null,null,null,null,null,null,null,null,null,null,88,"SUPERA EDAD MAXIMA PARA SOLICITUD DE CREDITO","SUPERA EDAD MAXIMA PARA SOLICITUD DE CREDITO",88,"SUPERA EDAD MAXIMA PARA SOLICITUD DE CREDITO",0]
[null,null,null,null,null,null,null,null,null,null,null,null,null,null,null,null,null,null,null,null,null,null,null,null,null,null,null,89,"SUPERA EDAD MAXIMA PARA SOLICITUD DE CREDITO","SUPERA EDAD MAXIMA PARA SOLICITUD DE CREDITO",89,"SUPERA EDAD MAXIMA PARA SOLICITUD DE CREDITO",0]
[null,null,null,null,null,null,null,null,null,null,null,null,null,null,null,null,null,null,null,null,null,null,null,null,null,null,null,90,"SUPERA EDAD MAXIMA PARA SOLICITUD DE CREDITO","SUPERA EDAD MAXIMA PARA SOLICITUD DE CREDITO",90,"SUPERA EDAD MAXIMA PARA SOLICITUD DE CREDITO",0]
[null,null,null,null,null,null,null,null,null,null,null,null,null,null,null,null,null,null,null,null,null,null,null,null,null,null,null,91,"SUPERA EDAD MAXIMA PARA SOLICITUD DE CREDITO","SUPERA EDAD MAXIMA PARA SOLICITUD DE CREDITO",91,"SUPERA EDAD MAXIMA PARA SOLICITUD DE CREDITO",0]
[null,null,null,null,null,null,null,null,null,null,null,null,null,null,null,null,null,null,null,null,null,null,null,null,null,null,null,92,"SUPERA EDAD MAXIMA PARA SOLICITUD DE CREDITO","SUPERA EDAD MAXIMA PARA SOLICITUD DE CREDITO",92,"SUPERA EDAD MAXIMA PARA SOLICITUD DE CREDITO",0]
[null,null,null,null,null,null,null,null,null,null,null,null,null,null,null,null,null,null,null,null,null,null,null,null,null,null,null,93,"SUPERA EDAD MAXIMA PARA SOLICITUD DE CREDITO","SUPERA EDAD MAXIMA PARA SOLICITUD DE CREDITO",93,"SUPERA EDAD MAXIMA PARA SOLICITUD DE CREDITO",0]
[null,null,null,null,null,null,null,null,null,null,null,null,null,null,null,null,null,null,null,null,null,null,null,null,null,null,null,94,"SUPERA EDAD MAXIMA PARA SOLICITUD DE CREDITO","SUPERA EDAD MAXIMA PARA SOLICITUD DE CREDITO",94,"SUPERA EDAD MAXIMA PARA SOLICITUD DE CREDITO",0]
[null,null,null,null,null,null,null,null,null,null,null,null,null,null,null,null,null,null,null,null,null,null,null,null,null,null,null,95,"SUPERA EDAD MAXIMA PARA SOLICITUD DE CREDITO","SUPERA EDAD MAXIMA PARA SOLICITUD DE CREDITO",95,"SUPERA EDAD MAXIMA PARA SOLICITUD DE CREDITO",0]
[null,null,null,null,null,null,null,null,null,null,null,null,null,null,null,null,null,null,null,null,null,null,null,null,null,null,null,96,"SUPERA EDAD MAXIMA PARA SOLICITUD DE CREDITO","SUPERA EDAD MAXIMA PARA SOLICITUD DE CREDITO",96,"SUPERA EDAD MAXIMA PARA SOLICITUD DE CREDITO",0]
[null,null,null,null,null,null,null,null,null,null,null,null,null,null,null,null,null,null,null,null,null,null,null,null,null,null,null,97,"SUPERA EDAD MAXIMA PARA SOLICITUD DE CREDITO","SUPERA EDAD MAXIMA PARA SOLICITUD DE CREDITO",97,"SUPERA EDAD MAXIMA PARA SOLICITUD DE CREDITO",0]
[null,null,null,null,null,null,null,null,null,null,null,null,null,null,null,null,null,null,null,null,null,null,null,null,null,null,null,98,"SUPERA EDAD MAXIMA PARA SOLICITUD DE CREDITO","SUPERA EDAD MAXIMA PARA SOLICITUD DE CREDITO",98,"SUPERA EDAD MAXIMA PARA SOLICITUD DE CREDITO",0]
[null,null,null,null,null,null,null,null,null,null,null,null,null,null,null,null,null,null,null,null,null,null,null,null,null,null,null,99,"SUPERA EDAD MAXIMA PARA SOLICITUD DE CREDITO","SUPERA EDAD MAXIMA PARA SOLICITUD DE CREDITO",99,"SUPERA EDAD MAXIMA PARA SOLICITUD DE CREDITO",0]
[null,null,null,null,null,null,null,null,null,null,null,null,null,null,null,null,null,null,null,null,null,null,null,null,null,null,null,100,"SUPERA EDAD MAXIMA PARA SOLICITUD DE CREDITO","SUPERA EDAD MAXIMA PARA SOLICITUD DE CREDITO",100,"SUPERA EDAD MAXIMA PARA SOLICITUD DE CREDITO",0]
[null,null,null,null,null,null,null,null,null,null,null,null,null,null,null,null,null,null,null,null,null,null,null,null,null,null,null,101,"SUPERA EDAD MAXIMA PARA SOLICITUD DE CREDITO","SUPERA EDAD MAXIMA PARA SOLICITUD DE CREDITO",101,"SUPERA EDAD MAXIMA PARA SOLICITUD DE CREDITO",0]
[null,null,null,null,null,null,null,null,null,null,null,null,null,null,null,null,null,null,null,null,null,null,null,null,null,null,null,102,"SUPERA EDAD MAXIMA PARA SOLICITUD DE CREDITO","SUPERA EDAD MAXIMA PARA SOLICITUD DE CREDITO",102,"SUPERA EDAD MAXIMA PARA SOLICITUD DE CREDITO",0]
[null,null,null,null,null,null,null,null,null,null,null,null,null,null,null,null,null,null,null,null,null,null,null,null,null,null,null,103,"SUPERA EDAD MAXIMA PARA SOLICITUD DE CREDITO","SUPERA EDAD MAXIMA PARA SOLICITUD DE CREDITO",103,"SUPERA EDAD MAXIMA PARA SOLICITUD DE CREDITO",0]
[null,null,null,null,null,null,null,null,null,null,null,null,null,null,null,null,null,null,null,null,null,null,null,null,null,null,null,104,"SUPERA EDAD MAXIMA PARA SOLICITUD DE CREDITO","SUPERA EDAD MAXIMA PARA SOLICITUD DE CREDITO",104,"SUPERA EDAD MAXIMA PARA SOLICITUD DE CREDITO",0]
[null,null,null,null,null,null,null,null,null,null,null,null,null,null,null,null,null,null,null,null,null,null,null,null,null,null,null,105,"SUPERA EDAD MAXIMA PARA SOLICITUD DE CREDITO","SUPERA EDAD MAXIMA PARA SOLICITUD DE CREDITO",105,"SUPERA EDAD MAXIMA PARA SOLICITUD DE CREDITO",0]
[null,null,null,null,null,null,null,null,null,null,null,null,null,null,null,null,null,null,null,null,null,null,null,null,null,null,null,106,"SUPERA EDAD MAXIMA PARA SOLICITUD DE CREDITO","SUPERA EDAD MAXIMA PARA SOLICITUD DE CREDITO",106,"SUPERA EDAD MAXIMA PARA SOLICITUD DE CREDITO",0]
[null,null,null,null,null,null,null,null,null,null,null,null,null,null,null,null,null,null,null,null,null,null,null,null,null,null,null,107,"SUPERA EDAD MAXIMA PARA SOLICITUD DE CREDITO","SUPERA EDAD MAXIMA PARA SOLICITUD DE CREDITO",107,"SUPERA EDAD MAXIMA PARA SOLICITUD DE CREDITO",0]
[null,null,null,null,null,null,null,null,null,null,null,null,null,null,null,null,null,null,null,null,null,null,null,null,null,null,null,108,"SUPERA EDAD MAXIMA PARA SOLICITUD DE CREDITO","SUPERA EDAD MAXIMA PARA SOLICITUD DE CREDITO",108,"SUPERA EDAD MAXIMA PARA SOLICITUD DE CREDITO",0]
[null,null,null,null,null,null,null,null,null,null,null,null,null,null,null,null,null,null,null,null,null,null,null,null,null,null,null,109,"SUPERA EDAD MAXIMA PARA SOLICITUD DE CREDITO","SUPERA EDAD MAXIMA PARA SOLICITUD DE CREDITO",109,"SUPERA EDAD MAXIMA PARA SOLICITUD DE CREDITO",0]
[null,null,null,null,null,null,null,null,null,null,null,null,null,null,null,null,null,null,null,null,null,null,null,null,null,null,null,110,"SUPERA EDAD MAXIMA PARA SOLICITUD DE CREDITO","SUPERA EDAD MAXIMA PARA SOLICITUD DE CREDITO",110,"SUPERA EDAD MAXIMA PARA SOLICITUD DE CREDITO",0]
[null,null,null,null,null,null,null,null,null,null,null,null,null,null,null,null,null,null,null,null,null,null,null,null,null,null,null,111,"SUPERA EDAD MAXIMA PARA SOLICITUD DE CREDITO","SUPERA EDAD MAXIMA PARA SOLICITUD DE CREDITO",111,"SUPERA EDAD MAXIMA PARA SOLICITUD DE CREDITO",0]
[null,null,null,null,null,null,null,null,null,null,null,null,null,null,null,null,null,null,null,null,null,null,null,null,null,null,null,112,"SUPERA EDAD MAXIMA PARA SOLICITUD DE CREDITO","SUPERA EDAD MAXIMA PARA SOLICITUD DE CREDITO",112,"SUPERA EDAD MAXIMA PARA SOLICITUD DE CREDITO",0]
[null,null,null,null,null,null,null,null,null,null,null,null,null,null,null,null,null,null,null,null,null,null,null,null,null,null,null,113,"SUPERA EDAD MAXIMA PARA SOLICITUD DE CREDITO","SUPERA EDAD MAXIMA PARA SOLICITUD DE CREDITO",113,"SUPERA EDAD MAXIMA PARA SOLICITUD DE CREDITO",0]
[null,null,null,null,null,null,null,null,null,null,null,null,null,null,null,null,null,null,null,null,null,null,null,null,null,null,null,114,"SUPERA EDAD MAXIMA PARA SOLICITUD DE CREDITO","SUPERA EDAD MAXIMA PARA SOLICITUD DE CREDITO",114,"SUPERA EDAD MAXIMA PARA SOLICITUD DE CREDITO",0]
[null,null,null,null,null,null,null,null,null,null,null,null,null,null,null,null,null,null,null,null,null,null,null,null,null,null,null,115,"SUPERA EDAD MAXIMA PARA SOLICITUD DE CREDITO","SUPERA EDAD MAXIMA PARA SOLICITUD DE CREDITO",115,"SUPERA EDAD MAXIMA PARA SOLICITUD DE CREDITO",0]
[null,null,null,null,null,null,null,null,null,null,null,null,null,null,null,null,null,null,null,null,null,null,null,null,null,null,null,116,"SUPERA EDAD MAXIMA PARA SOLICITUD DE CREDITO","SUPERA EDAD MAXIMA PARA SOLICITUD DE CREDITO",116,"SUPERA EDAD MAXIMA PARA SOLICITUD DE CREDITO",0]
[null,null,null,null,null,null,null,null,null,null,null,null,null,null,null,null,null,null,null,null,null,null,null,null,null,null,null,117,"SUPERA EDAD MAXIMA PARA SOLICITUD DE CREDITO","SUPERA EDAD MAXIMA PARA SOLICITUD DE CREDITO",117,"SUPERA EDAD MAXIMA PARA SOLICITUD DE CREDITO",0]
[null,null,null,null,null,null,null,null,null,null,null,null,null,null,null,null,null,null,null,null,null,null,null,null,null,null,null,118,"SUPERA EDAD MAXIMA PARA SOLICITUD DE CREDITO","SUPERA EDAD MAXIMA PARA SOLICITUD DE CREDITO",118,"SUPERA EDAD MAXIMA PARA SOLICITUD DE CREDITO",0]
[null,null,null,null,null,null,null,null,null,null,null,null,null,null,null,null,null,null,null,null,null,null,null,null,null,null,null,119,"SUPERA EDAD MAXIMA PARA SOLICITUD DE CREDITO","SUPERA EDAD MAXIMA PARA SOLICITUD DE CREDITO",119,"SUPERA EDAD MAXIMA PARA SOLICITUD DE CREDITO",0]
[null,null,null,null,null,null,null,null,null,null,null,null,null,null,null,null,null,null,null,null,null,null,null,null,null,null,null,120,"SUPERA EDAD MAXIMA PARA SOLICITUD DE CREDITO","SUPERA EDAD MAXIMA PARA SOLICITUD DE CREDITO",120,"SUPERA EDAD MAXIMA PARA SOLICITUD DE CREDITO",0]
[null,null,null,null,null,null,null,null,null,null,null,null,null,null,null,null,null,null,null,null,null,null,null,null,null,null,null,121,"SUPERA EDAD MAXIMA PARA SOLICITUD DE CREDITO","SUPERA EDAD MAXIMA PARA SOLICITUD DE CREDITO",121,"SUPERA EDAD MAXIMA PARA SOLICITUD DE CREDITO",0]
[null,null,null,null,null,null,null,null,null,null,null,null,null,null,null,null,null,null,null,null,null,null,null,null,null,null,null,122,"SUPERA EDAD MAXIMA PARA SOLICITUD DE CREDITO","SUPERA EDAD MAXIMA PARA SOLICITUD DE CREDITO",122,"SUPERA EDAD MAXIMA PARA SOLICITUD DE CREDITO",0]
[null,null,null,null,null,null,null,null,null,null,null,null,null,null,null,null,null,null,null,null,null,null,null,null,null,null,null,123,"SUPERA EDAD MAXIMA PARA SOLICITUD DE CREDITO","SUPERA EDAD MAXIMA PARA SOLICITUD DE CREDITO",123,"SUPERA EDAD MAXIMA PARA SOLICITUD DE CREDITO",0]
[null,null,null,null,null,null,null,null,null,null,null,null,null,null,null,null,null,null,null,null,null,null,null,null,null,null,null,124,"SUPERA EDAD MAXIMA PARA SOLICITUD DE CREDITO","SUPERA EDAD MAXIMA PARA SOLICITUD DE CREDITO",124,"SUPERA EDAD MAXIMA PARA SOLICITUD DE CREDITO",0]
[null,null,null,null,null,null,null,null,null,null,null,null,null,null,null,null,null,null,null,null,null,null,null,null,null,null,null,125,"SUPERA EDAD MAXIMA PARA SOLICITUD DE CREDITO","SUPERA EDAD MAXIMA PARA SOLICITUD DE CREDITO",125,"SUPERA EDAD MAXIMA PARA SOLICITUD DE CREDITO",0]
[null,null,null,null,null,null,null,null,null,null,null,null,null,null,null,null,null,null,null,null,null,null,null,null,null,null,null,126,"SUPERA EDAD MAXIMA PARA SOLICITUD DE CREDITO","SUPERA EDAD MAXIMA PARA SOLICITUD DE CREDITO",126,"SUPERA EDAD MAXIMA PARA SOLICITUD DE CREDITO",0]
[null,null,null,null,null,null,null,null,null,null,null,null,null,null,null,null,null,null,null,null,null,null,null,null,null,null,null,127,"SUPERA EDAD MAXIMA PARA SOLICITUD DE CREDITO","SUPERA EDAD MAXIMA PARA SOLICITUD DE CREDITO",127,"SUPERA EDAD MAXIMA PARA SOLICITUD DE CREDITO",0]
[null,null,null,null,null,null,null,null,null,null,null,null,null,null,null,null,null,null,null,null,null,null,null,null,null,null,null,128,"SUPERA EDAD MAXIMA PARA SOLICITUD DE CREDITO","SUPERA EDAD MAXIMA PARA SOLICITUD DE CREDITO",128,"SUPERA EDAD MAXIMA PARA SOLICITUD DE CREDITO",0]
[null,null,null,null,null,null,null,null,null,null,null,null,null,null,null,null,null,null,null,null,null,null,null,null,null,null,null,129,"SUPERA EDAD MAXIMA PARA SOLICITUD DE CREDITO","SUPERA EDAD MAXIMA PARA SOLICITUD DE CREDITO",129,"SUPERA EDAD MAXIMA PARA SOLICITUD DE CREDITO",0]
[null,null,null,null,null,null,null,null,null,null,null,null,null,null,null,null,null,null,null,null,null,null,null,null,null,null,null,130,"SUPERA EDAD MAXIMA PARA SOLICITUD DE CREDITO","SUPERA EDAD MAXIMA PARA SOLICITUD DE CREDITO",130,"SUPERA EDAD MAXIMA PARA SOLICITUD DE CREDITO",0]

{"sheet":"POLICIA","index":21,"n_rows":316,"n_cols":40,"rows_kept":316,"cut":false,"hidden":false,"merged":[[35,14,35,16],[35,19,35,20],[0,3,0,5],[2,3,2,4],[1,4,1,6],[32,14,32,16],[32,19,32,20],[33,14,33,16],[33,19,33,20],[34,14,34,16],[34,19,34,20],[29,14,29,16],[29,19,29,20],[30,14,30,16],[30,19,30,20],[31,14,31,16],[31,19,31,20],[26,0,28,0],[26,14,26,16],[26,19,26,20],[27,3,27,5],[28,14,28,16],[28,19,28,20],[31,3,31,4],[26,8,26,13],[27,8,27,13],[22,0,25,2],[22,14,22,16],[22,19,22,20],[23,14,23,16],[23,19,23,20],[24,14,24,16],[24,19,24,20],[25,14,25,16],[25,19,25,20],[19,0,19,2],[19,3,19,5],[19,14,19,16],[19,19,19,20],[20,0,21,2],[20,14,20,16],[20,19,20,20],[21,14,21,16],[21,19,21,20],[12,0,12,2],[13,0,13,2],[14,0,18,2],[14,4,14,5],[14,6,18,6],[15,4,15,5],[16,4,16,5],[17,4,17,5],[18,4,18,5],[34,3,34,4],[0,0,0,2],[1,0,1,2],[2,0,2,2],[3,0,3,2],[3,3,3,4],[11,0,11,2],[4,0,4,2],[4,3,4,4],[5,0,5,2],[6,0,6,2],[7,0,7,2],[8,0,8,2],[9,0,9,2],[10,0,10,2],[10,4,10,5],[33,3,33,4],[12,8,12,13],[13,8,13,13],[2,8,2,13],[11,8,11,13],[0,12,0,13],[1,8,1,13],[3,8,3,13],[28,8,28,13],[32,3,32,4]]}
["Policia Nacional CO 1 - CR 1",null,null,0.5,null,null,null,null,null,null,null,null,{"$f":"TASAS!G15","v":"2025-03"}]
["SELECCIONE EL GRADO DEL USUARIO",null,null,null,{"$f":"IF(($D$2= \"\"),\"\",VLOOKUP($D$2,$AG$8:$AN$316,2,FALSE))","v":""},null,null,null,"La tasa de interés preferencial",null,null,null,null,null,{"$f":"D9-D10","v":0},{"$f":"D11-O2","v":0}]
[{"$f":"IF((D2=\"\"),\"\",\"MONTO MAX SIN CD Y CON MENOS DE 3 AÑOS DE SERVICIO\")","v":""},null,null,{"$f":"IF((D2= \"\"),\"\",VLOOKUP(D2,$AG$8:$AN$316,4,FALSE))","v":""},null,{"$f":"IF((D2=\"\"),\"\",\"TIPO DE\")","v":""},null,null,"solo aplica para pensionados, no para activos",null,null,null,null,null,null,null,null,null,{"$f":"IF(AND(E27<TASAS!H11,D27<TASAS!M2),TASAS!H6,TASAS!H5)","v":{"$error":"#VALUE!"}}]
[{"$f":"IF((D2=\"\"),\"\",\"MONTO MAX SIN CD Y CON MAS DE 3 AÑOS DE SERVICIO\")","v":""},null,null,{"$f":"IF((D2= \"\"),\"\",VLOOKUP(D2,$AG$8:$AN$316,5,FALSE))","v":""},null,{"$f":"IF((D2=\"\"),\"\",\"NOMINA\")","v":""},null,null,"NO SE TRAMITAN COMPRAS DE CARTERA",null,null,null,null,null,null,null,null,null,{"$f":"B27-S3","v":{"$error":"#VALUE!"}}]
[{"$f":"IF((D2=\"\"),\"\",\"MONTO MAX CON CD Y CON MAS DE 3 AÑOS DE SERVICIO\")","v":""},null,null,{"$f":"IF((D2= \"\"),\"\",VLOOKUP(D2,$AG$8:$AN$316,6,FALSE))","v":""},null,{"$f":"IF((D2= \"\"),\"\",VLOOKUP(D2,$AG$8:$AN$316,3,FALSE))","v":""},null,null,null,null,null,null,null,null,null,null,null,null,0,null,null,null,null,null,null,null,null,null,null,null,null,null,null,null,null,null,null,null,"60 MESES",{"$f":"LEFT(AM5,2)","v":"60"}]
[{"$f":"IF((D2=\"\"),\"\",\"CODEUDOR REQUERIDO\")","v":""},null,null,{"$f":"IF((D2= \"\"),\"\",VLOOKUP(D2,$AG$8:$AN$316,8,FALSE))","v":""},null,null,null,null,null,null,null,null,null,null,null,null,null,null,{"$f":"TASAS!H3","v":1.77E-2},"TASA"]
[{"$f":"IF((D2=\"\"),\"\",\"PLAZO MAXIMO PARA EL CREDITO\")","v":""},null,null,{"$f":"IF((D2= \"\"),\"\",VLOOKUP(D2,$AG$8:$AN$316,7,FALSE))","v":""},{"$f":"IF((D2=\"\"),\"\",\"REVISE ABAJO LOS REQUISITOS\")","v":""},null,null,null,null,null,null,null,null,null,null,null,null,null,{"$f":"TASAS!H4","v":1.8200000000000001E-2},"TASA",null,null,null,null,null,null,null,null,null,null,null,"No.","GRADO","DESCRIPCION  ","TIPO_NOMINA","MONTO MAX SIN CD Y MENOS DE 3 A","MONTO MAX SIN CD Y MAS DE 3 A","MONTO MAX CON CD","PLAZO","CD REQUEIRDO"]
["EVALUACION CAPACIDAD DE PAGO",null,null,"VALOR 1","VALOR 2","VALOR 3","TOTALES",null,null,null,null,null,null,null,null,null,null,null,{"$f":"TASAS!H5","v":1.8699999999999998E-2},"TASA",null,null,null,null,null,null,null,null,null,null,1,1,"AG","AGENTE",5,3000000,4000000,5000000,{"$f":"$AM$5","v":"60 MESES"},"CIVIL O UNIFORMADO CON MAS DE 3 AÑOS DE SERVICIO"]
["TOTAL INGRESOS",null,null,0,null,null,{"$f":"(D9-G14)/2","v":0},null,null,null,null,null,null,null,null,null,null,null,{"$f":"TASAS!H6","v":3.4999999999999996E-2},"TASA",null,null,null,null,null,null,null,null,null,null,2,2,"AE","AGENTE  ESPECIAL",5,3000000,4000000,5000000,{"$f":"$AM$5","v":"60 MESES"},"CIVIL O UNIFORMADO CON MAS DE 3 AÑOS DE SERVICIO"]
["(-) TOTAL DESCUENTOS",null,null,0,null,null,{"$f":"IF(($P$2>3),\"ERROR EN\",IF($P$2<-3,\"ERROR EN\",D10))","v":0},null,null,null,null,null,null,null,null,null,null,null,{"$f":"TASAS!H7","v":1.4499999999999999E-2},"TASA",null,null,null,null,null,null,null,null,null,null,3,3,"DG","DRAGONEANTE",5,"NO SE OTORGA CREDITO",4000000,5000000,"60 MESES","CIVIL O UNIFORMADO CON MAS DE 3 AÑOS DE SERVICIO"]
["INGRESO NETO RECIBIDO EN EL DESPRENDIBLE DE PAGO",null,null,0,"DISPONIBLE PARA CREDITO",null,{"$f":"IF((P2>3),\"LOS DATOS\",IF(P2<-3,\"LOS DATOS\",G9-G10+G12+G13))","v":0},"*",null,null,null,null,null,null,null,null,null,null,{"$f":"TASAS!H8","v":1.4999999999999999E-2},"TASA",null,null,null,null,null,null,null,null,null,null,4,4,"GR","GENERAL",7,5000000,5000000,5000000,"60 MESES","NO REQUIERE CODEUDOR"]
["(+) DESCUENTOS FINALIZADOS EN EL PRESENTE MES Y EN EL PROXIMO",null,null,0,0,0,{"$f":"SUM(D12:F12)","v":0},null,{"$f":"IF((B27=0),\"¡ ¡ ¡ Por favor seleccione la tasa de interés ! ! !\",\" \")","v":"¡ ¡ ¡ Por favor seleccione la tasa de interés ! ! !"},null,null,null,null,null,null,null,null,null,{"$f":"TASAS!H9","v":1.55E-2},"TASA",null,null,null,null,null,null,null,null,null,null,5,5,"MG","MAYOR GENERAL",7,5000000,5000000,5000000,"60 MESES","NO REQUIERE CODEUDOR"]
["(+) CUOTAS DE COMPRAS DE CARTERA",null,null,0,0,0,{"$f":"SUM(D13:F13)","v":0},null,{"$f":"IF((S4=0),\" \",\"¡¡¡   A T E N C I O N   !!!\")","v":{"$error":"#VALUE!"}},null,null,null,null,null,null,null,null,null,null,null,null,null,null,null,null,null,null,null,null,null,6,6,"BG","BRIGADIER GENERAL",7,5000000,5000000,5000000,"60 MESES","NO REQUIERE CODEUDOR"]
["(-) VALOR INGRESOS ADICIONALES Y OTROS DEDUCIBLES",null,null,0,0,0,{"$f":"SUM(D14:F14)","v":0},null,{"$f":"IF((S4=0),\" \",\"La tasa máxima para ese monto y plazo es del\")","v":{"$error":"#VALUE!"}},null,null,null,null,null,null,null,null,{"$f":"D3*1","v":{"$error":"#VALUE!"}},{"$f":"(PV($B$27,$D$27,$T$18))*-1","v":{"$error":"#VALUE!"}},null,null,null,null,null,null,null,null,null,null,null,7,7,"CR","CORONEL",7,5000000,5000000,5000000,"60 MESES","NO REQUIERE CODEUDOR"]
["(-) VALOR ESTIMADO CUOTA DE CREDITO CON COOSERFIN",null,null,0,{"$f":"IF(($D$17=\"TASA\"),\" \",\"VALOR SOLICITADO\")","v":"VALOR SOLICITADO"},null,{"$f":"IF((D2=\"\"),\"RECUERDE DIGITAR ARRIBA EL GRADO\",ROUNDUP(((((D15*D17))*(D16+D18))+D15)/D16,0))","v":"RECUERDE DIGITAR ARRIBA EL GRADO"},null,null,null,null,null,null,null,null,null,null,null,{"$f":"(IF(S14>R14,R14,FLOOR(S14,100000)))","v":{"$error":"#VALUE!"}},null,null,null,null,null,null,null,null,null,null,null,8,8,"TC","TENIENTE CORONEL",7,10000000,10000000,5000000,"60 MESES","NO REQUIERE CODEUDOR"]
[null,null,null,0,{"$f":"IF(($D$17=\"TASA\"),\" \",\"PLAZO\")","v":"PLAZO"},null,null,null,null,null,null,null,null,null,null,null,null,null,null,null,null,null,null,null,null,null,null,null,null,null,9,9,"MY","MAYOR",7,8000000,8000000,5000000,"60 MESES","NO REQUIERE CODEUDOR"]
[null,null,null,2.3E-2,"FACTOR",null,null,null,null,null,null,null,null,null,null,null,null,null,null,{"$f":"F22","v":"NO APLICA"},null,null,null,null,null,null,null,null,null,null,10,10,"CT","CAPITAN",7,3000000,5000000,5000000,"60 MESES","CIVIL O UNIFORMADO CON MAS DE 3 AÑOS DE SERVICIO"]
[null,null,null,0,{"$f":"IF(($D$17=\"TASA\"),\" \",\"MES(ES) DE GRACIA\")","v":"MES(ES) DE GRACIA"},null,null,null,null,null,null,null,null,null,null,null,null,{"$f":"(PV($B$27,$D$27,$F$22))*-1","v":{"$error":"#VALUE!"}},null,{"$f":"((T17*(1-R23))-R25-V20-V24)*0.99","v":{"$error":"#VALUE!"}},null,null,null,null,{"$f":"R20*R24","v":{"$error":"#VALUE!"}},null,null,null,null,null,11,11,"TE","TENIENTE",7,3000000,4000000,5000000,"60 MESES","CIVIL O UNIFORMADO CON MAS DE 3 AÑOS DE SERVICIO"]
[null,null,null,{"$f":"IF($G$20>=0,(G15*D16),IF($G$20<0,\"\"))","v":{"$error":"#VALUE!"}},{"$f":"IF(($D$17=\"TASA\"),\" \",\"VALOR LIBRANZA\")","v":"VALOR LIBRANZA"},null,null,null,null,null,null,null,null,null,null,null,null,null,null,null,null,null,null,null,{"$f":"R29*R33","v":{"$error":"#VALUE!"}},null,null,null,null,null,12,12,"ST","SUBTENIENTE",7,"NO SE OTORGA CREDITO",3000000,5000000,"60 MESES","CIVIL O UNIFORMADO CON MAS DE 3 AÑOS DE SERVICIO"]
["INGRESO ESTIMADO EN EL PRIMER MES DE PAGO DEL CREDITO",null,null,{"$f":"IF($G$20>=0,\"USUARIO CON CAPACIDAD DE PAGO\",IF($G$20<0,\"INTENTE CON OTRO MONTO Y/O PLAZO\"))","v":{"$error":"#VALUE!"}},{"$f":"IF($J$16>=AD13,\"USUARIO CON CAPACIDAD DE ENDEUDAMIENTO\",IF($J$16<AD13,\"CREDITO INVIABLE INTENTE CON OTRO MONTO Y/O PLAZO\"))","v":"USUARIO CON CAPACIDAD DE ENDEUDAMIENTO"},{"$f":"IF($J$16>=AE13,\"USUARIO CON CAPACIDAD DE ENDEUDAMIENTO\",IF($J$16<AE13,\"CREDITO INVIABLE INTENTE CON OTRO MONTO Y/O PLAZO\"))","v":"CREDITO INVIABLE INTENTE CON OTRO MONTO Y/O PLAZO"},{"$f":"G11-G15","v":{"$error":"#VALUE!"}},null,null,null,null,null,null,null,"VALOR CREDITO         :",null,null,{"$f":"R18","v":{"$error":"#VALUE!"}},null,"VALOR SEGURO          :",null,{"$f":"R20*TASAS!C12","v":{"$error":"#VALUE!"}},null,null,{"$f":"(((($R$21)*((1+($R$21))^$R$22))/(((1+($R$21))^$R$22)-1))*$R$20)+((((R20*R21)/30)*R27)/R22)+R25+V20+V23","v":{"$error":"#DIV/0!"}},null,null,null,null,null,13,13,"DU21","DIRECTOR UNIDAD HOSPITALARIA-21",10,3000000,4000000,5000000,"60 MESES","CIVIL O UNIFORMADO CON MAS DE 3 AÑOS DE SERVICIO"]
[{"$f":"IF($W$22>0,\"MONTO MAXIMO DE ENDEUDAMIENTO\",IF($W$22<=0,\"EL SOLICITANTE NO TIENE POSIBILIDADES DE CREDITO\"))","v":"EL SOLICITANTE NO TIENE POSIBILIDADES DE CREDITO"},null,null,"PLAZO","MONTO MAX","VALOR CUOTA","VR LIBRANZA",null,null,null,null,null,null,null,"TASA NOMINAL MENSUAL  :",null,null,{"$f":"B27","v":0},null,"TASA EFECTIVA ANUAL   :",null,{"$f":"((1+((R21*12)/12))^12)-1","v":0},null,null,null,null,null,null,null,null,14,14,"DU20","DIRECTOR UNIDAD HOSPITALARIA-20",10,3000000,4000000,5000000,"60 MESES","CIVIL O UNIFORMADO CON MAS DE 3 AÑOS DE SERVICIO"]
[null,null,null,{"$f":"AN5","v":"60"},{"$f":"IF(($W$22<=0),\"NO APLICA\",$G$22*100/((($D$17*100)*($D$22+$D$18))+100))","v":"NO APLICA"},{"$f":"IF(($W$22<=0),\"NO APLICA\",$G$11)","v":"NO APLICA"},{"$f":"IF(($W$22<=0),\"NO APLICA\",($D$22*$F$22))","v":"NO APLICA"},"*",null,null,null,null,null,null,"PLAZO EN MESES        :",null,null,{"$f":"D27","v":"60"},null,"CUOTA NETA            :",null,{"$f":"((((R21)*((1+(R21))^R22))/(((1+(R21))^R22)-1))*(R20+Y18))+(((((R20+Y18)*R21)/30)*R27)/R22)","v":{"$error":"#DIV/0!"}},{"$f":"$G$11+$G$12+$G$13","v":0},"PLAZO","MONTO MAX","VR MAX CUOTA","VALOR LZ",null,null,null,15,15,"DU19","DIRECTOR UNIDAD HOSPITALARIA-19",10,3000000,4000000,5000000,"60 MESES","CIVIL O UNIFORMADO CON MAS DE 3 AÑOS DE SERVICIO"]
[{"$f":"IF($G$20>=0,\"OTRAS OPCIONES DE CREDITO DISPONIBLES\",IF($G$20<0,\"INTENTE CON OTRO MONTO Y/O PLAZO\"))","v":{"$error":"#VALUE!"}},null,null,{"$f":"IF($Y$23<=$AA$27,12,IF($Y$23>$AA$27,\"NO APLICA\"))","v":{"$error":"#VALUE!"}},{"$f":"IF(Y23>$AA$27,\"NO APLICA\",IF(Y23<=$AA$27,FLOOR(Y23,10000)))","v":{"$error":"#VALUE!"}},{"$f":"IF($Y$23>$AA$27,\"NO APLICA\",IF(Y23<=$AA$27,((((E23*($D$17)*((D23+$D$18))+E23)/D23)))))","v":{"$error":"#VALUE!"}},{"$f":"IF($Y$23>$AA$27,\"NO APLICA\",IF(Y23<=$AA$27,(D23*F23)))","v":{"$error":"#VALUE!"}},null,null,null,null,null,null,null,"TASA COMISION RECAUDO :",null,null,0,null,"COMISION POR RECAUDO  :",null,{"$f":"((((((R21)*((1+(R21))^R22))/(((1+(R21))^R22)-1))*(R20+Y18))+(((((R20+Y18)*R21)/30)*R27)/R22)+R25+V20)*100)/(100-(R23*100))-(((((R21)*((1+(R21))^R22))/(((1+(R21))^R22)-1))*(R20+Y18))+(((((R20+Y18)*R21)/30)*R27)/R22)+R25+V20)","v":{"$error":"#DIV/0!"}},null,12,{"$f":"IF(($G$20>=0),AA23*100/((($D$17*100)*(X23+$D$18))+100),\"\")","v":{"$error":"#VALUE!"}},{"$f":"IF(($G$20>=0),($G$20+$G$15),\"\")","v":{"$error":"#VALUE!"}},{"$f":"IF(($G$20>=0),(Z23*X23),\"\")","v":{"$error":"#VALUE!"}},null,null,null,16,16,"DU18","DIRECTOR UNIDAD HOSPITALARIA-18",10,3000000,4000000,5000000,"60 MESES","CIVIL O UNIFORMADO CON MAS DE 3 AÑOS DE SERVICIO"]
[null,null,null,{"$f":"IF($Y$24<=$AA$27,24,IF($Y$24>$AA$27,\"NO APLICA\"))","v":{"$error":"#VALUE!"}},{"$f":"IF(Y24>$AA$27,\"NO APLICA\",IF(Y24<=$AA$27,FLOOR(Y24,10000)))","v":{"$error":"#VALUE!"}},{"$f":"IF($Y$24>$AA$27,\"NO APLICA\",IF(Y24<=$AA$27,((((E24*($D$17)*((D24+$D$18))+E24)/D24)))))","v":{"$error":"#VALUE!"}},{"$f":"IF($Y$24>$AA$27,\"NO APLICA\",IF(Y24<=$AA$27,(D24*F24)))","v":{"$error":"#VALUE!"}},null,null,null,null,null,null,null,"OTROS GASTOS          :",null,null,{"$f":"B29","v":0},null,"VALOR OTROS GASTOS    :",null,{"$f":"V27-Y20","v":{"$error":"#DIV/0!"}},null,24,{"$f":"IF(($G$20>=0),AA24*100/((($D$17*100)*(X24+$D$18))+100),\"\")","v":{"$error":"#VALUE!"}},{"$f":"IF(($G$20>=0),($G$20+$G$15),\"\")","v":{"$error":"#VALUE!"}},{"$f":"IF(($G$20>=0),(Z24*X24),\"\")","v":{"$error":"#VALUE!"}},null,null,null,17,17,"JO20","JEFE DE OFICINA -20",10,3000000,4000000,5000000,"60 MESES","CIVIL O UNIFORMADO CON MAS DE 3 AÑOS DE SERVICIO"]
[null,null,null,{"$f":"IF($Y$25<=$AA$27,36,IF($Y$25>$AA$27,\"NO APLICA\"))","v":{"$error":"#VALUE!"}},{"$f":"IF(Y25>$AA$27,\"NO APLICA\",IF(Y25<=$AA$27,FLOOR(Y25,10000)))","v":{"$error":"#VALUE!"}},{"$f":"IF($Y$25>$AA$27,\"NO APLICA\",IF(Y25<=$AA$27,((((E25*($D$17)*((D25+$D$18))+E25)/D25)))))","v":{"$error":"#VALUE!"}},{"$f":"IF($Y$25>$AA$27,\"NO APLICA\",IF(Y25<=$AA$27,(D25*F25)))","v":{"$error":"#VALUE!"}},null,null,null,null,null,null,null,"APORTES SOCIALES      :",null,null,0,null,"FECHA DE INICIO       :",null,{"$f":"(R26+((R22+1)*29))-((R22-1)*29)","v":"2012-02-28"},null,36,{"$f":"IF(($G$20>=0),AA25*100/((($D$17*100)*(X25+$D$18))+100),\"\")","v":{"$error":"#VALUE!"}},{"$f":"IF(($G$20>=0),($G$20+$G$15),\"\")","v":{"$error":"#VALUE!"}},{"$f":"IF(($G$20>=0),(Z25*X25),\"\")","v":{"$error":"#VALUE!"}},null,null,null,18,18,"JO19","JEFE DE OFICINA -19",10,3000000,4000000,5000000,"60 MESES","CIVIL O UNIFORMADO CON MAS DE 3 AÑOS DE SERVICIO"]
[null,null,null,{"$f":"IF($Y$26<=$AA$27,48,IF($Y$26>$AA$27,\"NO APLICA\"))","v":{"$error":"#VALUE!"}},{"$f":"IF(Y26>$AA$27,\"NO APLICA\",IF(Y26<=$AA$27,FLOOR(Y26,10000)))","v":{"$error":"#VALUE!"}},{"$f":"IF($Y$26>$AA$27,\"NO APLICA\",IF(Y26<=$AA$27,((((E26*($D$17)*((D26+$D$18))+E26)/D26)))))","v":{"$error":"#VALUE!"}},{"$f":"IF($Y$26>$AA$27,\"NO APLICA\",IF(Y26<=$AA$27,(D26*F26)))","v":{"$error":"#VALUE!"}},null,null,null,null,null,null,null,"FECHA DESEMBOLSO      :",null,null,"2012-01-01",null,"FECHA DE TERMINO      :",null,{"$f":"(R26+((R22+1)*29))-((R22-1)*29)+((R22-1)*30)","v":"2017-01-02"},null,48,{"$f":"IF(($G$20>=0),AA26*100/((($D$17*100)*(X26+$D$18))+100),\"\")","v":{"$error":"#VALUE!"}},{"$f":"IF(($G$20>=0),($G$20+$G$15),\"\")","v":{"$error":"#VALUE!"}},{"$f":"IF(($G$20>=0),(Z26*X26),\"\")","v":{"$error":"#VALUE!"}},null,null,null,19,19,"JO18","JEFE DE OFICINA -18",10,3000000,4000000,5000000,"60 MESES","CIVIL O UNIFORMADO CON MAS DE 3 AÑOS DE SERVICIO"]
["LIBRE INVERSION - COBRO DE AVAL ANTICIPADO",0,"N.M.V.",{"$f":"D22","v":"60"},{"$f":"S15","v":{"$error":"#VALUE!"}},"  VR CUOTA   ",{"$f":"(((($R$30)*((1+($R$30))^$R$31))/(((1+($R$30))^$R$31)-1))*($E$27+$Y$19))+(((((E27+Y19)*R30)/30)*R36)/R31)+R34+V29+V32+V33","v":{"$error":"#DIV/0!"}},null,{"$f":"IF((S4=0),\" \",S3)","v":{"$error":"#VALUE!"}},null,null,null,null,null,"DIAS DE GRACIA        :",null,null,{"$f":"B30","v":0},null,"TOTAL CUOTA MENSUAL   :",null,{"$f":"V22+R25+V23+V20","v":{"$error":"#DIV/0!"}},null,null,null,"MONTO MAXIMO POR CLIENTE",15000000,null,null,null,20,20,"JO17","JEFE DE OFICINA -17",10,3000000,4000000,5000000,"60 MESES","CIVIL O UNIFORMADO CON MAS DE 3 AÑOS DE SERVICIO"]
[null,{"$f":"((1+((B27*12)/12))^12)-1","v":0}," E. A.",{"$f":"IF($G$28>=0,\"USUARIO CON CAPACIDAD DE PAGO\",IF($G$28<0,\"INTENTE CON OTRO MONTO Y/O PLAZO\"))","v":{"$error":"#DIV/0!"}},null,null,{"$f":"G11-G27","v":{"$error":"#DIV/0!"}},null,{"$f":"IF(B27=TASAS!H3,\"Tasa para clientes con puntaje > a 750 y sin procesos\",\" \")","v":" "},null,null,null,null,null,null,null,null,null,null,null,null,null,null,null,null,null,null,null,null,null,21,21,"JO16","JEFE DE OFICINA -16",10,3000000,4000000,5000000,"60 MESES","CIVIL O UNIFORMADO CON MAS DE 3 AÑOS DE SERVICIO"]
[null,0," O. G.","% AVAL","VALOR AVAL ","A GIRAR",null,null,{"$f":"IF(B27=TASAS!H4,\"Tasa para clientes con puntaje entre 650 - 749 y sin procesos\",\" \")","v":" "},null,null,null,null,null,"VALOR CREDITO         :",null,null,{"$f":"E27","v":{"$error":"#VALUE!"}},null,"VALOR SEGURO          :",null,{"$f":"R29*TASAS!C12","v":{"$error":"#VALUE!"}},null,null,null,null,null,null,null,null,22,22,"JO15","JEFE DE OFICINA -15",10,3000000,4000000,5000000,"60 MESES","CIVIL O UNIFORMADO CON MAS DE 3 AÑOS DE SERVICIO"]
[null,0," D. G.",0.09,{"$f":"E27*D30","v":{"$error":"#VALUE!"}},{"$f":"E27-E30","v":{"$error":"#VALUE!"}},null,null,null,null,null,null,null,null,"TASA NOMINAL MENSUAL  :",null,null,{"$f":"R21","v":0},null,"TASA EFECTIVA ANUAL   :",null,{"$f":"((1+((R30*12)/12))^12)-1","v":0},null,null,null,null,null,null,null,null,23,23,"JO14","JEFE DE OFICINA -14",10,3000000,4000000,5000000,"60 MESES","CIVIL O UNIFORMADO CON MAS DE 3 AÑOS DE SERVICIO"]
[null,"% Simple",{"$f":"(((G27*D27)-E27)/E27)/D27","v":{"$error":"#DIV/0!"}},null,"VR MENSUAL x 1 MM",{"$f":"G27/(E27/1000000)","v":{"$error":"#DIV/0!"}},null,null,null,null,null,null,null,null,"PLAZO EN MESES        :",null,null,"60",null,"CUOTA NETA            :",null,{"$f":"((((R30)*((1+(R30))^R31))/(((1+(R30))^R31)-1))*(R29+Y19))+(((((R29+Y19)*R30)/30)*R36)/R31)","v":{"$error":"#DIV/0!"}},null,null,null,null,null,null,null,null,24,24,"JO13","JEFE DE OFICINA -13",10,3000000,4000000,5000000,"60 MESES","CIVIL O UNIFORMADO CON MAS DE 3 AÑOS DE SERVICIO"]
[null,null,null,"COMPRA O AMPLIACION 1",null,0,null,null,null,null,null,null,null,null,"TASA COMISION RECAUDO :",null,null,0,null,"COMISION POR RECAUDO  :",null,{"$f":"((((((R30)*((1+(R30))^R31))/(((1+(R30))^R31)-1))*(R29+Y19))+(((((R29+Y19)*R30)/30)*R36)/R31)+R34+V29)*100)/(100-(R32*100))-(((((R30)*((1+(R30))^R31))/(((1+(R30))^R31)-1))*(R29+Y19))+(((((R29+Y19)*R30)/30)*R36)/R31)+R34+V29)","v":{"$error":"#DIV/0!"}},null,null,null,null,null,null,null,null,25,25,"JO12","JEFE DE OFICINA -12",10,3000000,4000000,5000000,"60 MESES","CIVIL O UNIFORMADO CON MAS DE 3 AÑOS DE SERVICIO"]
[null,null,null,"COMPRA O AMPLIACION 2",null,0,null,null,null,null,null,null,null,null,"OTROS GASTOS          :",null,null,0,null,"VALOR OTROS GASTOS    :",null,null,null,null,null,null,null,null,null,null,26,26,"JO11","JEFE DE OFICINA -11",10,3000000,4000000,5000000,"60 MESES","CIVIL O UNIFORMADO CON MAS DE 3 AÑOS DE SERVICIO"]
[null,null,null,"COMPRA O AMPLIACION 3",null,0,null,null,null,null,null,null,null,null,"APORTES SOCIALES      :",null,null,0,null,"FECHA DE INICIO       :",null,{"$f":"(R35+((R31+1)*29))-((R31-1)*29)","v":"2012-02-28"},null,null,null,null,null,null,null,null,27,27,"JO06","JEFE DE OFICINA -06",10,3000000,4000000,5000000,"60 MESES","CIVIL O UNIFORMADO CON MAS DE 3 AÑOS DE SERVICIO"]
[null,null,null,"NETO A GIRAR",null,{"$f":"F30-F32-F33-F34","v":{"$error":"#VALUE!"}},null,null,null,null,null,null,null,null,"FECHA DESEMBOLSO      :",null,null,"2012-01-01",null,"FECHA DE TERMINO      :",null,{"$f":"(R35+((R31+1)*29))-((R31-1)*29)+((R31-1)*30)","v":"2017-01-02"},null,null,null,null,null,null,null,null,28,28,"LO18","ASESOR-18",10,3000000,4000000,5000000,"60 MESES","CIVIL O UNIFORMADO CON MAS DE 3 AÑOS DE SERVICIO"]
[null,null,null,null,null,null,null,null,null,null,null,null,null,null,"DIAS DE GRACIA        :",null,null,0,null,"TOTAL CUOTA MENSUAL   :",null,{"$f":"V31+R34+V32+V29","v":{"$error":"#DIV/0!"}},null,null,null,null,null,null,null,null,29,29,"LO17","ASESOR-17",10,3000000,4000000,5000000,"60 MESES","CIVIL O UNIFORMADO CON MAS DE 3 AÑOS DE SERVICIO"]
["REQUISITOS PARA SOLICITUD DE CREDITO:",null,null,null,null,null,null,null,null,null,null,null,null,null,null,null,null,null,null,null,null,null,null,null,null,null,null,null,null,null,30,30,"LO16","ASESOR-16",10,3000000,4000000,5000000,"60 MESES","CIVIL O UNIFORMADO CON MAS DE 3 AÑOS DE SERVICIO"]
["1. DESPRENDIBLES DE PAGO ORIGINALES DE LOS ULTIMOS DOS (2) MESES,",null,null,null,null,null,null,null,null,null,null,null,null,null,null,null,null,null,null,null,null,null,null,null,null,null,null,null,null,null,31,31,"LO15","ASESOR-15",10,3000000,4000000,5000000,"60 MESES","CIVIL O UNIFORMADO CON MAS DE 3 AÑOS DE SERVICIO"]
["    DESCARGADOS DEL CORREO INSTITUCIONAL Y QUE CONTENGAN EL PIN DE SEGURIDAD",null,null,null,null,null,null,null,null,null,null,null,null,null,null,null,null,null,null,null,null,null,null,null,null,null,null,null,null,null,32,32,"LO14","ASESOR-14",10,3000000,4000000,5000000,"60 MESES","CIVIL O UNIFORMADO CON MAS DE 3 AÑOS DE SERVICIO"]
["2. FOTOCOPIA AMPLIADA Y LEGIBLE DE LA CEDULA DE CIUDADANIA",null,null,null,null,null,null,null,null,null,null,null,null,null,null,null,null,null,null,null,null,null,null,null,null,null,null,null,null,null,33,33,"LO13","ASESOR-13",10,3000000,4000000,5000000,"60 MESES","CIVIL O UNIFORMADO CON MAS DE 3 AÑOS DE SERVICIO"]
["3. FOTOCOPIA AMPLIADA Y LEGIBLE DE LA CEDULA DE POLICIA O DE",null,null,null,null,null,null,null,null,null,null,null,null,null,null,null,null,null,null,null,null,null,null,null,null,null,null,null,null,null,34,34,"LO12","ASESOR-12",10,3000000,4000000,5000000,"60 MESES","CIVIL O UNIFORMADO CON MAS DE 3 AÑOS DE SERVICIO"]
["    PERSONAL CIVIL (EL GRADO PUEDE ESTAR DESACTUALIZADO)",null,null,null,null,null,"VALOR TOTAL INGRESOS",null,null,null,null,null,null,null,null,null,null,null,null,null,null,null,null,null,null,null,null,null,null,null,35,35,"LO11","ASESOR-11",10,3000000,4000000,5000000,"60 MESES","CIVIL O UNIFORMADO CON MAS DE 3 AÑOS DE SERVICIO"]
["4. CERTIFICACION ORIGINAL DE TIEMPO DE SERVICIO",null,null,null,null,null,"(-) PRIMA DE ORDEN PUBLICO",null,null,null,null,null,null,null,null,null,null,null,null,null,null,null,null,null,null,null,null,null,null,null,null,36,"LO10","ASESOR-10",10,3000000,4000000,5000000,"60 MESES","CIVIL O UNIFORMADO CON MAS DE 3 AÑOS DE SERVICIO"]
["5. SI APLICA, UN CODEUDOR CON LOS MISMOS REQUISITOS DEL DEUDOR, QUIEN",null,null,null,null,null,"(-) PARTIDA DE ALIMENTACIÓN",null,null,null,null,null,null,null,null,null,null,null,null,null,null,null,null,null,null,null,null,null,null,null,36,37,"LO09","ASESOR-09",10,3000000,4000000,5000000,"60 MESES","CIVIL O UNIFORMADO CON MAS DE 3 AÑOS DE SERVICIO"]
["    PODRA PRESENTAR FOTOCOPIA DEL ULTIMO DESPRENDIBLE DE PAGO Y NO",null,null,null,null,null,"(-) COTIZACION CASUR",null,null,null,null,null,null,null,null,null,null,null,null,null,null,null,null,null,null,null,null,null,null,null,37,38,"LO08","ASESOR-08",10,3000000,4000000,5000000,"60 MESES","CIVIL O UNIFORMADO CON MAS DE 3 AÑOS DE SERVICIO"]
["    REQUIERE CERTIFICACION DE TIEMPO DE SERVICIO",null,null,null,null,null,"(-) CAPROVIMPO",null,null,null,null,null,null,null,null,null,null,null,null,null,null,null,null,null,null,null,null,null,null,null,38,39,"LO07","ASESOR-07",10,3000000,4000000,5000000,"60 MESES","CIVIL O UNIFORMADO CON MAS DE 3 AÑOS DE SERVICIO"]
[null,null,null,null,null,null,"(-) SANIDAD",null,null,null,null,null,null,null,null,null,null,null,null,null,null,null,null,null,null,null,null,null,null,null,39,40,"LO06","ASESOR-06",10,3000000,4000000,5000000,"60 MESES","CIVIL O UNIFORMADO CON MAS DE 3 AÑOS DE SERVICIO"]
["DESCUENTOS QUE SIEMPRE SE CONSIDERAN INDEFINIDOS",null,null,null,null,null,"(-) AUXILIO MUTUO PAGADURIA DIBIE",null,null,null,null,null,null,null,null,null,null,null,null,null,null,null,null,null,null,null,null,null,null,null,40,41,"LO05","ASESOR-05",10,3000000,4000000,5000000,"60 MESES","CIVIL O UNIFORMADO CON MAS DE 3 AÑOS DE SERVICIO"]
["AUN CUANDO TENGAN FECHA DE TERMINO EN EL DESPRENDIBLE:",null,null,null,null,null,"DIVIDIDO ENTRE 2",null,null,null,null,null,null,null,null,null,null,null,null,null,null,null,null,null,null,null,null,null,null,null,41,42,"LO04","ASESOR-04",10,3000000,4000000,5000000,"60 MESES","CIVIL O UNIFORMADO CON MAS DE 3 AÑOS DE SERVICIO"]
["1. CASAS FISCALES = VIMILITAR, ICFEJCDES",null,null,null,null,null,"(-) LAS DEMAS DEDUCCIONES",null,null,null,null,null,null,null,null,null,null,null,null,null,null,null,null,null,null,null,null,null,null,null,42,43,"LO03","ASESOR-03",10,3000000,4000000,5000000,"60 MESES","CIVIL O UNIFORMADO CON MAS DE 3 AÑOS DE SERVICIO"]
["2. EMBARGOS = JUZCIVMPALBTA",null,null,null,null,null,"(=) CAPACIDAD DE ENDEUDAMIENTO",null,null,null,null,null,null,null,null,null,null,null,null,null,null,null,null,null,null,null,null,null,null,null,43,44,"LO02","ASESOR-02",10,3000000,4000000,5000000,"60 MESES","CIVIL O UNIFORMADO CON MAS DE 3 AÑOS DE SERVICIO"]
[null,null,null,null,null,null,null,null,null,null,null,null,null,null,null,null,null,null,null,null,null,null,null,null,null,null,null,null,null,null,44,45,"LO01","ASESOR-01",10,3000000,4000000,5000000,"60 MESES","CIVIL O UNIFORMADO CON MAS DE 3 AÑOS DE SERVICIO"]
["DEVENGADOS QUE NO SE TIENEN EN CUENTA DENTRO DE LA",null,null,null,null,null,"* TENER EN CUENTA QUE PONAL PARA EL CALCULO",null,null,null,null,null,null,null,null,null,null,null,null,null,null,null,null,null,null,null,null,null,null,null,45,46,"DC19","DIRECTOR DE CLINICA -19",10,3000000,4000000,5000000,"60 MESES","CIVIL O UNIFORMADO CON MAS DE 3 AÑOS DE SERVICIO"]
["CAPACIDAD DE PAGO:",null,null,null,null,null,"DE CAPACIDAD, SI TIENE EN CUENTA LAS PRIMAS",null,null,null,null,null,null,null,null,null,null,null,null,null,null,null,null,null,null,null,null,null,null,null,46,47,"DC17","DIRECTOR DE CLINICA -17",10,3000000,4000000,5000000,"60 MESES","CIVIL O UNIFORMADO CON MAS DE 3 AÑOS DE SERVICIO"]
["1. PRIMA DE ORDEN PUBLICO",null,null,null,null,null,null,null,null,null,null,null,null,null,null,null,null,null,null,null,null,null,null,null,null,null,null,null,null,null,47,48,"DC15","DIRECTOR DE CLINICA -15",10,3000000,4000000,5000000,"60 MESES","CIVIL O UNIFORMADO CON MAS DE 3 AÑOS DE SERVICIO"]
["2. PARTIDA DE ALIMENTACION",null,null,null,null,null,null,null,null,null,null,null,null,null,null,null,null,null,null,null,null,null,null,null,null,null,null,null,null,null,48,49,"DC14","DIRECTOR DE CLINICA -14",10,3000000,4000000,5000000,"60 MESES","CIVIL O UNIFORMADO CON MAS DE 3 AÑOS DE SERVICIO"]
["3. PRIMA DE RIESGO",null,null,null,null,null,null,null,null,null,null,null,null,null,null,null,null,null,null,null,null,null,null,null,null,null,null,null,null,null,49,50,"JA25","JEFE DE AREA POLICIAL -25",10,3000000,4000000,5000000,"60 MESES","CIVIL O UNIFORMADO CON MAS DE 3 AÑOS DE SERVICIO"]
[null,null,null,null,null,null,null,null,null,null,null,null,null,null,null,null,null,null,null,null,null,null,null,null,null,null,null,null,null,null,50,51,"JA24","JEFE DE AREA POLICIAL -24",10,3000000,4000000,5000000,"60 MESES","CIVIL O UNIFORMADO CON MAS DE 3 AÑOS DE SERVICIO"]
["NO SE TRAMITAN COMPRAS DE CARTERA",null,null,null,null,null,null,null,null,null,null,null,null,null,null,null,null,null,null,null,null,null,null,null,null,null,null,null,null,null,51,52,"JA23","JEFE DE AREA POLICIAL -23",10,3000000,4000000,5000000,"60 MESES","CIVIL O UNIFORMADO CON MAS DE 3 AÑOS DE SERVICIO"]
[null,null,null,null,null,null,null,null,null,null,null,null,null,null,null,null,null,null,null,null,null,null,null,null,null,null,null,null,null,null,52,53,"JA22","JEFE DE AREA POLICIAL -22",10,3000000,4000000,5000000,"60 MESES","CIVIL O UNIFORMADO CON MAS DE 3 AÑOS DE SERVICIO"]
[null,null,null,null,null,null,null,null,null,null,null,null,null,null,null,null,null,null,null,null,null,null,null,null,null,null,null,null,null,null,53,54,"JA21","JEFE DE AREA POLICIAL -21",10,3000000,4000000,5000000,"60 MESES","CIVIL O UNIFORMADO CON MAS DE 3 AÑOS DE SERVICIO"]
[null,null,null,null,null,null,null,null,null,null,null,null,null,null,null,null,null,null,null,null,null,null,null,null,null,null,null,null,null,null,54,55,"ME21","MEDICO-21",10,3000000,4000000,5000000,"60 MESES","CIVIL O UNIFORMADO CON MAS DE 3 AÑOS DE SERVICIO"]
[null,null,null,null,null,null,null,null,null,null,null,null,null,null,null,null,null,null,null,null,null,null,null,null,null,null,null,null,null,null,55,56,"ME20","MEDICO-20",10,3000000,4000000,5000000,"60 MESES","CIVIL O UNIFORMADO CON MAS DE 3 AÑOS DE SERVICIO"]
[null,null,null,null,null,null,null,null,null,null,null,null,null,null,null,null,null,null,null,null,null,null,null,null,null,null,null,null,null,null,56,57,"ME19","MEDICO-19",10,3000000,4000000,5000000,"60 MESES","CIVIL O UNIFORMADO CON MAS DE 3 AÑOS DE SERVICIO"]
[null,null,null,null,null,null,null,null,null,null,null,null,null,null,null,null,null,null,null,null,null,null,null,null,null,null,null,null,null,null,57,58,"ME18","MEDICO-18",10,3000000,4000000,5000000,"60 MESES","CIVIL O UNIFORMADO CON MAS DE 3 AÑOS DE SERVICIO"]
[null,null,null,null,null,null,null,null,null,null,null,null,null,null,null,null,null,null,null,null,null,null,null,null,null,null,null,null,null,null,58,59,"ME17","MEDICO-17",10,3000000,4000000,5000000,"60 MESES","CIVIL O UNIFORMADO CON MAS DE 3 AÑOS DE SERVICIO"]
[null,null,null,null,null,null,null,null,null,null,null,null,null,null,null,null,null,null,null,null,null,null,null,null,null,null,null,null,null,null,59,60,"ME16","MEDICO-16",10,3000000,4000000,5000000,"60 MESES","CIVIL O UNIFORMADO CON MAS DE 3 AÑOS DE SERVICIO"]
[null,null,null,null,null,null,null,null,null,null,null,null,null,null,null,null,null,null,null,null,null,null,null,null,null,null,null,null,null,null,60,61,"ME15","MEDICO-15",10,3000000,4000000,5000000,"60 MESES","CIVIL O UNIFORMADO CON MAS DE 3 AÑOS DE SERVICIO"]
[null,null,null,null,null,null,null,null,null,null,null,null,null,null,null,null,null,null,null,null,null,null,null,null,null,null,null,null,null,null,61,62,"ME14","MEDICO-14",10,3000000,4000000,5000000,"60 MESES","CIVIL O UNIFORMADO CON MAS DE 3 AÑOS DE SERVICIO"]
[null,null,null,null,null,null,null,null,null,null,null,null,null,null,null,null,null,null,null,null,null,null,null,null,null,null,null,null,null,null,62,63,"ME13","MEDICO-13",10,3000000,4000000,5000000,"60 MESES","CIVIL O UNIFORMADO CON MAS DE 3 AÑOS DE SERVICIO"]
[null,null,null,null,null,null,null,null,null,null,null,null,null,null,null,null,null,null,null,null,null,null,null,null,null,null,null,null,null,null,63,64,"MP25","MEDICO ESPECIALISTA -25",10,3000000,4000000,5000000,"60 MESES","CIVIL O UNIFORMADO CON MAS DE 3 AÑOS DE SERVICIO"]
[null,null,null,null,null,null,null,null,null,null,null,null,null,null,null,null,null,null,null,null,null,null,null,null,null,null,null,null,null,null,64,65,"MP24","MEDICO ESPECIALISTA -24",10,3000000,4000000,5000000,"60 MESES","CIVIL O UNIFORMADO CON MAS DE 3 AÑOS DE SERVICIO"]
[null,null,null,null,null,null,null,null,null,null,null,null,null,null,null,null,null,null,null,null,null,null,null,null,null,null,null,null,null,null,65,66,"MP23","MEDICO ESPECIALISTA -23",10,3000000,4000000,5000000,{"$f":"$AM$5","v":"60 MESES"},"CIVIL O UNIFORMADO CON MAS DE 3 AÑOS DE SERVICIO"]
[null,null,null,null,null,null,null,null,null,null,null,null,null,null,null,null,null,null,null,null,null,null,null,null,null,null,null,null,null,null,66,67,"MP22","MEDICO ESPECIALISTA -22",10,3000000,4000000,5000000,"60 MESES","CIVIL O UNIFORMADO CON MAS DE 3 AÑOS DE SERVICIO"]
[null,null,null,null,null,null,null,null,null,null,null,null,null,null,null,null,null,null,null,null,null,null,null,null,null,null,null,null,null,null,67,68,"MP21","MEDICO ESPECIALISTA -21",10,3000000,4000000,5000000,"60 MESES","CIVIL O UNIFORMADO CON MAS DE 3 AÑOS DE SERVICIO"]
[null,null,null,null,null,null,null,null,null,null,null,null,null,null,null,null,null,null,null,null,null,null,null,null,null,null,null,null,null,null,68,69,"MP20","MEDICO ESPECIALISTA -20",10,3000000,4000000,5000000,"60 MESES","CIVIL O UNIFORMADO CON MAS DE 3 AÑOS DE SERVICIO"]
[null,null,null,null,null,null,null,null,null,null,null,null,null,null,null,null,null,null,null,null,null,null,null,null,null,null,null,null,null,null,69,70,"MP19","MEDICO ESPECIALISTA -19",10,3000000,4000000,5000000,"60 MESES","CIVIL O UNIFORMADO CON MAS DE 3 AÑOS DE SERVICIO"]
[null,null,null,null,null,null,null,null,null,null,null,null,null,null,null,null,null,null,null,null,null,null,null,null,null,null,null,null,null,null,70,71,"MP18","MEDICO ESPECIALISTA -18",10,3000000,4000000,5000000,"60 MESES","CIVIL O UNIFORMADO CON MAS DE 3 AÑOS DE SERVICIO"]
[null,null,null,null,null,null,null,null,null,null,null,null,null,null,null,null,null,null,null,null,null,null,null,null,null,null,null,null,null,null,71,72,"OD25","ODONTOLOGO-25",10,3000000,4000000,5000000,"60 MESES","CIVIL O UNIFORMADO CON MAS DE 3 AÑOS DE SERVICIO"]
[null,null,null,null,null,null,null,null,null,null,null,null,null,null,null,null,null,null,null,null,null,null,null,null,null,null,null,null,null,null,72,73,"OD24","ODONTOLOGO-24",10,3000000,4000000,5000000,"60 MESES","CIVIL O UNIFORMADO CON MAS DE 3 AÑOS DE SERVICIO"]
[null,null,null,null,null,null,null,null,null,null,null,null,null,null,null,null,null,null,null,null,null,null,null,null,null,null,null,null,null,null,73,74,"OD23","ODONTOLOGO-23",10,3000000,4000000,5000000,"60 MESES","CIVIL O UNIFORMADO CON MAS DE 3 AÑOS DE SERVICIO"]
[null,null,null,null,null,null,null,null,null,null,null,null,null,null,null,null,null,null,null,null,null,null,null,null,null,null,null,null,null,null,74,75,"OD22","ODONTOLOGO-22",10,3000000,4000000,5000000,"60 MESES","CIVIL O UNIFORMADO CON MAS DE 3 AÑOS DE SERVICIO"]
[null,null,null,null,null,null,null,null,null,null,null,null,null,null,null,null,null,null,null,null,null,null,null,null,null,null,null,null,null,null,75,76,"OD21","ODONTOLOGO-21",10,3000000,4000000,5000000,"60 MESES","CIVIL O UNIFORMADO CON MAS DE 3 AÑOS DE SERVICIO"]
[null,null,null,null,null,null,null,null,null,null,null,null,null,null,null,null,null,null,null,null,null,null,null,null,null,null,null,null,null,null,76,77,"OD20","ODONTOLOGO-20",10,3000000,4000000,5000000,"60 MESES","CIVIL O UNIFORMADO CON MAS DE 3 AÑOS DE SERVICIO"]
[null,null,null,null,null,null,null,null,null,null,null,null,null,null,null,null,null,null,null,null,null,null,null,null,null,null,null,null,null,null,77,78,"OD19","ODONTOLOGO-19",10,3000000,4000000,5000000,"60 MESES","CIVIL O UNIFORMADO CON MAS DE 3 AÑOS DE SERVICIO"]
[null,null,null,null,null,null,null,null,null,null,null,null,null,null,null,null,null,null,null,null,null,null,null,null,null,null,null,null,null,null,78,79,"OD18","ODONTOLOGO-18",10,3000000,4000000,5000000,"60 MESES","CIVIL O UNIFORMADO CON MAS DE 3 AÑOS DE SERVICIO"]
[null,null,null,null,null,null,null,null,null,null,null,null,null,null,null,null,null,null,null,null,null,null,null,null,null,null,null,null,null,null,79,80,"OP25","ODONTOLOGO ESPECIALISTA -25",10,3000000,4000000,5000000,"60 MESES","CIVIL O UNIFORMADO CON MAS DE 3 AÑOS DE SERVICIO"]
[null,null,null,null,null,null,null,null,null,null,null,null,null,null,null,null,null,null,null,null,null,null,null,null,null,null,null,null,null,null,80,81,"OP24","ODONTOLOGO ESPECIALISTA -24",10,3000000,4000000,5000000,"60 MESES","CIVIL O UNIFORMADO CON MAS DE 3 AÑOS DE SERVICIO"]
[null,null,null,null,null,null,null,null,null,null,null,null,null,null,null,null,null,null,null,null,null,null,null,null,null,null,null,null,null,null,81,82,"OP23","ODONTOLOGO ESPECIALISTA -23",10,3000000,4000000,5000000,"60 MESES","CIVIL O UNIFORMADO CON MAS DE 3 AÑOS DE SERVICIO"]
[null,null,null,null,null,null,null,null,null,null,null,null,null,null,null,null,null,null,null,null,null,null,null,null,null,null,null,null,null,null,82,83,"OP22","ODONTOLOGO ESPECIALISTA -22",10,3000000,4000000,5000000,"60 MESES","CIVIL O UNIFORMADO CON MAS DE 3 AÑOS DE SERVICIO"]
[null,null,null,null,null,null,null,null,null,null,null,null,null,null,null,null,null,null,null,null,null,null,null,null,null,null,null,null,null,null,83,84,"OP21","ODONTOLOGO ESPECIALISTA -21",10,3000000,4000000,5000000,"60 MESES","CIVIL O UNIFORMADO CON MAS DE 3 AÑOS DE SERVICIO"]
[null,null,null,null,null,null,null,null,null,null,null,null,null,null,null,null,null,null,null,null,null,null,null,null,null,null,null,null,null,null,84,85,"OP20","ODONTOLOGO ESPECIALISTA -20",10,3000000,4000000,5000000,"60 MESES","CIVIL O UNIFORMADO CON MAS DE 3 AÑOS DE SERVICIO"]
[null,null,null,null,null,null,null,null,null,null,null,null,null,null,null,null,null,null,null,null,null,null,null,null,null,null,null,null,null,null,85,86,"OP19","ODONTOLOGO ESPECIALISTA -19",10,3000000,4000000,5000000,"60 MESES","CIVIL O UNIFORMADO CON MAS DE 3 AÑOS DE SERVICIO"]
[null,null,null,null,null,null,null,null,null,null,null,null,null,null,null,null,null,null,null,null,null,null,null,null,null,null,null,null,null,null,86,87,"OP18","ODONTOLOGO ESPECIALISTA -18",10,3000000,4000000,5000000,"60 MESES","CIVIL O UNIFORMADO CON MAS DE 3 AÑOS DE SERVICIO"]
[null,null,null,null,null,null,null,null,null,null,null,null,null,null,null,null,null,null,null,null,null,null,null,null,null,null,null,null,null,null,87,88,"PF25","PROFESIONAL ESPECIALIZADO -25",10,3000000,4000000,5000000,"60 MESES","CIVIL O UNIFORMADO CON MAS DE 3 AÑOS DE SERVICIO"]
[null,null,null,null,null,null,null,null,null,null,null,null,null,null,null,null,null,null,null,null,null,null,null,null,null,null,null,null,null,null,88,89,"PF24","PROFESIONAL ESPECIALIZADO -24",10,3000000,4000000,5000000,"60 MESES","CIVIL O UNIFORMADO CON MAS DE 3 AÑOS DE SERVICIO"]
[null,null,null,null,null,null,null,null,null,null,null,null,null,null,null,null,null,null,null,null,null,null,null,null,null,null,null,null,null,null,89,90,"PF23","PROFESIONAL ESPECIALIZADO -23",10,3000000,4000000,5000000,"60 MESES","CIVIL O UNIFORMADO CON MAS DE 3 AÑOS DE SERVICIO"]
[null,null,null,null,null,null,null,null,null,null,null,null,null,null,null,null,null,null,null,null,null,null,null,null,null,null,null,null,null,null,90,91,"PF22","PROFESIONAL ESPECIALIZADO -22",10,3000000,4000000,5000000,"60 MESES","CIVIL O UNIFORMADO CON MAS DE 3 AÑOS DE SERVICIO"]
[null,null,null,null,null,null,null,null,null,null,null,null,null,null,null,null,null,null,null,null,null,null,null,null,null,null,null,null,null,null,91,92,"PF21","PROFESIONAL ESPECIALIZADO -21",10,3000000,4000000,5000000,"60 MESES","CIVIL O UNIFORMADO CON MAS DE 3 AÑOS DE SERVICIO"]
[null,null,null,null,null,null,null,null,null,null,null,null,null,null,null,null,null,null,null,null,null,null,null,null,null,null,null,null,null,null,92,93,"PF20","PROFESIONAL ESPECIALIZADO -20",10,3000000,4000000,5000000,"60 MESES","CIVIL O UNIFORMADO CON MAS DE 3 AÑOS DE SERVICIO"]
[null,null,null,null,null,null,null,null,null,null,null,null,null,null,null,null,null,null,null,null,null,null,null,null,null,null,null,null,null,null,93,94,"PF19","PROFESIONAL ESPECIALIZADO -19",10,3000000,4000000,5000000,"60 MESES","CIVIL O UNIFORMADO CON MAS DE 3 AÑOS DE SERVICIO"]
[null,null,null,null,null,null,null,null,null,null,null,null,null,null,null,null,null,null,null,null,null,null,null,null,null,null,null,null,null,null,94,95,"PF18","PROFESIONAL ESPECIALIZADO -18",10,3000000,4000000,5000000,"60 MESES","CIVIL O UNIFORMADO CON MAS DE 3 AÑOS DE SERVICIO"]
[null,null,null,null,null,null,null,null,null,null,null,null,null,null,null,null,null,null,null,null,null,null,null,null,null,null,null,null,null,null,95,96,"PF17","PROFESIONAL ESPECIALIZADO -17",10,3000000,4000000,5000000,"60 MESES","CIVIL O UNIFORMADO CON MAS DE 3 AÑOS DE SERVICIO"]
[null,null,null,null,null,null,null,null,null,null,null,null,null,null,null,null,null,null,null,null,null,null,null,null,null,null,null,null,null,null,96,97,"PF14","PROFESIONAL ESPECIALIZADO -14",10,3000000,4000000,5000000,"60 MESES","CIVIL O UNIFORMADO CON MAS DE 3 AÑOS DE SERVICIO"]
[null,null,null,null,null,null,null,null,null,null,null,null,null,null,null,null,null,null,null,null,null,null,null,null,null,null,null,null,null,null,97,98,"PF16","PROFESIONAL ESPECIALIZADO -16",10,3000000,4000000,5000000,"60 MESES","CIVIL O UNIFORMADO CON MAS DE 3 AÑOS DE SERVICIO"]
[null,null,null,null,null,null,null,null,null,null,null,null,null,null,null,null,null,null,null,null,null,null,null,null,null,null,null,null,null,null,98,99,"PU14","PROFESIONAL UNIVERSITARIO -14",10,3000000,4000000,5000000,"60 MESES","CIVIL O UNIFORMADO CON MAS DE 3 AÑOS DE SERVICIO"]
[null,null,null,null,null,null,null,null,null,null,null,null,null,null,null,null,null,null,null,null,null,null,null,null,null,null,null,null,null,null,99,100,"PU13","PROFESIONAL UNIVERSITARIO -13",10,3000000,4000000,5000000,"60 MESES","CIVIL O UNIFORMADO CON MAS DE 3 AÑOS DE SERVICIO"]
[null,null,null,null,null,null,null,null,null,null,null,null,null,null,null,null,null,null,null,null,null,null,null,null,null,null,null,null,null,null,100,101,"PU12","PROFESIONAL UNIVERSITARIO -12",10,3000000,4000000,5000000,"60 MESES","CIVIL O UNIFORMADO CON MAS DE 3 AÑOS DE SERVICIO"]
[null,null,null,null,null,null,null,null,null,null,null,null,null,null,null,null,null,null,null,null,null,null,null,null,null,null,null,null,null,null,101,102,"PU11","PROFESIONAL UNIVERSITARIO -11",10,3000000,4000000,5000000,"60 MESES","CIVIL O UNIFORMADO CON MAS DE 3 AÑOS DE SERVICIO"]
[null,null,null,null,null,null,null,null,null,null,null,null,null,null,null,null,null,null,null,null,null,null,null,null,null,null,null,null,null,null,102,103,"PU10","PROFESIONAL UNIVERSITARIO -10",10,3000000,4000000,5000000,"60 MESES","CIVIL O UNIFORMADO CON MAS DE 3 AÑOS DE SERVICIO"]
[null,null,null,null,null,null,null,null,null,null,null,null,null,null,null,null,null,null,null,null,null,null,null,null,null,null,null,null,null,null,103,104,"PU09","PROFESIONAL UNIVERSITARIO -09",10,3000000,4000000,5000000,"60 MESES","CIVIL O UNIFORMADO CON MAS DE 3 AÑOS DE SERVICIO"]
[null,null,null,null,null,null,null,null,null,null,null,null,null,null,null,null,null,null,null,null,null,null,null,null,null,null,null,null,null,null,104,105,"PU08","PROFESIONAL UNIVERSITARIO -08",10,3000000,4000000,5000000,"60 MESES","CIVIL O UNIFORMADO CON MAS DE 3 AÑOS DE SERVICIO"]
[null,null,null,null,null,null,null,null,null,null,null,null,null,null,null,null,null,null,null,null,null,null,null,null,null,null,null,null,null,null,105,106,"PU07","PROFESIONAL UNIVERSITARIO -07",10,3000000,4000000,5000000,"60 MESES","CIVIL O UNIFORMADO CON MAS DE 3 AÑOS DE SERVICIO"]
[null,null,null,null,null,null,null,null,null,null,null,null,null,null,null,null,null,null,null,null,null,null,null,null,null,null,null,null,null,null,106,107,"PU06","PROFESIONAL UNIVERSITARIO -06",10,3000000,4000000,5000000,"60 MESES","CIVIL O UNIFORMADO CON MAS DE 3 AÑOS DE SERVICIO"]
[null,null,null,null,null,null,null,null,null,null,null,null,null,null,null,null,null,null,null,null,null,null,null,null,null,null,null,null,null,null,107,108,"PU05","PROFESIONAL UNIVERSITARIO -05",10,3000000,4000000,5000000,"60 MESES","CIVIL O UNIFORMADO CON MAS DE 3 AÑOS DE SERVICIO"]
[null,null,null,null,null,null,null,null,null,null,null,null,null,null,null,null,null,null,null,null,null,null,null,null,null,null,null,null,null,null,108,109,"PU04","PROFESIONAL UNIVERSITARIO -04",10,3000000,4000000,5000000,"60 MESES","CIVIL O UNIFORMADO CON MAS DE 3 AÑOS DE SERVICIO"]
[null,null,null,null,null,null,null,null,null,null,null,null,null,null,null,null,null,null,null,null,null,null,null,null,null,null,null,null,null,null,109,110,"PU02","PROFESIONAL UNIVERSITARIO -02",10,3000000,4000000,5000000,"60 MESES","CIVIL O UNIFORMADO CON MAS DE 3 AÑOS DE SERVICIO"]
[null,null,null,null,null,null,null,null,null,null,null,null,null,null,null,null,null,null,null,null,null,null,null,null,null,null,null,null,null,null,110,111,"PU03","PROFESIONAL UNIVERSITARIO -03",10,3000000,4000000,5000000,"60 MESES","CIVIL O UNIFORMADO CON MAS DE 3 AÑOS DE SERVICIO"]
[null,null,null,null,null,null,null,null,null,null,null,null,null,null,null,null,null,null,null,null,null,null,null,null,null,null,null,null,null,null,111,112,"PF15","PROFESIONAL ESPECIALIZADO -15",10,3000000,4000000,5000000,"60 MESES","CIVIL O UNIFORMADO CON MAS DE 3 AÑOS DE SERVICIO"]
[null,null,null,null,null,null,null,null,null,null,null,null,null,null,null,null,null,null,null,null,null,null,null,null,null,null,null,null,null,null,112,113,"PF12","PROFESIONAL ESPECIALIZADO -12",10,3000000,4000000,5000000,"60 MESES","CIVIL O UNIFORMADO CON MAS DE 3 AÑOS DE SERVICIO"]
[null,null,null,null,null,null,null,null,null,null,null,null,null,null,null,null,null,null,null,null,null,null,null,null,null,null,null,null,null,null,113,114,"OD17","ODONTOLOGO-17",10,3000000,4000000,5000000,"60 MESES","CIVIL O UNIFORMADO CON MAS DE 3 AÑOS DE SERVICIO"]
[null,null,null,null,null,null,null,null,null,null,null,null,null,null,null,null,null,null,null,null,null,null,null,null,null,null,null,null,null,null,114,115,"PF10","PROFESIONAL ESPECIALIZADO -10",10,3000000,4000000,5000000,"60 MESES","CIVIL O UNIFORMADO CON MAS DE 3 AÑOS DE SERVICIO"]
[null,null,null,null,null,null,null,null,null,null,null,null,null,null,null,null,null,null,null,null,null,null,null,null,null,null,null,null,null,null,115,116,"JD12","JEFE DE DIVISION-12",10,3000000,4000000,5000000,"60 MESES","CIVIL O UNIFORMADO CON MAS DE 3 AÑOS DE SERVICIO"]
[null,null,null,null,null,null,null,null,null,null,null,null,null,null,null,null,null,null,null,null,null,null,null,null,null,null,null,null,null,null,116,117,"TA18","TECNICO ADMINISTRATIVO-18",10,3000000,4000000,5000000,"60 MESES","CIVIL O UNIFORMADO CON MAS DE 3 AÑOS DE SERVICIO"]
[null,null,null,null,null,null,null,null,null,null,null,null,null,null,null,null,null,null,null,null,null,null,null,null,null,null,null,null,null,null,117,118,"TA17","TECNICO ADMINISTRATIVO-17",10,3000000,4000000,5000000,"60 MESES","CIVIL O UNIFORMADO CON MAS DE 3 AÑOS DE SERVICIO"]
[null,null,null,null,null,null,null,null,null,null,null,null,null,null,null,null,null,null,null,null,null,null,null,null,null,null,null,null,null,null,118,119,"TA16","TECNICO ADMINISTRATIVO-16",10,3000000,4000000,5000000,"60 MESES","CIVIL O UNIFORMADO CON MAS DE 3 AÑOS DE SERVICIO"]
[null,null,null,null,null,null,null,null,null,null,null,null,null,null,null,null,null,null,null,null,null,null,null,null,null,null,null,null,null,null,119,120,"TA15","TECNICO ADMINISTRATIVO-15",10,3000000,4000000,5000000,"60 MESES","CIVIL O UNIFORMADO CON MAS DE 3 AÑOS DE SERVICIO"]
[null,null,null,null,null,null,null,null,null,null,null,null,null,null,null,null,null,null,null,null,null,null,null,null,null,null,null,null,null,null,120,121,"TA14","TECNICO ADMINISTRATIVO-14",10,3000000,4000000,5000000,"60 MESES","CIVIL O UNIFORMADO CON MAS DE 3 AÑOS DE SERVICIO"]
[null,null,null,null,null,null,null,null,null,null,null,null,null,null,null,null,null,null,null,null,null,null,null,null,null,null,null,null,null,null,121,122,"TA13","TECNICO ADMINISTRATIVO-13",10,3000000,4000000,5000000,"60 MESES","CIVIL O UNIFORMADO CON MAS DE 3 AÑOS DE SERVICIO"]
[null,null,null,null,null,null,null,null,null,null,null,null,null,null,null,null,null,null,null,null,null,null,null,null,null,null,null,null,null,null,122,123,"TA12","TECNICO ADMINISTRATIVO-12",10,3000000,4000000,5000000,"60 MESES","CIVIL O UNIFORMADO CON MAS DE 3 AÑOS DE SERVICIO"]
[null,null,null,null,null,null,null,null,null,null,null,null,null,null,null,null,null,null,null,null,null,null,null,null,null,null,null,null,null,null,123,124,"TA11","TECNICO ADMINISTRATIVO-11",10,3000000,4000000,5000000,"60 MESES","CIVIL O UNIFORMADO CON MAS DE 3 AÑOS DE SERVICIO"]
[null,null,null,null,null,null,null,null,null,null,null,null,null,null,null,null,null,null,null,null,null,null,null,null,null,null,null,null,null,null,124,125,"TA10","TECNICO ADMINISTRATIVO-10",10,3000000,4000000,5000000,"60 MESES","CIVIL O UNIFORMADO CON MAS DE 3 AÑOS DE SERVICIO"]
[null,null,null,null,null,null,null,null,null,null,null,null,null,null,null,null,null,null,null,null,null,null,null,null,null,null,null,null,null,null,125,126,"TA09","TECNICO ADMINISTRATIVO-09",10,3000000,4000000,5000000,"60 MESES","CIVIL O UNIFORMADO CON MAS DE 3 AÑOS DE SERVICIO"]
[null,null,null,null,null,null,null,null,null,null,null,null,null,null,null,null,null,null,null,null,null,null,null,null,null,null,null,null,null,null,126,127,"TA08","TECNICO ADMINISTRATIVO-08",10,3000000,4000000,5000000,"60 MESES","CIVIL O UNIFORMADO CON MAS DE 3 AÑOS DE SERVICIO"]
[null,null,null,null,null,null,null,null,null,null,null,null,null,null,null,null,null,null,null,null,null,null,null,null,null,null,null,null,null,null,127,128,"TA07","TECNICO ADMINISTRATIVO-07",10,3000000,4000000,5000000,"60 MESES","CIVIL O UNIFORMADO CON MAS DE 3 AÑOS DE SERVICIO"]
[null,null,null,null,null,null,null,null,null,null,null,null,null,null,null,null,null,null,null,null,null,null,null,null,null,null,null,null,null,null,128,129,"TA06","TECNICO ADMINISTRATIVO-06",10,3000000,4000000,5000000,"60 MESES","CIVIL O UNIFORMADO CON MAS DE 3 AÑOS DE SERVICIO"]
[null,null,null,null,null,null,null,null,null,null,null,null,null,null,null,null,null,null,null,null,null,null,null,null,null,null,null,null,null,null,129,130,"TA05","TECNICO ADMINISTRATIVO-05",10,3000000,4000000,5000000,{"$f":"$AM$5","v":"60 MESES"},"CIVIL O UNIFORMADO CON MAS DE 3 AÑOS DE SERVICIO"]
[null,null,null,null,null,null,null,null,null,null,null,null,null,null,null,null,null,null,null,null,null,null,null,null,null,null,null,null,null,null,130,131,"TO18","TECNICO OPERATIVO -18",10,3000000,4000000,5000000,"60 MESES","CIVIL O UNIFORMADO CON MAS DE 3 AÑOS DE SERVICIO"]
[null,null,null,null,null,null,null,null,null,null,null,null,null,null,null,null,null,null,null,null,null,null,null,null,null,null,null,null,null,null,131,132,"TO17","TECNICO OPERATIVO -17",10,3000000,4000000,5000000,"60 MESES","CIVIL O UNIFORMADO CON MAS DE 3 AÑOS DE SERVICIO"]
[null,null,null,null,null,null,null,null,null,null,null,null,null,null,null,null,null,null,null,null,null,null,null,null,null,null,null,null,null,null,132,133,"TO16","TECNICO OPERATIVO -16",10,3000000,4000000,5000000,"60 MESES","CIVIL O UNIFORMADO CON MAS DE 3 AÑOS DE SERVICIO"]
[null,null,null,null,null,null,null,null,null,null,null,null,null,null,null,null,null,null,null,null,null,null,null,null,null,null,null,null,null,null,null,134,"TO15","TECNICO OPERATIVO -15",10,3000000,4000000,5000000,"60 MESES","CIVIL O UNIFORMADO CON MAS DE 3 AÑOS DE SERVICIO"]
[null,null,null,null,null,null,null,null,null,null,null,null,null,null,null,null,null,null,null,null,null,null,null,null,null,null,null,null,null,null,null,135,"TO14","TECNICO OPERATIVO -14",10,3000000,4000000,5000000,"60 MESES","CIVIL O UNIFORMADO CON MAS DE 3 AÑOS DE SERVICIO"]
[null,null,null,null,null,null,null,null,null,null,null,null,null,null,null,null,null,null,null,null,null,null,null,null,null,null,null,null,null,null,null,136,"TO13","TECNICO OPERATIVO -13",10,3000000,4000000,5000000,"60 MESES","CIVIL O UNIFORMADO CON MAS DE 3 AÑOS DE SERVICIO"]
[null,null,null,null,null,null,null,null,null,null,null,null,null,null,null,null,null,null,null,null,null,null,null,null,null,null,null,null,null,null,null,137,"TO12","TECNICO OPERATIVO -12",10,3000000,4000000,5000000,"60 MESES","CIVIL O UNIFORMADO CON MAS DE 3 AÑOS DE SERVICIO"]
[null,null,null,null,null,null,null,null,null,null,null,null,null,null,null,null,null,null,null,null,null,null,null,null,null,null,null,null,null,null,null,138,"TO11","TECNICO OPERATIVO -11",10,3000000,4000000,5000000,"60 MESES","CIVIL O UNIFORMADO CON MAS DE 3 AÑOS DE SERVICIO"]
[null,null,null,null,null,null,null,null,null,null,null,null,null,null,null,null,null,null,null,null,null,null,null,null,null,null,null,null,null,null,null,139,"TO10","TECNICO OPERATIVO -10",10,3000000,4000000,5000000,"60 MESES","CIVIL O UNIFORMADO CON MAS DE 3 AÑOS DE SERVICIO"]
[null,null,null,null,null,null,null,null,null,null,null,null,null,null,null,null,null,null,null,null,null,null,null,null,null,null,null,null,null,null,null,140,"TO09","TECNICO OPERATIVO -09",10,3000000,4000000,5000000,"60 MESES","CIVIL O UNIFORMADO CON MAS DE 3 AÑOS DE SERVICIO"]
[null,null,null,null,null,null,null,null,null,null,null,null,null,null,null,null,null,null,null,null,null,null,null,null,null,null,null,null,null,null,null,141,"TO08","TECNICO OPERATIVO -08",10,3000000,4000000,5000000,"60 MESES","CIVIL O UNIFORMADO CON MAS DE 3 AÑOS DE SERVICIO"]
[null,null,null,null,null,null,null,null,null,null,null,null,null,null,null,null,null,null,null,null,null,null,null,null,null,null,null,null,null,null,null,142,"TO07","TECNICO OPERATIVO -07",10,3000000,4000000,5000000,"60 MESES","CIVIL O UNIFORMADO CON MAS DE 3 AÑOS DE SERVICIO"]
[null,null,null,null,null,null,null,null,null,null,null,null,null,null,null,null,null,null,null,null,null,null,null,null,null,null,null,null,null,null,null,143,"TO06","TECNICO OPERATIVO -06",10,3000000,4000000,5000000,"60 MESES","CIVIL O UNIFORMADO CON MAS DE 3 AÑOS DE SERVICIO"]
[null,null,null,null,null,null,null,null,null,null,null,null,null,null,null,null,null,null,null,null,null,null,null,null,null,null,null,null,null,null,null,144,"TO05","TECNICO OPERATIVO -05",10,3000000,4000000,5000000,"60 MESES","CIVIL O UNIFORMADO CON MAS DE 3 AÑOS DE SERVICIO"]
[null,null,null,null,null,null,null,null,null,null,null,null,null,null,null,null,null,null,null,null,null,null,null,null,null,null,null,null,null,null,null,145,"AD23","AUXILIAR ADMINISTRATIVO -23",10,3000000,4000000,5000000,"60 MESES","CIVIL O UNIFORMADO CON MAS DE 3 AÑOS DE SERVICIO"]
[null,null,null,null,null,null,null,null,null,null,null,null,null,null,null,null,null,null,null,null,null,null,null,null,null,null,null,null,null,null,null,146,"AD22","AUXILIAR ADMINISTRATIVO -22",10,3000000,4000000,5000000,"60 MESES","CIVIL O UNIFORMADO CON MAS DE 3 AÑOS DE SERVICIO"]
[null,null,null,null,null,null,null,null,null,null,null,null,null,null,null,null,null,null,null,null,null,null,null,null,null,null,null,null,null,null,null,147,"AD21","AUXILIAR ADMINISTRATIVO -21",10,3000000,4000000,5000000,"60 MESES","CIVIL O UNIFORMADO CON MAS DE 3 AÑOS DE SERVICIO"]
[null,null,null,null,null,null,null,null,null,null,null,null,null,null,null,null,null,null,null,null,null,null,null,null,null,null,null,null,null,null,null,148,"AD20","AUXILIAR ADMINISTRATIVO -20",10,3000000,4000000,5000000,"60 MESES","CIVIL O UNIFORMADO CON MAS DE 3 AÑOS DE SERVICIO"]
[null,null,null,null,null,null,null,null,null,null,null,null,null,null,null,null,null,null,null,null,null,null,null,null,null,null,null,null,null,null,null,149,"AD19","AUXILIAR ADMINISTRATIVO -19",10,3000000,4000000,5000000,"60 MESES","CIVIL O UNIFORMADO CON MAS DE 3 AÑOS DE SERVICIO"]
[null,null,null,null,null,null,null,null,null,null,null,null,null,null,null,null,null,null,null,null,null,null,null,null,null,null,null,null,null,null,null,150,"AD18","AUXILIAR ADMINISTRATIVO -18",10,3000000,4000000,5000000,"60 MESES","CIVIL O UNIFORMADO CON MAS DE 3 AÑOS DE SERVICIO"]
[null,null,null,null,null,null,null,null,null,null,null,null,null,null,null,null,null,null,null,null,null,null,null,null,null,null,null,null,null,null,null,151,"AD17","AUXILIAR ADMINISTRATIVO -17",10,3000000,4000000,5000000,"60 MESES","CIVIL O UNIFORMADO CON MAS DE 3 AÑOS DE SERVICIO"]
[null,null,null,null,null,null,null,null,null,null,null,null,null,null,null,null,null,null,null,null,null,null,null,null,null,null,null,null,null,null,null,152,"AD16","AUXILIAR ADMINISTRATIVO -16",10,3000000,4000000,5000000,"60 MESES","CIVIL O UNIFORMADO CON MAS DE 3 AÑOS DE SERVICIO"]
[null,null,null,null,null,null,null,null,null,null,null,null,null,null,null,null,null,null,null,null,null,null,null,null,null,null,null,null,null,null,null,153,"AD15","AUXILIAR ADMINISTRATIVO -15",10,3000000,4000000,5000000,"60 MESES","CIVIL O UNIFORMADO CON MAS DE 3 AÑOS DE SERVICIO"]
[null,null,null,null,null,null,null,null,null,null,null,null,null,null,null,null,null,null,null,null,null,null,null,null,null,null,null,null,null,null,null,154,"AD14","AUXILIAR ADMINISTRATIVO -14",10,3000000,4000000,5000000,"60 MESES","CIVIL O UNIFORMADO CON MAS DE 3 AÑOS DE SERVICIO"]
[null,null,null,null,null,null,null,null,null,null,null,null,null,null,null,null,null,null,null,null,null,null,null,null,null,null,null,null,null,null,null,155,"AD13","AUXILIAR ADMINISTRATIVO -13",10,3000000,4000000,5000000,"60 MESES","CIVIL O UNIFORMADO CON MAS DE 3 AÑOS DE SERVICIO"]
[null,null,null,null,null,null,null,null,null,null,null,null,null,null,null,null,null,null,null,null,null,null,null,null,null,null,null,null,null,null,null,156,"AD12","AUXILIAR ADMINISTRATIVO -12",10,3000000,4000000,5000000,"60 MESES","CIVIL O UNIFORMADO CON MAS DE 3 AÑOS DE SERVICIO"]
[null,null,null,null,null,null,null,null,null,null,null,null,null,null,null,null,null,null,null,null,null,null,null,null,null,null,null,null,null,null,null,157,"AD11","AUXILIAR ADMINISTRATIVO -11",10,3000000,4000000,5000000,"60 MESES","CIVIL O UNIFORMADO CON MAS DE 3 AÑOS DE SERVICIO"]
[null,null,null,null,null,null,null,null,null,null,null,null,null,null,null,null,null,null,null,null,null,null,null,null,null,null,null,null,null,null,null,158,"AD10","AUXILIAR ADMINISTRATIVO -10",10,3000000,4000000,5000000,"60 MESES","CIVIL O UNIFORMADO CON MAS DE 3 AÑOS DE SERVICIO"]
[null,null,null,null,null,null,null,null,null,null,null,null,null,null,null,null,null,null,null,null,null,null,null,null,null,null,null,null,null,null,null,159,"AD09","AUXILIAR ADMINISTRATIVO -09",10,3000000,4000000,5000000,"60 MESES","CIVIL O UNIFORMADO CON MAS DE 3 AÑOS DE SERVICIO"]
[null,null,null,null,null,null,null,null,null,null,null,null,null,null,null,null,null,null,null,null,null,null,null,null,null,null,null,null,null,null,null,160,"AD08","AUXILIAR ADMINISTRATIVO -08",10,3000000,4000000,5000000,"60 MESES","CIVIL O UNIFORMADO CON MAS DE 3 AÑOS DE SERVICIO"]
[null,null,null,null,null,null,null,null,null,null,null,null,null,null,null,null,null,null,null,null,null,null,null,null,null,null,null,null,null,null,null,161,"AD07","AUXILIAR ADMINISTRATIVO -07",10,3000000,4000000,5000000,"60 MESES","CIVIL O UNIFORMADO CON MAS DE 3 AÑOS DE SERVICIO"]
[null,null,null,null,null,null,null,null,null,null,null,null,null,null,null,null,null,null,null,null,null,null,null,null,null,null,null,null,null,null,null,162,"AD06","AUXILIAR ADMINISTRATIVO -06",10,3000000,4000000,5000000,"60 MESES","CIVIL O UNIFORMADO CON MAS DE 3 AÑOS DE SERVICIO"]
[null,null,null,null,null,null,null,null,null,null,null,null,null,null,null,null,null,null,null,null,null,null,null,null,null,null,null,null,null,null,null,163,"AD05","AUXILIAR ADMINISTRATIVO -05",10,3000000,4000000,5000000,"60 MESES","CIVIL O UNIFORMADO CON MAS DE 3 AÑOS DE SERVICIO"]
[null,null,null,null,null,null,null,null,null,null,null,null,null,null,null,null,null,null,null,null,null,null,null,null,null,null,null,null,null,null,null,164,"AD04","AUXILIAR ADMINISTRATIVO -04",10,3000000,4000000,5000000,"60 MESES","CIVIL O UNIFORMADO CON MAS DE 3 AÑOS DE SERVICIO"]
[null,null,null,null,null,null,null,null,null,null,null,null,null,null,null,null,null,null,null,null,null,null,null,null,null,null,null,null,null,null,null,165,"AD03","AUXILIAR ADMINISTRATIVO -03",10,3000000,4000000,5000000,"60 MESES","CIVIL O UNIFORMADO CON MAS DE 3 AÑOS DE SERVICIO"]
[null,null,null,null,null,null,null,null,null,null,null,null,null,null,null,null,null,null,null,null,null,null,null,null,null,null,null,null,null,null,null,166,"AD02","AUXILIAR ADMINISTRATIVO -02",10,3000000,4000000,5000000,"60 MESES","CIVIL O UNIFORMADO CON MAS DE 3 AÑOS DE SERVICIO"]
[null,null,null,null,null,null,null,null,null,null,null,null,null,null,null,null,null,null,null,null,null,null,null,null,null,null,null,null,null,null,null,167,"AU19","AUXILIAR DE SERVICIOS GENERALES -19",10,3000000,4000000,5000000,"60 MESES","CIVIL O UNIFORMADO CON MAS DE 3 AÑOS DE SERVICIO"]
[null,null,null,null,null,null,null,null,null,null,null,null,null,null,null,null,null,null,null,null,null,null,null,null,null,null,null,null,null,null,null,168,"AU18","AUXILIAR DE SERVICIOS GENERALES -18",10,3000000,4000000,5000000,"60 MESES","CIVIL O UNIFORMADO CON MAS DE 3 AÑOS DE SERVICIO"]
[null,null,null,null,null,null,null,null,null,null,null,null,null,null,null,null,null,null,null,null,null,null,null,null,null,null,null,null,null,null,null,169,"AU17","AUXILIAR DE SERVICIOS GENERALES -17",10,3000000,4000000,5000000,"60 MESES","CIVIL O UNIFORMADO CON MAS DE 3 AÑOS DE SERVICIO"]
[null,null,null,null,null,null,null,null,null,null,null,null,null,null,null,null,null,null,null,null,null,null,null,null,null,null,null,null,null,null,null,170,"AU16","AUXILIAR DE SERVICIOS GENERALES -16",10,3000000,4000000,5000000,"60 MESES","CIVIL O UNIFORMADO CON MAS DE 3 AÑOS DE SERVICIO"]
[null,null,null,null,null,null,null,null,null,null,null,null,null,null,null,null,null,null,null,null,null,null,null,null,null,null,null,null,null,null,null,171,"AU15","AUXILIAR DE SERVICIOS GENERALES -15",10,3000000,4000000,5000000,"60 MESES","CIVIL O UNIFORMADO CON MAS DE 3 AÑOS DE SERVICIO"]
[null,null,null,null,null,null,null,null,null,null,null,null,null,null,null,null,null,null,null,null,null,null,null,null,null,null,null,null,null,null,null,172,"AU14","AUXILIAR DE SERVICIOS GENERALES -14",10,3000000,4000000,5000000,"60 MESES","CIVIL O UNIFORMADO CON MAS DE 3 AÑOS DE SERVICIO"]
[null,null,null,null,null,null,null,null,null,null,null,null,null,null,null,null,null,null,null,null,null,null,null,null,null,null,null,null,null,null,null,173,"AU13","AUXILIAR DE SERVICIOS GENERALES -13",10,3000000,4000000,5000000,"60 MESES","CIVIL O UNIFORMADO CON MAS DE 3 AÑOS DE SERVICIO"]
[null,null,null,null,null,null,null,null,null,null,null,null,null,null,null,null,null,null,null,null,null,null,null,null,null,null,null,null,null,null,null,174,"AU12","AUXILIAR DE SERVICIOS GENERALES -12",10,3000000,4000000,5000000,"60 MESES","CIVIL O UNIFORMADO CON MAS DE 3 AÑOS DE SERVICIO"]
[null,null,null,null,null,null,null,null,null,null,null,null,null,null,null,null,null,null,null,null,null,null,null,null,null,null,null,null,null,null,null,175,"AU11","AUXILIAR DE SERVICIOS GENERALES -11",10,3000000,4000000,5000000,"60 MESES","CIVIL O UNIFORMADO CON MAS DE 3 AÑOS DE SERVICIO"]
[null,null,null,null,null,null,null,null,null,null,null,null,null,null,null,null,null,null,null,null,null,null,null,null,null,null,null,null,null,null,null,176,"AU10","AUXILIAR DE SERVICIOS GENERALES -10",10,3000000,4000000,5000000,"60 MESES","CIVIL O UNIFORMADO CON MAS DE 3 AÑOS DE SERVICIO"]
[null,null,null,null,null,null,null,null,null,null,null,null,null,null,null,null,null,null,null,null,null,null,null,null,null,null,null,null,null,null,null,177,"AU09","AUXILIAR DE SERVICIOS GENERALES -09",10,3000000,4000000,5000000,"60 MESES","CIVIL O UNIFORMADO CON MAS DE 3 AÑOS DE SERVICIO"]
[null,null,null,null,null,null,null,null,null,null,null,null,null,null,null,null,null,null,null,null,null,null,null,null,null,null,null,null,null,null,null,178,"AU08","AUXILIAR DE SERVICIOS GENERALES -08",10,3000000,4000000,5000000,"60 MESES","CIVIL O UNIFORMADO CON MAS DE 3 AÑOS DE SERVICIO"]
[null,null,null,null,null,null,null,null,null,null,null,null,null,null,null,null,null,null,null,null,null,null,null,null,null,null,null,null,null,null,null,179,"AU07","AUXILIAR DE SERVICIOS GENERALES -07",10,3000000,4000000,5000000,"60 MESES","CIVIL O UNIFORMADO CON MAS DE 3 AÑOS DE SERVICIO"]
[null,null,null,null,null,null,null,null,null,null,null,null,null,null,null,null,null,null,null,null,null,null,null,null,null,null,null,null,null,null,null,180,"AU06","AUXILIAR DE SERVICIOS GENERALES -06",10,3000000,4000000,5000000,"60 MESES","CIVIL O UNIFORMADO CON MAS DE 3 AÑOS DE SERVICIO"]
[null,null,null,null,null,null,null,null,null,null,null,null,null,null,null,null,null,null,null,null,null,null,null,null,null,null,null,null,null,null,null,181,"AU05","AUXILIAR DE SERVICIOS GENERALES -05",10,3000000,4000000,5000000,"60 MESES","CIVIL O UNIFORMADO CON MAS DE 3 AÑOS DE SERVICIO"]
[null,null,null,null,null,null,null,null,null,null,null,null,null,null,null,null,null,null,null,null,null,null,null,null,null,null,null,null,null,null,null,182,"AU04","AUXILIAR DE SERVICIOS GENERALES -04",10,3000000,4000000,5000000,"60 MESES","CIVIL O UNIFORMADO CON MAS DE 3 AÑOS DE SERVICIO"]
[null,null,null,null,null,null,null,null,null,null,null,null,null,null,null,null,null,null,null,null,null,null,null,null,null,null,null,null,null,null,null,183,"AU03","AUXILIAR DE SERVICIOS GENERALES -03",10,3000000,4000000,5000000,"60 MESES","CIVIL O UNIFORMADO CON MAS DE 3 AÑOS DE SERVICIO"]
[null,null,null,null,null,null,null,null,null,null,null,null,null,null,null,null,null,null,null,null,null,null,null,null,null,null,null,null,null,null,null,184,"AU02","AUXILIAR DE SERVICIOS GENERALES -02",10,3000000,4000000,5000000,"60 MESES","CIVIL O UNIFORMADO CON MAS DE 3 AÑOS DE SERVICIO"]
[null,null,null,null,null,null,null,null,null,null,null,null,null,null,null,null,null,null,null,null,null,null,null,null,null,null,null,null,null,null,null,185,"AU01","AUXILIAR DE SERVICIOS GENERALES -01",10,3000000,4000000,5000000,"60 MESES","CIVIL O UNIFORMADO CON MAS DE 3 AÑOS DE SERVICIO"]
[null,null,null,null,null,null,null,null,null,null,null,null,null,null,null,null,null,null,null,null,null,null,null,null,null,null,null,null,null,null,null,186,"EA21","ENFERMERO AUXILIAR-21",10,3000000,4000000,5000000,"60 MESES","CIVIL O UNIFORMADO CON MAS DE 3 AÑOS DE SERVICIO"]
[null,null,null,null,null,null,null,null,null,null,null,null,null,null,null,null,null,null,null,null,null,null,null,null,null,null,null,null,null,null,null,187,"EA20","ENFERMERO AUXILIAR-20",10,3000000,4000000,5000000,"60 MESES","CIVIL O UNIFORMADO CON MAS DE 3 AÑOS DE SERVICIO"]
[null,null,null,null,null,null,null,null,null,null,null,null,null,null,null,null,null,null,null,null,null,null,null,null,null,null,null,null,null,null,null,188,"EA19","ENFERMERO AUXILIAR-19",10,3000000,4000000,5000000,"60 MESES","CIVIL O UNIFORMADO CON MAS DE 3 AÑOS DE SERVICIO"]
[null,null,null,null,null,null,null,null,null,null,null,null,null,null,null,null,null,null,null,null,null,null,null,null,null,null,null,null,null,null,null,189,"EA18","ENFERMERO AUXILIAR-18",10,3000000,4000000,5000000,"60 MESES","CIVIL O UNIFORMADO CON MAS DE 3 AÑOS DE SERVICIO"]
[null,null,null,null,null,null,null,null,null,null,null,null,null,null,null,null,null,null,null,null,null,null,null,null,null,null,null,null,null,null,null,190,"EA17","ENFERMERO AUXILIAR-17",10,3000000,4000000,5000000,"60 MESES","CIVIL O UNIFORMADO CON MAS DE 3 AÑOS DE SERVICIO"]
[null,null,null,null,null,null,null,null,null,null,null,null,null,null,null,null,null,null,null,null,null,null,null,null,null,null,null,null,null,null,null,191,"EA16","ENFERMERO AUXILIAR-16",10,3000000,4000000,5000000,"60 MESES","CIVIL O UNIFORMADO CON MAS DE 3 AÑOS DE SERVICIO"]
[null,null,null,null,null,null,null,null,null,null,null,null,null,null,null,null,null,null,null,null,null,null,null,null,null,null,null,null,null,null,null,192,"EA15","ENFERMERO AUXILIAR-15",10,3000000,4000000,5000000,"60 MESES","CIVIL O UNIFORMADO CON MAS DE 3 AÑOS DE SERVICIO"]
[null,null,null,null,null,null,null,null,null,null,null,null,null,null,null,null,null,null,null,null,null,null,null,null,null,null,null,null,null,null,null,193,"EA14","ENFERMERO AUXILIAR-14",10,3000000,4000000,5000000,"60 MESES","CIVIL O UNIFORMADO CON MAS DE 3 AÑOS DE SERVICIO"]
[null,null,null,null,null,null,null,null,null,null,null,null,null,null,null,null,null,null,null,null,null,null,null,null,null,null,null,null,null,null,null,194,"EA13","ENFERMERO AUXILIAR-13",10,3000000,4000000,5000000,{"$f":"$AM$5","v":"60 MESES"},"CIVIL O UNIFORMADO CON MAS DE 3 AÑOS DE SERVICIO"]
[null,null,null,null,null,null,null,null,null,null,null,null,null,null,null,null,null,null,null,null,null,null,null,null,null,null,null,null,null,null,null,195,"EA12","ENFERMERO AUXILIAR-12",10,3000000,4000000,5000000,"60 MESES","CIVIL O UNIFORMADO CON MAS DE 3 AÑOS DE SERVICIO"]
[null,null,null,null,null,null,null,null,null,null,null,null,null,null,null,null,null,null,null,null,null,null,null,null,null,null,null,null,null,null,null,196,"EA11","ENFERMERO AUXILIAR-11",10,3000000,4000000,5000000,"60 MESES","CIVIL O UNIFORMADO CON MAS DE 3 AÑOS DE SERVICIO"]
[null,null,null,null,null,null,null,null,null,null,null,null,null,null,null,null,null,null,null,null,null,null,null,null,null,null,null,null,null,null,null,197,"EA10","ENFERMERO AUXILIAR-10",10,3000000,4000000,5000000,"60 MESES","CIVIL O UNIFORMADO CON MAS DE 3 AÑOS DE SERVICIO"]
[null,null,null,null,null,null,null,null,null,null,null,null,null,null,null,null,null,null,null,null,null,null,null,null,null,null,null,null,null,null,null,198,"EA09","ENFERMERO AUXILIAR-09",10,3000000,4000000,5000000,"60 MESES","CIVIL O UNIFORMADO CON MAS DE 3 AÑOS DE SERVICIO"]
[null,null,null,null,null,null,null,null,null,null,null,null,null,null,null,null,null,null,null,null,null,null,null,null,null,null,null,null,null,null,null,199,"EA08","ENFERMERO AUXILIAR-08",10,3000000,4000000,5000000,"60 MESES","CIVIL O UNIFORMADO CON MAS DE 3 AÑOS DE SERVICIO"]
[null,null,null,null,null,null,null,null,null,null,null,null,null,null,null,null,null,null,null,null,null,null,null,null,null,null,null,null,null,null,null,200,"EA07","ENFERMERO AUXILIAR-07",10,3000000,4000000,5000000,"60 MESES","CIVIL O UNIFORMADO CON MAS DE 3 AÑOS DE SERVICIO"]
[null,null,null,null,null,null,null,null,null,null,null,null,null,null,null,null,null,null,null,null,null,null,null,null,null,null,null,null,null,null,null,201,"EA06","ENFERMERO AUXILIAR-06",10,3000000,4000000,5000000,"60 MESES","CIVIL O UNIFORMADO CON MAS DE 3 AÑOS DE SERVICIO"]
[null,null,null,null,null,null,null,null,null,null,null,null,null,null,null,null,null,null,null,null,null,null,null,null,null,null,null,null,null,null,null,202,"EA05","ENFERMERO AUXILIAR-05",10,3000000,4000000,5000000,"60 MESES","CIVIL O UNIFORMADO CON MAS DE 3 AÑOS DE SERVICIO"]
[null,null,null,null,null,null,null,null,null,null,null,null,null,null,null,null,null,null,null,null,null,null,null,null,null,null,null,null,null,null,null,203,"EA04","ENFERMERO AUXILIAR-04",10,3000000,4000000,5000000,"60 MESES","CIVIL O UNIFORMADO CON MAS DE 3 AÑOS DE SERVICIO"]
[null,null,null,null,null,null,null,null,null,null,null,null,null,null,null,null,null,null,null,null,null,null,null,null,null,null,null,null,null,null,null,204,"EA03","ENFERMERO AUXILIAR-03",10,3000000,4000000,5000000,"60 MESES","CIVIL O UNIFORMADO CON MAS DE 3 AÑOS DE SERVICIO"]
[null,null,null,null,null,null,null,null,null,null,null,null,null,null,null,null,null,null,null,null,null,null,null,null,null,null,null,null,null,null,null,205,"EA02","ENFERMERO AUXILIAR-02",10,3000000,4000000,5000000,"60 MESES","CIVIL O UNIFORMADO CON MAS DE 3 AÑOS DE SERVICIO"]
[null,null,null,null,null,null,null,null,null,null,null,null,null,null,null,null,null,null,null,null,null,null,null,null,null,null,null,null,null,null,null,206,"EA01","ENFERMERO AUXILIAR-01",10,3000000,4000000,5000000,"60 MESES","CIVIL O UNIFORMADO CON MAS DE 3 AÑOS DE SERVICIO"]
[null,null,null,null,null,null,null,null,null,null,null,null,null,null,null,null,null,null,null,null,null,null,null,null,null,null,null,null,null,null,null,207,"OE05","OPERARIO-05",10,3000000,4000000,5000000,"60 MESES","CIVIL O UNIFORMADO CON MAS DE 3 AÑOS DE SERVICIO"]
[null,null,null,null,null,null,null,null,null,null,null,null,null,null,null,null,null,null,null,null,null,null,null,null,null,null,null,null,null,null,null,208,"OE04","OPERARIO-04",10,3000000,4000000,5000000,"60 MESES","CIVIL O UNIFORMADO CON MAS DE 3 AÑOS DE SERVICIO"]
[null,null,null,null,null,null,null,null,null,null,null,null,null,null,null,null,null,null,null,null,null,null,null,null,null,null,null,null,null,null,null,209,"OE03","OPERARIO-03",10,3000000,4000000,5000000,"60 MESES","CIVIL O UNIFORMADO CON MAS DE 3 AÑOS DE SERVICIO"]
[null,null,null,null,null,null,null,null,null,null,null,null,null,null,null,null,null,null,null,null,null,null,null,null,null,null,null,null,null,null,null,210,"OE02","OPERARIO-02",10,3000000,4000000,5000000,"60 MESES","CIVIL O UNIFORMADO CON MAS DE 3 AÑOS DE SERVICIO"]
[null,null,null,null,null,null,null,null,null,null,null,null,null,null,null,null,null,null,null,null,null,null,null,null,null,null,null,null,null,null,null,211,"OE01","OPERARIO-01",10,3000000,4000000,5000000,"60 MESES","CIVIL O UNIFORMADO CON MAS DE 3 AÑOS DE SERVICIO"]
[null,null,null,null,null,null,null,null,null,null,null,null,null,null,null,null,null,null,null,null,null,null,null,null,null,null,null,null,null,null,null,212,"OC19","OPERARIO CALIFICADO -19",10,3000000,4000000,5000000,"60 MESES","CIVIL O UNIFORMADO CON MAS DE 3 AÑOS DE SERVICIO"]
[null,null,null,null,null,null,null,null,null,null,null,null,null,null,null,null,null,null,null,null,null,null,null,null,null,null,null,null,null,null,null,213,"OC18","OPERARIO CALIFICADO -18",10,3000000,4000000,5000000,"60 MESES","CIVIL O UNIFORMADO CON MAS DE 3 AÑOS DE SERVICIO"]
[null,null,null,null,null,null,null,null,null,null,null,null,null,null,null,null,null,null,null,null,null,null,null,null,null,null,null,null,null,null,null,214,"OC17","OPERARIO CALIFICADO -17",10,3000000,4000000,5000000,"60 MESES","CIVIL O UNIFORMADO CON MAS DE 3 AÑOS DE SERVICIO"]
[null,null,null,null,null,null,null,null,null,null,null,null,null,null,null,null,null,null,null,null,null,null,null,null,null,null,null,null,null,null,null,215,"OC16","OPERARIO CALIFICADO -16",10,3000000,4000000,5000000,"60 MESES","CIVIL O UNIFORMADO CON MAS DE 3 AÑOS DE SERVICIO"]
[null,null,null,null,null,null,null,null,null,null,null,null,null,null,null,null,null,null,null,null,null,null,null,null,null,null,null,null,null,null,null,216,"OC15","OPERARIO CALIFICADO -15",10,3000000,4000000,5000000,"60 MESES","CIVIL O UNIFORMADO CON MAS DE 3 AÑOS DE SERVICIO"]
[null,null,null,null,null,null,null,null,null,null,null,null,null,null,null,null,null,null,null,null,null,null,null,null,null,null,null,null,null,null,null,217,"OC14","OPERARIO CALIFICADO -14",10,3000000,4000000,5000000,"60 MESES","CIVIL O UNIFORMADO CON MAS DE 3 AÑOS DE SERVICIO"]
[null,null,null,null,null,null,null,null,null,null,null,null,null,null,null,null,null,null,null,null,null,null,null,null,null,null,null,null,null,null,null,218,"OC13","OPERARIO CALIFICADO -13",10,3000000,4000000,5000000,"60 MESES","CIVIL O UNIFORMADO CON MAS DE 3 AÑOS DE SERVICIO"]
[null,null,null,null,null,null,null,null,null,null,null,null,null,null,null,null,null,null,null,null,null,null,null,null,null,null,null,null,null,null,null,219,"OC12","OPERARIO CALIFICADO -12",10,3000000,4000000,5000000,"60 MESES","CIVIL O UNIFORMADO CON MAS DE 3 AÑOS DE SERVICIO"]
[null,null,null,null,null,null,null,null,null,null,null,null,null,null,null,null,null,null,null,null,null,null,null,null,null,null,null,null,null,null,null,220,"OC11","OPERARIO CALIFICADO -11",10,3000000,4000000,5000000,"60 MESES","CIVIL O UNIFORMADO CON MAS DE 3 AÑOS DE SERVICIO"]
[null,null,null,null,null,null,null,null,null,null,null,null,null,null,null,null,null,null,null,null,null,null,null,null,null,null,null,null,null,null,null,221,"OC10","OPERARIO CALIFICADO -10",10,3000000,4000000,5000000,"60 MESES","CIVIL O UNIFORMADO CON MAS DE 3 AÑOS DE SERVICIO"]
[null,null,null,null,null,null,null,null,null,null,null,null,null,null,null,null,null,null,null,null,null,null,null,null,null,null,null,null,null,null,null,222,"OC09","OPERARIO CALIFICADO -09",10,3000000,4000000,5000000,"60 MESES","CIVIL O UNIFORMADO CON MAS DE 3 AÑOS DE SERVICIO"]
[null,null,null,null,null,null,null,null,null,null,null,null,null,null,null,null,null,null,null,null,null,null,null,null,null,null,null,null,null,null,null,223,"OC08","OPERARIO CALIFICADO -08",10,3000000,4000000,5000000,"60 MESES","CIVIL O UNIFORMADO CON MAS DE 3 AÑOS DE SERVICIO"]
[null,null,null,null,null,null,null,null,null,null,null,null,null,null,null,null,null,null,null,null,null,null,null,null,null,null,null,null,null,null,null,224,"OC07","OPERARIO CALIFICADO -07",10,3000000,4000000,5000000,"60 MESES","CIVIL O UNIFORMADO CON MAS DE 3 AÑOS DE SERVICIO"]
[null,null,null,null,null,null,null,null,null,null,null,null,null,null,null,null,null,null,null,null,null,null,null,null,null,null,null,null,null,null,null,225,"OC06","OPERARIO CALIFICADO -06",10,3000000,4000000,5000000,"60 MESES","CIVIL O UNIFORMADO CON MAS DE 3 AÑOS DE SERVICIO"]
[null,null,null,null,null,null,null,null,null,null,null,null,null,null,null,null,null,null,null,null,null,null,null,null,null,null,null,null,null,null,null,226,"OC05","OPERARIO CALIFICADO -05",10,3000000,4000000,5000000,"60 MESES","CIVIL O UNIFORMADO CON MAS DE 3 AÑOS DE SERVICIO"]
[null,null,null,null,null,null,null,null,null,null,null,null,null,null,null,null,null,null,null,null,null,null,null,null,null,null,null,null,null,null,null,227,"OC04","OPERARIO CALIFICADO -04",10,3000000,4000000,5000000,"60 MESES","CIVIL O UNIFORMADO CON MAS DE 3 AÑOS DE SERVICIO"]
[null,null,null,null,null,null,null,null,null,null,null,null,null,null,null,null,null,null,null,null,null,null,null,null,null,null,null,null,null,null,null,228,"OC03","OPERARIO CALIFICADO -03",10,3000000,4000000,5000000,"60 MESES","CIVIL O UNIFORMADO CON MAS DE 3 AÑOS DE SERVICIO"]
[null,null,null,null,null,null,null,null,null,null,null,null,null,null,null,null,null,null,null,null,null,null,null,null,null,null,null,null,null,null,null,229,"OC02","OPERARIO CALIFICADO -02",10,3000000,4000000,5000000,"60 MESES","CIVIL O UNIFORMADO CON MAS DE 3 AÑOS DE SERVICIO"]
[null,null,null,null,null,null,null,null,null,null,null,null,null,null,null,null,null,null,null,null,null,null,null,null,null,null,null,null,null,null,null,230,"OC01","OPERARIO CALIFICADO -01",10,3000000,4000000,5000000,"60 MESES","CIVIL O UNIFORMADO CON MAS DE 3 AÑOS DE SERVICIO"]
[null,null,null,null,null,null,null,null,null,null,null,null,null,null,null,null,null,null,null,null,null,null,null,null,null,null,null,null,null,null,null,231,"SE14","SECRETARIO (A)-14",10,3000000,4000000,5000000,"60 MESES","CIVIL O UNIFORMADO CON MAS DE 3 AÑOS DE SERVICIO"]
[null,null,null,null,null,null,null,null,null,null,null,null,null,null,null,null,null,null,null,null,null,null,null,null,null,null,null,null,null,null,null,232,"SE13","SECRETARIO (A)-13",10,3000000,4000000,5000000,"60 MESES","CIVIL O UNIFORMADO CON MAS DE 3 AÑOS DE SERVICIO"]
[null,null,null,null,null,null,null,null,null,null,null,null,null,null,null,null,null,null,null,null,null,null,null,null,null,null,null,null,null,null,null,233,"SE12","SECRETARIO (A)-12",10,3000000,4000000,5000000,"60 MESES","CIVIL O UNIFORMADO CON MAS DE 3 AÑOS DE SERVICIO"]
[null,null,null,null,null,null,null,null,null,null,null,null,null,null,null,null,null,null,null,null,null,null,null,null,null,null,null,null,null,null,null,234,"SE11","SECRETARIO (A)-11",10,3000000,4000000,5000000,"60 MESES","CIVIL O UNIFORMADO CON MAS DE 3 AÑOS DE SERVICIO"]
[null,null,null,null,null,null,null,null,null,null,null,null,null,null,null,null,null,null,null,null,null,null,null,null,null,null,null,null,null,null,null,235,"SE10","SECRETARIO (A)-10",10,3000000,4000000,5000000,"60 MESES","CIVIL O UNIFORMADO CON MAS DE 3 AÑOS DE SERVICIO"]
[null,null,null,null,null,null,null,null,null,null,null,null,null,null,null,null,null,null,null,null,null,null,null,null,null,null,null,null,null,null,null,236,"SE09","SECRETARIO (A)-09",10,3000000,4000000,5000000,"60 MESES","CIVIL O UNIFORMADO CON MAS DE 3 AÑOS DE SERVICIO"]
[null,null,null,null,null,null,null,null,null,null,null,null,null,null,null,null,null,null,null,null,null,null,null,null,null,null,null,null,null,null,null,237,"SE08","SECRETARIO (A)-08",10,3000000,4000000,5000000,"60 MESES","CIVIL O UNIFORMADO CON MAS DE 3 AÑOS DE SERVICIO"]
[null,null,null,null,null,null,null,null,null,null,null,null,null,null,null,null,null,null,null,null,null,null,null,null,null,null,null,null,null,null,null,238,"SE07","SECRETARIO (A)-07",10,3000000,4000000,5000000,"60 MESES","CIVIL O UNIFORMADO CON MAS DE 3 AÑOS DE SERVICIO"]
[null,null,null,null,null,null,null,null,null,null,null,null,null,null,null,null,null,null,null,null,null,null,null,null,null,null,null,null,null,null,null,239,"SE06","SECRETARIO (A)-06",10,3000000,4000000,5000000,"60 MESES","CIVIL O UNIFORMADO CON MAS DE 3 AÑOS DE SERVICIO"]
[null,null,null,null,null,null,null,null,null,null,null,null,null,null,null,null,null,null,null,null,null,null,null,null,null,null,null,null,null,null,null,240,"SE05","SECRETARIO (A)-05",10,3000000,4000000,5000000,"60 MESES","CIVIL O UNIFORMADO CON MAS DE 3 AÑOS DE SERVICIO"]
[null,null,null,null,null,null,null,null,null,null,null,null,null,null,null,null,null,null,null,null,null,null,null,null,null,null,null,null,null,null,null,241,"SE04","SECRETARIO (A)-04",10,3000000,4000000,5000000,"60 MESES","CIVIL O UNIFORMADO CON MAS DE 3 AÑOS DE SERVICIO"]
[null,null,null,null,null,null,null,null,null,null,null,null,null,null,null,null,null,null,null,null,null,null,null,null,null,null,null,null,null,null,null,242,"SE03","SECRETARIO (A)-03",10,3000000,4000000,5000000,"60 MESES","CIVIL O UNIFORMADO CON MAS DE 3 AÑOS DE SERVICIO"]
[null,null,null,null,null,null,null,null,null,null,null,null,null,null,null,null,null,null,null,null,null,null,null,null,null,null,null,null,null,null,null,243,"SE02","SECRETARIO (A)-02",10,3000000,4000000,5000000,"60 MESES","CIVIL O UNIFORMADO CON MAS DE 3 AÑOS DE SERVICIO"]
[null,null,null,null,null,null,null,null,null,null,null,null,null,null,null,null,null,null,null,null,null,null,null,null,null,null,null,null,null,null,null,244,"SE01","SECRETARIO (A)-01",10,3000000,4000000,5000000,"60 MESES","CIVIL O UNIFORMADO CON MAS DE 3 AÑOS DE SERVICIO"]
[null,null,null,null,null,null,null,null,null,null,null,null,null,null,null,null,null,null,null,null,null,null,null,null,null,null,null,null,null,null,null,245,"SY26","SECRETARIO (A) BILINGÜE -26",10,3000000,4000000,5000000,"60 MESES","CIVIL O UNIFORMADO CON MAS DE 3 AÑOS DE SERVICIO"]
[null,null,null,null,null,null,null,null,null,null,null,null,null,null,null,null,null,null,null,null,null,null,null,null,null,null,null,null,null,null,null,246,"SY25","SECRETARIO (A) BILINGÜE -25",10,3000000,4000000,5000000,"60 MESES","CIVIL O UNIFORMADO CON MAS DE 3 AÑOS DE SERVICIO"]
[null,null,null,null,null,null,null,null,null,null,null,null,null,null,null,null,null,null,null,null,null,null,null,null,null,null,null,null,null,null,null,247,"SJ24","SECRETARIO (A) EJECUTIVO-24",10,3000000,4000000,5000000,"60 MESES","CIVIL O UNIFORMADO CON MAS DE 3 AÑOS DE SERVICIO"]
[null,null,null,null,null,null,null,null,null,null,null,null,null,null,null,null,null,null,null,null,null,null,null,null,null,null,null,null,null,null,null,248,"SJ23","SECRETARIO (A) EJECUTIVO-23",10,3000000,4000000,5000000,"60 MESES","CIVIL O UNIFORMADO CON MAS DE 3 AÑOS DE SERVICIO"]
[null,null,null,null,null,null,null,null,null,null,null,null,null,null,null,null,null,null,null,null,null,null,null,null,null,null,null,null,null,null,null,249,"SJ22","SECRETARIO (A) EJECUTIVO-22",10,3000000,4000000,5000000,"60 MESES","CIVIL O UNIFORMADO CON MAS DE 3 AÑOS DE SERVICIO"]
[null,null,null,null,null,null,null,null,null,null,null,null,null,null,null,null,null,null,null,null,null,null,null,null,null,null,null,null,null,null,null,250,"SJ21","SECRETARIO (A) EJECUTIVO-21",10,3000000,4000000,5000000,"60 MESES","CIVIL O UNIFORMADO CON MAS DE 3 AÑOS DE SERVICIO"]
[null,null,null,null,null,null,null,null,null,null,null,null,null,null,null,null,null,null,null,null,null,null,null,null,null,null,null,null,null,null,null,251,"SJ20","SECRETARIO (A) EJECUTIVO-20",10,3000000,4000000,5000000,"60 MESES","CIVIL O UNIFORMADO CON MAS DE 3 AÑOS DE SERVICIO"]
[null,null,null,null,null,null,null,null,null,null,null,null,null,null,null,null,null,null,null,null,null,null,null,null,null,null,null,null,null,null,null,252,"SJ19","SECRETARIO (A) EJECUTIVO-19",10,3000000,4000000,5000000,"60 MESES","CIVIL O UNIFORMADO CON MAS DE 3 AÑOS DE SERVICIO"]
[null,null,null,null,null,null,null,null,null,null,null,null,null,null,null,null,null,null,null,null,null,null,null,null,null,null,null,null,null,null,null,253,"SJ18","SECRETARIO (A) EJECUTIVO-18",10,3000000,4000000,5000000,"60 MESES","CIVIL O UNIFORMADO CON MAS DE 3 AÑOS DE SERVICIO"]
[null,null,null,null,null,null,null,null,null,null,null,null,null,null,null,null,null,null,null,null,null,null,null,null,null,null,null,null,null,null,null,254,"SJ17","SECRETARIO (A) EJECUTIVO-17",10,3000000,4000000,5000000,"60 MESES","CIVIL O UNIFORMADO CON MAS DE 3 AÑOS DE SERVICIO"]
[null,null,null,null,null,null,null,null,null,null,null,null,null,null,null,null,null,null,null,null,null,null,null,null,null,null,null,null,null,null,null,255,"SJ16","SECRETARIO (A) EJECUTIVO-16",10,3000000,4000000,5000000,"60 MESES","CIVIL O UNIFORMADO CON MAS DE 3 AÑOS DE SERVICIO"]
[null,null,null,null,null,null,null,null,null,null,null,null,null,null,null,null,null,null,null,null,null,null,null,null,null,null,null,null,null,null,null,256,"SJ15","SECRETARIO (A) EJECUTIVO-15",10,3000000,4000000,5000000,"60 MESES","CIVIL O UNIFORMADO CON MAS DE 3 AÑOS DE SERVICIO"]
[null,null,null,null,null,null,null,null,null,null,null,null,null,null,null,null,null,null,null,null,null,null,null,null,null,null,null,null,null,null,null,257,"AF","ALFEREZ",6,"NO SE OTORGA CREDITO","NO SE OTORGA CREDITO","NO SE OTORGA CREDITO","60 MESES","NO SE OTORGA CREDITO"]
[null,null,null,null,null,null,null,null,null,null,null,null,null,null,null,null,null,null,null,null,null,null,null,null,null,null,null,null,null,null,null,258,"CD","CADETE",6,"NO SE OTORGA CREDITO","NO SE OTORGA CREDITO","NO SE OTORGA CREDITO",{"$f":"$AM$5","v":"60 MESES"},"NO SE OTORGA CREDITO"]
[null,null,null,null,null,null,null,null,null,null,null,null,null,null,null,null,null,null,null,null,null,null,null,null,null,null,null,null,null,null,null,259,"AL","ALUMNO ",6,"NO SE OTORGA CREDITO","NO SE OTORGA CREDITO","NO SE OTORGA CREDITO","60 MESES","NO SE OTORGA CREDITO"]
[null,null,null,null,null,null,null,null,null,null,null,null,null,null,null,null,null,null,null,null,null,null,null,null,null,null,null,null,null,null,null,260,"SM","SARGENTO MAYOR",7,8000000,8000000,5000000,"60 MESES","NO REQUIERE CODEUDOR"]
[null,null,null,null,null,null,null,null,null,null,null,null,null,null,null,null,null,null,null,null,null,null,null,null,null,null,null,null,null,null,null,261,"SP","SARGENTO PRIMERO",7,8000000,8000000,5000000,"60 MESES","NO REQUIERE CODEUDOR"]
[null,null,null,null,null,null,null,null,null,null,null,null,null,null,null,null,null,null,null,null,null,null,null,null,null,null,null,null,null,null,null,262,"SV","SARGENTO VICEPRIMERO",7,8000000,8000000,5000000,"60 MESES","NO REQUIERE CODEUDOR"]
[null,null,null,null,null,null,null,null,null,null,null,null,null,null,null,null,null,null,null,null,null,null,null,null,null,null,null,null,null,null,null,263,"SS","SARGENTO SEGUNDO",7,3000000,6000000,5000000,"60 MESES","CIVIL O UNIFORMADO CON MAS DE 3 AÑOS DE SERVICIO"]
[null,null,null,null,null,null,null,null,null,null,null,null,null,null,null,null,null,null,null,null,null,null,null,null,null,null,null,null,null,null,null,264,"CP","CABO PRIMERO",7,3000000,4000000,5000000,"60 MESES","CIVIL O UNIFORMADO CON MAS DE 3 AÑOS DE SERVICIO"]
[null,null,null,null,null,null,null,null,null,null,null,null,null,null,null,null,null,null,null,null,null,null,null,null,null,null,null,null,null,null,null,265,"CS","CABO SEGUNDO",7,"NO SE OTORGA CREDITO",3000000,5000000,"60 MESES","CIVIL O UNIFORMADO CON MAS DE 3 AÑOS DE SERVICIO"]
[null,null,null,null,null,null,null,null,null,null,null,null,null,null,null,null,null,null,null,null,null,null,null,null,null,null,null,null,null,null,null,266,"AB","AUXILIAR  BACHILLER",9,"NO SE OTORGA CREDITO","NO SE OTORGA CREDITO","NO SE OTORGA CREDITO","60 MESES","NO SE OTORGA CREDITO"]
[null,null,null,null,null,null,null,null,null,null,null,null,null,null,null,null,null,null,null,null,null,null,null,null,null,null,null,null,null,null,null,267,"AR","AUXILIAR  REGULAR",9,"NO SE OTORGA CREDITO","NO SE OTORGA CREDITO","NO SE OTORGA CREDITO","60 MESES","NO SE OTORGA CREDITO"]
[null,null,null,null,null,null,null,null,null,null,null,null,null,null,null,null,null,null,null,null,null,null,null,null,null,null,null,null,null,null,null,268,"CM","COMISARIO",11,3000000,5000000,5000000,"60 MESES","CIVIL O UNIFORMADO CON MAS DE 3 AÑOS DE SERVICIO"]
[null,null,null,null,null,null,null,null,null,null,null,null,null,null,null,null,null,null,null,null,null,null,null,null,null,null,null,null,null,null,null,269,"SC","SUBCOMISARIO",11,3000000,5000000,5000000,"60 MESES","CIVIL O UNIFORMADO CON MAS DE 3 AÑOS DE SERVICIO"]
[null,null,null,null,null,null,null,null,null,null,null,null,null,null,null,null,null,null,null,null,null,null,null,null,null,null,null,null,null,null,null,270,"IJ","INTENDENTE JEFE",11,3000000,5000000,5000000,"60 MESES","CIVIL O UNIFORMADO CON MAS DE 3 AÑOS DE SERVICIO"]
[null,null,null,null,null,null,null,null,null,null,null,null,null,null,null,null,null,null,null,null,null,null,null,null,null,null,null,null,null,null,null,271,"IT","INTENDENTE",11,3000000,5000000,5000000,"60 MESES","CIVIL O UNIFORMADO CON MAS DE 3 AÑOS DE SERVICIO"]
[null,null,null,null,null,null,null,null,null,null,null,null,null,null,null,null,null,null,null,null,null,null,null,null,null,null,null,null,null,null,null,272,"SI","SUBINTENDENTE",11,3000000,4000000,5000000,"60 MESES","CIVIL O UNIFORMADO CON MAS DE 3 AÑOS DE SERVICIO"]
[null,null,null,null,null,null,null,null,null,null,null,null,null,null,null,null,null,null,null,null,null,null,null,null,null,null,null,null,null,null,null,273,"PT","PATRULLERO",11,3000000,4000000,5000000,"60 MESES","CIVIL O UNIFORMADO CON MAS DE 3 AÑOS DE SERVICIO"]
[null,null,null,null,null,null,null,null,null,null,null,null,null,null,null,null,null,null,null,null,null,null,null,null,null,null,null,null,null,null,null,274,"EP","ESPECIALISTA ASESOR PRIMERO",13,3000000,4000000,5000000,"60 MESES","CIVIL O UNIFORMADO CON MAS DE 3 AÑOS DE SERVICIO"]
[null,null,null,null,null,null,null,null,null,null,null,null,null,null,null,null,null,null,null,null,null,null,null,null,null,null,null,null,null,null,null,275,"ES","ESPECIALISTA ASESOR SEGUNDO",13,3000000,4000000,5000000,"60 MESES","CIVIL O UNIFORMADO CON MAS DE 3 AÑOS DE SERVICIO"]
[null,null,null,null,null,null,null,null,null,null,null,null,null,null,null,null,null,null,null,null,null,null,null,null,null,null,null,null,null,null,null,276,"EJ","ESPECIALISTA JEFE",13,3000000,4000000,5000000,"60 MESES","CIVIL O UNIFORMADO CON MAS DE 3 AÑOS DE SERVICIO"]
[null,null,null,null,null,null,null,null,null,null,null,null,null,null,null,null,null,null,null,null,null,null,null,null,null,null,null,null,null,null,null,277,"E1","ESPECIALISTA PRIMERO",13,3000000,4000000,5000000,"60 MESES","CIVIL O UNIFORMADO CON MAS DE 3 AÑOS DE SERVICIO"]
[null,null,null,null,null,null,null,null,null,null,null,null,null,null,null,null,null,null,null,null,null,null,null,null,null,null,null,null,null,null,null,278,"E2","ESPECIALISTA SEGUNDO",13,3000000,4000000,5000000,"60 MESES","CIVIL O UNIFORMADO CON MAS DE 3 AÑOS DE SERVICIO"]
[null,null,null,null,null,null,null,null,null,null,null,null,null,null,null,null,null,null,null,null,null,null,null,null,null,null,null,null,null,null,null,279,"E3","ESPECIALISTA TERCERO",13,3000000,4000000,5000000,"60 MESES","CIVIL O UNIFORMADO CON MAS DE 3 AÑOS DE SERVICIO"]
[null,null,null,null,null,null,null,null,null,null,null,null,null,null,null,null,null,null,null,null,null,null,null,null,null,null,null,null,null,null,null,280,"E4","ESPECIALISTA CUARTO",13,3000000,4000000,5000000,"60 MESES","CIVIL O UNIFORMADO CON MAS DE 3 AÑOS DE SERVICIO"]
[null,null,null,null,null,null,null,null,null,null,null,null,null,null,null,null,null,null,null,null,null,null,null,null,null,null,null,null,null,null,null,281,"E5","ESPECIALISTA QUINTO",13,3000000,4000000,5000000,"60 MESES","CIVIL O UNIFORMADO CON MAS DE 3 AÑOS DE SERVICIO"]
[null,null,null,null,null,null,null,null,null,null,null,null,null,null,null,null,null,null,null,null,null,null,null,null,null,null,null,null,null,null,null,282,"E6","ESPECIALISTA SEXTO",13,3000000,4000000,5000000,"60 MESES","CIVIL O UNIFORMADO CON MAS DE 3 AÑOS DE SERVICIO"]
[null,null,null,null,null,null,null,null,null,null,null,null,null,null,null,null,null,null,null,null,null,null,null,null,null,null,null,null,null,null,null,283,"DJ","ADJUNTO JEFE",13,3000000,4000000,5000000,"60 MESES","CIVIL O UNIFORMADO CON MAS DE 3 AÑOS DE SERVICIO"]
[null,null,null,null,null,null,null,null,null,null,null,null,null,null,null,null,null,null,null,null,null,null,null,null,null,null,null,null,null,null,null,284,"DI","ADJUNTO INTENDENTE",13,3000000,4000000,5000000,"60 MESES","CIVIL O UNIFORMADO CON MAS DE 3 AÑOS DE SERVICIO"]
[null,null,null,null,null,null,null,null,null,null,null,null,null,null,null,null,null,null,null,null,null,null,null,null,null,null,null,null,null,null,null,285,"DM","ADJUNTO MAYOR",13,3000000,4000000,5000000,"60 MESES","CIVIL O UNIFORMADO CON MAS DE 3 AÑOS DE SERVICIO"]
[null,null,null,null,null,null,null,null,null,null,null,null,null,null,null,null,null,null,null,null,null,null,null,null,null,null,null,null,null,null,null,286,"DE","ADJUNTO ESPECIAL",13,3000000,4000000,5000000,"60 MESES","CIVIL O UNIFORMADO CON MAS DE 3 AÑOS DE SERVICIO"]
[null,null,null,null,null,null,null,null,null,null,null,null,null,null,null,null,null,null,null,null,null,null,null,null,null,null,null,null,null,null,null,287,"D1","ADJUNTO PRIMERO",13,3000000,4000000,5000000,"60 MESES","CIVIL O UNIFORMADO CON MAS DE 3 AÑOS DE SERVICIO"]
[null,null,null,null,null,null,null,null,null,null,null,null,null,null,null,null,null,null,null,null,null,null,null,null,null,null,null,null,null,null,null,288,"D2","ADJUNTO SEGUNDO",13,3000000,4000000,5000000,"60 MESES","CIVIL O UNIFORMADO CON MAS DE 3 AÑOS DE SERVICIO"]
[null,null,null,null,null,null,null,null,null,null,null,null,null,null,null,null,null,null,null,null,null,null,null,null,null,null,null,null,null,null,null,289,"D3","ADJUNTO TERCERO",13,3000000,4000000,5000000,"60 MESES","CIVIL O UNIFORMADO CON MAS DE 3 AÑOS DE SERVICIO"]
[null,null,null,null,null,null,null,null,null,null,null,null,null,null,null,null,null,null,null,null,null,null,null,null,null,null,null,null,null,null,null,290,"D4","ADJUNTO CUARTO",13,3000000,4000000,5000000,"60 MESES","CIVIL O UNIFORMADO CON MAS DE 3 AÑOS DE SERVICIO"]
[null,null,null,null,null,null,null,null,null,null,null,null,null,null,null,null,null,null,null,null,null,null,null,null,null,null,null,null,null,null,null,291,"D5","ADJUNTO QUINTO",13,3000000,4000000,5000000,"60 MESES","CIVIL O UNIFORMADO CON MAS DE 3 AÑOS DE SERVICIO"]
[null,null,null,null,null,null,null,null,null,null,null,null,null,null,null,null,null,null,null,null,null,null,null,null,null,null,null,null,null,null,null,292,"A1","AUXILIAR PRIMERO",13,3000000,4000000,5000000,"60 MESES","CIVIL O UNIFORMADO CON MAS DE 3 AÑOS DE SERVICIO"]
[null,null,null,null,null,null,null,null,null,null,null,null,null,null,null,null,null,null,null,null,null,null,null,null,null,null,null,null,null,null,null,293,"A2","AUXILIAR SEGUNDO",13,3000000,4000000,5000000,"60 MESES","CIVIL O UNIFORMADO CON MAS DE 3 AÑOS DE SERVICIO"]
[null,null,null,null,null,null,null,null,null,null,null,null,null,null,null,null,null,null,null,null,null,null,null,null,null,null,null,null,null,null,null,294,"A3","AUXILIAR TERCERO",13,3000000,4000000,5000000,"60 MESES","CIVIL O UNIFORMADO CON MAS DE 3 AÑOS DE SERVICIO"]
[null,null,null,null,null,null,null,null,null,null,null,null,null,null,null,null,null,null,null,null,null,null,null,null,null,null,null,null,null,null,null,295,"A4","AUXILIAR CUARTO",13,3000000,4000000,5000000,"60 MESES","CIVIL O UNIFORMADO CON MAS DE 3 AÑOS DE SERVICIO"]
[null,null,null,null,null,null,null,null,null,null,null,null,null,null,null,null,null,null,null,null,null,null,null,null,null,null,null,null,null,null,null,296,"RU","RURAL",14,3000000,4000000,5000000,"60 MESES","CIVIL O UNIFORMADO CON MAS DE 3 AÑOS DE SERVICIO"]
[null,null,null,null,null,null,null,null,null,null,null,null,null,null,null,null,null,null,null,null,null,null,null,null,null,null,null,null,null,null,null,297,"SUP1","SUPERNUMERARIO-01",15,3000000,4000000,5000000,"60 MESES","CIVIL O UNIFORMADO CON MAS DE 3 AÑOS DE SERVICIO"]
[null,null,null,null,null,null,null,null,null,null,null,null,null,null,null,null,null,null,null,null,null,null,null,null,null,null,null,null,null,null,null,298,"SUP2","SUPERNUMERARIO-02",15,3000000,4000000,5000000,"60 MESES","CIVIL O UNIFORMADO CON MAS DE 3 AÑOS DE SERVICIO"]
[null,null,null,null,null,null,null,null,null,null,null,null,null,null,null,null,null,null,null,null,null,null,null,null,null,null,null,null,null,null,null,299,"SUP3","SUPERNUMERARIO-03",15,3000000,4000000,5000000,"60 MESES","CIVIL O UNIFORMADO CON MAS DE 3 AÑOS DE SERVICIO"]
[null,null,null,null,null,null,null,null,null,null,null,null,null,null,null,null,null,null,null,null,null,null,null,null,null,null,null,null,null,null,null,300,"SUP4","SUPERNUMERARIO-04",15,3000000,4000000,5000000,"60 MESES","CIVIL O UNIFORMADO CON MAS DE 3 AÑOS DE SERVICIO"]
[null,null,null,null,null,null,null,null,null,null,null,null,null,null,null,null,null,null,null,null,null,null,null,null,null,null,null,null,null,null,null,301,"SUP5","SUPERNUMERARIO-05",15,3000000,4000000,5000000,"60 MESES","CIVIL O UNIFORMADO CON MAS DE 3 AÑOS DE SERVICIO"]
[null,null,null,null,null,null,null,null,null,null,null,null,null,null,null,null,null,null,null,null,null,null,null,null,null,null,null,null,null,null,null,302,"SUP6","SUPERNUMERARIO-06",15,3000000,4000000,5000000,"60 MESES","CIVIL O UNIFORMADO CON MAS DE 3 AÑOS DE SERVICIO"]
[null,null,null,null,null,null,null,null,null,null,null,null,null,null,null,null,null,null,null,null,null,null,null,null,null,null,null,null,null,null,null,303,"SN","PERSONAL A CONTRATO",17,3000000,4000000,5000000,"60 MESES","CIVIL O UNIFORMADO CON MAS DE 3 AÑOS DE SERVICIO"]
[null,null,null,null,null,null,null,null,null,null,null,null,null,null,null,null,null,null,null,null,null,null,null,null,null,null,null,null,null,null,null,304,"CPS1","CONTRATO POR PRESTACION DE SERVICIOS-01",17,3000000,4000000,5000000,"60 MESES","CIVIL O UNIFORMADO CON MAS DE 3 AÑOS DE SERVICIO"]
[null,null,null,null,null,null,null,null,null,null,null,null,null,null,null,null,null,null,null,null,null,null,null,null,null,null,null,null,null,null,null,305,"CPS2","CONTRATO POR PRESTACION DE SERVICIOS-02",17,3000000,4000000,5000000,"60 MESES","CIVIL O UNIFORMADO CON MAS DE 3 AÑOS DE SERVICIO"]
[null,null,null,null,null,null,null,null,null,null,null,null,null,null,null,null,null,null,null,null,null,null,null,null,null,null,null,null,null,null,null,306,"CPS3","CONTRATO POR PRESTACION DE SERVICIOS-03",17,3000000,4000000,5000000,"60 MESES","CIVIL O UNIFORMADO CON MAS DE 3 AÑOS DE SERVICIO"]
[null,null,null,null,null,null,null,null,null,null,null,null,null,null,null,null,null,null,null,null,null,null,null,null,null,null,null,null,null,null,null,307,"CPS4","CONTRATO POR PRESTACION DE SERVICIOS-04",17,3000000,4000000,5000000,"60 MESES","CIVIL O UNIFORMADO CON MAS DE 3 AÑOS DE SERVICIO"]
[null,null,null,null,null,null,null,null,null,null,null,null,null,null,null,null,null,null,null,null,null,null,null,null,null,null,null,null,null,null,null,308,"CPS5","CONTRATO POR PRESTACION DE SERVICIOS-05",17,3000000,4000000,5000000,"60 MESES","CIVIL O UNIFORMADO CON MAS DE 3 AÑOS DE SERVICIO"]
[null,null,null,null,null,null,null,null,null,null,null,null,null,null,null,null,null,null,null,null,null,null,null,null,null,null,null,null,null,null,null,309,"CPS6","CONTRATO POR PRESTACION DE SERVICIOS-06",17,3000000,4000000,5000000,"60 MESES","CIVIL O UNIFORMADO CON MAS DE 3 AÑOS DE SERVICIO"]

{"sheet":"TASAS","index":22,"n_rows":27,"n_cols":13,"rows_kept":27,"cut":false,"hidden":true,"merged":[[0,1,0,3]]}
[]
[null,"TASA E. A.","PLAZO","CONDICIONES",null,null,"NOMINAL","N.M.V.","AVAL","VIGENCIA","PLAZO MAX PARA LIBM",null,37]
[null,{"$f":"((1+(G3/12))^12)-1","v":0.23434708058214482},144,"LIBRE INVERSION CON O SIN COMPRA DE CARTERA - TASA PREFERENCIAL",null,"LI PREF",0.21240000000000001,{"$f":"G3/12","v":1.77E-2},0.2,"MENSUAL"]
[null,0.24164405198757488,144,"LIBRE INVERSION CON O SIN COMPRA DE CARTERA - TASA INTERMEDIA",null,"LI INT",0.21840000000000001,{"$f":"G4/12","v":1.8200000000000001E-2},0.19,"MENSUAL"]
[null,0.24898054600623509,144,"LIBRE INVERSION CON O SIN COMPRA DE CARTERA - TASA PLENA",null,"LI PLENA",0.22439999999999999,{"$f":"G5/12","v":1.8699999999999998E-2},0.18,"MENSUAL"]
[null,0.51106865734636031,36,"CREDITO DE CONSUMO DE BAJO MONTO",null,"CCBM",0.42,{"$f":"G6/12","v":3.4999999999999996E-2},0.17,"HASTA 2025-09-30"]
[null,0.18856959535234452,36,"MIPYME CON O SIN COMPRA DE CARTERA - TASA PREFERENCIAL",null,"MIPYME PREF",0.17399999999999999,{"$f":"G7/12","v":1.4499999999999999E-2},0.16,"MENSUAL"]
[null,0.19561817146153326,36,"MIPYME CON O SIN COMPRA DE CARTERA - TASA INTERMEDIA",null,"MIPYME INT",0.18,1.4999999999999999E-2,0.15,"MENSUAL"]
[null,0.20270504548765578,36,"MIPYME CON O SIN COMPRA DE CARTERA - TASA PLENA",null,"MIPYME PLENA",0.186,1.55E-2,0.14000000000000001,"MENSUAL"]
[null,null,null,null,null,null,null,null,0.13]
[null,null,null,null,null,"SMLMV 2025",1423500,{"$f":"(G11*2)+1","v":2847001},0.12]
[null,"< 66",1.15E-3,"SEGURO DE VIDA VIGENTE DESDE OCTUBRE DE 2021 PARA CLIENTES MENORES DE 66 AÑOS",null,null,null,null,0.11]
[null,66,1.15E-3,"SEGURO DE VIDA VIGENTE DESDE OCTUBRE DE 2021 PARA CLIENTES CON 66 AÑOS",null,"CAMBIAR AQUÍ UNICAMENTE",null,null,0.1]
[null,67,1.15E-3,"SEGURO DE VIDA VIGENTE DESDE OCTUBRE DE 2021 PARA CLIENTES CON 67 AÑOS",null,"CAMBIAR ESTE MES TAMBIEN",null,null,0.09]
[null,68,1.15E-3,"SEGURO DE VIDA VIGENTE DESDE OCTUBRE DE 2021 PARA CLIENTES CON 68 AÑOS",null,null,"2025-03",null,0.08]
[null,69,1.15E-3,"SEGURO DE VIDA VIGENTE DESDE OCTUBRE DE 2021 PARA CLIENTES CON 69 AÑOS",null,null,null,null,7.0000000000000007E-2]
[null,70,1.15E-3,"SEGURO DE VIDA VIGENTE DESDE OCTUBRE DE 2021 PARA CLIENTES CON 70 AÑOS",null,null,null,null,0.06]
[null,71,1.15E-3,"SEGURO DE VIDA VIGENTE DESDE OCTUBRE DE 2021 PARA CLIENTES CON 71 AÑOS",null,null,null,null,0.05]
[null,72,1.15E-3,"SEGURO DE VIDA VIGENTE DESDE OCTUBRE DE 2021 PARA CLIENTES CON 72 AÑOS",null,null,null,null,0.04]
[null,73,1.15E-3,"SEGURO DE VIDA VIGENTE DESDE OCTUBRE DE 2021 PARA CLIENTES CON 73 AÑOS",null,null,null,null,0.03]
[null,74,1.15E-3,"SEGURO DE VIDA VIGENTE DESDE OCTUBRE DE 2021 PARA CLIENTES CON 74 AÑOS",null,null,null,null,0.02]
[null,75,1.15E-3,"SEGURO DE VIDA VIGENTE DESDE OCTUBRE DE 2021 PARA CLIENTES CON 75 AÑOS",null,null,null,null,0.01]
[null,76,1.15E-3,"SEGURO DE VIDA VIGENTE DESDE OCTUBRE DE 2021 PARA CLIENTES CON 76 AÑOS",null,null,null,null,0]
[null,77,1.15E-3,"SEGURO DE VIDA VIGENTE DESDE OCTUBRE DE 2021 PARA CLIENTES CON 77 AÑOS"]
[null,78,1.15E-3,"SEGURO DE VIDA VIGENTE DESDE OCTUBRE DE 2021 PARA CLIENTES CON 78 AÑOS"]
[null,79,1.15E-3,"SEGURO DE VIDA VIGENTE DESDE OCTUBRE DE 2021 PARA CLIENTES CON 79 AÑOS"]
[null,80,1.15E-3,"SEGURO DE VIDA VIGENTE DESDE OCTUBRE DE 2021 PARA CLIENTES CON 80 AÑOS"]